{"text_format":"1","workbook":"xlsx","n_sheets":13,"sheets":["Home","Dati","Dominio","Stampa","SintesiMese","Frontespizio","Redditi-Entrate","Spese","Riepilogo","Entrate divise","Uscite divise","Finanziamenti","Situazione Finanziaria"],"not_rendered":{"charts":0,"images":6,"macros":1,"external_links":0,"defined_names":7,"comments":0,"pivot_tables":0},"unopened":[],"bounds":{"document_bytes":16777216,"sheet_cells":100000,"rows_first":2000,"rows_last":500,"rows_between":2000,"halvings":0,"cell_chars":16384,"cell_head_chars":4096},"cells_cut":0,"cells_raw":0,"read":"whole","date_system":"1900"}

{"sheet":"Home","index":0,"n_rows":19,"n_cols":10,"rows_kept":19,"cut":false,"hidden":false,"merged":[[12,1,12,8],[7,1,7,4],[7,6,7,7]]}
["Gestione Prima Nota"]
["Parrocchia SS. Trinità",null,null,null,"Dati economici:"]
["Anno:",{"$f":"Dominio!I17","v":2022},null,null,"Deposito Banca:",null,{"$f":"Dati!C2","v":0}]
[null,null,null,null,"Liquidità Cassa:",null,{"$f":"Dati!E2","v":0}]
["Dati del movimento:"]
["Data: ",null,"Tipo: ","","Modo: ","","Codice: ",{"$f":"IF(B8>\"\",IF(D6=\"Entrata\",VLOOKUP($B$8,Dominio!C3:D35,2),VLOOKUP($B$8,Dominio!E3:F30,2)),\"\")","v":""},1]
[null,null,null,null,null,null,null,null,1]
["Voce: ","",null,null,null,"Importo: ",null,null,false]
[]
[]
["Variazione Dati"]
[null,"N.    Data ","Importo","Modo",null,"Movimento"]
["Seleziona",""]
[]
["Hai selezionato il movimento n°: ",null,null,{"$f":"IF(I7>1,LEFT(B13,3),\"\")","v":""}]
[]
["Funzioni:"]
[]
[null,null,null,null,null,null,null,null,null,"GPN_Church - ver. 2.0"]

{"sheet":"Dati","index":1,"n_rows":1001,"n_cols":17,"rows_kept":1001,"cut":false,"hidden":true,"merged":[[2,2,2,7]]}
["Check","N. prot.","Conto Corrente","Saldo Anno","Cassa",null,null,"Saldo Anno precedente"]
["O","001",{"$f":"SUM(D4:D803)-E2","v":0},{"$f":"SUM(D6:D803)","v":0},{"$f":"SUMIF(Dati!G5:G974,E1,Dati!D5:D974)","v":0},null,null,{"$f":"SUM(D4:D5)","v":0}]
["O","002",{"$f":"Home!B3","v":2022}]
["O","003","2022-01-01",{"$f":"Dominio!I16","v":0},null,"Entrata","Banca","Stato Banca","Gennaio"]
["O","004","2022-01-01",{"$f":"Dominio!I15","v":0},null,"Entrata","Cassa","Stato Cassa","Gennaio"]
["L","005",null,null,null,null,null,null,null,null,null,null,null,"2018-11-25",785,"E10","Busta annuale 1"]
["L","006",null,null,null,null,null,null,null,null,null,null,null,"2018-11-25",785,"E10","Busta annuale 1"]
["L","007",null,null,null,null,null,null,null,null,null,null,null,"2018-11-25",785,"E10","Busta annuale 1"]
["L","008",null,null,null,null,null,null,null,null,null,null,null,"2018-11-25",785,"E10","Busta annuale 1"]
["L","009",null,null,null,null,null,null,null,null,null,null,null,"2018-11-25",785,"E10","Busta annuale 1"]
["L","010",null,null,null,null,null,null,null,null,null,null,null,"2018-11-25",785,"E10","Busta annuale 1"]
["L","011",null,null,null,null,null,null,null,null,null,null,null,"2018-11-25",785,"E10","Busta annuale 1"]
["L","012",null,null,null,null,null,null,null,null,null,null,null,"2018-11-25",785,"E10","Busta annuale 1"]
["L","013",null,null,null,null,null,null,null,null,null,null,null,"2018-11-25",785,"E10","Busta annuale 1"]
["L","014",null,null,null,null,null,null,null,null,null,null,null,"2018-11-25",785,"E10","Busta annuale 1"]
["L","015",null,null,null,null,null,null,null,null,null,null,null,"2018-11-25",785,"E10","Busta annuale 1"]
["L","016",null,null,null,null,null,null,null,null,null,null,null,"2018-11-25",785,"E10","Busta annuale 1"]
["L","017",null,null,null,null,null,null,null,null,null,null,null,"2018-11-25",785,"E10","Busta annuale 1"]
["L","018",null,null,null,null,null,null,null,null,null,null,null,"2018-11-25",785,"E10","Busta annuale 1"]
["L","019",null,null,null,null,null,null,null,null,null,null,null,"2018-11-25",785,"E10","Busta annuale 1"]
["L","020",null,null,null,null,null,null,null,null,null,null,null,"2018-11-25",785,"E10","Busta annuale 1"]
["L","021",null,null,null,null,null,null,null,null,null,null,null,"2018-11-25",785,"E10","Busta annuale 1"]
["L","022",null,null,null,null,null,null,null,null,null,null,null,"2018-11-25",785,"E10","Busta annuale 1"]
["L","023",null,null,null,null,null,null,null,null,null,null,null,"2018-11-25",785,"E10","Busta annuale 1"]
["L","024",null,null,null,null,null,null,null,null,null,null,null,"2018-11-25",785,"E10","Busta annuale 1"]
["L","025",null,null,null,null,null,null,null,null,null,null,null,"2018-11-25",785,"E10","Busta annuale 1"]
["L","026",null,null,null,null,null,null,null,null,null,null,null,"2018-11-25",785,"E10","Busta annuale 1"]
["L","027",null,null,null,null,null,null,null,null,null,null,null,"2018-11-25",785,"E10","Busta annuale 1"]
["L","028",null,null,null,null,null,null,null,null,null,null,null,"2018-11-25",785,"E10","Busta annuale 1"]
["L","029",null,null,null,null,null,null,null,null,null,null,null,"2018-11-25",785,"E10","Busta annuale 1"]
["L","030",null,null,null,null,null,null,null,null,null,null,null,"2018-11-25",785,"E10","Busta annuale 1"]
["L","031",null,null,null,null,null,null,null,null,null,null,null,"2018-11-25",785,"E10","Busta annuale 1"]
["L","032",null,null,null,null,null,null,null,null,null,null,null,"2018-11-25",785,"E10","Busta annuale 1"]
["L","033",null,null,null,null,null,null,null,null,null,null,null,"2018-11-25",785,"E10","Busta annuale 1"]
["L","034",null,null,null,null,null,null,null,null,null,null,null,"2018-11-25",785,"E10","Busta annuale 1"]
["L","035",null,null,null,null,null,null,null,null,null,null,null,"2018-11-25",785,"E10","Busta annuale 1"]
["L","036",null,null,null,null,null,null,null,null,null,null,null,"2018-11-25",785,"E10","Busta annuale 1"]
["L","037",null,null,null,null,null,null,null,null,null,null,null,"2018-11-25",785,"E10","Busta annuale 1"]
["L","038",null,null,null,null,null,null,null,null,null,null,null,"2018-11-25",785,"E10","Busta annuale 1"]
["L","039",null,null,null,null,null,null,null,null,null,null,null,"2018-11-25",785,"E10","Busta annuale 1"]
["L","040",null,null,null,null,null,null,null,null,null,null,null,"2018-11-25",785,"E10","Busta annuale 1"]
["L","041",null,null,null,null,null,null,null,null,null,null,null,"2018-11-25",785,"E10","Busta annuale 1"]
["L","042",null,null,null,null,null,null,null,null,null,null,null,"2018-11-25",785,"E10","Busta annuale 1"]
["L","043",null,null,null,null,null,null,null,null,null,null,null,"2018-11-25",785,"E10","Busta annuale 1"]
["L","044",null,null,null,null,null,null,null,null,null,null,null,"2018-11-25",785,"E10","Busta annuale 1"]
["L","045",null,null,null,null,null,null,null,null,null,null,null,"2018-11-25",785,"E10","Busta annuale 1"]
["L","046",null,null,null,null,null,null,null,null,null,null,null,"2018-11-25",785,"E10","Busta annuale 1"]
["L","047",null,null,null,null,null,null,null,null,null,null,null,"2018-11-25",785,"E10","Busta annuale 1"]
["L","048",null,null,null,null,null,null,null,null,null,null,null,"2018-11-25",785,"E10","Busta annuale 1"]
["L","049",null,null,null,null,null,null,null,null,null,null,null,"2018-11-25",785,"E10","Busta annuale 1"]
["L","050",null,null,null,null,null,null,null,null,null,null,null,"2018-11-25",785,"E10","Busta annuale 1"]
["L","051",null,null,null,null,null,null,null,null,null,null,null,"2018-11-25",785,"E10","Busta annuale 1"]
["L","052",null,null,null,null,null,null,null,null,null,null,null,"2018-11-25",785,"E10","Busta annuale 1"]
["L","053",null,null,null,null,null,null,null,null,null,null,null,"2018-11-25",785,"E10","Busta annuale 1"]
["L","054",null,null,null,null,null,null,null,null,null,null,null,"2018-11-25",785,"E10","Busta annuale 1"]
["L","055",null,null,null,null,null,null,null,null,null,null,null,"2018-11-25",785,"E10","Busta annuale 1"]
["L","056",null,null,null,null,null,null,null,null,null,null,null,"2018-11-25",785,"E10","Busta annuale 1"]
["L","057",null,null,null,null,null,null,null,null,null,null,null,"2018-11-25",785,"E10","Busta annuale 1"]
["L","058",null,null,null,null,null,null,null,null,null,null,null,"2018-11-25",785,"E10","Busta annuale 1"]
["L","059",null,null,null,null,null,null,null,null,null,null,null,"2018-11-25",785,"E10","Busta annuale 1"]
["L","060",null,null,null,null,null,null,null,null,null,null,null,"2018-11-25",785,"E10","Busta annuale 1"]
["L","061",null,null,null,null,null,null,null,null,null,null,null,"2018-11-25",785,"E10","Busta annuale 1"]
["L","062",null,null,null,null,null,null,null,null,null,null,null,"2018-11-25",785,"E10","Busta annuale 1"]
["L","063",null,null,null,null,null,null,null,null,null,null,null,"2018-11-25",785,"E10","Busta annuale 1"]
["L","064",null,null,null,null,null,null,null,null,null,null,null,"2018-11-25",785,"E10","Busta annuale 1"]
["L","065",null,null,null,null,null,null,null,null,null,null,null,"2018-11-25",785,"E10","Busta annuale 1"]
["L","066",null,null,null,null,null,null,null,null,null,null,null,"2018-11-25",785,"E10","Busta annuale 1"]
["L","067",null,null,null,null,null,null,null,null,null,null,null,"2018-11-25",785,"E10","Busta annuale 1"]
["L","068",null,null,null,null,null,null,null,null,null,null,null,"2018-11-25",785,"E10","Busta annuale 1"]
["L","069",null,null,null,null,null,null,null,null,null,null,null,"2018-11-25",785,"E10","Busta annuale 1"]
["L","070",null,null,null,null,null,null,null,null,null,null,null,"2018-11-25",785,"E10","Busta annuale 1"]
["L","071",null,null,null,null,null,null,null,null,null,null,null,"2018-11-25",785,"E10","Busta annuale 1"]
["L","072",null,null,null,null,null,null,null,null,null,null,null,"2018-11-25",785,"E10","Busta annuale 1"]
["L","073",null,null,null,null,null,null,null,null,null,null,null,"2018-11-25",785,"E10","Busta annuale 1"]
["L","074",null,null,null,null,null,null,null,null,null,null,null,"2018-11-25",785,"E10","Busta annuale 1"]
["L","075",null,null,null,null,null,null,null,null,null,null,null,"2018-11-25",785,"E10","Busta annuale 1"]
["L","076",null,null,null,null,null,null,null,null,null,null,null,"2018-11-25",785,"E10","Busta annuale 1"]
["L","077",null,null,null,null,null,null,null,null,null,null,null,"2018-11-25",785,"E10","Busta annuale 1"]
["L","078",null,null,null,null,null,null,null,null,null,null,null,"2018-11-25",785,"E10","Busta annuale 1"]
["L","079",null,null,null,null,null,null,null,null,null,null,null,"2018-11-25",785,"E10","Busta annuale 1"]
["L","080",null,null,null,null,null,null,null,null,null,null,null,"2018-11-25",785,"E10","Busta annuale 1"]
["L","081",null,null,null,null,null,null,null,null,null,null,null,"2018-11-25",785,"E10","Busta annuale 1"]
["L","082",null,null,null,null,null,null,null,null,null,null,null,"2018-11-25",785,"E10","Busta annuale 1"]
["L","083",null,null,null,null,null,null,null,null,null,null,null,"2018-11-25",785,"E10","Busta annuale 1"]
["L","084",null,null,null,null,null,null,null,null,null,null,null,"2018-11-25",785,"E10","Busta annuale 1"]
["L","085",null,null,null,null,null,null,null,null,null,null,null,"2018-11-25",785,"E10","Busta annuale 1"]
["L","086",null,null,null,null,null,null,null,null,null,null,null,"2018-11-25",785,"E10","Busta annuale 1"]
["L","087",null,null,null,null,null,null,null,null,null,null,null,"2018-11-25",785,"E10","Busta annuale 1"]
["L","088",null,null,null,null,null,null,null,null,null,null,null,"2018-11-25",785,"E10","Busta annuale 1"]
["L","089",null,null,null,null,null,null,null,null,null,null,null,"2018-11-25",785,"E10","Busta annuale 1"]
["L","090",null,null,null,null,null,null,null,null,null,null,null,"2018-11-25",785,"E10","Busta annuale 1"]
["L","091",null,null,null,null,null,null,null,null,null,null,null,"2018-11-25",785,"E10","Busta annuale 1"]
["L","092",null,null,null,null,null,null,null,null,null,null,null,"2018-11-25",785,"E10","Busta annuale 1"]
["L","093",null,null,null,null,null,null,null,null,null,null,null,"2018-11-25",785,"E10","Busta annuale 1"]
["L","094",null,null,null,null,null,null,null,null,null,null,null,"2018-11-25",785,"E10","Busta annuale 1"]
["L","095",null,null,null,null,null,null,null,null,null,null,null,"2018-11-25",785,"E10","Busta annuale 1"]
["L","096",null,null,null,null,null,null,null,null,null,null,null,"2018-11-25",785,"E10","Busta annuale 1"]
["L","097",null,null,null,null,null,null,null,null,null,null,null,"2018-11-25",785,"E10","Busta annuale 1"]
["L","098",null,null,null,null,null,null,null,null,null,null,null,"2018-11-25",785,"E10","Busta annuale 1"]
["L","099",null,null,null,null,null,null,null,null,null,null,null,"2018-11-25",785,"E10","Busta annuale 1"]
["L","100",null,null,null,null,null,null,null,null,null,null,null,"2018-11-25",785,"E10","Busta annuale 1"]
["L","101",null,null,null,null,null,null,null,null,null,null,null,"2018-11-25",785,"E10","Busta annuale 1"]
["L","102",null,null,null,null,null,null,null,null,null,null,null,"2018-11-25",785,"E10","Busta annuale 1"]
["L","103",null,null,null,null,null,null,null,null,null,null,null,"2018-11-25",785,"E10","Busta annuale 1"]
["L","104",null,null,null,null,null,null,null,null,null,null,null,"2018-11-25",785,"E10","Busta annuale 1"]
["L","105",null,null,null,null,null,null,null,null,null,null,null,"2018-11-25",785,"E10","Busta annuale 1"]
["L","106",null,null,null,null,null,null,null,null,null,null,null,"2018-11-25",785,"E10","Busta annuale 1"]
["L","107",null,null,null,null,null,null,null,null,null,null,null,"2018-11-25",785,"E10","Busta annuale 1"]
["L","108",null,null,null,null,null,null,null,null,null,null,null,"2018-11-25",785,"E10","Busta annuale 1"]
["L","109",null,null,null,null,null,null,null,null,null,null,null,"2018-11-25",785,"E10","Busta annuale 1"]
["L","110",null,null,null,null,null,null,null,null,null,null,null,"2018-11-25",785,"E10","Busta annuale 1"]
["L","111",null,null,null,null,null,null,null,null,null,null,null,"2018-11-25",785,"E10","Busta annuale 1"]
["L","112",null,null,null,null,null,null,null,null,null,null,null,"2018-11-25",785,"E10","Busta annuale 1"]
["L","113",null,null,null,null,null,null,null,null,null,null,null,"2018-11-25",785,"E10","Busta annuale 1"]
["L","114",null,null,null,null,null,null,null,null,null,null,null,"2018-11-25",785,"E10","Busta annuale 1"]
["L","115",null,null,null,null,null,null,null,null,null,null,null,"2018-11-25",785,"E10","Busta annuale 1"]
["L","116",null,null,null,null,null,null,null,null,null,null,null,"2018-11-25",785,"E10","Busta annuale 1"]
["L","117",null,null,null,null,null,null,null,null,null,null,null,"2018-11-25",785,"E10","Busta annuale 1"]
["L","118",null,null,null,null,null,null,null,null,null,null,null,"2018-11-25",785,"E10","Busta annuale 1"]
["L","119",null,null,null,null,null,null,null,null,null,null,null,"2018-11-25",785,"E10","Busta annuale 1"]
["L","120",null,null,null,null,null,null,null,null,null,null,null,"2018-11-25",785,"E10","Busta annuale 1"]
["L","121",null,null,null,null,null,null,null,null,null,null,null,"2018-11-25",785,"E10","Busta annuale 1"]
["L","122",null,null,null,null,null,null,null,null,null,null,null,"2018-11-25",785,"E10","Busta annuale 1"]
["L","123",null,null,null,null,null,null,null,null,null,null,null,"2018-11-25",785,"E10","Busta annuale 1"]
["L","124",null,null,null,null,null,null,null,null,null,null,null,"2018-11-25",785,"E10","Busta annuale 1"]
["L","125",null,null,null,null,null,null,null,null,null,null,null,"2018-11-25",785,"E10","Busta annuale 1"]
["L","126",null,null,null,null,null,null,null,null,null,null,null,"2018-11-25",785,"E10","Busta annuale 1"]
["L","127",null,null,null,null,null,null,null,null,null,null,null,"2018-11-25",785,"E10","Busta annuale 1"]
["L","128",null,null,null,null,null,null,null,null,null,null,null,"2018-11-25",785,"E10","Busta annuale 1"]
["L","129",null,null,null,null,null,null,null,null,null,null,null,"2018-11-25",785,"E10","Busta annuale 1"]
["L","130",null,null,null,null,null,null,null,null,null,null,null,"2018-11-25",785,"E10","Busta annuale 1"]
["L","131",null,null,null,null,null,null,null,null,null,null,null,"2018-11-25",785,"E10","Busta annuale 1"]
["L","132",null,null,null,null,null,null,null,null,null,null,null,"2018-11-25",785,"E10","Busta annuale 1"]
["L","133",null,null,null,null,null,null,null,null,null,null,null,"2018-11-25",785,"E10","Busta annuale 1"]
["L","134",null,null,null,null,null,null,null,null,null,null,null,"2018-11-25",785,"E10","Busta annuale 1"]
["L","135",null,null,null,null,null,null,null,null,null,null,null,"2018-11-25",785,"E10","Busta annuale 1"]
["L","136",null,null,null,null,null,null,null,null,null,null,null,"2018-11-25",785,"E10","Busta annuale 1"]
["L","137",null,null,null,null,null,null,null,null,null,null,null,"2018-11-25",785,"E10","Busta annuale 1"]
["L","138",null,null,null,null,null,null,null,null,null,null,null,"2018-11-25",785,"E10","Busta annuale 1"]
["L","139",null,null,null,null,null,null,null,null,null,null,null,"2018-11-25",785,"E10","Busta annuale 1"]
["L","140",null,null,null,null,null,null,null,null,null,null,null,"2018-11-25",785,"E10","Busta annuale 1"]
["L","141",null,null,null,null,null,null,null,null,null,null,null,"2018-11-25",785,"E10","Busta annuale 1"]
["L","142",null,null,null,null,null,null,null,null,null,null,null,"2018-11-25",785,"E10","Busta annuale 1"]
["L","143",null,null,null,null,null,null,null,null,null,null,null,"2018-11-25",785,"E10","Busta annuale 1"]
["L","144",null,null,null,null,null,null,null,null,null,null,null,"2018-11-25",785,"E10","Busta annuale 1"]
["L","145",null,null,null,null,null,null,null,null,null,null,null,"2018-11-25",785,"E10","Busta annuale 1"]
["L","146",null,null,null,null,null,null,null,null,null,null,null,"2018-11-25",785,"E10","Busta annuale 1"]
["L","147",null,null,null,null,null,null,null,null,null,null,null,"2018-11-25",785,"E10","Busta annuale 1"]
["L","148",null,null,null,null,null,null,null,null,null,null,null,"2018-11-25",785,"E10","Busta annuale 1"]
["L","149",null,null,null,null,null,null,null,null,null,null,null,"2018-11-25",785,"E10","Busta annuale 1"]
["L","150",null,null,null,null,null,null,null,null,null,null,null,"2018-11-25",785,"E10","Busta annuale 1"]
["L","151",null,null,null,null,null,null,null,null,null,null,null,"2018-11-25",785,"E10","Busta annuale 1"]
["L","152",null,null,null,null,null,null,null,null,null,null,null,"2018-11-25",785,"E10","Busta annuale 1"]
["L","153",null,null,null,null,null,null,null,null,null,null,null,"2018-11-25",785,"E10","Busta annuale 1"]
["L","154",null,null,null,null,null,null,null,null,null,null,null,"2018-11-25",785,"E10","Busta annuale 1"]
["L","155",null,null,null,null,null,null,null,null,null,null,null,"2018-11-25",785,"E10","Busta annuale 1"]
["L","156",null,null,null,null,null,null,null,null,null,null,null,"2018-11-25",785,"E10","Busta annuale 1"]
["L","157",null,null,null,null,null,null,null,null,null,null,null,"2018-11-25",785,"E10","Busta annuale 1"]
["L","158",null,null,null,null,null,null,null,null,null,null,null,"2018-11-25",785,"E10","Busta annuale 1"]
["L","159",null,null,null,null,null,null,null,null,null,null,null,"2018-11-25",785,"E10","Busta annuale 1"]
["L","160",null,null,null,null,null,null,null,null,null,null,null,"2018-11-25",785,"E10","Busta annuale 1"]
["L","161",null,null,null,null,null,null,null,null,null,null,null,"2018-11-25",785,"E10","Busta annuale 1"]
["L","162",null,null,null,null,null,null,null,null,null,null,null,"2018-11-25",785,"E10","Busta annuale 1"]
["L","163",null,null,null,null,null,null,null,null,null,null,null,"2018-11-25",785,"E10","Busta annuale 1"]
["L","164",null,null,null,null,null,null,null,null,null,null,null,"2018-11-25",785,"E10","Busta annuale 1"]
["L","165",null,null,null,null,null,null,null,null,null,null,null,"2018-11-25",785,"E10","Busta annuale 1"]
["L","166",null,null,null,null,null,null,null,null,null,null,null,"2018-11-25",785,"E10","Busta annuale 1"]
["L","167",null,null,null,null,null,null,null,null,null,null,null,"2018-11-25",785,"E10","Busta annuale 1"]
["L","168",null,null,null,null,null,null,null,null,null,null,null,"2018-11-25",785,"E10","Busta annuale 1"]
["L","169",null,null,null,null,null,null,null,null,null,null,null,"2018-11-25",785,"E10","Busta annuale 1"]
["L","170",null,null,null,null,null,null,null,null,null,null,null,"2018-11-25",785,"E10","Busta annuale 1"]
["L","171",null,null,null,null,null,null,null,null,null,null,null,"2018-11-25",785,"E10","Busta annuale 1"]
["L","172",null,null,null,null,null,null,null,null,null,null,null,"2018-11-25",785,"E10","Busta annuale 1"]
["L","173",null,null,null,null,null,null,null,null,null,null,null,"2018-11-25",785,"E10","Busta annuale 1"]
["L","174",null,null,null,null,null,null,null,null,null,null,null,"2018-11-25",785,"E10","Busta annuale 1"]
["L","175",null,null,null,null,null,null,null,null,null,null,null,"2018-11-25",785,"E10","Busta annuale 1"]
["L","176",null,null,null,null,null,null,null,null,null,null,null,"2018-11-25",785,"E10","Busta annuale 1"]
["L","177",null,null,null,null,null,null,null,null,null,null,null,"2018-11-25",785,"E10","Busta annuale 1"]
["L","178",null,null,null,null,null,null,null,null,null,null,null,"2018-11-25",785,"E10","Busta annuale 1"]
["L","179",null,null,null,null,null,null,null,null,null,null,null,"2018-11-25",785,"E10","Busta annuale 1"]
["L","180",null,null,null,null,null,null,null,null,null,null,null,"2018-11-25",785,"E10","Busta annuale 1"]
["L","181",null,null,null,null,null,null,null,null,null,null,null,"2018-11-25",785,"E10","Busta annuale 1"]
["L","182",null,null,null,null,null,null,null,null,null,null,null,"2018-11-25",785,"E10","Busta annuale 1"]
["L","183",null,null,null,null,null,null,null,null,null,null,null,"2018-11-25",785,"E10","Busta annuale 1"]
["L","184",null,null,null,null,null,null,null,null,null,null,null,"2018-11-25",785,"E10","Busta annuale 1"]
["L","185",null,null,null,null,null,null,null,null,null,null,null,"2018-11-25",785,"E10","Busta annuale 1"]
["L","186",null,null,null,null,null,null,null,null,null,null,null,"2018-11-25",785,"E10","Busta annuale 1"]
["L","187",null,null,null,null,null,null,null,null,null,null,null,"2018-11-25",785,"E10","Busta annuale 1"]
["L","188",null,null,null,null,null,null,null,null,null,null,null,"2018-11-25",785,"E10","Busta annuale 1"]
["L","189",null,null,null,null,null,null,null,null,null,null,null,"2018-11-25",785,"E10","Busta annuale 1"]
["L","190",null,null,null,null,null,null,null,null,null,null,null,"2018-11-25",785,"E10","Busta annuale 1"]
["L","191",null,null,null,null,null,null,null,null,null,null,null,"2018-11-25",785,"E10","Busta annuale 1"]
["L","192",null,null,null,null,null,null,null,null,null,null,null,"2018-11-25",785,"E10","Busta annuale 1"]
["L","193",null,null,null,null,null,null,null,null,null,null,null,"2018-11-25",785,"E10","Busta annuale 1"]
["L","194",null,null,null,null,null,null,null,null,null,null,null,"2018-11-25",785,"E10","Busta annuale 1"]
["L","195",null,null,null,null,null,null,null,null,null,null,null,"2018-11-25",785,"E10","Busta annuale 1"]
["L","196",null,null,null,null,null,null,null,null,null,null,null,"2018-11-25",785,"E10","Busta annuale 1"]
["L","197",null,null,null,null,null,null,null,null,null,null,null,"2018-11-25",785,"E10","Busta annuale 1"]
["L","198",null,null,null,null,null,null,null,null,null,null,null,"2018-11-25",785,"E10","Busta annuale 1"]
["L","199",null,null,null,null,null,null,null,null,null,null,null,"2018-11-25",785,"E10","Busta annuale 1"]
["L","200",null,null,null,null,null,null,null,null,null,null,null,"2018-11-25",785,"E10","Busta annuale 1"]
["L","201",null,null,null,null,null,null,null,null,null,null,null,"2018-11-25",785,"E10","Busta annuale 1"]
["L","202",null,null,null,null,null,null,null,null,null,null,null,"2018-11-25",785,"E10","Busta annuale 1"]
["L","203",null,null,null,null,null,null,null,null,null,null,null,"2018-11-25",785,"E10","Busta annuale 1"]
["L","204",null,null,null,null,null,null,null,null,null,null,null,"2018-11-25",785,"E10","Busta annuale 1"]
["L","205",null,null,null,null,null,null,null,null,null,null,null,"2018-11-25",785,"E10","Busta annuale 1"]
["L","206",null,null,null,null,null,null,null,null,null,null,null,"2018-11-25",785,"E10","Busta annuale 1"]
["L","207",null,null,null,null,null,null,null,null,null,null,null,"2018-11-25",785,"E10","Busta annuale 1"]
["L","208",null,null,null,null,null,null,null,null,null,null,null,"2018-11-25",785,"E10","Busta annuale 1"]
["L","209",null,null,null,null,null,null,null,null,null,null,null,"2018-11-25",785,"E10","Busta annuale 1"]
["L","210",null,null,null,null,null,null,null,null,null,null,null,"2018-11-25",785,"E10","Busta annuale 1"]
["L","211",null,null,null,null,null,null,null,null,null,null,null,"2018-11-25",785,"E10","Busta annuale 1"]
["L","212",null,null,null,null,null,null,null,null,null,null,null,"2018-11-25",785,"E10","Busta annuale 1"]
["L","213",null,null,null,null,null,null,null,null,null,null,null,"2018-11-25",785,"E10","Busta annuale 1"]
["L","214",null,null,null,null,null,null,null,null,null,null,null,"2018-11-25",785,"E10","Busta annuale 1"]
["L","215",null,null,null,null,null,null,null,null,null,null,null,"2018-11-25",785,"E10","Busta annuale 1"]
["L","216",null,null,null,null,null,null,null,null,null,null,null,"2018-11-25",785,"E10","Busta annuale 1"]
["L","217",null,null,null,null,null,null,null,null,null,null,null,"2018-11-25",785,"E10","Busta annuale 1"]
["L","218",null,null,null,null,null,null,null,null,null,null,null,"2018-11-25",785,"E10","Busta annuale 1"]
["L","219",null,null,null,null,null,null,null,null,null,null,null,"2018-11-25",785,"E10","Busta annuale 1"]
["L","220",null,null,null,null,null,null,null,null,null,null,null,"2018-11-25",785,"E10","Busta annuale 1"]
["L","221",null,null,null,null,null,null,null,null,null,null,null,"2018-11-25",785,"E10","Busta annuale 1"]
["L","222",null,null,null,null,null,null,null,null,null,null,null,"2018-11-25",785,"E10","Busta annuale 1"]
["L","223",null,null,null,null,null,null,null,null,null,null,null,"2018-11-25",785,"E10","Busta annuale 1"]
["L","224",null,null,null,null,null,null,null,null,null,null,null,"2018-11-25",785,"E10","Busta annuale 1"]
["L","225",null,null,null,null,null,null,null,null,null,null,null,"2018-11-25",785,"E10","Busta annuale 1"]
["L","226",null,null,null,null,null,null,null,null,null,null,null,"2018-11-25",785,"E10","Busta annuale 1"]
["L","227",null,null,null,null,null,null,null,null,null,null,null,"2018-11-25",785,"E10","Busta annuale 1"]
["L","228",null,null,null,null,null,null,null,null,null,null,null,"2018-11-25",785,"E10","Busta annuale 1"]
["L","229",null,null,null,null,null,null,null,null,null,null,null,"2018-11-25",785,"E10","Busta annuale 1"]
["L","230",null,null,null,null,null,null,null,null,null,null,null,"2018-11-25",785,"E10","Busta annuale 1"]
["L","231",null,null,null,null,null,null,null,null,null,null,null,"2018-11-25",785,"E10","Busta annuale 1"]
["L","232",null,null,null,null,null,null,null,null,null,null,null,"2018-11-25",785,"E10","Busta annuale 1"]
["L","233",null,null,null,null,null,null,null,null,null,null,null,"2018-11-25",785,"E10","Busta annuale 1"]
["L","234",null,null,null,null,null,null,null,null,null,null,null,"2018-11-25",785,"E10","Busta annuale 1"]
["L","235",null,null,null,null,null,null,null,null,null,null,null,"2018-11-25",785,"E10","Busta annuale 1"]
["L","236",null,null,null,null,null,null,null,null,null,null,null,"2018-11-25",785,"E10","Busta annuale 1"]
["L","237",null,null,null,null,null,null,null,null,null,null,null,"2018-11-25",785,"E10","Busta annuale 1"]
["L","238",null,null,null,null,null,null,null,null,null,null,null,"2018-11-25",785,"E10","Busta annuale 1"]
["L","239",null,null,null,null,null,null,null,null,null,null,null,"2018-11-25",785,"E10","Busta annuale 1"]
["L","240",null,null,null,null,null,null,null,null,null,null,null,"2018-11-25",785,"E10","Busta annuale 1"]
["L","241",null,null,null,null,null,null,null,null,null,null,null,"2018-11-25",785,"E10","Busta annuale 1"]
["L","242",null,null,null,null,null,null,null,null,null,null,null,"2018-11-25",785,"E10","Busta annuale 1"]
["L","243",null,null,null,null,null,null,null,null,null,null,null,"2018-11-25",785,"E10","Busta annuale 1"]
["L","244",null,null,null,null,null,null,null,null,null,null,null,"2018-11-25",785,"E10","Busta annuale 1"]
["L","245",null,null,null,null,null,null,null,null,null,null,null,"2018-11-25",785,"E10","Busta annuale 1"]
["L","246",null,null,null,null,null,null,null,null,null,null,null,"2018-11-25",785,"E10","Busta annuale 1"]
["L","247",null,null,null,null,null,null,null,null,null,null,null,"2018-11-25",785,"E10","Busta annuale 1"]
["L","248",null,null,null,null,null,null,null,null,null,null,null,"2018-11-25",785,"E10","Busta annuale 1"]
["L","249",null,null,null,null,null,null,null,null,null,null,null,"2018-11-25",785,"E10","Busta annuale 1"]
["L","250",null,null,null,null,null,null,null,null,null,null,null,"2018-11-25",785,"E10","Busta annuale 1"]
["L","251",null,null,null,null,null,null,null,null,null,null,null,"2018-11-25",785,"E10","Busta annuale 1"]
["L","252",null,null,null,null,null,null,null,null,null,null,null,"2018-11-25",785,"E10","Busta annuale 1"]
["L","253",null,null,null,null,null,null,null,null,null,null,null,"2018-11-25",785,"E10","Busta annuale 1"]
["L","254",null,null,null,null,null,null,null,null,null,null,null,"2018-11-25",785,"E10","Busta annuale 1"]
["L","255",null,null,null,null,null,null,null,null,null,null,null,"2018-11-25",785,"E10","Busta annuale 1"]
["L","256",null,null,null,null,null,null,null,null,null,null,null,"2018-11-25",785,"E10","Busta annuale 1"]
["L","257",null,null,null,null,null,null,null,null,null,null,null,"2018-11-25",785,"E10","Busta annuale 1"]
["L","258",null,null,null,null,null,null,null,null,null,null,null,"2018-11-25",785,"E10","Busta annuale 1"]
["L","259",null,null,null,null,null,null,null,null,null,null,null,"2018-11-25",785,"E10","Busta annuale 1"]
["L","260",null,null,null,null,null,null,null,null,null,null,null,"2018-11-25",785,"E10","Busta annuale 1"]
["L","261",null,null,null,null,null,null,null,null,null,null,null,"2018-11-25",785,"E10","Busta annuale 1"]
["L","262",null,null,null,null,null,null,null,null,null,null,null,"2018-11-25",785,"E10","Busta annuale 1"]
["L","263",null,null,null,null,null,null,null,null,null,null,null,"2018-11-25",785,"E10","Busta annuale 1"]
["L","264",null,null,null,null,null,null,null,null,null,null,null,"2018-11-25",785,"E10","Busta annuale 1"]
["L","265",null,null,null,null,null,null,null,null,null,null,null,"2018-11-25",785,"E10","Busta annuale 1"]
["L","266",null,null,null,null,null,null,null,null,null,null,null,"2018-11-25",785,"E10","Busta annuale 1"]
["L","267",null,null,null,null,null,null,null,null,null,null,null,"2018-11-25",785,"E10","Busta annuale 1"]
["L","268",null,null,null,null,null,null,null,null,null,null,null,"2018-11-25",785,"E10","Busta annuale 1"]
["L","269",null,null,null,null,null,null,null,null,null,null,null,"2018-11-25",785,"E10","Busta annuale 1"]
["L","270",null,null,null,null,null,null,null,null,null,null,null,"2018-11-25",785,"E10","Busta annuale 1"]
["L","271",null,null,null,null,null,null,null,null,null,null,null,"2018-11-25",785,"E10","Busta annuale 1"]
["L","272",null,null,null,null,null,null,null,null,null,null,null,"2018-11-25",785,"E10","Busta annuale 1"]
["L","273",null,null,null,null,null,null,null,null,null,null,null,"2018-11-25",785,"E10","Busta annuale 1"]
["L","274",null,null,null,null,null,null,null,null,null,null,null,"2018-11-25",785,"E10","Busta annuale 1"]
["L","275",null,null,null,null,null,null,null,null,null,null,null,"2018-11-25",785,"E10","Busta annuale 1"]
["L","276",null,null,null,null,null,null,null,null,null,null,null,"2018-11-25",785,"E10","Busta annuale 1"]
["L","277",null,null,null,null,null,null,null,null,null,null,null,"2018-11-25",785,"E10","Busta annuale 1"]
["L","278",null,null,null,null,null,null,null,null,null,null,null,"2018-11-25",785,"E10","Busta annuale 1"]
["L","279",null,null,null,null,null,null,null,null,null,null,null,"2018-11-25",785,"E10","Busta annuale 1"]
["L","280",null,null,null,null,null,null,null,null,null,null,null,"2018-11-25",785,"E10","Busta annuale 1"]
["L","281",null,null,null,null,null,null,null,null,null,null,null,"2018-11-25",785,"E10","Busta annuale 1"]
["L","282",null,null,null,null,null,null,null,null,null,null,null,"2018-11-25",785,"E10","Busta annuale 1"]
["L","283",null,null,null,null,null,null,null,null,null,null,null,"2018-11-25",785,"E10","Busta annuale 1"]
["L","284",null,null,null,null,null,null,null,null,null,null,null,"2018-11-25",785,"E10","Busta annuale 1"]
["L","285",null,null,null,null,null,null,null,null,null,null,null,"2018-11-25",785,"E10","Busta annuale 1"]
["L","286",null,null,null,null,null,null,null,null,null,null,null,"2018-11-25",785,"E10","Busta annuale 1"]
["L","287",null,null,null,null,null,null,null,null,null,null,null,"2018-11-25",785,"E10","Busta annuale 1"]
["L","288",null,null,null,null,null,null,null,null,null,null,null,"2018-11-25",785,"E10","Busta annuale 1"]
["L","289",null,null,null,null,null,null,null,null,null,null,null,"2018-11-25",785,"E10","Busta annuale 1"]
["L","290",null,null,null,null,null,null,null,null,null,null,null,"2018-11-25",785,"E10","Busta annuale 1"]
["L","291",null,null,null,null,null,null,null,null,null,null,null,"2018-11-25",785,"E10","Busta annuale 1"]
["L","292",null,null,null,null,null,null,null,null,null,null,null,"2018-11-25",785,"E10","Busta annuale 1"]
["L","293",null,null,null,null,null,null,null,null,null,null,null,"2018-11-25",785,"E10","Busta annuale 1"]
["L","294",null,null,null,null,null,null,null,null,null,null,null,"2018-11-25",785,"E10","Busta annuale 1"]
["L","295",null,null,null,null,null,null,null,null,null,null,null,"2018-11-25",785,"E10","Busta annuale 1"]
["L","296",null,null,null,null,null,null,null,null,null,null,null,"2018-11-25",785,"E10","Busta annuale 1"]
["L","297",null,null,null,null,null,null,null,null,null,null,null,"2018-11-25",785,"E10","Busta annuale 1"]
["L","298",null,null,null,null,null,null,null,null,null,null,null,"2018-11-25",785,"E10","Busta annuale 1"]
["L","299",null,null,null,null,null,null,null,null,null,null,null,"2018-11-25",785,"E10","Busta annuale 1"]
["L","300",null,null,null,null,null,null,null,null,null,null,null,"2018-11-25",785,"E10","Busta annuale 1"]
["L","301",null,null,null,null,null,null,null,null,null,null,null,"2018-11-25",785,"E10","Busta annuale 1"]
["L","302",null,null,null,null,null,null,null,null,null,null,null,"2018-11-25",785,"E10","Busta annuale 1"]
["L","303",null,null,null,null,null,null,null,null,null,null,null,"2018-11-25",785,"E10","Busta annuale 1"]
["L","304",null,null,null,null,null,null,null,null,null,null,null,"2018-11-25",785,"E10","Busta annuale 1"]
["L","305",null,null,null,null,null,null,null,null,null,null,null,"2018-11-25",785,"E10","Busta annuale 1"]
["L","306",null,null,null,null,null,null,null,null,null,null,null,"2018-11-25",785,"E10","Busta annuale 1"]
["L","307",null,null,null,null,null,null,null,null,null,null,null,"2018-11-25",785,"E10","Busta annuale 1"]
["L","308",null,null,null,null,null,null,null,null,null,null,null,"2018-11-25",785,"E10","Busta annuale 1"]
["L","309",null,null,null,null,null,null,null,null,null,null,null,"2018-11-25",785,"E10","Busta annuale 1"]
["L","310",null,null,null,null,null,null,null,null,null,null,null,"2018-11-25",785,"E10","Busta annuale 1"]
["L","311",null,null,null,null,null,null,null,null,null,null,null,"2018-11-25",785,"E10","Busta annuale 1"]
["L","312",null,null,null,null,null,null,null,null,null,null,null,"2018-11-25",785,"E10","Busta annuale 1"]
["L","313",null,null,null,null,null,null,null,null,null,null,null,"2018-11-25",785,"E10","Busta annuale 1"]
["L","314",null,null,null,null,null,null,null,null,null,null,null,"2018-11-25",785,"E10","Busta annuale 1"]
["L","315",null,null,null,null,null,null,null,null,null,null,null,"2018-11-25",785,"E10","Busta annuale 1"]
["L","316",null,null,null,null,null,null,null,null,null,null,null,"2018-11-25",785,"E10","Busta annuale 1"]
["L","317",null,null,null,null,null,null,null,null,null,null,null,"2018-11-25",785,"E10","Busta annuale 1"]
["L","318",null,null,null,null,null,null,null,null,null,null,null,"2018-11-25",785,"E10","Busta annuale 1"]
["L","319",null,null,null,null,null,null,null,null,null,null,null,"2018-11-25",785,"E10","Busta annuale 1"]
["L","320",null,null,null,null,null,null,null,null,null,null,null,"2018-11-25",785,"E10","Busta annuale 1"]
["L","321",null,null,null,null,null,null,null,null,null,null,null,"2018-11-25",785,"E10","Busta annuale 1"]
["L","322",null,null,null,null,null,null,null,null,null,null,null,"2018-11-25",785,"E10","Busta annuale 1"]
["L","323",null,null,null,null,null,null,null,null,null,null,null,"2018-11-25",785,"E10","Busta annuale 1"]
["L","324",null,null,null,null,null,null,null,null,null,null,null,"2018-11-25",785,"E10","Busta annuale 1"]
["L","325",null,null,null,null,null,null,null,null,null,null,null,"2018-11-25",785,"E10","Busta annuale 1"]
["L","326",null,null,null,null,null,null,null,null,null,null,null,"2018-11-25",785,"E10","Busta annuale 1"]
["L","327",null,null,null,null,null,null,null,null,null,null,null,"2018-11-25",785,"E10","Busta annuale 1"]
["L","328",null,null,null,null,null,null,null,null,null,null,null,"2018-11-25",785,"E10","Busta annuale 1"]
["L","329",null,null,null,null,null,null,null,null,null,null,null,"2018-11-25",785,"E10","Busta annuale 1"]
["L","330",null,null,null,null,null,null,null,null,null,null,null,"2018-11-25",785,"E10","Busta annuale 1"]
["L","331",null,null,null,null,null,null,null,null,null,null,null,"2018-11-25",785,"E10","Busta annuale 1"]
["L","332",null,null,null,null,null,null,null,null,null,null,null,"2018-11-25",785,"E10","Busta annuale 1"]
["L","333",null,null,null,null,null,null,null,null,null,null,null,"2018-11-25",785,"E10","Busta annuale 1"]
["L","334",null,null,null,null,null,null,null,null,null,null,null,"2018-11-25",785,"E10","Busta annuale 1"]
["L","335",null,null,null,null,null,null,null,null,null,null,null,"2018-11-25",785,"E10","Busta annuale 1"]
["L","336",null,null,null,null,null,null,null,null,null,null,null,"2018-11-25",785,"E10","Busta annuale 1"]
["L","337",null,null,null,null,null,null,null,null,null,null,null,"2018-11-25",785,"E10","Busta annuale 1"]
["L","338",null,null,null,null,null,null,null,null,null,null,null,"2018-11-25",785,"E10","Busta annuale 1"]
["L","339",null,null,null,null,null,null,null,null,null,null,null,"2018-11-25",785,"E10","Busta annuale 1"]
["L","340",null,null,null,null,null,null,null,null,null,null,null,"2018-11-25",785,"E10","Busta annuale 1"]
["L","341",null,null,null,null,null,null,null,null,null,null,null,"2018-11-25",785,"E10","Busta annuale 1"]
["L","342",null,null,null,null,null,null,null,null,null,null,null,"2018-11-25",785,"E10","Busta annuale 1"]
["L","343",null,null,null,null,null,null,null,null,null,null,null,"2018-11-25",785,"E10","Busta annuale 1"]
["L","344",null,null,null,null,null,null,null,null,null,null,null,"2018-11-25",785,"E10","Busta annuale 1"]
["L","345",null,null,null,null,null,null,null,null,null,null,null,"2018-11-25",785,"E10","Busta annuale 1"]
["L","346",null,null,null,null,null,null,null,null,null,null,null,"2018-11-25",785,"E10","Busta annuale 1"]
["L","347",null,null,null,null,null,null,null,null,null,null,null,"2018-11-25",785,"E10","Busta annuale 1"]
["L","348",null,null,null,null,null,null,null,null,null,null,null,"2018-11-25",785,"E10","Busta annuale 1"]
["L","349",null,null,null,null,null,null,null,null,null,null,null,"2018-11-25",785,"E10","Busta annuale 1"]
["L","350",null,null,null,null,null,null,null,null,null,null,null,"2018-11-25",785,"E10","Busta annuale 1"]
["L","351",null,null,null,null,null,null,null,null,null,null,null,"2018-11-25",785,"E10","Busta annuale 1"]
["L","352",null,null,null,null,null,null,null,null,null,null,null,"2018-11-25",785,"E10","Busta annuale 1"]
["L","353",null,null,null,null,null,null,null,null,null,null,null,"2018-11-25",785,"E10","Busta annuale 1"]
["L","354",null,null,null,null,null,null,null,null,null,null,null,"2018-11-25",785,"E10","Busta annuale 1"]
["L","355",null,null,null,null,null,null,null,null,null,null,null,"2018-11-25",785,"E10","Busta annuale 1"]
["L","356",null,null,null,null,null,null,null,null,null,null,null,"2018-11-25",785,"E10","Busta annuale 1"]
["L","357",null,null,null,null,null,null,null,null,null,null,null,"2018-11-25",785,"E10","Busta annuale 1"]
["L","358",null,null,null,null,null,null,null,null,null,null,null,"2018-11-25",785,"E10","Busta annuale 1"]
["L","359",null,null,null,null,null,null,null,null,null,null,null,"2018-11-25",785,"E10","Busta annuale 1"]
["L","360",null,null,null,null,null,null,null,null,null,null,null,"2018-11-25",785,"E10","Busta annuale 1"]
["L","361",null,null,null,null,null,null,null,null,null,null,null,"2018-11-25",785,"E10","Busta annuale 1"]
["L","362",null,null,null,null,null,null,null,null,null,null,null,"2018-11-25",785,"E10","Busta annuale 1"]
["L","363",null,null,null,null,null,null,null,null,null,null,null,"2018-11-25",785,"E10","Busta annuale 1"]
["L","364",null,null,null,null,null,null,null,null,null,null,null,"2018-11-25",785,"E10","Busta annuale 1"]
["L","365",null,null,null,null,null,null,null,null,null,null,null,"2018-11-25",785,"E10","Busta annuale 1"]
["L","366",null,null,null,null,null,null,null,null,null,null,null,"2018-11-25",785,"E10","Busta annuale 1"]
["L","367",null,null,null,null,null,null,null,null,null,null,null,"2018-11-25",785,"E10","Busta annuale 1"]
["L","368",null,null,null,null,null,null,null,null,null,null,null,"2018-11-25",785,"E10","Busta annuale 1"]
["L","369",null,null,null,null,null,null,null,null,null,null,null,"2018-11-25",785,"E10","Busta annuale 1"]
["L","370",null,null,null,null,null,null,null,null,null,null,null,"2018-11-25",785,"E10","Busta annuale 1"]
["L","371",null,null,null,null,null,null,null,null,null,null,null,"2018-11-25",785,"E10","Busta annuale 1"]
["L","372",null,null,null,null,null,null,null,null,null,null,null,"2018-11-25",785,"E10","Busta annuale 1"]
["L","373",null,null,null,null,null,null,null,null,null,null,null,"2018-11-25",785,"E10","Busta annuale 1"]
["L","374",null,null,null,null,null,null,null,null,null,null,null,"2018-11-25",785,"E10","Busta annuale 1"]
["L","375",null,null,null,null,null,null,null,null,null,null,null,"2018-11-25",785,"E10","Busta annuale 1"]
["L","376",null,null,null,null,null,null,null,null,null,null,null,"2018-11-25",785,"E10","Busta annuale 1"]
["L","377",null,null,null,null,null,null,null,null,null,null,null,"2018-11-25",785,"E10","Busta annuale 1"]
["L","378",null,null,null,null,null,null,null,null,null,null,null,"2018-11-25",785,"E10","Busta annuale 1"]
["L","379",null,null,null,null,null,null,null,null,null,null,null,"2018-11-25",785,"E10","Busta annuale 1"]
["L","380",null,null,null,null,null,null,null,null,null,null,null,"2018-11-25",785,"E10","Busta annuale 1"]
["L","381",null,null,null,null,null,null,null,null,null,null,null,"2018-11-25",785,"E10","Busta annuale 1"]
["L","382",null,null,null,null,null,null,null,null,null,null,null,"2018-11-25",785,"E10","Busta annuale 1"]
["L","383",null,null,null,null,null,null,null,null,null,null,null,"2018-11-25",785,"E10","Busta annuale 1"]
["L","384",null,null,null,null,null,null,null,null,null,null,null,"2018-11-25",785,"E10","Busta annuale 1"]
["L","385",null,null,null,null,null,null,null,null,null,null,null,"2018-11-25",785,"E10","Busta annuale 1"]
["L","386",null,null,null,null,null,null,null,null,null,null,null,"2018-11-25",785,"E10","Busta annuale 1"]
["L","387",null,null,null,null,null,null,null,null,null,null,null,"2018-11-25",785,"E10","Busta annuale 1"]
["L","388",null,null,null,null,null,null,null,null,null,null,null,"2018-11-25",785,"E10","Busta annuale 1"]
["L","389",null,null,null,null,null,null,null,null,null,null,null,"2018-11-25",785,"E10","Busta annuale 1"]
["L","390",null,null,null,null,null,null,null,null,null,null,null,"2018-11-25",785,"E10","Busta annuale 1"]
["L","391",null,null,null,null,null,null,null,null,null,null,null,"2018-11-25",785,"E10","Busta annuale 1"]
["L","392",null,null,null,null,null,null,null,null,null,null,null,"2018-11-25",785,"E10","Busta annuale 1"]
["L","393",null,null,null,null,null,null,null,null,null,null,null,"2018-11-25",785,"E10","Busta annuale 1"]
["L","394",null,null,null,null,null,null,null,null,null,null,null,"2018-11-25",785,"E10","Busta annuale 1"]
["L","395",null,null,null,null,null,null,null,null,null,null,null,"2018-11-25",785,"E10","Busta annuale 1"]
["L","396",null,null,null,null,null,null,null,null,null,null,null,"2018-11-25",785,"E10","Busta annuale 1"]
["L","397",null,null,null,null,null,null,null,null,null,null,null,"2018-11-25",785,"E10","Busta annuale 1"]
["L","398",null,null,null,null,null,null,null,null,null,null,null,"2018-11-25",785,"E10","Busta annuale 1"]
["L","399",null,null,null,null,null,null,null,null,null,null,null,"2018-11-25",785,"E10","Busta annuale 1"]
["L","400",null,null,null,null,null,null,null,null,null,null,null,"2018-11-25",785,"E10","Busta annuale 1"]
["L","401",null,null,null,null,null,null,null,null,null,null,null,"2018-11-25",785,"E10","Busta annuale 1"]
["L","402",null,null,null,null,null,null,null,null,null,null,null,"2018-11-25",785,"E10","Busta annuale 1"]
["L","403",null,null,null,null,null,null,null,null,null,null,null,"2018-11-25",785,"E10","Busta annuale 1"]
["L","404",null,null,null,null,null,null,null,null,null,null,null,"2018-11-25",785,"E10","Busta annuale 1"]
["L","405",null,null,null,null,null,null,null,null,null,null,null,"2018-11-25",785,"E10","Busta annuale 1"]
["L","406",null,null,null,null,null,null,null,null,null,null,null,"2018-11-25",785,"E10","Busta annuale 1"]
["L","407",null,null,null,null,null,null,null,null,null,null,null,"2018-11-25",785,"E10","Busta annuale 1"]
["L","408",null,null,null,null,null,null,null,null,null,null,null,"2018-11-25",785,"E10","Busta annuale 1"]
["L","409",null,null,null,null,null,null,null,null,null,null,null,"2018-11-25",785,"E10","Busta annuale 1"]
["L","410",null,null,null,null,null,null,null,null,null,null,null,"2018-11-25",785,"E10","Busta annuale 1"]
["L","411",null,null,null,null,null,null,null,null,null,null,null,"2018-11-25",785,"E10","Busta annuale 1"]
["L","412",null,null,null,null,null,null,null,null,null,null,null,"2018-11-25",785,"E10","Busta annuale 1"]
["L","413",null,null,null,null,null,null,null,null,null,null,null,"2018-11-25",785,"E10","Busta annuale 1"]
["L","414",null,null,null,null,null,null,null,null,null,null,null,"2018-11-25",785,"E10","Busta annuale 1"]
["L","415",null,null,null,null,null,null,null,null,null,null,null,"2018-11-25",785,"E10","Busta annuale 1"]
["L","416",null,null,null,null,null,null,null,null,null,null,null,"2018-11-25",785,"E10","Busta annuale 1"]
["L","417",null,null,null,null,null,null,null,null,null,null,null,"2018-11-25",785,"E10","Busta annuale 1"]
["L","418",null,null,null,null,null,null,null,null,null,null,null,"2018-11-25",785,"E10","Busta annuale 1"]
["L","419",null,null,null,null,null,null,null,null,null,null,null,"2018-11-25",785,"E10","Busta annuale 1"]
["L","420",null,null,null,null,null,null,null,null,null,null,null,"2018-11-25",785,"E10","Busta annuale 1"]
["L","421",null,null,null,null,null,null,null,null,null,null,null,"2018-11-25",785,"E10","Busta annuale 1"]
["L","422",null,null,null,null,null,null,null,null,null,null,null,"2018-11-25",785,"E10","Busta annuale 1"]
["L","423",null,null,null,null,null,null,null,null,null,null,null,"2018-11-25",785,"E10","Busta annuale 1"]
["L","424",null,null,null,null,null,null,null,null,null,null,null,"2018-11-25",785,"E10","Busta annuale 1"]
["L","425",null,null,null,null,null,null,null,null,null,null,null,"2018-11-25",785,"E10","Busta annuale 1"]
["L","426",null,null,null,null,null,null,null,null,null,null,null,"2018-11-25",785,"E10","Busta annuale 1"]
["L","427",null,null,null,null,null,null,null,null,null,null,null,"2018-11-25",785,"E10","Busta annuale 1"]
["L","428",null,null,null,null,null,null,null,null,null,null,null,"2018-11-25",785,"E10","Busta annuale 1"]
["L","429",null,null,null,null,null,null,null,null,null,null,null,"2018-11-25",785,"E10","Busta annuale 1"]
["L","430",null,null,null,null,null,null,null,null,null,null,null,"2018-11-25",785,"E10","Busta annuale 1"]
["L","431",null,null,null,null,null,null,null,null,null,null,null,"2018-11-25",785,"E10","Busta annuale 1"]
["L","432",null,null,null,null,null,null,null,null,null,null,null,"2018-11-25",785,"E10","Busta annuale 1"]
["L","433",null,null,null,null,null,null,null,null,null,null,null,"2018-11-25",785,"E10","Busta annuale 1"]
["L","434",null,null,null,null,null,null,null,null,null,null,null,"2018-11-25",785,"E10","Busta annuale 1"]
["L","435",null,null,null,null,null,null,null,null,null,null,null,"2018-11-25",785,"E10","Busta annuale 1"]
["L","436",null,null,null,null,null,null,null,null,null,null,null,"2018-11-25",785,"E10","Busta annuale 1"]
["L","437",null,null,null,null,null,null,null,null,null,null,null,"2018-11-25",785,"E10","Busta annuale 1"]
["L","438",null,null,null,null,null,null,null,null,null,null,null,"2018-11-25",785,"E10","Busta annuale 1"]
["L","439",null,null,null,null,null,null,null,null,null,null,null,"2018-11-25",785,"E10","Busta annuale 1"]
["L","440",null,null,null,null,null,null,null,null,null,null,null,"2018-11-25",785,"E10","Busta annuale 1"]
["L","441",null,null,null,null,null,null,null,null,null,null,null,"2018-11-25",785,"E10","Busta annuale 1"]
["L","442",null,null,null,null,null,null,null,null,null,null,null,"2018-11-25",785,"E10","Busta annuale 1"]
["L","443",null,null,null,null,null,null,null,null,null,null,null,"2018-11-25",785,"E10","Busta annuale 1"]
["L","444",null,null,null,null,null,null,null,null,null,null,null,"2018-11-25",785,"E10","Busta annuale 1"]
["L","445",null,null,null,null,null,null,null,null,null,null,null,"2018-11-25",785,"E10","Busta annuale 1"]
["L","446",null,null,null,null,null,null,null,null,null,null,null,"2018-11-25",785,"E10","Busta annuale 1"]
["L","447",null,null,null,null,null,null,null,null,null,null,null,"2018-11-25",785,"E10","Busta annuale 1"]
["L","448",null,null,null,null,null,null,null,null,null,null,null,"2018-11-25",785,"E10","Busta annuale 1"]
["L","449",null,null,null,null,null,null,null,null,null,null,null,"2018-11-25",785,"E10","Busta annuale 1"]
["L","450",null,null,null,null,null,null,null,null,null,null,null,"2018-11-25",785,"E10","Busta annuale 1"]
["L","451",null,null,null,null,null,null,null,null,null,null,null,"2018-11-25",785,"E10","Busta annuale 1"]
["L","452",null,null,null,null,null,null,null,null,null,null,null,"2018-11-25",785,"E10","Busta annuale 1"]
["L","453",null,null,null,null,null,null,null,null,null,null,null,"2018-11-25",785,"E10","Busta annuale 1"]
["L","454",null,null,null,null,null,null,null,null,null,null,null,"2018-11-25",785,"E10","Busta annuale 1"]
["L","455",null,null,null,null,null,null,null,null,null,null,null,"2018-11-25",785,"E10","Busta annuale 1"]
["L","456",null,null,null,null,null,null,null,null,null,null,null,"2018-11-25",785,"E10","Busta annuale 1"]
["L","457",null,null,null,null,null,null,null,null,null,null,null,"2018-11-25",785,"E10","Busta annuale 1"]
["L","458",null,null,null,null,null,null,null,null,null,null,null,"2018-11-25",785,"E10","Busta annuale 1"]
["L","459",null,null,null,null,null,null,null,null,null,null,null,"2018-11-25",785,"E10","Busta annuale 1"]
["L","460",null,null,null,null,null,null,null,null,null,null,null,"2018-11-25",785,"E10","Busta annuale 1"]
["L","461",null,null,null,null,null,null,null,null,null,null,null,"2018-11-25",785,"E10","Busta annuale 1"]
["L","462",null,null,null,null,null,null,null,null,null,null,null,"2018-11-25",785,"E10","Busta annuale 1"]
["L","463",null,null,null,null,null,null,null,null,null,null,null,"2018-11-25",785,"E10","Busta annuale 1"]
["L","464",null,null,null,null,null,null,null,null,null,null,null,"2018-11-25",785,"E10","Busta annuale 1"]
["L","465",null,null,null,null,null,null,null,null,null,null,null,"2018-11-25",785,"E10","Busta annuale 1"]
["L","466",null,null,null,null,null,null,null,null,null,null,null,"2018-11-25",785,"E10","Busta annuale 1"]
["L","467",null,null,null,null,null,null,null,null,null,null,null,"2018-11-25",785,"E10","Busta annuale 1"]
["L","468",null,null,null,null,null,null,null,null,null,null,null,"2018-11-25",785,"E10","Busta annuale 1"]
["L","469",null,null,null,null,null,null,null,null,null,null,null,"2018-11-25",785,"E10","Busta annuale 1"]
["L","470",null,null,null,null,null,null,null,null,null,null,null,"2018-11-25",785,"E10","Busta annuale 1"]
["L","471",null,null,null,null,null,null,null,null,null,null,null,"2018-11-25",785,"E10","Busta annuale 1"]
["L","472",null,null,null,null,null,null,null,null,null,null,null,"2018-11-25",785,"E10","Busta annuale 1"]
["L","473",null,null,null,null,null,null,null,null,null,null,null,"2018-11-25",785,"E10","Busta annuale 1"]
["L","474",null,null,null,null,null,null,null,null,null,null,null,"2018-11-25",785,"E10","Busta annuale 1"]
["L","475",null,null,null,null,null,null,null,null,null,null,null,"2018-11-25",785,"E10","Busta annuale 1"]
["L","476",null,null,null,null,null,null,null,null,null,null,null,"2018-11-25",785,"E10","Busta annuale 1"]
["L","477",null,null,null,null,null,null,null,null,null,null,null,"2018-11-25",785,"E10","Busta annuale 1"]
["L","478",null,null,null,null,null,null,null,null,null,null,null,"2018-11-25",785,"E10","Busta annuale 1"]
["L","479",null,null,null,null,null,null,null,null,null,null,null,"2018-11-25",785,"E10","Busta annuale 1"]
["L","480",null,null,null,null,null,null,null,null,null,null,null,"2018-11-25",785,"E10","Busta annuale 1"]
["L","481",null,null,null,null,null,null,null,null,null,null,null,"2018-11-25",785,"E10","Busta annuale 1"]
["L","482",null,null,null,null,null,null,null,null,null,null,null,"2018-11-25",785,"E10","Busta annuale 1"]
["L","483",null,null,null,null,null,null,null,null,null,null,null,"2018-11-25",785,"E10","Busta annuale 1"]
["L","484",null,null,null,null,null,null,null,null,null,null,null,"2018-11-25",785,"E10","Busta annuale 1"]
["L","485",null,null,null,null,null,null,null,null,null,null,null,"2018-11-25",785,"E10","Busta annuale 1"]
["L","486",null,null,null,null,null,null,null,null,null,null,null,"2018-11-25",785,"E10","Busta annuale 1"]
["L","487",null,null,null,null,null,null,null,null,null,null,null,"2018-11-25",785,"E10","Busta annuale 1"]
["L","488",null,null,null,null,null,null,null,null,null,null,null,"2018-11-25",785,"E10","Busta annuale 1"]
["L","489",null,null,null,null,null,null,null,null,null,null,null,"2018-11-25",785,"E10","Busta annuale 1"]
["L","490",null,null,null,null,null,null,null,null,null,null,null,"2018-11-25",785,"E10","Busta annuale 1"]
["L","491",null,null,null,null,null,null,null,null,null,null,null,"2018-11-25",785,"E10","Busta annuale 1"]
["L","492",null,null,null,null,null,null,null,null,null,null,null,"2018-11-25",785,"E10","Busta annuale 1"]
["L","493",null,null,null,null,null,null,null,null,null,null,null,"2018-11-25",785,"E10","Busta annuale 1"]
["L","494",null,null,null,null,null,null,null,null,null,null,null,"2018-11-25",785,"E10","Busta annuale 1"]
["L","495",null,null,null,null,null,null,null,null,null,null,null,"2018-11-25",785,"E10","Busta annuale 1"]
["L","496",null,null,null,null,null,null,null,null,null,null,null,"2018-11-25",785,"E10","Busta annuale 1"]
["L","497",null,null,null,null,null,null,null,null,null,null,null,"2018-11-25",785,"E10","Busta annuale 1"]
["L","498",null,null,null,null,null,null,null,null,null,null,null,"2018-11-25",785,"E10","Busta annuale 1"]
["L","499",null,null,null,null,null,null,null,null,null,null,null,"2018-11-25",785,"E10","Busta annuale 1"]
["L","500",null,null,null,null,null,null,null,null,null,null,null,"2018-11-25",785,"E10","Busta annuale 1"]
["L","501",null,null,null,null,null,null,null,null,null,null,null,"2018-11-25",785,"E10","Busta annuale 1"]
["L","502",null,null,null,null,null,null,null,null,null,null,null,"2018-11-25",785,"E10","Busta annuale 1"]
["L","503",null,null,null,null,null,null,null,null,null,null,null,"2018-11-25",785,"E10","Busta annuale 1"]
["L","504",null,null,null,null,null,null,null,null,null,null,null,"2018-11-25",785,"E10","Busta annuale 1"]
["L","505",null,null,null,null,null,null,null,null,null,null,null,"2018-11-25",785,"E10","Busta annuale 1"]
["L","506",null,null,null,null,null,null,null,null,null,null,null,"2018-11-25",785,"E10","Busta annuale 1"]
["L","507",null,null,null,null,null,null,null,null,null,null,null,"2018-11-25",785,"E10","Busta annuale 1"]
["L","508",null,null,null,null,null,null,null,null,null,null,null,"2018-11-25",785,"E10","Busta annuale 1"]
["L","509",null,null,null,null,null,null,null,null,null,null,null,"2018-11-25",785,"E10","Busta annuale 1"]
["L","510",null,null,null,null,null,null,null,null,null,null,null,"2018-11-25",785,"E10","Busta annuale 1"]
["L","511",null,null,null,null,null,null,null,null,null,null,null,"2018-11-25",785,"E10","Busta annuale 1"]
["L","512",null,null,null,null,null,null,null,null,null,null,null,"2018-11-25",785,"E10","Busta annuale 1"]
["L","513",null,null,null,null,null,null,null,null,null,null,null,"2018-11-25",785,"E10","Busta annuale 1"]
["L","514",null,null,null,null,null,null,null,null,null,null,null,"2018-11-25",785,"E10","Busta annuale 1"]
["L","515",null,null,null,null,null,null,null,null,null,null,null,"2018-11-25",785,"E10","Busta annuale 1"]
["L","516",null,null,null,null,null,null,null,null,null,null,null,"2018-11-25",785,"E10","Busta annuale 1"]
["L","517",null,null,null,null,null,null,null,null,null,null,null,"2018-11-25",785,"E10","Busta annuale 1"]
["L","518",null,null,null,null,null,null,null,null,null,null,null,"2018-11-25",785,"E10","Busta annuale 1"]
["L","519",null,null,null,null,null,null,null,null,null,null,null,"2018-11-25",785,"E10","Busta annuale 1"]
["L","520",null,null,null,null,null,null,null,null,null,null,null,"2018-11-25",785,"E10","Busta annuale 1"]
["L","521",null,null,null,null,null,null,null,null,null,null,null,"2018-11-25",785,"E10","Busta annuale 1"]
["L","522",null,null,null,null,null,null,null,null,null,null,null,"2018-11-25",785,"E10","Busta annuale 1"]
["L","523",null,null,null,null,null,null,null,null,null,null,null,"2018-11-25",785,"E10","Busta annuale 1"]
["L","524",null,null,null,null,null,null,null,null,null,null,null,"2018-11-25",785,"E10","Busta annuale 1"]
["L","525",null,null,null,null,null,null,null,null,null,null,null,"2018-11-25",785,"E10","Busta annuale 1"]
["L","526",null,null,null,null,null,null,null,null,null,null,null,"2018-11-25",785,"E10","Busta annuale 1"]
["L","527",null,null,null,null,null,null,null,null,null,null,null,"2018-11-25",785,"E10","Busta annuale 1"]
["L","528",null,null,null,null,null,null,null,null,null,null,null,"2018-11-25",785,"E10","Busta annuale 1"]
["L","529",null,null,null,null,null,null,null,null,null,null,null,"2018-11-25",785,"E10","Busta annuale 1"]
["L","530",null,null,null,null,null,null,null,null,null,null,null,"2018-11-25",785,"E10","Busta annuale 1"]
["L","531",null,null,null,null,null,null,null,null,null,null,null,"2018-11-25",785,"E10","Busta annuale 1"]
["L","532",null,null,null,null,null,null,null,null,null,null,null,"2018-11-25",785,"E10","Busta annuale 1"]
["L","533",null,null,null,null,null,null,null,null,null,null,null,"2018-11-25",785,"E10","Busta annuale 1"]
["L","534",null,null,null,null,null,null,null,null,null,null,null,"2018-11-25",785,"E10","Busta annuale 1"]
["L","535",null,null,null,null,null,null,null,null,null,null,null,"2018-11-25",785,"E10","Busta annuale 1"]
["L","536",null,null,null,null,null,null,null,null,null,null,null,"2018-11-25",785,"E10","Busta annuale 1"]
["L","537",null,null,null,null,null,null,null,null,null,null,null,"2018-11-25",785,"E10","Busta annuale 1"]
["L","538",null,null,null,null,null,null,null,null,null,null,null,"2018-11-25",785,"E10","Busta annuale 1"]
["L","539",null,null,null,null,null,null,null,null,null,null,null,"2018-11-25",785,"E10","Busta annuale 1"]
["L","540",null,null,null,null,null,null,null,null,null,null,null,"2018-11-25",785,"E10","Busta annuale 1"]
["L","541",null,null,null,null,null,null,null,null,null,null,null,"2018-11-25",785,"E10","Busta annuale 1"]
["L","542",null,null,null,null,null,null,null,null,null,null,null,"2018-11-25",785,"E10","Busta annuale 1"]
["L","543",null,null,null,null,null,null,null,null,null,null,null,"2018-11-25",785,"E10","Busta annuale 1"]
["L","544",null,null,null,null,null,null,null,null,null,null,null,"2018-11-25",785,"E10","Busta annuale 1"]
["L","545",null,null,null,null,null,null,null,null,null,null,null,"2018-11-25",785,"E10","Busta annuale 1"]
["L","546",null,null,null,null,null,null,null,null,null,null,null,"2018-11-25",785,"E10","Busta annuale 1"]
["L","547",null,null,null,null,null,null,null,null,null,null,null,"2018-11-25",785,"E10","Busta annuale 1"]
["L","548",null,null,null,null,null,null,null,null,null,null,null,"2018-11-25",785,"E10","Busta annuale 1"]
["L","549",null,null,null,null,null,null,null,null,null,null,null,"2018-11-25",785,"E10","Busta annuale 1"]
["L","550",null,null,null,null,null,null,null,null,null,null,null,"2018-11-25",785,"E10","Busta annuale 1"]
["L","551",null,null,null,null,null,null,null,null,null,null,null,"2018-11-25",785,"E10","Busta annuale 1"]
["L","552",null,null,null,null,null,null,null,null,null,null,null,"2018-11-25",785,"E10","Busta annuale 1"]
["L","553",null,null,null,null,null,null,null,null,null,null,null,"2018-11-25",785,"E10","Busta annuale 1"]
["L","554",null,null,null,null,null,null,null,null,null,null,null,"2018-11-25",785,"E10","Busta annuale 1"]
["L","555",null,null,null,null,null,null,null,null,null,null,null,"2018-11-25",785,"E10","Busta annuale 1"]
["L","556",null,null,null,null,null,null,null,null,null,null,null,"2018-11-25",785,"E10","Busta annuale 1"]
["L","557",null,null,null,null,null,null,null,null,null,null,null,"2018-11-25",785,"E10","Busta annuale 1"]
["L","558",null,null,null,null,null,null,null,null,null,null,null,"2018-11-25",785,"E10","Busta annuale 1"]
["L","559",null,null,null,null,null,null,null,null,null,null,null,"2018-11-25",785,"E10","Busta annuale 1"]
["L","560",null,null,null,null,null,null,null,null,null,null,null,"2018-11-25",785,"E10","Busta annuale 1"]
["L","561",null,null,null,null,null,null,null,null,null,null,null,"2018-11-25",785,"E10","Busta annuale 1"]
["L","562",null,null,null,null,null,null,null,null,null,null,null,"2018-11-25",785,"E10","Busta annuale 1"]
["L","563",null,null,null,null,null,null,null,null,null,null,null,"2018-11-25",785,"E10","Busta annuale 1"]
["L","564",null,null,null,null,null,null,null,null,null,null,null,"2018-11-25",785,"E10","Busta annuale 1"]
["L","565",null,null,null,null,null,null,null,null,null,null,null,"2018-11-25",785,"E10","Busta annuale 1"]
["L","566",null,null,null,null,null,null,null,null,null,null,null,"2018-11-25",785,"E10","Busta annuale 1"]
["L","567",null,null,null,null,null,null,null,null,null,null,null,"2018-11-25",785,"E10","Busta annuale 1"]
["L","568",null,null,null,null,null,null,null,null,null,null,null,"2018-11-25",785,"E10","Busta annuale 1"]
["L","569",null,null,null,null,null,null,null,null,null,null,null,"2018-11-25",785,"E10","Busta annuale 1"]
["L","570",null,null,null,null,null,null,null,null,null,null,null,"2018-11-25",785,"E10","Busta annuale 1"]
["L","571",null,null,null,null,null,null,null,null,null,null,null,"2018-11-25",785,"E10","Busta annuale 1"]
["L","572",null,null,null,null,null,null,null,null,null,null,null,"2018-11-25",785,"E10","Busta annuale 1"]
["L","573",null,null,null,null,null,null,null,null,null,null,null,"2018-11-25",785,"E10","Busta annuale 1"]
["L","574",null,null,null,null,null,null,null,null,null,null,null,"2018-11-25",785,"E10","Busta annuale 1"]
["L","575",null,null,null,null,null,null,null,null,null,null,null,"2018-11-25",785,"E10","Busta annuale 1"]
["L","576",null,null,null,null,null,null,null,null,null,null,null,"2018-11-25",785,"E10","Busta annuale 1"]
["L","577",null,null,null,null,null,null,null,null,null,null,null,"2018-11-25",785,"E10","Busta annuale 1"]
["L","578",null,null,null,null,null,null,null,null,null,null,null,"2018-11-25",785,"E10","Busta annuale 1"]
["L","579",null,null,null,null,null,null,null,null,null,null,null,"2018-11-25",785,"E10","Busta annuale 1"]
["L","580",null,null,null,null,null,null,null,null,null,null,null,"2018-11-25",785,"E10","Busta annuale 1"]
["L","581",null,null,null,null,null,null,null,null,null,null,null,"2018-11-25",785,"E10","Busta annuale 1"]
["L","582",null,null,null,null,null,null,null,null,null,null,null,"2018-11-25",785,"E10","Busta annuale 1"]
["L","583",null,null,null,null,null,null,null,null,null,null,null,"2018-11-25",785,"E10","Busta annuale 1"]
["L","584",null,null,null,null,null,null,null,null,null,null,null,"2018-11-25",785,"E10","Busta annuale 1"]
["L","585",null,null,null,null,null,null,null,null,null,null,null,"2018-11-25",785,"E10","Busta annuale 1"]
["L","586",null,null,null,null,null,null,null,null,null,null,null,"2018-11-25",785,"E10","Busta annuale 1"]
["L","587",null,null,null,null,null,null,null,null,null,null,null,"2018-11-25",785,"E10","Busta annuale 1"]
["L","588",null,null,null,null,null,null,null,null,null,null,null,"2018-11-25",785,"E10","Busta annuale 1"]
["L","589",null,null,null,null,null,null,null,null,null,null,null,"2018-11-25",785,"E10","Busta annuale 1"]
["L","590",null,null,null,null,null,null,null,null,null,null,null,"2018-11-25",785,"E10","Busta annuale 1"]
["L","591",null,null,null,null,null,null,null,null,null,null,null,"2018-11-25",785,"E10","Busta annuale 1"]
["L","592",null,null,null,null,null,null,null,null,null,null,null,"2018-11-25",785,"E10","Busta annuale 1"]
["L","593",null,null,null,null,null,null,null,null,null,null,null,"2018-11-25",785,"E10","Busta annuale 1"]
["L","594",null,null,null,null,null,null,null,null,null,null,null,"2018-11-25",785,"E10","Busta annuale 1"]
["L","595",null,null,null,null,null,null,null,null,null,null,null,"2018-11-25",785,"E10","Busta annuale 1"]
["L","596",null,null,null,null,null,null,null,null,null,null,null,"2018-11-25",785,"E10","Busta annuale 1"]
["L","597",null,null,null,null,null,null,null,null,null,null,null,"2018-11-25",785,"E10","Busta annuale 1"]
["L","598",null,null,null,null,null,null,null,null,null,null,null,"2018-11-25",785,"E10","Busta annuale 1"]
["L","599",null,null,null,null,null,null,null,null,null,null,null,"2018-11-25",785,"E10","Busta annuale 1"]
["L","600",null,null,null,null,null,null,null,null,null,null,null,"2018-11-25",785,"E10","Busta annuale 1"]
["L","601",null,null,null,null,null,null,null,null,null,null,null,"2018-11-25",785,"E10","Busta annuale 1"]
["L","602",null,null,null,null,null,null,null,null,null,null,null,"2018-11-25",785,"E10","Busta annuale 1"]
["L","603",null,null,null,null,null,null,null,null,null,null,null,"2018-11-25",785,"E10","Busta annuale 1"]
["L","604",null,null,null,null,null,null,null,null,null,null,null,"2018-11-25",785,"E10","Busta annuale 1"]
["L","605",null,null,null,null,null,null,null,null,null,null,null,"2018-11-25",785,"E10","Busta annuale 1"]
["L","606",null,null,null,null,null,null,null,null,null,null,null,"2018-11-25",785,"E10","Busta annuale 1"]
["L","607",null,null,null,null,null,null,null,null,null,null,null,"2018-11-25",785,"E10","Busta annuale 1"]
["L","608",null,null,null,null,null,null,null,null,null,null,null,"2018-11-25",785,"E10","Busta annuale 1"]
["L","609",null,null,null,null,null,null,null,null,null,null,null,"2018-11-25",785,"E10","Busta annuale 1"]
["L","610",null,null,null,null,null,null,null,null,null,null,null,"2018-11-25",785,"E10","Busta annuale 1"]
["L","611",null,null,null,null,null,null,null,null,null,null,null,"2018-11-25",785,"E10","Busta annuale 1"]
["L","612",null,null,null,null,null,null,null,null,null,null,null,"2018-11-25",785,"E10","Busta annuale 1"]
["L","613",null,null,null,null,null,null,null,null,null,null,null,"2018-11-25",785,"E10","Busta annuale 1"]
["L","614",null,null,null,null,null,null,null,null,null,null,null,"2018-11-25",785,"E10","Busta annuale 1"]
["L","615",null,null,null,null,null,null,null,null,null,null,null,"2018-11-25",785,"E10","Busta annuale 1"]
["L","616",null,null,null,null,null,null,null,null,null,null,null,"2018-11-25",785,"E10","Busta annuale 1"]
["L","617",null,null,null,null,null,null,null,null,null,null,null,"2018-11-25",785,"E10","Busta annuale 1"]
["L","618",null,null,null,null,null,null,null,null,null,null,null,"2018-11-25",785,"E10","Busta annuale 1"]
["L","619",null,null,null,null,null,null,null,null,null,null,null,"2018-11-25",785,"E10","Busta annuale 1"]
["L","620",null,null,null,null,null,null,null,null,null,null,null,"2018-11-25",785,"E10","Busta annuale 1"]
["L","621",null,null,null,null,null,null,null,null,null,null,null,"2018-11-25",785,"E10","Busta annuale 1"]
["L","622",null,null,null,null,null,null,null,null,null,null,null,"2018-11-25",785,"E10","Busta annuale 1"]
["L","623",null,null,null,null,null,null,null,null,null,null,null,"2018-11-25",785,"E10","Busta annuale 1"]
["L","624",null,null,null,null,null,null,null,null,null,null,null,"2018-11-25",785,"E10","Busta annuale 1"]
["L","625",null,null,null,null,null,null,null,null,null,null,null,"2018-11-25",785,"E10","Busta annuale 1"]
["L","626",null,null,null,null,null,null,null,null,null,null,null,"2018-11-25",785,"E10","Busta annuale 1"]
["L","627",null,null,null,null,null,null,null,null,null,null,null,"2018-11-25",785,"E10","Busta annuale 1"]
["L","628",null,null,null,null,null,null,null,null,null,null,null,"2018-11-25",785,"E10","Busta annuale 1"]
["L","629",null,null,null,null,null,null,null,null,null,null,null,"2018-11-25",785,"E10","Busta annuale 1"]
["L","630",null,null,null,null,null,null,null,null,null,null,null,"2018-11-25",785,"E10","Busta annuale 1"]
["L","631",null,null,null,null,null,null,null,null,null,null,null,"2018-11-25",785,"E10","Busta annuale 1"]
["L","632",null,null,null,null,null,null,null,null,null,null,null,"2018-11-25",785,"E10","Busta annuale 1"]
["L","633",null,null,null,null,null,null,null,null,null,null,null,"2018-11-25",785,"E10","Busta annuale 1"]
["L","634",null,null,null,null,null,null,null,null,null,null,null,"2018-11-25",785,"E10","Busta annuale 1"]
["L","635",null,null,null,null,null,null,null,null,null,null,null,"2018-11-25",785,"E10","Busta annuale 1"]
["L","636",null,null,null,null,null,null,null,null,null,null,null,"2018-11-25",785,"E10","Busta annuale 1"]
["L","637",null,null,null,null,null,null,null,null,null,null,null,"2018-11-25",785,"E10","Busta annuale 1"]
["L","638",null,null,null,null,null,null,null,null,null,null,null,"2018-11-25",785,"E10","Busta annuale 1"]
["L","639",null,null,null,null,null,null,null,null,null,null,null,"2018-11-25",785,"E10","Busta annuale 1"]
["L","640",null,null,null,null,null,null,null,null,null,null,null,"2018-11-25",785,"E10","Busta annuale 1"]
["L","641",null,null,null,null,null,null,null,null,null,null,null,"2018-11-25",785,"E10","Busta annuale 1"]
["L","642",null,null,null,null,null,null,null,null,null,null,null,"2018-11-25",785,"E10","Busta annuale 1"]
["L","643",null,null,null,null,null,null,null,null,null,null,null,"2018-11-25",785,"E10","Busta annuale 1"]
["L","644",null,null,null,null,null,null,null,null,null,null,null,"2018-11-25",785,"E10","Busta annuale 1"]
["L","645",null,null,null,null,null,null,null,null,null,null,null,"2018-11-25",785,"E10","Busta annuale 1"]
["L","646",null,null,null,null,null,null,null,null,null,null,null,"2018-11-25",785,"E10","Busta annuale 1"]
["L","647",null,null,null,null,null,null,null,null,null,null,null,"2018-11-25",785,"E10","Busta annuale 1"]
["L","648",null,null,null,null,null,null,null,null,null,null,null,"2018-11-25",785,"E10","Busta annuale 1"]
["L","649",null,null,null,null,null,null,null,null,null,null,null,"2018-11-25",785,"E10","Busta annuale 1"]
["L","650",null,null,null,null,null,null,null,null,null,null,null,"2018-11-25",785,"E10","Busta annuale 1"]
["L","651",null,null,null,null,null,null,null,null,null,null,null,"2018-11-25",785,"E10","Busta annuale 1"]
["L","652",null,null,null,null,null,null,null,null,null,null,null,"2018-11-25",785,"E10","Busta annuale 1"]
["L","653",null,null,null,null,null,null,null,null,null,null,null,"2018-11-25",785,"E10","Busta annuale 1"]
["L","654",null,null,null,null,null,null,null,null,null,null,null,"2018-11-25",785,"E10","Busta annuale 1"]
["L","655",null,null,null,null,null,null,null,null,null,null,null,"2018-11-25",785,"E10","Busta annuale 1"]
["L","656",null,null,null,null,null,null,null,null,null,null,null,"2018-11-25",785,"E10","Busta annuale 1"]
["L","657",null,null,null,null,null,null,null,null,null,null,null,"2018-11-25",785,"E10","Busta annuale 1"]
["L","658",null,null,null,null,null,null,null,null,null,null,null,"2018-11-25",785,"E10","Busta annuale 1"]
["L","659",null,null,null,null,null,null,null,null,null,null,null,"2018-11-25",785,"E10","Busta annuale 1"]
["L","660",null,null,null,null,null,null,null,null,null,null,null,"2018-11-25",785,"E10","Busta annuale 1"]
["L","661",null,null,null,null,null,null,null,null,null,null,null,"2018-11-25",785,"E10","Busta annuale 1"]
["L","662",null,null,null,null,null,null,null,null,null,null,null,"2018-11-25",785,"E10","Busta annuale 1"]
["L","663",null,null,null,null,null,null,null,null,null,null,null,"2018-11-25",785,"E10","Busta annuale 1"]
["L","664",null,null,null,null,null,null,null,null,null,null,null,"2018-11-25",785,"E10","Busta annuale 1"]
["L","665",null,null,null,null,null,null,null,null,null,null,null,"2018-11-25",785,"E10","Busta annuale 1"]
["L","666",null,null,null,null,null,null,null,null,null,null,null,"2018-11-25",785,"E10","Busta annuale 1"]
["L","667",null,null,null,null,null,null,null,null,null,null,null,"2018-11-25",785,"E10","Busta annuale 1"]
["L","668",null,null,null,null,null,null,null,null,null,null,null,"2018-11-25",785,"E10","Busta annuale 1"]
["L","669",null,null,null,null,null,null,null,null,null,null,null,"2018-11-25",785,"E10","Busta annuale 1"]
["L","670",null,null,null,null,null,null,null,null,null,null,null,"2018-11-25",785,"E10","Busta annuale 1"]
["L","671",null,null,null,null,null,null,null,null,null,null,null,"2018-11-25",785,"E10","Busta annuale 1"]
["L","672",null,null,null,null,null,null,null,null,null,null,null,"2018-11-25",785,"E10","Busta annuale 1"]
["L","673",null,null,null,null,null,null,null,null,null,null,null,"2018-11-25",785,"E10","Busta annuale 1"]
["L","674",null,null,null,null,null,null,null,null,null,null,null,"2018-11-25",785,"E10","Busta annuale 1"]
["L","675",null,null,null,null,null,null,null,null,null,null,null,"2018-11-25",785,"E10","Busta annuale 1"]
["L","676",null,null,null,null,null,null,null,null,null,null,null,"2018-11-25",785,"E10","Busta annuale 1"]
["L","677",null,null,null,null,null,null,null,null,null,null,null,"2018-11-25",785,"E10","Busta annuale 1"]
["L","678",null,null,null,null,null,null,null,null,null,null,null,"2018-11-25",785,"E10","Busta annuale 1"]
["L","679",null,null,null,null,null,null,null,null,null,null,null,"2018-11-25",785,"E10","Busta annuale 1"]
["L","680",null,null,null,null,null,null,null,null,null,null,null,"2018-11-25",785,"E10","Busta annuale 1"]
["L","681",null,null,null,null,null,null,null,null,null,null,null,"2018-11-25",785,"E10","Busta annuale 1"]
["L","682",null,null,null,null,null,null,null,null,null,null,null,"2018-11-25",785,"E10","Busta annuale 1"]
["L","683",null,null,null,null,null,null,null,null,null,null,null,"2018-11-25",785,"E10","Busta annuale 1"]
["L","684",null,null,null,null,null,null,null,null,null,null,null,"2018-11-25",785,"E10","Busta annuale 1"]
["L","685",null,null,null,null,null,null,null,null,null,null,null,"2018-11-25",785,"E10","Busta annuale 1"]
["L","686",null,null,null,null,null,null,null,null,null,null,null,"2018-11-25",785,"E10","Busta annuale 1"]
["L","687",null,null,null,null,null,null,null,null,null,null,null,"2018-11-25",785,"E10","Busta annuale 1"]
["L","688",null,null,null,null,null,null,null,null,null,null,null,"2018-11-25",785,"E10","Busta annuale 1"]
["L","689",null,null,null,null,null,null,null,null,null,null,null,"2018-11-25",785,"E10","Busta annuale 1"]
["L","690",null,null,null,null,null,null,null,null,null,null,null,"2018-11-25",785,"E10","Busta annuale 1"]
["L","691",null,null,null,null,null,null,null,null,null,null,null,"2018-11-25",785,"E10","Busta annuale 1"]
["L","692",null,null,null,null,null,null,null,null,null,null,null,"2018-11-25",785,"E10","Busta annuale 1"]
["L","693",null,null,null,null,null,null,null,null,null,null,null,"2018-11-25",785,"E10","Busta annuale 1"]
["L","694",null,null,null,null,null,null,null,null,null,null,null,"2018-11-25",785,"E10","Busta annuale 1"]
["L","695",null,null,null,null,null,null,null,null,null,null,null,"2018-11-25",785,"E10","Busta annuale 1"]
["L","696",null,null,null,null,null,null,null,null,null,null,null,"2018-11-25",785,"E10","Busta annuale 1"]
["L","697",null,null,null,null,null,null,null,null,null,null,null,"2018-11-25",785,"E10","Busta annuale 1"]
["L","698",null,null,null,null,null,null,null,null,null,null,null,"2018-11-25",785,"E10","Busta annuale 1"]
["L","699",null,null,null,null,null,null,null,null,null,null,null,"2018-11-25",785,"E10","Busta annuale 1"]
["L","700",null,null,null,null,null,null,null,null,null,null,null,"2018-11-25",785,"E10","Busta annuale 1"]
["L","701",null,null,null,null,null,null,null,null,null,null,null,"2018-11-25",785,"E10","Busta annuale 1"]
["L","702",null,null,null,null,null,null,null,null,null,null,null,"2018-11-25",785,"E10","Busta annuale 1"]
["L","703",null,null,null,null,null,null,null,null,null,null,null,"2018-11-25",785,"E10","Busta annuale 1"]
["L","704",null,null,null,null,null,null,null,null,null,null,null,"2018-11-25",785,"E10","Busta annuale 1"]
["L","705",null,null,null,null,null,null,null,null,null,null,null,"2018-11-25",785,"E10","Busta annuale 1"]
["L","706",null,null,null,null,null,null,null,null,null,null,null,"2018-11-25",785,"E10","Busta annuale 1"]
["L","707",null,null,null,null,null,null,null,null,null,null,null,"2018-11-25",785,"E10","Busta annuale 1"]
["L","708",null,null,null,null,null,null,null,null,null,null,null,"2018-11-25",785,"E10","Busta annuale 1"]
["L","709",null,null,null,null,null,null,null,null,null,null,null,"2018-11-25",785,"E10","Busta annuale 1"]
["L","710",null,null,null,null,null,null,null,null,null,null,null,"2018-11-25",785,"E10","Busta annuale 1"]
["L","711",null,null,null,null,null,null,null,null,null,null,null,"2018-11-25",785,"E10","Busta annuale 1"]
["L","712",null,null,null,null,null,null,null,null,null,null,null,"2018-11-25",785,"E10","Busta annuale 1"]
["L","713",null,null,null,null,null,null,null,null,null,null,null,"2018-11-25",785,"E10","Busta annuale 1"]
["L","714",null,null,null,null,null,null,null,null,null,null,null,"2018-11-25",785,"E10","Busta annuale 1"]
["L","715",null,null,null,null,null,null,null,null,null,null,null,"2018-11-25",785,"E10","Busta annuale 1"]
["L","716",null,null,null,null,null,null,null,null,null,null,null,"2018-11-25",785,"E10","Busta annuale 1"]
["L","717",null,null,null,null,null,null,null,null,null,null,null,"2018-11-25",785,"E10","Busta annuale 1"]
["L","718",null,null,null,null,null,null,null,null,null,null,null,"2018-11-25",785,"E10","Busta annuale 1"]
["L","719",null,null,null,null,null,null,null,null,null,null,null,"2018-11-25",785,"E10","Busta annuale 1"]
["L","720",null,null,null,null,null,null,null,null,null,null,null,"2018-11-25",785,"E10","Busta annuale 1"]
["L","721",null,null,null,null,null,null,null,null,null,null,null,"2018-11-25",785,"E10","Busta annuale 1"]
["L","722",null,null,null,null,null,null,null,null,null,null,null,"2018-11-25",785,"E10","Busta annuale 1"]
["L","723",null,null,null,null,null,null,null,null,null,null,null,"2018-11-25",785,"E10","Busta annuale 1"]
["L","724",null,null,null,null,null,null,null,null,null,null,null,"2018-11-25",785,"E10","Busta annuale 1"]
["L","725",null,null,null,null,null,null,null,null,null,null,null,"2018-11-25",785,"E10","Busta annuale 1"]
["L","726",null,null,null,null,null,null,null,null,null,null,null,"2018-11-25",785,"E10","Busta annuale 1"]
["L","727",null,null,null,null,null,null,null,null,null,null,null,"2018-11-25",785,"E10","Busta annuale 1"]
["L","728",null,null,null,null,null,null,null,null,null,null,null,"2018-11-25",785,"E10","Busta annuale 1"]
["L","729",null,null,null,null,null,null,null,null,null,null,null,"2018-11-25",785,"E10","Busta annuale 1"]
["L","730",null,null,null,null,null,null,null,null,null,null,null,"2018-11-25",785,"E10","Busta annuale 1"]
["L","731",null,null,null,null,null,null,null,null,null,null,null,"2018-11-25",785,"E10","Busta annuale 1"]
["L","732",null,null,null,null,null,null,null,null,null,null,null,"2018-11-25",785,"E10","Busta annuale 1"]
["L","733",null,null,null,null,null,null,null,null,null,null,null,"2018-11-25",785,"E10","Busta annuale 1"]
["L","734",null,null,null,null,null,null,null,null,null,null,null,"2018-11-25",785,"E10","Busta annuale 1"]
["L","735",null,null,null,null,null,null,null,null,null,null,null,"2018-11-25",785,"E10","Busta annuale 1"]
["L","736",null,null,null,null,null,null,null,null,null,null,null,"2018-11-25",785,"E10","Busta annuale 1"]
["L","737",null,null,null,null,null,null,null,null,null,null,null,"2018-11-25",785,"E10","Busta annuale 1"]
["L","738",null,null,null,null,null,null,null,null,null,null,null,"2018-11-25",785,"E10","Busta annuale 1"]
["L","739",null,null,null,null,null,null,null,null,null,null,null,"2018-11-25",785,"E10","Busta annuale 1"]
["L","740",null,null,null,null,null,null,null,null,null,null,null,"2018-11-25",785,"E10","Busta annuale 1"]
["L","741",null,null,null,null,null,null,null,null,null,null,null,"2018-11-25",785,"E10","Busta annuale 1"]
["L","742",null,null,null,null,null,null,null,null,null,null,null,"2018-11-25",785,"E10","Busta annuale 1"]
["L","743",null,null,null,null,null,null,null,null,null,null,null,"2018-11-25",785,"E10","Busta annuale 1"]
["L","744",null,null,null,null,null,null,null,null,null,null,null,"2018-11-25",785,"E10","Busta annuale 1"]
["L","745",null,null,null,null,null,null,null,null,null,null,null,"2018-11-25",785,"E10","Busta annuale 1"]
["L","746",null,null,null,null,null,null,null,null,null,null,null,"2018-11-25",785,"E10","Busta annuale 1"]
["L","747",null,null,null,null,null,null,null,null,null,null,null,"2018-11-25",785,"E10","Busta annuale 1"]
["L","748",null,null,null,null,null,null,null,null,null,null,null,"2018-11-25",785,"E10","Busta annuale 1"]
["L","749",null,null,null,null,null,null,null,null,null,null,null,"2018-11-25",785,"E10","Busta annuale 1"]
["L","750",null,null,null,null,null,null,null,null,null,null,null,"2018-11-25",785,"E10","Busta annuale 1"]
["L","751",null,null,null,null,null,null,null,null,null,null,null,"2018-11-25",785,"E10","Busta annuale 1"]
["L","752",null,null,null,null,null,null,null,null,null,null,null,"2018-11-25",785,"E10","Busta annuale 1"]
["L","753",null,null,null,null,null,null,null,null,null,null,null,"2018-11-25",785,"E10","Busta annuale 1"]
["L","754",null,null,null,null,null,null,null,null,null,null,null,"2018-11-25",785,"E10","Busta annuale 1"]
["L","755",null,null,null,null,null,null,null,null,null,null,null,"2018-11-25",785,"E10","Busta annuale 1"]
["L","756",null,null,null,null,null,null,null,null,null,null,null,"2018-11-25",785,"E10","Busta annuale 1"]
["L","757",null,null,null,null,null,null,null,null,null,null,null,"2018-11-25",785,"E10","Busta annuale 1"]
["L","758",null,null,null,null,null,null,null,null,null,null,null,"2018-11-25",785,"E10","Busta annuale 1"]
["L","759",null,null,null,null,null,null,null,null,null,null,null,"2018-11-25",785,"E10","Busta annuale 1"]
["L","760",null,null,null,null,null,null,null,null,null,null,null,"2018-11-25",785,"E10","Busta annuale 1"]
["L","761",null,null,null,null,null,null,null,null,null,null,null,"2018-11-25",785,"E10","Busta annuale 1"]
["L","762",null,null,null,null,null,null,null,null,null,null,null,"2018-11-25",785,"E10","Busta annuale 1"]
["L","763",null,null,null,null,null,null,null,null,null,null,null,"2018-11-25",785,"E10","Busta annuale 1"]
["L","764",null,null,null,null,null,null,null,null,null,null,null,"2018-11-25",785,"E10","Busta annuale 1"]
["L","765",null,null,null,null,null,null,null,null,null,null,null,"2018-11-25",785,"E10","Busta annuale 1"]
["L","766",null,null,null,null,null,null,null,null,null,null,null,"2018-11-25",785,"E10","Busta annuale 1"]
["L","767",null,null,null,null,null,null,null,null,null,null,null,"2018-11-25",785,"E10","Busta annuale 1"]
["L","768",null,null,null,null,null,null,null,null,null,null,null,"2018-11-25",785,"E10","Busta annuale 1"]
["L","769",null,null,null,null,null,null,null,null,null,null,null,"2018-11-25",785,"E10","Busta annuale 1"]
["L","770",null,null,null,null,null,null,null,null,null,null,null,"2018-11-25",785,"E10","Busta annuale 1"]
["L","771",null,null,null,null,null,null,null,null,null,null,null,"2018-11-25",785,"E10","Busta annuale 1"]
["L","772",null,null,null,null,null,null,null,null,null,null,null,"2018-11-25",785,"E10","Busta annuale 1"]
["L","773",null,null,null,null,null,null,null,null,null,null,null,"2018-11-25",785,"E10","Busta annuale 1"]
["L","774",null,null,null,null,null,null,null,null,null,null,null,"2018-11-25",785,"E10","Busta annuale 1"]
["L","775",null,null,null,null,null,null,null,null,null,null,null,"2018-11-25",785,"E10","Busta annuale 1"]
["L","776",null,null,null,null,null,null,null,null,null,null,null,"2018-11-25",785,"E10","Busta annuale 1"]
["L","777",null,null,null,null,null,null,null,null,null,null,null,"2018-11-25",785,"E10","Busta annuale 1"]
["L","778",null,null,null,null,null,null,null,null,null,null,null,"2018-11-25",785,"E10","Busta annuale 1"]
["L","779",null,null,null,null,null,null,null,null,null,null,null,"2018-11-25",785,"E10","Busta annuale 1"]
["L","780",null,null,null,null,null,null,null,null,null,null,null,"2018-11-25",785,"E10","Busta annuale 1"]
["L","781",null,null,null,null,null,null,null,null,null,null,null,"2018-11-25",785,"E10","Busta annuale 1"]
["L","782",null,null,null,null,null,null,null,null,null,null,null,"2018-11-25",785,"E10","Busta annuale 1"]
["L","783",null,null,null,null,null,null,null,null,null,null,null,"2018-11-25",785,"E10","Busta annuale 1"]
["L","784",null,null,null,null,null,null,null,null,null,null,null,"2018-11-25",785,"E10","Busta annuale 1"]
["L","785",null,null,null,null,null,null,null,null,null,null,null,"2018-11-25",785,"E10","Busta annuale 1"]
["L","786",null,null,null,null,null,null,null,null,null,null,null,"2018-11-25",785,"E10","Busta annuale 1"]
["L","787",null,null,null,null,null,null,null,null,null,null,null,"2018-11-25",785,"E10","Busta annuale 1"]
["L","788",null,null,null,null,null,null,null,null,null,null,null,"2018-11-25",785,"E10","Busta annuale 1"]
["L","789",null,null,null,null,null,null,null,null,null,null,null,"2018-11-25",785,"E10","Busta annuale 1"]
["L","790",null,null,null,null,null,null,null,null,null,null,null,"2018-11-25",785,"E10","Busta annuale 1"]
["L","791",null,null,null,null,null,null,null,null,null,null,null,"2018-11-25",785,"E10","Busta annuale 1"]
["L","792",null,null,null,null,null,null,null,null,null,null,null,"2018-11-25",785,"E10","Busta annuale 1"]
["L","793",null,null,null,null,null,null,null,null,null,null,null,"2018-11-25",785,"E10","Busta annuale 1"]
["L","794",null,null,null,null,null,null,null,null,null,null,null,"2018-11-25",785,"E10","Busta annuale 1"]
["L","795",null,null,null,null,null,null,null,null,null,null,null,"2018-11-25",785,"E10","Busta annuale 1"]
["L","796",null,null,null,null,null,null,null,null,null,null,null,"2018-11-25",785,"E10","Busta annuale 1"]
["L","797",null,null,null,null,null,null,null,null,null,null,null,"2018-11-25",785,"E10","Busta annuale 1"]
["L","798",null,null,null,null,null,null,null,null,null,null,null,"2018-11-25",785,"E10","Busta annuale 1"]
["L","799",null,null,null,null,null,null,null,null,null,null,null,"2018-11-25",785,"E10","Busta annuale 1"]
["L","800",null,null,null,null,null,null,null,null,null,null,null,"2018-11-25",785,"E10","Busta annuale 1"]
["L","801",null,null,null,null,null,null,null,null,null,null,null,"2018-11-25",785,"E10","Busta annuale 1"]
["L","802",null,null,null,null,null,null,null,null,null,null,null,"2018-11-25",785,"E10","Busta annuale 1"]
["L","803",null,null,null,null,null,null,null,null,null,null,null,"2018-11-25",785,"E10","Busta annuale 1"]
["L","804",null,null,null,null,null,null,null,null,null,null,null,"2018-11-25",785,"E10","Busta annuale 1"]
["L","805",null,null,null,null,null,null,null,null,null,null,null,"2018-11-25",785,"E10","Busta annuale 1"]
["L","806",null,null,null,null,null,null,null,null,null,null,null,"2018-11-25",785,"E10","Busta annuale 1"]
["L","807",null,null,null,null,null,null,null,null,null,null,null,"2018-11-25",785,"E10","Busta annuale 1"]
["L","808",null,null,null,null,null,null,null,null,null,null,null,"2018-11-25",785,"E10","Busta annuale 1"]
["L","809",null,null,null,null,null,null,null,null,null,null,null,"2018-11-25",785,"E10","Busta annuale 1"]
["L","810",null,null,null,null,null,null,null,null,null,null,null,"2018-11-25",785,"E10","Busta annuale 1"]
["L","811",null,null,null,null,null,null,null,null,null,null,null,"2018-11-25",785,"E10","Busta annuale 1"]
["L","812",null,null,null,null,null,null,null,null,null,null,null,"2018-11-25",785,"E10","Busta annuale 1"]
["L","813",null,null,null,null,null,null,null,null,null,null,null,"2018-11-25",785,"E10","Busta annuale 1"]
["L","814",null,null,null,null,null,null,null,null,null,null,null,"2018-11-25",785,"E10","Busta annuale 1"]
["L","815",null,null,null,null,null,null,null,null,null,null,null,"2018-11-25",785,"E10","Busta annuale 1"]
["L","816",null,null,null,null,null,null,null,null,null,null,null,"2018-11-25",785,"E10","Busta annuale 1"]
["L","817",null,null,null,null,null,null,null,null,null,null,null,"2018-11-25",785,"E10","Busta annuale 1"]
["L","818",null,null,null,null,null,null,null,null,null,null,null,"2018-11-25",785,"E10","Busta annuale 1"]
["L","819",null,null,null,null,null,null,null,null,null,null,null,"2018-11-25",785,"E10","Busta annuale 1"]
["L","820",null,null,null,null,null,null,null,null,null,null,null,"2018-11-25",785,"E10","Busta annuale 1"]
["L","821",null,null,null,null,null,null,null,null,null,null,null,"2018-11-25",785,"E10","Busta annuale 1"]
["L","822",null,null,null,null,null,null,null,null,null,null,null,"2018-11-25",785,"E10","Busta annuale 1"]
["L","823",null,null,null,null,null,null,null,null,null,null,null,"2018-11-25",785,"E10","Busta annuale 1"]
["L","824",null,null,null,null,null,null,null,null,null,null,null,"2018-11-25",785,"E10","Busta annuale 1"]
["L","825",null,null,null,null,null,null,null,null,null,null,null,"2018-11-25",785,"E10","Busta annuale 1"]
["L","826",null,null,null,null,null,null,null,null,null,null,null,"2018-11-25",785,"E10","Busta annuale 1"]
["L","827",null,null,null,null,null,null,null,null,null,null,null,"2018-11-25",785,"E10","Busta annuale 1"]
["L","828",null,null,null,null,null,null,null,null,null,null,null,"2018-11-25",785,"E10","Busta annuale 1"]
["L","829",null,null,null,null,null,null,null,null,null,null,null,"2018-11-25",785,"E10","Busta annuale 1"]
["L","830",null,null,null,null,null,null,null,null,null,null,null,"2018-11-25",785,"E10","Busta annuale 1"]
["L","831",null,null,null,null,null,null,null,null,null,null,null,"2018-11-25",785,"E10","Busta annuale 1"]
["L","832",null,null,null,null,null,null,null,null,null,null,null,"2018-11-25",785,"E10","Busta annuale 1"]
["L","833",null,null,null,null,null,null,null,null,null,null,null,"2018-11-25",785,"E10","Busta annuale 1"]
["L","834",null,null,null,null,null,null,null,null,null,null,null,"2018-11-25",785,"E10","Busta annuale 1"]
["L","835",null,null,null,null,null,null,null,null,null,null,null,"2018-11-25",785,"E10","Busta annuale 1"]
["L","836",null,null,null,null,null,null,null,null,null,null,null,"2018-11-25",785,"E10","Busta annuale 1"]
["L","837",null,null,null,null,null,null,null,null,null,null,null,"2018-11-25",785,"E10","Busta annuale 1"]
["L","838",null,null,null,null,null,null,null,null,null,null,null,"2018-11-25",785,"E10","Busta annuale 1"]
["L","839",null,null,null,null,null,null,null,null,null,null,null,"2018-11-25",785,"E10","Busta annuale 1"]
["L","840",null,null,null,null,null,null,null,null,null,null,null,"2018-11-25",785,"E10","Busta annuale 1"]
["L","841",null,null,null,null,null,null,null,null,null,null,null,"2018-11-25",785,"E10","Busta annuale 1"]
["L","842",null,null,null,null,null,null,null,null,null,null,null,"2018-11-25",785,"E10","Busta annuale 1"]
["L","843",null,null,null,null,null,null,null,null,null,null,null,"2018-11-25",785,"E10","Busta annuale 1"]
["L","844",null,null,null,null,null,null,null,null,null,null,null,"2018-11-25",785,"E10","Busta annuale 1"]
["L","845",null,null,null,null,null,null,null,null,null,null,null,"2018-11-25",785,"E10","Busta annuale 1"]
["L","846",null,null,null,null,null,null,null,null,null,null,null,"2018-11-25",785,"E10","Busta annuale 1"]
["L","847",null,null,null,null,null,null,null,null,null,null,null,"2018-11-25",785,"E10","Busta annuale 1"]
["L","848",null,null,null,null,null,null,null,null,null,null,null,"2018-11-25",785,"E10","Busta annuale 1"]
["L","849",null,null,null,null,null,null,null,null,null,null,null,"2018-11-25",785,"E10","Busta annuale 1"]
["L","850",null,null,null,null,null,null,null,null,null,null,null,"2018-11-25",785,"E10","Busta annuale 1"]
["L","851",null,null,null,null,null,null,null,null,null,null,null,"2018-11-25",785,"E10","Busta annuale 1"]
["L","852",null,null,null,null,null,null,null,null,null,null,null,"2018-11-25",785,"E10","Busta annuale 1"]
["L","853",null,null,null,null,null,null,null,null,null,null,null,"2018-11-25",785,"E10","Busta annuale 1"]
["L","854",null,null,null,null,null,null,null,null,null,null,null,"2018-11-25",785,"E10","Busta annuale 1"]
["L","855",null,null,null,null,null,null,null,null,null,null,null,"2018-11-25",785,"E10","Busta annuale 1"]
["L","856",null,null,null,null,null,null,null,null,null,null,null,"2018-11-25",785,"E10","Busta annuale 1"]
["L","857",null,null,null,null,null,null,null,null,null,null,null,"2018-11-25",785,"E10","Busta annuale 1"]
["L","858",null,null,null,null,null,null,null,null,null,null,null,"2018-11-25",785,"E10","Busta annuale 1"]
["L","859",null,null,null,null,null,null,null,null,null,null,null,"2018-11-25",785,"E10","Busta annuale 1"]
["L","860",null,null,null,null,null,null,null,null,null,null,null,"2018-11-25",785,"E10","Busta annuale 1"]
["L","861",null,null,null,null,null,null,null,null,null,null,null,"2018-11-25",785,"E10","Busta annuale 1"]
["L","862",null,null,null,null,null,null,null,null,null,null,null,"2018-11-25",785,"E10","Busta annuale 1"]
["L","863",null,null,null,null,null,null,null,null,null,null,null,"2018-11-25",785,"E10","Busta annuale 1"]
["L","864",null,null,null,null,null,null,null,null,null,null,null,"2018-11-25",785,"E10","Busta annuale 1"]
["L","865",null,null,null,null,null,null,null,null,null,null,null,"2018-11-25",785,"E10","Busta annuale 1"]
["L","866",null,null,null,null,null,null,null,null,null,null,null,"2018-11-25",785,"E10","Busta annuale 1"]
["L","867",null,null,null,null,null,null,null,null,null,null,null,"2018-11-25",785,"E10","Busta annuale 1"]
["L","868",null,null,null,null,null,null,null,null,null,null,null,"2018-11-25",785,"E10","Busta annuale 1"]
["L","869",null,null,null,null,null,null,null,null,null,null,null,"2018-11-25",785,"E10","Busta annuale 1"]
["L","870",null,null,null,null,null,null,null,null,null,null,null,"2018-11-25",785,"E10","Busta annuale 1"]
["L","871",null,null,null,null,null,null,null,null,null,null,null,"2018-11-25",785,"E10","Busta annuale 1"]
["L","872",null,null,null,null,null,null,null,null,null,null,null,"2018-11-25",785,"E10","Busta annuale 1"]
["L","873",null,null,null,null,null,null,null,null,null,null,null,"2018-11-25",785,"E10","Busta annuale 1"]
["L","874",null,null,null,null,null,null,null,null,null,null,null,"2018-11-25",785,"E10","Busta annuale 1"]
["L","875",null,null,null,null,null,null,null,null,null,null,null,"2018-11-25",785,"E10","Busta annuale 1"]
["L","876",null,null,null,null,null,null,null,null,null,null,null,"2018-11-25",785,"E10","Busta annuale 1"]
["L","877",null,null,null,null,null,null,null,null,null,null,null,"2018-11-25",785,"E10","Busta annuale 1"]
["L","878",null,null,null,null,null,null,null,null,null,null,null,"2018-11-25",785,"E10","Busta annuale 1"]
["L","879",null,null,null,null,null,null,null,null,null,null,null,"2018-11-25",785,"E10","Busta annuale 1"]
["L","880",null,null,null,null,null,null,null,null,null,null,null,"2018-11-25",785,"E10","Busta annuale 1"]
["L","881",null,null,null,null,null,null,null,null,null,null,null,"2018-11-25",785,"E10","Busta annuale 1"]
["L","882",null,null,null,null,null,null,null,null,null,null,null,"2018-11-25",785,"E10","Busta annuale 1"]
["L","883",null,null,null,null,null,null,null,null,null,null,null,"2018-11-25",785,"E10","Busta annuale 1"]
["L","884",null,null,null,null,null,null,null,null,null,null,null,"2018-11-25",785,"E10","Busta annuale 1"]
["L","885",null,null,null,null,null,null,null,null,null,null,null,"2018-11-25",785,"E10","Busta annuale 1"]
["L","886",null,null,null,null,null,null,null,null,null,null,null,"2018-11-25",785,"E10","Busta annuale 1"]
["L","887",null,null,null,null,null,null,null,null,null,null,null,"2018-11-25",785,"E10","Busta annuale 1"]
["L","888",null,null,null,null,null,null,null,null,null,null,null,"2018-11-25",785,"E10","Busta annuale 1"]
["L","889",null,null,null,null,null,null,null,null,null,null,null,"2018-11-25",785,"E10","Busta annuale 1"]
["L","890",null,null,null,null,null,null,null,null,null,null,null,"2018-11-25",785,"E10","Busta annuale 1"]
["L","891",null,null,null,null,null,null,null,null,null,null,null,"2018-11-25",785,"E10","Busta annuale 1"]
["L","892",null,null,null,null,null,null,null,null,null,null,null,"2018-11-25",785,"E10","Busta annuale 1"]
["L","893",null,null,null,null,null,null,null,null,null,null,null,"2018-11-25",785,"E10","Busta annuale 1"]
["L","894",null,null,null,null,null,null,null,null,null,null,null,"2018-11-25",785,"E10","Busta annuale 1"]
["L","895",null,null,null,null,null,null,null,null,null,null,null,"2018-11-25",785,"E10","Busta annuale 1"]
["L","896",null,null,null,null,null,null,null,null,null,null,null,"2018-11-25",785,"E10","Busta annuale 1"]
["L","897",null,null,null,null,null,null,null,null,null,null,null,"2018-11-25",785,"E10","Busta annuale 1"]
["L","898",null,null,null,null,null,null,null,null,null,null,null,"2018-11-25",785,"E10","Busta annuale 1"]
["L","899",null,null,null,null,null,null,null,null,null,null,null,"2018-11-25",785,"E10","Busta annuale 1"]
["L","900",null,null,null,null,null,null,null,null,null,null,null,"2018-11-25",785,"E10","Busta annuale 1"]
["L","901",null,null,null,null,null,null,null,null,null,null,null,"2018-11-25",785,"E10","Busta annuale 1"]
["L","902",null,null,null,null,null,null,null,null,null,null,null,"2018-11-25",785,"E10","Busta annuale 1"]
["L","903",null,null,null,null,null,null,null,null,null,null,null,"2018-11-25",785,"E10","Busta annuale 1"]
["L","904",null,null,null,null,null,null,null,null,null,null,null,"2018-11-25",785,"E10","Busta annuale 1"]
["L","905",null,null,null,null,null,null,null,null,null,null,null,"2018-11-25",785,"E10","Busta annuale 1"]
["L","906",null,null,null,null,null,null,null,null,null,null,null,"2018-11-25",785,"E10","Busta annuale 1"]
["L","907",null,null,null,null,null,null,null,null,null,null,null,"2018-11-25",785,"E10","Busta annuale 1"]
["L","908",null,null,null,null,null,null,null,null,null,null,null,"2018-11-25",785,"E10","Busta annuale 1"]
["L","909",null,null,null,null,null,null,null,null,null,null,null,"2018-11-25",785,"E10","Busta annuale 1"]
["L","910",null,null,null,null,null,null,null,null,null,null,null,"2018-11-25",785,"E10","Busta annuale 1"]
["L","911",null,null,null,null,null,null,null,null,null,null,null,"2018-11-25",785,"E10","Busta annuale 1"]
["L","912",null,null,null,null,null,null,null,null,null,null,null,"2018-11-25",785,"E10","Busta annuale 1"]
["L","913",null,null,null,null,null,null,null,null,null,null,null,"2018-11-25",785,"E10","Busta annuale 1"]
["L","914",null,null,null,null,null,null,null,null,null,null,null,"2018-11-25",785,"E10","Busta annuale 1"]
["L","915",null,null,null,null,null,null,null,null,null,null,null,"2018-11-25",785,"E10","Busta annuale 1"]
["L","916",null,null,null,null,null,null,null,null,null,null,null,"2018-11-25",785,"E10","Busta annuale 1"]
["L","917",null,null,null,null,null,null,null,null,null,null,null,"2018-11-25",785,"E10","Busta annuale 1"]
["L","918",null,null,null,null,null,null,null,null,null,null,null,"2018-11-25",785,"E10","Busta annuale 1"]
["L","919",null,null,null,null,null,null,null,null,null,null,null,"2018-11-25",785,"E10","Busta annuale 1"]
["L","920",null,null,null,null,null,null,null,null,null,null,null,"2018-11-25",785,"E10","Busta annuale 1"]
["L","921",null,null,null,null,null,null,null,null,null,null,null,"2018-11-25",785,"E10","Busta annuale 1"]
["L","922",null,null,null,null,null,null,null,null,null,null,null,"2018-11-25",785,"E10","Busta annuale 1"]
["L","923",null,null,null,null,null,null,null,null,null,null,null,"2018-11-25",785,"E10","Busta annuale 1"]
["L","924",null,null,null,null,null,null,null,null,null,null,null,"2018-11-25",785,"E10","Busta annuale 1"]
["L","925",null,null,null,null,null,null,null,null,null,null,null,"2018-11-25",785,"E10","Busta annuale 1"]
["L","926",null,null,null,null,null,null,null,null,null,null,null,"2018-11-25",785,"E10","Busta annuale 1"]
["L","927",null,null,null,null,null,null,null,null,null,null,null,"2018-11-25",785,"E10","Busta annuale 1"]
["L","928",null,null,null,null,null,null,null,null,null,null,null,"2018-11-25",785,"E10","Busta annuale 1"]
["L","929",null,null,null,null,null,null,null,null,null,null,null,"2018-11-25",785,"E10","Busta annuale 1"]
["L","930",null,null,null,null,null,null,null,null,null,null,null,"2018-11-25",785,"E10","Busta annuale 1"]
["L","931",null,null,null,null,null,null,null,null,null,null,null,"2018-11-25",785,"E10","Busta annuale 1"]
["L","932",null,null,null,null,null,null,null,null,null,null,null,"2018-11-25",785,"E10","Busta annuale 1"]
["L","933",null,null,null,null,null,null,null,null,null,null,null,"2018-11-25",785,"E10","Busta annuale 1"]
["L","934",null,null,null,null,null,null,null,null,null,null,null,"2018-11-25",785,"E10","Busta annuale 1"]
["L","935",null,null,null,null,null,null,null,null,null,null,null,"2018-11-25",785,"E10","Busta annuale 1"]
["L","936",null,null,null,null,null,null,null,null,null,null,null,"2018-11-25",785,"E10","Busta annuale 1"]
["L","937",null,null,null,null,null,null,null,null,null,null,null,"2018-11-25",785,"E10","Busta annuale 1"]
["L","938",null,null,null,null,null,null,null,null,null,null,null,"2018-11-25",785,"E10","Busta annuale 1"]
["L","939",null,null,null,null,null,null,null,null,null,null,null,"2018-11-25",785,"E10","Busta annuale 1"]
["L","940",null,null,null,null,null,null,null,null,null,null,null,"2018-11-25",785,"E10","Busta annuale 1"]
["L","941",null,null,null,null,null,null,null,null,null,null,null,"2018-11-25",785,"E10","Busta annuale 1"]
["L","942",null,null,null,null,null,null,null,null,null,null,null,"2018-11-25",785,"E10","Busta annuale 1"]
["L","943",null,null,null,null,null,null,null,null,null,null,null,"2018-11-25",785,"E10","Busta annuale 1"]
["L","944",null,null,null,null,null,null,null,null,null,null,null,"2018-11-25",785,"E10","Busta annuale 1"]
["L","945",null,null,null,null,null,null,null,null,null,null,null,"2018-11-25",785,"E10","Busta annuale 1"]
["L","946",null,null,null,null,null,null,null,null,null,null,null,"2018-11-25",785,"E10","Busta annuale 1"]
["L","947",null,null,null,null,null,null,null,null,null,null,null,"2018-11-25",785,"E10","Busta annuale 1"]
["L","948",null,null,null,null,null,null,null,null,null,null,null,"2018-11-25",785,"E10","Busta annuale 1"]
["L","949",null,null,null,null,null,null,null,null,null,null,null,"2018-11-25",785,"E10","Busta annuale 1"]
["L","950",null,null,null,null,null,null,null,null,null,null,null,"2018-11-25",785,"E10","Busta annuale 1"]
["L","951",null,null,null,null,null,null,null,null,null,null,null,"2018-11-25",785,"E10","Busta annuale 1"]
["L","952",null,null,null,null,null,null,null,null,null,null,null,"2018-11-25",785,"E10","Busta annuale 1"]
["L","953",null,null,null,null,null,null,null,null,null,null,null,"2018-11-25",785,"E10","Busta annuale 1"]
["L","954",null,null,null,null,null,null,null,null,null,null,null,"2018-11-25",785,"E10","Busta annuale 1"]
["L","955",null,null,null,null,null,null,null,null,null,null,null,"2018-11-25",785,"E10","Busta annuale 1"]
["L","956",null,null,null,null,null,null,null,null,null,null,null,"2018-11-25",785,"E10","Busta annuale 1"]
["L","957",null,null,null,null,null,null,null,null,null,null,null,"2018-11-25",785,"E10","Busta annuale 1"]
["L","958",null,null,null,null,null,null,null,null,null,null,null,"2018-11-25",785,"E10","Busta annuale 1"]
["L","959",null,null,null,null,null,null,null,null,null,null,null,"2018-11-25",785,"E10","Busta annuale 1"]
["L","960",null,null,null,null,null,null,null,null,null,null,null,"2018-11-25",785,"E10","Busta annuale 1"]
["L","961",null,null,null,null,null,null,null,null,null,null,null,"2018-11-25",785,"E10","Busta annuale 1"]
["L","962",null,null,null,null,null,null,null,null,null,null,null,"2018-11-25",785,"E10","Busta annuale 1"]
["L","963",null,null,null,null,null,null,null,null,null,null,null,"2018-11-25",785,"E10","Busta annuale 1"]
["L","964",null,null,null,null,null,null,null,null,null,null,null,"2018-11-25",785,"E10","Busta annuale 1"]
["L","965",null,null,null,null,null,null,null,null,null,null,null,"2018-11-25",785,"E10","Busta annuale 1"]
["L","966",null,null,null,null,null,null,null,null,null,null,null,"2018-11-25",785,"E10","Busta annuale 1"]
["L","967",null,null,null,null,null,null,null,null,null,null,null,"2018-11-25",785,"E10","Busta annuale 1"]
["L","968",null,null,null,null,null,null,null,null,null,null,null,"2018-11-25",785,"E10","Busta annuale 1"]
["L","969",null,null,null,null,null,null,null,null,null,null,null,"2018-11-25",785,"E10","Busta annuale 1"]
["L","970",null,null,null,null,null,null,null,null,null,null,null,"2018-11-25",785,"E10","Busta annuale 1"]
["L","971",null,null,null,null,null,null,null,null,null,null,null,"2018-11-25",785,"E10","Busta annuale 1"]
["L","972",null,null,null,null,null,null,null,null,null,null,null,"2018-11-25",785,"E10","Busta annuale 1"]
["L","973",null,null,null,null,null,null,null,null,null,null,null,"2018-11-25",785,"E10","Busta annuale 1"]
["L","974",null,null,null,null,null,null,null,null,null,null,null,"2018-11-25",785,"E10","Busta annuale 1"]
["L","975",null,null,null,null,null,null,null,null,null,null,null,"2018-11-25",785,"E10","Busta annuale 1"]
["L","976",null,null,null,null,null,null,null,null,null,null,null,"2018-11-25",785,"E10","Busta annuale 1"]
["L","977",null,null,null,null,null,null,null,null,null,null,null,"2018-11-25",785,"E10","Busta annuale 1"]
["L","978",null,null,null,null,null,null,null,null,null,null,null,"2018-11-25",785,"E10","Busta annuale 1"]
["L","979",null,null,null,null,null,null,null,null,null,null,null,"2018-11-25",785,"E10","Busta annuale 1"]
["L","980",null,null,null,null,null,null,null,null,null,null,null,"2018-11-25",785,"E10","Busta annuale 1"]
["L","981",null,null,null,null,null,null,null,null,null,null,null,"2018-11-25",785,"E10","Busta annuale 1"]
["L","982",null,null,null,null,null,null,null,null,null,null,null,"2018-11-25",785,"E10","Busta annuale 1"]
["L","983",null,null,null,null,null,null,null,null,null,null,null,"2018-11-25",785,"E10","Busta annuale 1"]
["L","984",null,null,null,null,null,null,null,null,null,null,null,"2018-11-25",785,"E10","Busta annuale 1"]
["L","985",null,null,null,null,null,null,null,null,null,null,null,"2018-11-25",785,"E10","Busta annuale 1"]
["L","986",null,null,null,null,null,null,null,null,null,null,null,"2018-11-25",785,"E10","Busta annuale 1"]
["L","987",null,null,null,null,null,null,null,null,null,null,null,"2018-11-25",785,"E10","Busta annuale 1"]
["L","988",null,null,null,null,null,null,null,null,null,null,null,"2018-11-25",785,"E10","Busta annuale 1"]
["L","989",null,null,null,null,null,null,null,null,null,null,null,"2018-11-25",785,"E10","Busta annuale 1"]
["L","990",null,null,null,null,null,null,null,null,null,null,null,"2018-11-25",785,"E10","Busta annuale 1"]
["L","991",null,null,null,null,null,null,null,null,null,null,null,"2018-11-25",785,"E10","Busta annuale 1"]
["L","992",null,null,null,null,null,null,null,null,null,null,null,"2018-11-25",785,"E10","Busta annuale 1"]
["L","993",null,null,null,null,null,null,null,null,null,null,null,"2018-11-25",785,"E10","Busta annuale 1"]
["L","994",null,null,null,null,null,null,null,null,null,null,null,"2018-11-25",785,"E10","Busta annuale 1"]
["L","995",null,null,null,null,null,null,null,null,null,null,null,"2018-11-25",785,"E10","Busta annuale 1"]
["L","996",null,null,null,null,null,null,null,null,null,null,null,"2018-11-25",785,"E10","Busta annuale 1"]
["L","997",null,null,null,null,null,null,null,null,null,null,null,"2018-11-25",785,"E10","Busta annuale 1"]
["L","998"]
["L","999"]
["L","1000"]

{"sheet":"Dominio","index":2,"n_rows":35,"n_cols":9,"rows_kept":35,"cut":false,"hidden":true,"merged":[]}
[null,null,null,null,null,null,null,"Dati di Anagrafica"]
["Tipo",null,"Entrata","Codice","Uscita","Codice",null,"Parrocchia","SS. Trinità"]
["Entrata",null,"altre offerte per la parrocchia","E3E","abbonamento \"Avvenire\"","U5F",null,"Indirizzo","Via don Milani, 2"]
["Uscita",null,"altre raccolte straordinarie","E6B","abbonamento \"La Domenica\"","U5E",null,"Telefono","0766  671070"]
[null,null,"attività caritative","E5A","accantonamento per indennità di fine rapporto","U3D",null,"Fax"," --"]
[null,null,"attività catechistiche e formative","E5B","acquisto cancelleria e manutenzione macchine d'ufficio","U5D",null,"Comune","Civitavecchia"]
["Modo",null,"Benedizioni pasquali alle famiglie","E4B","Acquisto e manutenzioni straordinarie Beni mobili e opere d'arte","U9A",null,"Cap","00053"]
["Banca",null,"bollettino parrocchiale","E3D","acquisto, nuove costruzioni e ristrutturazioni","U8A",null,"Provincia","Roma"]
["Cassa",null,"candele votive e cassette","E3C","adempimento legati di SS. Messe","U4A",null,"E-Mail","lamanna25@libero.it"]
[null,null,"cassa diocesana per legati di SS. Messe","E1C","arredi, suppelettili, libri liturgici","U4D",null,"Codice Fiscale",91005080584]
[null,null,"celebrazione di SS. Messe (al netto della quota sinoidale)","E3A","Assicurazioni (incendio, furto, responsabilità civ. infortuni)","U2A",null,"Partita Iva",91005080584]
["Mese",null,"depositi e conti correnti","E1A","attività caritative","U5A",null,"Conto Bancario","xxxxxxx"]
["Gennaio",null,"Eredità e donazioni","E8A","attività catechistiche e formative oratorio","U5B",null,"Iban","xxxxxxx"]
["Febbraio",null,"fabbricati","E2B","bollettino parrocchiale","U5C",null,"Parroco","Giuseppe Lamanna"]
["Marzo",null,"feste patronai e manifestazioni religiose","E4C","concorso della Parrocchia nella remunerazione del Parroco","U3A",null,"Stato Cassa a.p.",0]
["Aprile",null,"Giornata Carità del Papa (ultima domenica di giugno)","E9F","concorso della Parrocchia nelle spese della casa canonica","U6C",null,"Stato Banca a.p.",0]
["Maggio",null,"Giornata Infanzia Missionaria (Epifania del Signore)","E9A","concorso nella remunerazione del Vicario cooperatore","U3B",null,"Anno",2022]
["Giugno",null,"Giornata Missioni (ultima domenica di ottobre)","E9G","Contributo della parrocchia alla Diocesi","U7A"]
["Luglio",null,"Giornata Mondiale Migrazioni (Settembre)","E9B","festa patronale","U4E"]
["Agosto",null,"Giornata Seminario (Pentecoste)","E9E","Imposte e tasse sugli immobili di proprietà","U1A"]
["Settembre",null,"Giornata Straordinaria","E9H","manutenzioni ordinarie","U6A"]
["Ottobre",null,"Giornata Terra Santa (Venerdì Santo)","E9C","manutenzioni straordinarie","U8B"]
["Novembre",null,"Giornata Università Cattolica (terza domenica di Pasqua)","E9D","Partite di giro - versamento raccolte prescritte","U12A"]
["Dicembre",null,"Gruppi e Movimenti","E5D","Percentuale versata alla Diocesi su entrate straordinarie","U11A"]
[null,null,"impianti","E5C","Rate di ammortamento mutui ed altri oneri per prestiti","U10A"]
[null,null,"pesche di beneficenza, gite, ecc","E4D","remunerazione lorda personale laico e relativi contributi","U3C"]
[null,null,"questue in chiesa durante le celebrazioni","E3B","sacrificali, cere d'altare, fiori","U4C"]
[null,null,"Raccolta straordinaria da fondi bancari","E6A","ufficiatura della chiesa (officianti, confessori, predicatori)","U4B"]
[null,null,"rimborsi spese","E5E","trasferimenti","U5G"]
[null,null,"Sacramenti e sacramentali (Battesimi, Comunioni, Cresime, ecc.)","E4A","utenze e pulizia chiesa e op. parroch. ","U6B"]
[null,null,"terreni","E2A"]
[null,null,"titoli ed altri investimenti finanziari","E1B"]
[null,null,"trasferimenti","E5F"]
[null,null,"utilizzo mutui e prestiti","E7B"]
[null,null,"vendita beni mobili e immobili","E7A"]

{"sheet":"Stampa","index":3,"n_rows":1000,"n_cols":7,"rows_kept":1000,"cut":false,"hidden":true,"merged":[[2,0,2,4],[0,1,0,3],[1,1,1,3]]}
[null,"Cassa",null,null,"Saldo Conto Corrente",{"$f":"IF(Dati!$C5 >0,Dati!$B5&\" | \"&TEXT(Dati!$C5,\"gg/mm/aa\")&\" | \"&TEXT(Dati!$D5,\"€. 0,00\")&\" | \"&Dati!$G5&\" | \"&Dati!$H5,\"---\")","v":"004 | 01/01/22 | €. 0,00 | Cassa | Stato Cassa"},"                                           "]
[null,{"$f":"Dati!E2","v":0},null,null,{"$f":"Dati!C2","v":0},null,{"$f":"IF(Dati!$C6 >0,Dati!$B6&\" | \"&TEXT(Dati!$C6,\"gg/mm/aa\")&\" | \"&TEXT(Dati!$D6,\"€. 0,00\")&\" | \"&Dati!$G6&\" | \"&Dati!$H6,\"---\")","v":"---"}]
[{"$f":"UPPER(TEXT(A4,\"mmmm aaaa\"))","v":{"$error":"#REF!"}},null,null,null,null,null,{"$f":"IF(Dati!$C7 >0,Dati!$B7&\" | \"&TEXT(Dati!$C7,\"gg/mm/aa\")&\" | \"&TEXT(Dati!$D7,\"€. 0,00\")&\" | \"&Dati!$G7&\" | \"&Dati!$H7,\"---\")","v":"---"}]
[{"$f":"Dati!#REF!","v":{"$error":"#REF!"}},{"$f":"Dati!#REF!","v":{"$error":"#REF!"}},{"$f":"Dati!#REF!","v":{"$error":"#REF!"}},{"$f":"Dati!#REF!","v":{"$error":"#REF!"}},{"$f":"Dati!#REF!","v":{"$error":"#REF!"}},null,{"$f":"IF(Dati!$C8 >0,Dati!$B8&\" | \"&TEXT(Dati!$C8,\"gg/mm/aa\")&\" | \"&TEXT(Dati!$D8,\"€. 0,00\")&\" | \"&Dati!$G8&\" | \"&Dati!$H8,\"---\")","v":"---"}]
[{"$f":"Dati!C29","v":"00:00:00"},{"$f":"Dati!D29","v":0},{"$f":"Dati!E29","v":"00:00:00"},{"$f":"Dati!G29","v":"00:00:00"},{"$f":"Dati!H29","v":"00:00:00"},null,{"$f":"IF(Dati!$C9 >0,Dati!$B9&\" | \"&TEXT(Dati!$C9,\"gg/mm/aa\")&\" | \"&TEXT(Dati!$D9,\"€. 0,00\")&\" | \"&Dati!$G9&\" | \"&Dati!$H9,\"---\")","v":"---"}]
[{"$f":"Dati!C30","v":"00:00:00"},{"$f":"Dati!D30","v":0},{"$f":"Dati!E30","v":"00:00:00"},{"$f":"Dati!G30","v":"00:00:00"},{"$f":"Dati!H30","v":"00:00:00"},null,{"$f":"IF(Dati!$C10 >0,Dati!$B10&\" | \"&TEXT(Dati!$C10,\"gg/mm/aa\")&\" | \"&TEXT(Dati!$D10,\"€. 0,00\")&\" | \"&Dati!$G10&\" | \"&Dati!$H10,\"---\")","v":"---"}]
[{"$f":"Dati!C31","v":"00:00:00"},{"$f":"Dati!D31","v":0},{"$f":"Dati!E31","v":"00:00:00"},{"$f":"Dati!G31","v":"00:00:00"},{"$f":"Dati!H31","v":"00:00:00"},null,{"$f":"IF(Dati!$C11 >0,Dati!$B11&\" | \"&TEXT(Dati!$C11,\"gg/mm/aa\")&\" | \"&TEXT(Dati!$D11,\"€. 0,00\")&\" | \"&Dati!$G11&\" | \"&Dati!$H11,\"---\")","v":"---"}]
[{"$f":"Dati!C32","v":"00:00:00"},{"$f":"Dati!D32","v":0},{"$f":"Dati!E32","v":"00:00:00"},{"$f":"Dati!G32","v":"00:00:00"},{"$f":"Dati!H32","v":"00:00:00"},null,{"$f":"IF(Dati!$C12 >0,Dati!$B12&\" | \"&TEXT(Dati!$C12,\"gg/mm/aa\")&\" | \"&TEXT(Dati!$D12,\"€. 0,00\")&\" | \"&Dati!$G12&\" | \"&Dati!$H12,\"---\")","v":"---"}]
[{"$f":"Dati!C33","v":"00:00:00"},{"$f":"Dati!D33","v":0},{"$f":"Dati!E33","v":"00:00:00"},{"$f":"Dati!G33","v":"00:00:00"},{"$f":"Dati!H33","v":"00:00:00"},null,{"$f":"IF(Dati!$C13 >0,Dati!$B13&\" | \"&TEXT(Dati!$C13,\"gg/mm/aa\")&\" | \"&TEXT(Dati!$D13,\"€. 0,00\")&\" | \"&Dati!$G13&\" | \"&Dati!$H13,\"---\")","v":"---"}]
[{"$f":"Dati!C34","v":"00:00:00"},{"$f":"Dati!D34","v":0},{"$f":"Dati!E34","v":"00:00:00"},{"$f":"Dati!G34","v":"00:00:00"},{"$f":"Dati!H34","v":"00:00:00"},null,{"$f":"IF(Dati!$C14 >0,Dati!$B14&\" | \"&TEXT(Dati!$C14,\"gg/mm/aa\")&\" | \"&TEXT(Dati!$D14,\"€. 0,00\")&\" | \"&Dati!$G14&\" | \"&Dati!$H14,\"---\")","v":"---"}]
[{"$f":"Dati!C35","v":"00:00:00"},{"$f":"Dati!D35","v":0},{"$f":"Dati!E35","v":"00:00:00"},{"$f":"Dati!G35","v":"00:00:00"},{"$f":"Dati!H35","v":"00:00:00"},null,{"$f":"IF(Dati!$C15 >0,Dati!$B15&\" | \"&TEXT(Dati!$C15,\"gg/mm/aa\")&\" | \"&TEXT(Dati!$D15,\"€. 0,00\")&\" | \"&Dati!$G15&\" | \"&Dati!$H15,\"---\")","v":"---"}]
[{"$f":"Dati!C36","v":"00:00:00"},{"$f":"Dati!D36","v":0},{"$f":"Dati!E36","v":"00:00:00"},{"$f":"Dati!G36","v":"00:00:00"},{"$f":"Dati!H36","v":"00:00:00"},null,{"$f":"IF(Dati!$C16 >0,Dati!$B16&\" | \"&TEXT(Dati!$C16,\"gg/mm/aa\")&\" | \"&TEXT(Dati!$D16,\"€. 0,00\")&\" | \"&Dati!$G16&\" | \"&Dati!$H16,\"---\")","v":"---"}]
[{"$f":"Dati!C37","v":"00:00:00"},{"$f":"Dati!D37","v":0},{"$f":"Dati!E37","v":"00:00:00"},{"$f":"Dati!G37","v":"00:00:00"},{"$f":"Dati!H37","v":"00:00:00"},null,{"$f":"IF(Dati!$C17 >0,Dati!$B17&\" | \"&TEXT(Dati!$C17,\"gg/mm/aa\")&\" | \"&TEXT(Dati!$D17,\"€. 0,00\")&\" | \"&Dati!$G17&\" | \"&Dati!$H17,\"---\")","v":"---"}]
[{"$f":"Dati!C38","v":"00:00:00"},{"$f":"Dati!D38","v":0},{"$f":"Dati!E38","v":"00:00:00"},{"$f":"Dati!G38","v":"00:00:00"},{"$f":"Dati!H38","v":"00:00:00"},null,{"$f":"IF(Dati!$C18 >0,Dati!$B18&\" | \"&TEXT(Dati!$C18,\"gg/mm/aa\")&\" | \"&TEXT(Dati!$D18,\"€. 0,00\")&\" | \"&Dati!$G18&\" | \"&Dati!$H18,\"---\")","v":"---"}]
[{"$f":"Dati!C39","v":"00:00:00"},{"$f":"Dati!D39","v":0},{"$f":"Dati!E39","v":"00:00:00"},{"$f":"Dati!G39","v":"00:00:00"},{"$f":"Dati!H39","v":"00:00:00"},null,{"$f":"IF(Dati!$C19 >0,Dati!$B19&\" | \"&TEXT(Dati!$C19,\"gg/mm/aa\")&\" | \"&TEXT(Dati!$D19,\"€. 0,00\")&\" | \"&Dati!$G19&\" | \"&Dati!$H19,\"---\")","v":"---"}]
[{"$f":"Dati!C40","v":"00:00:00"},{"$f":"Dati!D40","v":0},{"$f":"Dati!E40","v":"00:00:00"},{"$f":"Dati!G40","v":"00:00:00"},{"$f":"Dati!H40","v":"00:00:00"},null,{"$f":"IF(Dati!$C20 >0,Dati!$B20&\" | \"&TEXT(Dati!$C20,\"gg/mm/aa\")&\" | \"&TEXT(Dati!$D20,\"€. 0,00\")&\" | \"&Dati!$G20&\" | \"&Dati!$H20,\"---\")","v":"---"}]
[{"$f":"Dati!C41","v":"00:00:00"},{"$f":"Dati!D41","v":0},{"$f":"Dati!E41","v":"00:00:00"},{"$f":"Dati!G41","v":"00:00:00"},{"$f":"Dati!H41","v":"00:00:00"},null,{"$f":"IF(Dati!$C21 >0,Dati!$B21&\" | \"&TEXT(Dati!$C21,\"gg/mm/aa\")&\" | \"&TEXT(Dati!$D21,\"€. 0,00\")&\" | \"&Dati!$G21&\" | \"&Dati!$H21,\"---\")","v":"---"}]
[{"$f":"Dati!C42","v":"00:00:00"},{"$f":"Dati!D42","v":0},{"$f":"Dati!E42","v":"00:00:00"},{"$f":"Dati!G42","v":"00:00:00"},{"$f":"Dati!H42","v":"00:00:00"},null,{"$f":"IF(Dati!$C22 >0,Dati!$B22&\" | \"&TEXT(Dati!$C22,\"gg/mm/aa\")&\" | \"&TEXT(Dati!$D22,\"€. 0,00\")&\" | \"&Dati!$G22&\" | \"&Dati!$H22,\"---\")","v":"---"}]
[{"$f":"Dati!C43","v":"00:00:00"},{"$f":"Dati!D43","v":0},{"$f":"Dati!E43","v":"00:00:00"},{"$f":"Dati!G43","v":"00:00:00"},{"$f":"Dati!H43","v":"00:00:00"},null,{"$f":"IF(Dati!$C23 >0,Dati!$B23&\" | \"&TEXT(Dati!$C23,\"gg/mm/aa\")&\" | \"&TEXT(Dati!$D23,\"€. 0,00\")&\" | \"&Dati!$G23&\" | \"&Dati!$H23,\"---\")","v":"---"}]
[{"$f":"Dati!C44","v":"00:00:00"},{"$f":"Dati!D44","v":0},{"$f":"Dati!E44","v":"00:00:00"},{"$f":"Dati!G44","v":"00:00:00"},{"$f":"Dati!H44","v":"00:00:00"},null,{"$f":"IF(Dati!$C24 >0,Dati!$B24&\" | \"&TEXT(Dati!$C24,\"gg/mm/aa\")&\" | \"&TEXT(Dati!$D24,\"€. 0,00\")&\" | \"&Dati!$G24&\" | \"&Dati!$H24,\"---\")","v":"---"}]
[{"$f":"Dati!C45","v":"00:00:00"},{"$f":"Dati!D45","v":0},{"$f":"Dati!E45","v":"00:00:00"},{"$f":"Dati!G45","v":"00:00:00"},{"$f":"Dati!H45","v":"00:00:00"},null,{"$f":"IF(Dati!$C25 >0,Dati!$B25&\" | \"&TEXT(Dati!$C25,\"gg/mm/aa\")&\" | \"&TEXT(Dati!$D25,\"€. 0,00\")&\" | \"&Dati!$G25&\" | \"&Dati!$H25,\"---\")","v":"---"}]
[{"$f":"Dati!C46","v":"00:00:00"},{"$f":"Dati!D46","v":0},{"$f":"Dati!E46","v":"00:00:00"},{"$f":"Dati!G46","v":"00:00:00"},{"$f":"Dati!H46","v":"00:00:00"},null,{"$f":"IF(Dati!$C26 >0,Dati!$B26&\" | \"&TEXT(Dati!$C26,\"gg/mm/aa\")&\" | \"&TEXT(Dati!$D26,\"€. 0,00\")&\" | \"&Dati!$G26&\" | \"&Dati!$H26,\"---\")","v":"---"}]
[{"$f":"Dati!C47","v":"00:00:00"},{"$f":"Dati!D47","v":0},{"$f":"Dati!E47","v":"00:00:00"},{"$f":"Dati!G47","v":"00:00:00"},{"$f":"Dati!H47","v":"00:00:00"},null,{"$f":"IF(Dati!$C27 >0,Dati!$B27&\" | \"&TEXT(Dati!$C27,\"gg/mm/aa\")&\" | \"&TEXT(Dati!$D27,\"€. 0,00\")&\" | \"&Dati!$G27&\" | \"&Dati!$H27,\"---\")","v":"---"}]
[{"$f":"Dati!C48","v":"00:00:00"},{"$f":"Dati!D48","v":0},{"$f":"Dati!E48","v":"00:00:00"},{"$f":"Dati!G48","v":"00:00:00"},{"$f":"Dati!H48","v":"00:00:00"},null,{"$f":"IF(Dati!$C28 >0,Dati!$B28&\" | \"&TEXT(Dati!$C28,\"gg/mm/aa\")&\" | \"&TEXT(Dati!$D28,\"€. 0,00\")&\" | \"&Dati!$G28&\" | \"&Dati!$H28,\"---\")","v":"---"}]
[{"$f":"Dati!C49","v":"00:00:00"},{"$f":"Dati!D49","v":0},{"$f":"Dati!E49","v":"00:00:00"},{"$f":"Dati!G49","v":"00:00:00"},{"$f":"Dati!H49","v":"00:00:00"},null,{"$f":"IF(Dati!$C29 >0,Dati!$B29&\" | \"&TEXT(Dati!$C29,\"gg/mm/aa\")&\" | \"&TEXT(Dati!$D29,\"€. 0,00\")&\" | \"&Dati!$G29&\" | \"&Dati!$H29,\"---\")","v":"---"}]
[{"$f":"Dati!C50","v":"00:00:00"},{"$f":"Dati!D50","v":0},{"$f":"Dati!E50","v":"00:00:00"},{"$f":"Dati!G50","v":"00:00:00"},{"$f":"Dati!H50","v":"00:00:00"},null,{"$f":"IF(Dati!$C30 >0,Dati!$B30&\" | \"&TEXT(Dati!$C30,\"gg/mm/aa\")&\" | \"&TEXT(Dati!$D30,\"€. 0,00\")&\" | \"&Dati!$G30&\" | \"&Dati!$H30,\"---\")","v":"---"}]
[{"$f":"Dati!C51","v":"00:00:00"},{"$f":"Dati!D51","v":0},{"$f":"Dati!E51","v":"00:00:00"},{"$f":"Dati!G51","v":"00:00:00"},{"$f":"Dati!H51","v":"00:00:00"},null,{"$f":"IF(Dati!$C31 >0,Dati!$B31&\" | \"&TEXT(Dati!$C31,\"gg/mm/aa\")&\" | \"&TEXT(Dati!$D31,\"€. 0,00\")&\" | \"&Dati!$G31&\" | \"&Dati!$H31,\"---\")","v":"---"}]
[{"$f":"Dati!C52","v":"00:00:00"},{"$f":"Dati!D52","v":0},{"$f":"Dati!E52","v":"00:00:00"},{"$f":"Dati!G52","v":"00:00:00"},{"$f":"Dati!H52","v":"00:00:00"},null,{"$f":"IF(Dati!$C32 >0,Dati!$B32&\" | \"&TEXT(Dati!$C32,\"gg/mm/aa\")&\" | \"&TEXT(Dati!$D32,\"€. 0,00\")&\" | \"&Dati!$G32&\" | \"&Dati!$H32,\"---\")","v":"---"}]
[{"$f":"Dati!C53","v":"00:00:00"},{"$f":"Dati!D53","v":0},{"$f":"Dati!E53","v":"00:00:00"},{"$f":"Dati!G53","v":"00:00:00"},{"$f":"Dati!H53","v":"00:00:00"},null,{"$f":"IF(Dati!$C33 >0,Dati!$B33&\" | \"&TEXT(Dati!$C33,\"gg/mm/aa\")&\" | \"&TEXT(Dati!$D33,\"€. 0,00\")&\" | \"&Dati!$G33&\" | \"&Dati!$H33,\"---\")","v":"---"}]
[{"$f":"Dati!C54","v":"00:00:00"},{"$f":"Dati!D54","v":0},{"$f":"Dati!E54","v":"00:00:00"},{"$f":"Dati!G54","v":"00:00:00"},{"$f":"Dati!H54","v":"00:00:00"},null,{"$f":"IF(Dati!$C34 >0,Dati!$B34&\" | \"&TEXT(Dati!$C34,\"gg/mm/aa\")&\" | \"&TEXT(Dati!$D34,\"€. 0,00\")&\" | \"&Dati!$G34&\" | \"&Dati!$H34,\"---\")","v":"---"}]
[{"$f":"Dati!C55","v":"00:00:00"},{"$f":"Dati!D55","v":0},{"$f":"Dati!E55","v":"00:00:00"},{"$f":"Dati!G55","v":"00:00:00"},{"$f":"Dati!H55","v":"00:00:00"},null,{"$f":"IF(Dati!$C35 >0,Dati!$B35&\" | \"&TEXT(Dati!$C35,\"gg/mm/aa\")&\" | \"&TEXT(Dati!$D35,\"€. 0,00\")&\" | \"&Dati!$G35&\" | \"&Dati!$H35,\"---\")","v":"---"}]
[{"$f":"Dati!C56","v":"00:00:00"},{"$f":"Dati!D56","v":0},{"$f":"Dati!E56","v":"00:00:00"},{"$f":"Dati!G56","v":"00:00:00"},{"$f":"Dati!H56","v":"00:00:00"},null,{"$f":"IF(Dati!$C36 >0,Dati!$B36&\" | \"&TEXT(Dati!$C36,\"gg/mm/aa\")&\" | \"&TEXT(Dati!$D36,\"€. 0,00\")&\" | \"&Dati!$G36&\" | \"&Dati!$H36,\"---\")","v":"---"}]
[{"$f":"Dati!C57","v":"00:00:00"},{"$f":"Dati!D57","v":0},{"$f":"Dati!E57","v":"00:00:00"},{"$f":"Dati!G57","v":"00:00:00"},{"$f":"Dati!H57","v":"00:00:00"},null,{"$f":"IF(Dati!$C37 >0,Dati!$B37&\" | \"&TEXT(Dati!$C37,\"gg/mm/aa\")&\" | \"&TEXT(Dati!$D37,\"€. 0,00\")&\" | \"&Dati!$G37&\" | \"&Dati!$H37,\"---\")","v":"---"}]
[{"$f":"Dati!C58","v":"00:00:00"},{"$f":"Dati!D58","v":0},{"$f":"Dati!E58","v":"00:00:00"},{"$f":"Dati!G58","v":"00:00:00"},{"$f":"Dati!H58","v":"00:00:00"},null,{"$f":"IF(Dati!$C38 >0,Dati!$B38&\" | \"&TEXT(Dati!$C38,\"gg/mm/aa\")&\" | \"&TEXT(Dati!$D38,\"€. 0,00\")&\" | \"&Dati!$G38&\" | \"&Dati!$H38,\"---\")","v":"---"}]
[{"$f":"Dati!C59","v":"00:00:00"},{"$f":"Dati!D59","v":0},{"$f":"Dati!E59","v":"00:00:00"},{"$f":"Dati!G59","v":"00:00:00"},{"$f":"Dati!H59","v":"00:00:00"},null,{"$f":"IF(Dati!$C39 >0,Dati!$B39&\" | \"&TEXT(Dati!$C39,\"gg/mm/aa\")&\" | \"&TEXT(Dati!$D39,\"€. 0,00\")&\" | \"&Dati!$G39&\" | \"&Dati!$H39,\"---\")","v":"---"}]
[{"$f":"Dati!C60","v":"00:00:00"},{"$f":"Dati!D60","v":0},{"$f":"Dati!E60","v":0},{"$f":"Dati!G60","v":0},{"$f":"Dati!H60","v":"00:00:00"},null,{"$f":"IF(Dati!$C40 >0,Dati!$B40&\" | \"&TEXT(Dati!$C40,\"gg/mm/aa\")&\" | \"&TEXT(Dati!$D40,\"€. 0,00\")&\" | \"&Dati!$G40&\" | \"&Dati!$H40,\"---\")","v":"---"}]
[{"$f":"Dati!C61","v":"00:00:00"},{"$f":"Dati!D61","v":0},{"$f":"Dati!E61","v":0},{"$f":"Dati!G61","v":0},{"$f":"Dati!H61","v":"00:00:00"},null,{"$f":"IF(Dati!$C41 >0,Dati!$B41&\" | \"&TEXT(Dati!$C41,\"gg/mm/aa\")&\" | \"&TEXT(Dati!$D41,\"€. 0,00\")&\" | \"&Dati!$G41&\" | \"&Dati!$H41,\"---\")","v":"---"}]
[{"$f":"Dati!C62","v":"00:00:00"},{"$f":"Dati!D62","v":0},{"$f":"Dati!E62","v":0},{"$f":"Dati!G62","v":0},{"$f":"Dati!H62","v":"00:00:00"},null,{"$f":"IF(Dati!$C42 >0,Dati!$B42&\" | \"&TEXT(Dati!$C42,\"gg/mm/aa\")&\" | \"&TEXT(Dati!$D42,\"€. 0,00\")&\" | \"&Dati!$G42&\" | \"&Dati!$H42,\"---\")","v":"---"}]
[{"$f":"Dati!C63","v":"00:00:00"},{"$f":"Dati!D63","v":0},{"$f":"Dati!E63","v":0},{"$f":"Dati!G63","v":0},{"$f":"Dati!H63","v":"00:00:00"},null,{"$f":"IF(Dati!$C43 >0,Dati!$B43&\" | \"&TEXT(Dati!$C43,\"gg/mm/aa\")&\" | \"&TEXT(Dati!$D43,\"€. 0,00\")&\" | \"&Dati!$G43&\" | \"&Dati!$H43,\"---\")","v":"---"}]
[{"$f":"Dati!C64","v":"00:00:00"},{"$f":"Dati!D64","v":0},{"$f":"Dati!E64","v":0},{"$f":"Dati!G64","v":0},{"$f":"Dati!H64","v":"00:00:00"},null,{"$f":"IF(Dati!$C44 >0,Dati!$B44&\" | \"&TEXT(Dati!$C44,\"gg/mm/aa\")&\" | \"&TEXT(Dati!$D44,\"€. 0,00\")&\" | \"&Dati!$G44&\" | \"&Dati!$H44,\"---\")","v":"---"}]
[{"$f":"Dati!C65","v":"00:00:00"},{"$f":"Dati!D65","v":0},{"$f":"Dati!E65","v":0},{"$f":"Dati!G65","v":0},{"$f":"Dati!H65","v":"00:00:00"},null,{"$f":"IF(Dati!$C45 >0,Dati!$B45&\" | \"&TEXT(Dati!$C45,\"gg/mm/aa\")&\" | \"&TEXT(Dati!$D45,\"€. 0,00\")&\" | \"&Dati!$G45&\" | \"&Dati!$H45,\"---\")","v":"---"}]
[{"$f":"Dati!C66","v":"00:00:00"},{"$f":"Dati!D66","v":0},{"$f":"Dati!E66","v":0},{"$f":"Dati!G66","v":0},{"$f":"Dati!H66","v":"00:00:00"},null,{"$f":"IF(Dati!$C46 >0,Dati!$B46&\" | \"&TEXT(Dati!$C46,\"gg/mm/aa\")&\" | \"&TEXT(Dati!$D46,\"€. 0,00\")&\" | \"&Dati!$G46&\" | \"&Dati!$H46,\"---\")","v":"---"}]
[{"$f":"Dati!C67","v":"00:00:00"},{"$f":"Dati!D67","v":0},{"$f":"Dati!E67","v":0},{"$f":"Dati!G67","v":0},{"$f":"Dati!H67","v":"00:00:00"},null,{"$f":"IF(Dati!$C47 >0,Dati!$B47&\" | \"&TEXT(Dati!$C47,\"gg/mm/aa\")&\" | \"&TEXT(Dati!$D47,\"€. 0,00\")&\" | \"&Dati!$G47&\" | \"&Dati!$H47,\"---\")","v":"---"}]
[{"$f":"Dati!C68","v":"00:00:00"},{"$f":"Dati!D68","v":0},{"$f":"Dati!E68","v":0},{"$f":"Dati!G68","v":0},{"$f":"Dati!H68","v":"00:00:00"},null,{"$f":"IF(Dati!$C48 >0,Dati!$B48&\" | \"&TEXT(Dati!$C48,\"gg/mm/aa\")&\" | \"&TEXT(Dati!$D48,\"€. 0,00\")&\" | \"&Dati!$G48&\" | \"&Dati!$H48,\"---\")","v":"---"}]
[{"$f":"Dati!C69","v":"00:00:00"},{"$f":"Dati!D69","v":0},{"$f":"Dati!E69","v":0},{"$f":"Dati!G69","v":0},{"$f":"Dati!H69","v":"00:00:00"},null,{"$f":"IF(Dati!$C49 >0,Dati!$B49&\" | \"&TEXT(Dati!$C49,\"gg/mm/aa\")&\" | \"&TEXT(Dati!$D49,\"€. 0,00\")&\" | \"&Dati!$G49&\" | \"&Dati!$H49,\"---\")","v":"---"}]
[{"$f":"Dati!C70","v":"00:00:00"},{"$f":"Dati!D70","v":0},{"$f":"Dati!E70","v":0},{"$f":"Dati!G70","v":0},{"$f":"Dati!H70","v":"00:00:00"},null,{"$f":"IF(Dati!$C50 >0,Dati!$B50&\" | \"&TEXT(Dati!$C50,\"gg/mm/aa\")&\" | \"&TEXT(Dati!$D50,\"€. 0,00\")&\" | \"&Dati!$G50&\" | \"&Dati!$H50,\"---\")","v":"---"}]
[{"$f":"Dati!C71","v":"00:00:00"},{"$f":"Dati!D71","v":0},{"$f":"Dati!E71","v":0},{"$f":"Dati!G71","v":0},{"$f":"Dati!H71","v":"00:00:00"},null,{"$f":"IF(Dati!$C51 >0,Dati!$B51&\" | \"&TEXT(Dati!$C51,\"gg/mm/aa\")&\" | \"&TEXT(Dati!$D51,\"€. 0,00\")&\" | \"&Dati!$G51&\" | \"&Dati!$H51,\"---\")","v":"---"}]
[{"$f":"Dati!C72","v":"00:00:00"},{"$f":"Dati!D72","v":0},{"$f":"Dati!E72","v":0},{"$f":"Dati!G72","v":0},{"$f":"Dati!H72","v":"00:00:00"},null,{"$f":"IF(Dati!$C52 >0,Dati!$B52&\" | \"&TEXT(Dati!$C52,\"gg/mm/aa\")&\" | \"&TEXT(Dati!$D52,\"€. 0,00\")&\" | \"&Dati!$G52&\" | \"&Dati!$H52,\"---\")","v":"---"}]
[{"$f":"Dati!C73","v":"00:00:00"},{"$f":"Dati!D73","v":0},{"$f":"Dati!E73","v":0},{"$f":"Dati!G73","v":0},{"$f":"Dati!H73","v":"00:00:00"},null,{"$f":"IF(Dati!$C53 >0,Dati!$B53&\" | \"&TEXT(Dati!$C53,\"gg/mm/aa\")&\" | \"&TEXT(Dati!$D53,\"€. 0,00\")&\" | \"&Dati!$G53&\" | \"&Dati!$H53,\"---\")","v":"---"}]
[{"$f":"Dati!C74","v":"00:00:00"},{"$f":"Dati!D74","v":0},{"$f":"Dati!E74","v":0},{"$f":"Dati!G74","v":0},{"$f":"Dati!H74","v":"00:00:00"},null,{"$f":"IF(Dati!$C54 >0,Dati!$B54&\" | \"&TEXT(Dati!$C54,\"gg/mm/aa\")&\" | \"&TEXT(Dati!$D54,\"€. 0,00\")&\" | \"&Dati!$G54&\" | \"&Dati!$H54,\"---\")","v":"---"}]
[{"$f":"Dati!C75","v":"00:00:00"},{"$f":"Dati!D75","v":0},{"$f":"Dati!E75","v":0},{"$f":"Dati!G75","v":0},{"$f":"Dati!H75","v":"00:00:00"},null,{"$f":"IF(Dati!$C55 >0,Dati!$B55&\" | \"&TEXT(Dati!$C55,\"gg/mm/aa\")&\" | \"&TEXT(Dati!$D55,\"€. 0,00\")&\" | \"&Dati!$G55&\" | \"&Dati!$H55,\"---\")","v":"---"}]
[{"$f":"Dati!C76","v":"00:00:00"},{"$f":"Dati!D76","v":0},{"$f":"Dati!E76","v":0},{"$f":"Dati!G76","v":0},{"$f":"Dati!H76","v":"00:00:00"},null,{"$f":"IF(Dati!$C56 >0,Dati!$B56&\" | \"&TEXT(Dati!$C56,\"gg/mm/aa\")&\" | \"&TEXT(Dati!$D56,\"€. 0,00\")&\" | \"&Dati!$G56&\" | \"&Dati!$H56,\"---\")","v":"---"}]
[{"$f":"Dati!C77","v":"00:00:00"},{"$f":"Dati!D77","v":0},{"$f":"Dati!E77","v":0},{"$f":"Dati!G77","v":0},{"$f":"Dati!H77","v":"00:00:00"},null,{"$f":"IF(Dati!$C57 >0,Dati!$B57&\" | \"&TEXT(Dati!$C57,\"gg/mm/aa\")&\" | \"&TEXT(Dati!$D57,\"€. 0,00\")&\" | \"&Dati!$G57&\" | \"&Dati!$H57,\"---\")","v":"---"}]
[null,null,null,null,null,null,{"$f":"IF(Dati!$C58 >0,Dati!$B58&\" | \"&TEXT(Dati!$C58,\"gg/mm/aa\")&\" | \"&TEXT(Dati!$D58,\"€. 0,00\")&\" | \"&Dati!$G58&\" | \"&Dati!$H58,\"---\")","v":"---"}]
[null,null,null,null,null,null,{"$f":"IF(Dati!$C59 >0,Dati!$B59&\" | \"&TEXT(Dati!$C59,\"gg/mm/aa\")&\" | \"&TEXT(Dati!$D59,\"€. 0,00\")&\" | \"&Dati!$G59&\" | \"&Dati!$H59,\"---\")","v":"---"}]
[null,null,null,null,null,null,{"$f":"IF(Dati!$C60 >0,Dati!$B60&\" | \"&TEXT(Dati!$C60,\"gg/mm/aa\")&\" | \"&TEXT(Dati!$D60,\"€. 0,00\")&\" | \"&Dati!$G60&\" | \"&Dati!$H60,\"---\")","v":"---"}]
[null,null,null,null,null,null,{"$f":"IF(Dati!$C61 >0,Dati!$B61&\" | \"&TEXT(Dati!$C61,\"gg/mm/aa\")&\" | \"&TEXT(Dati!$D61,\"€. 0,00\")&\" | \"&Dati!$G61&\" | \"&Dati!$H61,\"---\")","v":"---"}]
[null,null,null,null,null,null,{"$f":"IF(Dati!$C62 >0,Dati!$B62&\" | \"&TEXT(Dati!$C62,\"gg/mm/aa\")&\" | \"&TEXT(Dati!$D62,\"€. 0,00\")&\" | \"&Dati!$G62&\" | \"&Dati!$H62,\"---\")","v":"---"}]
[null,null,null,null,null,null,{"$f":"IF(Dati!$C63 >0,Dati!$B63&\" | \"&TEXT(Dati!$C63,\"gg/mm/aa\")&\" | \"&TEXT(Dati!$D63,\"€. 0,00\")&\" | \"&Dati!$G63&\" | \"&Dati!$H63,\"---\")","v":"---"}]
[null,null,null,null,null,null,{"$f":"IF(Dati!$C64 >0,Dati!$B64&\" | \"&TEXT(Dati!$C64,\"gg/mm/aa\")&\" | \"&TEXT(Dati!$D64,\"€. 0,00\")&\" | \"&Dati!$G64&\" | \"&Dati!$H64,\"---\")","v":"---"}]
[null,null,null,null,null,null,{"$f":"IF(Dati!$C65 >0,Dati!$B65&\" | \"&TEXT(Dati!$C65,\"gg/mm/aa\")&\" | \"&TEXT(Dati!$D65,\"€. 0,00\")&\" | \"&Dati!$G65&\" | \"&Dati!$H65,\"---\")","v":"---"}]
[null,null,null,null,null,null,{"$f":"IF(Dati!$C66 >0,Dati!$B66&\" | \"&TEXT(Dati!$C66,\"gg/mm/aa\")&\" | \"&TEXT(Dati!$D66,\"€. 0,00\")&\" | \"&Dati!$G66&\" | \"&Dati!$H66,\"---\")","v":"---"}]
[null,null,null,null,null,null,{"$f":"IF(Dati!$C67 >0,Dati!$B67&\" | \"&TEXT(Dati!$C67,\"gg/mm/aa\")&\" | \"&TEXT(Dati!$D67,\"€. 0,00\")&\" | \"&Dati!$G67&\" | \"&Dati!$H67,\"---\")","v":"---"}]
[null,null,null,null,null,null,{"$f":"IF(Dati!$C68 >0,Dati!$B68&\" | \"&TEXT(Dati!$C68,\"gg/mm/aa\")&\" | \"&TEXT(Dati!$D68,\"€. 0,00\")&\" | \"&Dati!$G68&\" | \"&Dati!$H68,\"---\")","v":"---"}]
[null,null,null,null,null,null,{"$f":"IF(Dati!$C69 >0,Dati!$B69&\" | \"&TEXT(Dati!$C69,\"gg/mm/aa\")&\" | \"&TEXT(Dati!$D69,\"€. 0,00\")&\" | \"&Dati!$G69&\" | \"&Dati!$H69,\"---\")","v":"---"}]
[null,null,null,null,null,null,{"$f":"IF(Dati!$C70 >0,Dati!$B70&\" | \"&TEXT(Dati!$C70,\"gg/mm/aa\")&\" | \"&TEXT(Dati!$D70,\"€. 0,00\")&\" | \"&Dati!$G70&\" | \"&Dati!$H70,\"---\")","v":"---"}]
[null,null,null,null,null,null,{"$f":"IF(Dati!$C71 >0,Dati!$B71&\" | \"&TEXT(Dati!$C71,\"gg/mm/aa\")&\" | \"&TEXT(Dati!$D71,\"€. 0,00\")&\" | \"&Dati!$G71&\" | \"&Dati!$H71,\"---\")","v":"---"}]
[null,null,null,null,null,null,{"$f":"IF(Dati!$C72 >0,Dati!$B72&\" | \"&TEXT(Dati!$C72,\"gg/mm/aa\")&\" | \"&TEXT(Dati!$D72,\"€. 0,00\")&\" | \"&Dati!$G72&\" | \"&Dati!$H72,\"---\")","v":"---"}]
[null,null,null,null,null,null,{"$f":"IF(Dati!$C73 >0,Dati!$B73&\" | \"&TEXT(Dati!$C73,\"gg/mm/aa\")&\" | \"&TEXT(Dati!$D73,\"€. 0,00\")&\" | \"&Dati!$G73&\" | \"&Dati!$H73,\"---\")","v":"---"}]
[null,null,null,null,null,null,{"$f":"IF(Dati!$C74 >0,Dati!$B74&\" | \"&TEXT(Dati!$C74,\"gg/mm/aa\")&\" | \"&TEXT(Dati!$D74,\"€. 0,00\")&\" | \"&Dati!$G74&\" | \"&Dati!$H74,\"---\")","v":"---"}]
[null,null,null,null,null,null,{"$f":"IF(Dati!$C75 >0,Dati!$B75&\" | \"&TEXT(Dati!$C75,\"gg/mm/aa\")&\" | \"&TEXT(Dati!$D75,\"€. 0,00\")&\" | \"&Dati!$G75&\" | \"&Dati!$H75,\"---\")","v":"---"}]
[null,null,null,null,null,null,{"$f":"IF(Dati!$C76 >0,Dati!$B76&\" | \"&TEXT(Dati!$C76,\"gg/mm/aa\")&\" | \"&TEXT(Dati!$D76,\"€. 0,00\")&\" | \"&Dati!$G76&\" | \"&Dati!$H76,\"---\")","v":"---"}]
[null,null,null,null,null,null,{"$f":"IF(Dati!$C77 >0,Dati!$B77&\" | \"&TEXT(Dati!$C77,\"gg/mm/aa\")&\" | \"&TEXT(Dati!$D77,\"€. 0,00\")&\" | \"&Dati!$G77&\" | \"&Dati!$H77,\"---\")","v":"---"}]
[null,null,null,null,null,null,{"$f":"IF(Dati!$C78 >0,Dati!$B78&\" | \"&TEXT(Dati!$C78,\"gg/mm/aa\")&\" | \"&TEXT(Dati!$D78,\"€. 0,00\")&\" | \"&Dati!$G78&\" | \"&Dati!$H78,\"---\")","v":"---"}]
[null,null,null,null,null,null,{"$f":"IF(Dati!$C79 >0,Dati!$B79&\" | \"&TEXT(Dati!$C79,\"gg/mm/aa\")&\" | \"&TEXT(Dati!$D79,\"€. 0,00\")&\" | \"&Dati!$G79&\" | \"&Dati!$H79,\"---\")","v":"---"}]
[null,null,null,null,null,null,{"$f":"IF(Dati!$C80 >0,Dati!$B80&\" | \"&TEXT(Dati!$C80,\"gg/mm/aa\")&\" | \"&TEXT(Dati!$D80,\"€. 0,00\")&\" | \"&Dati!$G80&\" | \"&Dati!$H80,\"---\")","v":"---"}]
[null,null,null,null,null,null,{"$f":"IF(Dati!$C81 >0,Dati!$B81&\" | \"&TEXT(Dati!$C81,\"gg/mm/aa\")&\" | \"&TEXT(Dati!$D81,\"€. 0,00\")&\" | \"&Dati!$G81&\" | \"&Dati!$H81,\"---\")","v":"---"}]
[null,null,null,null,null,null,{"$f":"IF(Dati!$C82 >0,Dati!$B82&\" | \"&TEXT(Dati!$C82,\"gg/mm/aa\")&\" | \"&TEXT(Dati!$D82,\"€. 0,00\")&\" | \"&Dati!$G82&\" | \"&Dati!$H82,\"---\")","v":"---"}]
[null,null,null,null,null,null,{"$f":"IF(Dati!$C83 >0,Dati!$B83&\" | \"&TEXT(Dati!$C83,\"gg/mm/aa\")&\" | \"&TEXT(Dati!$D83,\"€. 0,00\")&\" | \"&Dati!$G83&\" | \"&Dati!$H83,\"---\")","v":"---"}]
[null,null,null,null,null,null,{"$f":"IF(Dati!$C84 >0,Dati!$B84&\" | \"&TEXT(Dati!$C84,\"gg/mm/aa\")&\" | \"&TEXT(Dati!$D84,\"€. 0,00\")&\" | \"&Dati!$G84&\" | \"&Dati!$H84,\"---\")","v":"---"}]
[null,null,null,null,null,null,{"$f":"IF(Dati!$C85 >0,Dati!$B85&\" | \"&TEXT(Dati!$C85,\"gg/mm/aa\")&\" | \"&TEXT(Dati!$D85,\"€. 0,00\")&\" | \"&Dati!$G85&\" | \"&Dati!$H85,\"---\")","v":"---"}]
[null,null,null,null,null,null,{"$f":"IF(Dati!$C86 >0,Dati!$B86&\" | \"&TEXT(Dati!$C86,\"gg/mm/aa\")&\" | \"&TEXT(Dati!$D86,\"€. 0,00\")&\" | \"&Dati!$G86&\" | \"&Dati!$H86,\"---\")","v":"---"}]
[null,null,null,null,null,null,{"$f":"IF(Dati!$C87 >0,Dati!$B87&\" | \"&TEXT(Dati!$C87,\"gg/mm/aa\")&\" | \"&TEXT(Dati!$D87,\"€. 0,00\")&\" | \"&Dati!$G87&\" | \"&Dati!$H87,\"---\")","v":"---"}]
[null,null,null,null,null,null,{"$f":"IF(Dati!$C88 >0,Dati!$B88&\" | \"&TEXT(Dati!$C88,\"gg/mm/aa\")&\" | \"&TEXT(Dati!$D88,\"€. 0,00\")&\" | \"&Dati!$G88&\" | \"&Dati!$H88,\"---\")","v":"---"}]
[null,null,null,null,null,null,{"$f":"IF(Dati!$C89 >0,Dati!$B89&\" | \"&TEXT(Dati!$C89,\"gg/mm/aa\")&\" | \"&TEXT(Dati!$D89,\"€. 0,00\")&\" | \"&Dati!$G89&\" | \"&Dati!$H89,\"---\")","v":"---"}]
[null,null,null,null,null,null,{"$f":"IF(Dati!$C90 >0,Dati!$B90&\" | \"&TEXT(Dati!$C90,\"gg/mm/aa\")&\" | \"&TEXT(Dati!$D90,\"€. 0,00\")&\" | \"&Dati!$G90&\" | \"&Dati!$H90,\"---\")","v":"---"}]
[null,null,null,null,null,null,{"$f":"IF(Dati!$C91 >0,Dati!$B91&\" | \"&TEXT(Dati!$C91,\"gg/mm/aa\")&\" | \"&TEXT(Dati!$D91,\"€. 0,00\")&\" | \"&Dati!$G91&\" | \"&Dati!$H91,\"---\")","v":"---"}]
[null,null,null,null,null,null,{"$f":"IF(Dati!$C92 >0,Dati!$B92&\" | \"&TEXT(Dati!$C92,\"gg/mm/aa\")&\" | \"&TEXT(Dati!$D92,\"€. 0,00\")&\" | \"&Dati!$G92&\" | \"&Dati!$H92,\"---\")","v":"---"}]
[null,null,null,null,null,null,{"$f":"IF(Dati!$C93 >0,Dati!$B93&\" | \"&TEXT(Dati!$C93,\"gg/mm/aa\")&\" | \"&TEXT(Dati!$D93,\"€. 0,00\")&\" | \"&Dati!$G93&\" | \"&Dati!$H93,\"---\")","v":"---"}]
[null,null,null,null,null,null,{"$f":"IF(Dati!$C94 >0,Dati!$B94&\" | \"&TEXT(Dati!$C94,\"gg/mm/aa\")&\" | \"&TEXT(Dati!$D94,\"€. 0,00\")&\" | \"&Dati!$G94&\" | \"&Dati!$H94,\"---\")","v":"---"}]
[null,null,null,null,null,null,{"$f":"IF(Dati!$C95 >0,Dati!$B95&\" | \"&TEXT(Dati!$C95,\"gg/mm/aa\")&\" | \"&TEXT(Dati!$D95,\"€. 0,00\")&\" | \"&Dati!$G95&\" | \"&Dati!$H95,\"---\")","v":"---"}]
[null,null,null,null,null,null,{"$f":"IF(Dati!$C96 >0,Dati!$B96&\" | \"&TEXT(Dati!$C96,\"gg/mm/aa\")&\" | \"&TEXT(Dati!$D96,\"€. 0,00\")&\" | \"&Dati!$G96&\" | \"&Dati!$H96,\"---\")","v":"---"}]
[null,null,null,null,null,null,{"$f":"IF(Dati!$C97 >0,Dati!$B97&\" | \"&TEXT(Dati!$C97,\"gg/mm/aa\")&\" | \"&TEXT(Dati!$D97,\"€. 0,00\")&\" | \"&Dati!$G97&\" | \"&Dati!$H97,\"---\")","v":"---"}]
[null,null,null,null,null,null,{"$f":"IF(Dati!$C98 >0,Dati!$B98&\" | \"&TEXT(Dati!$C98,\"gg/mm/aa\")&\" | \"&TEXT(Dati!$D98,\"€. 0,00\")&\" | \"&Dati!$G98&\" | \"&Dati!$H98,\"---\")","v":"---"}]
[null,null,null,null,null,null,{"$f":"IF(Dati!$C99 >0,Dati!$B99&\" | \"&TEXT(Dati!$C99,\"gg/mm/aa\")&\" | \"&TEXT(Dati!$D99,\"€. 0,00\")&\" | \"&Dati!$G99&\" | \"&Dati!$H99,\"---\")","v":"---"}]
[null,null,null,null,null,null,{"$f":"IF(Dati!$C100 >0,Dati!$B100&\" | \"&TEXT(Dati!$C100,\"gg/mm/aa\")&\" | \"&TEXT(Dati!$D100,\"€. 0,00\")&\" | \"&Dati!$G100&\" | \"&Dati!$H100,\"---\")","v":"---"}]
[null,null,null,null,null,null,{"$f":"IF(Dati!$C101 >0,Dati!$B101&\" | \"&TEXT(Dati!$C101,\"gg/mm/aa\")&\" | \"&TEXT(Dati!$D101,\"€. 0,00\")&\" | \"&Dati!$G101&\" | \"&Dati!$H101,\"---\")","v":"---"}]
[null,null,null,null,null,null,{"$f":"IF(Dati!$C102 >0,Dati!$B102&\" | \"&TEXT(Dati!$C102,\"gg/mm/aa\")&\" | \"&TEXT(Dati!$D102,\"€. 0,00\")&\" | \"&Dati!$G102&\" | \"&Dati!$H102,\"---\")","v":"---"}]
[null,null,null,null,null,null,{"$f":"IF(Dati!$C103 >0,Dati!$B103&\" | \"&TEXT(Dati!$C103,\"gg/mm/aa\")&\" | \"&TEXT(Dati!$D103,\"€. 0,00\")&\" | \"&Dati!$G103&\" | \"&Dati!$H103,\"---\")","v":"---"}]
[null,null,null,null,null,null,{"$f":"IF(Dati!$C104 >0,Dati!$B104&\" | \"&TEXT(Dati!$C104,\"gg/mm/aa\")&\" | \"&TEXT(Dati!$D104,\"€. 0,00\")&\" | \"&Dati!$G104&\" | \"&Dati!$H104,\"---\")","v":"---"}]
[null,null,null,null,null,null,{"$f":"IF(Dati!$C105 >0,Dati!$B105&\" | \"&TEXT(Dati!$C105,\"gg/mm/aa\")&\" | \"&TEXT(Dati!$D105,\"€. 0,00\")&\" | \"&Dati!$G105&\" | \"&Dati!$H105,\"---\")","v":"---"}]
[null,null,null,null,null,null,{"$f":"IF(Dati!$C106 >0,Dati!$B106&\" | \"&TEXT(Dati!$C106,\"gg/mm/aa\")&\" | \"&TEXT(Dati!$D106,\"€. 0,00\")&\" | \"&Dati!$G106&\" | \"&Dati!$H106,\"---\")","v":"---"}]
[null,null,null,null,null,null,{"$f":"IF(Dati!$C107 >0,Dati!$B107&\" | \"&TEXT(Dati!$C107,\"gg/mm/aa\")&\" | \"&TEXT(Dati!$D107,\"€. 0,00\")&\" | \"&Dati!$G107&\" | \"&Dati!$H107,\"---\")","v":"---"}]
[null,null,null,null,null,null,{"$f":"IF(Dati!$C108 >0,Dati!$B108&\" | \"&TEXT(Dati!$C108,\"gg/mm/aa\")&\" | \"&TEXT(Dati!$D108,\"€. 0,00\")&\" | \"&Dati!$G108&\" | \"&Dati!$H108,\"---\")","v":"---"}]
[null,null,null,null,null,null,{"$f":"IF(Dati!$C109 >0,Dati!$B109&\" | \"&TEXT(Dati!$C109,\"gg/mm/aa\")&\" | \"&TEXT(Dati!$D109,\"€. 0,00\")&\" | \"&Dati!$G109&\" | \"&Dati!$H109,\"---\")","v":"---"}]
[null,null,null,null,null,null,{"$f":"IF(Dati!$C110 >0,Dati!$B110&\" | \"&TEXT(Dati!$C110,\"gg/mm/aa\")&\" | \"&TEXT(Dati!$D110,\"€. 0,00\")&\" | \"&Dati!$G110&\" | \"&Dati!$H110,\"---\")","v":"---"}]
[null,null,null,null,null,null,{"$f":"IF(Dati!$C111 >0,Dati!$B111&\" | \"&TEXT(Dati!$C111,\"gg/mm/aa\")&\" | \"&TEXT(Dati!$D111,\"€. 0,00\")&\" | \"&Dati!$G111&\" | \"&Dati!$H111,\"---\")","v":"---"}]
[null,null,null,null,null,null,{"$f":"IF(Dati!$C112 >0,Dati!$B112&\" | \"&TEXT(Dati!$C112,\"gg/mm/aa\")&\" | \"&TEXT(Dati!$D112,\"€. 0,00\")&\" | \"&Dati!$G112&\" | \"&Dati!$H112,\"---\")","v":"---"}]
[null,null,null,null,null,null,{"$f":"IF(Dati!$C113 >0,Dati!$B113&\" | \"&TEXT(Dati!$C113,\"gg/mm/aa\")&\" | \"&TEXT(Dati!$D113,\"€. 0,00\")&\" | \"&Dati!$G113&\" | \"&Dati!$H113,\"---\")","v":"---"}]
[null,null,null,null,null,null,{"$f":"IF(Dati!$C114 >0,Dati!$B114&\" | \"&TEXT(Dati!$C114,\"gg/mm/aa\")&\" | \"&TEXT(Dati!$D114,\"€. 0,00\")&\" | \"&Dati!$G114&\" | \"&Dati!$H114,\"---\")","v":"---"}]
[null,null,null,null,null,null,{"$f":"IF(Dati!$C115 >0,Dati!$B115&\" | \"&TEXT(Dati!$C115,\"gg/mm/aa\")&\" | \"&TEXT(Dati!$D115,\"€. 0,00\")&\" | \"&Dati!$G115&\" | \"&Dati!$H115,\"---\")","v":"---"}]
[null,null,null,null,null,null,{"$f":"IF(Dati!$C116 >0,Dati!$B116&\" | \"&TEXT(Dati!$C116,\"gg/mm/aa\")&\" | \"&TEXT(Dati!$D116,\"€. 0,00\")&\" | \"&Dati!$G116&\" | \"&Dati!$H116,\"---\")","v":"---"}]
[null,null,null,null,null,null,{"$f":"IF(Dati!$C117 >0,Dati!$B117&\" | \"&TEXT(Dati!$C117,\"gg/mm/aa\")&\" | \"&TEXT(Dati!$D117,\"€. 0,00\")&\" | \"&Dati!$G117&\" | \"&Dati!$H117,\"---\")","v":"---"}]
[null,null,null,null,null,null,{"$f":"IF(Dati!$C118 >0,Dati!$B118&\" | \"&TEXT(Dati!$C118,\"gg/mm/aa\")&\" | \"&TEXT(Dati!$D118,\"€. 0,00\")&\" | \"&Dati!$G118&\" | \"&Dati!$H118,\"---\")","v":"---"}]
[null,null,null,null,null,null,{"$f":"IF(Dati!$C119 >0,Dati!$B119&\" | \"&TEXT(Dati!$C119,\"gg/mm/aa\")&\" | \"&TEXT(Dati!$D119,\"€. 0,00\")&\" | \"&Dati!$G119&\" | \"&Dati!$H119,\"---\")","v":"---"}]
[null,null,null,null,null,null,{"$f":"IF(Dati!$C120 >0,Dati!$B120&\" | \"&TEXT(Dati!$C120,\"gg/mm/aa\")&\" | \"&TEXT(Dati!$D120,\"€. 0,00\")&\" | \"&Dati!$G120&\" | \"&Dati!$H120,\"---\")","v":"---"}]
[null,null,null,null,null,null,{"$f":"IF(Dati!$C121 >0,Dati!$B121&\" | \"&TEXT(Dati!$C121,\"gg/mm/aa\")&\" | \"&TEXT(Dati!$D121,\"€. 0,00\")&\" | \"&Dati!$G121&\" | \"&Dati!$H121,\"---\")","v":"---"}]
[null,null,null,null,null,null,{"$f":"IF(Dati!$C122 >0,Dati!$B122&\" | \"&TEXT(Dati!$C122,\"gg/mm/aa\")&\" | \"&TEXT(Dati!$D122,\"€. 0,00\")&\" | \"&Dati!$G122&\" | \"&Dati!$H122,\"---\")","v":"---"}]
[null,null,null,null,null,null,{"$f":"IF(Dati!$C123 >0,Dati!$B123&\" | \"&TEXT(Dati!$C123,\"gg/mm/aa\")&\" | \"&TEXT(Dati!$D123,\"€. 0,00\")&\" | \"&Dati!$G123&\" | \"&Dati!$H123,\"---\")","v":"---"}]
[null,null,null,null,null,null,{"$f":"IF(Dati!$C124 >0,Dati!$B124&\" | \"&TEXT(Dati!$C124,\"gg/mm/aa\")&\" | \"&TEXT(Dati!$D124,\"€. 0,00\")&\" | \"&Dati!$G124&\" | \"&Dati!$H124,\"---\")","v":"---"}]
[null,null,null,null,null,null,{"$f":"IF(Dati!$C125 >0,Dati!$B125&\" | \"&TEXT(Dati!$C125,\"gg/mm/aa\")&\" | \"&TEXT(Dati!$D125,\"€. 0,00\")&\" | \"&Dati!$G125&\" | \"&Dati!$H125,\"---\")","v":"---"}]
[null,null,null,null,null,null,{"$f":"IF(Dati!$C126 >0,Dati!$B126&\" | \"&TEXT(Dati!$C126,\"gg/mm/aa\")&\" | \"&TEXT(Dati!$D126,\"€. 0,00\")&\" | \"&Dati!$G126&\" | \"&Dati!$H126,\"---\")","v":"---"}]
[null,null,null,null,null,null,{"$f":"IF(Dati!$C127 >0,Dati!$B127&\" | \"&TEXT(Dati!$C127,\"gg/mm/aa\")&\" | \"&TEXT(Dati!$D127,\"€. 0,00\")&\" | \"&Dati!$G127&\" | \"&Dati!$H127,\"---\")","v":"---"}]
[null,null,null,null,null,null,{"$f":"IF(Dati!$C128 >0,Dati!$B128&\" | \"&TEXT(Dati!$C128,\"gg/mm/aa\")&\" | \"&TEXT(Dati!$D128,\"€. 0,00\")&\" | \"&Dati!$G128&\" | \"&Dati!$H128,\"---\")","v":"---"}]
[null,null,null,null,null,null,{"$f":"IF(Dati!$C129 >0,Dati!$B129&\" | \"&TEXT(Dati!$C129,\"gg/mm/aa\")&\" | \"&TEXT(Dati!$D129,\"€. 0,00\")&\" | \"&Dati!$G129&\" | \"&Dati!$H129,\"---\")","v":"---"}]
[null,null,null,null,null,null,{"$f":"IF(Dati!$C130 >0,Dati!$B130&\" | \"&TEXT(Dati!$C130,\"gg/mm/aa\")&\" | \"&TEXT(Dati!$D130,\"€. 0,00\")&\" | \"&Dati!$G130&\" | \"&Dati!$H130,\"---\")","v":"---"}]
[null,null,null,null,null,null,{"$f":"IF(Dati!$C131 >0,Dati!$B131&\" | \"&TEXT(Dati!$C131,\"gg/mm/aa\")&\" | \"&TEXT(Dati!$D131,\"€. 0,00\")&\" | \"&Dati!$G131&\" | \"&Dati!$H131,\"---\")","v":"---"}]
[null,null,null,null,null,null,{"$f":"IF(Dati!$C132 >0,Dati!$B132&\" | \"&TEXT(Dati!$C132,\"gg/mm/aa\")&\" | \"&TEXT(Dati!$D132,\"€. 0,00\")&\" | \"&Dati!$G132&\" | \"&Dati!$H132,\"---\")","v":"---"}]
[null,null,null,null,null,null,{"$f":"IF(Dati!$C133 >0,Dati!$B133&\" | \"&TEXT(Dati!$C133,\"gg/mm/aa\")&\" | \"&TEXT(Dati!$D133,\"€. 0,00\")&\" | \"&Dati!$G133&\" | \"&Dati!$H133,\"---\")","v":"---"}]
[null,null,null,null,null,null,{"$f":"IF(Dati!$C134 >0,Dati!$B134&\" | \"&TEXT(Dati!$C134,\"gg/mm/aa\")&\" | \"&TEXT(Dati!$D134,\"€. 0,00\")&\" | \"&Dati!$G134&\" | \"&Dati!$H134,\"---\")","v":"---"}]
[null,null,null,null,null,null,{"$f":"IF(Dati!$C135 >0,Dati!$B135&\" | \"&TEXT(Dati!$C135,\"gg/mm/aa\")&\" | \"&TEXT(Dati!$D135,\"€. 0,00\")&\" | \"&Dati!$G135&\" | \"&Dati!$H135,\"---\")","v":"---"}]
[null,null,null,null,null,null,{"$f":"IF(Dati!$C136 >0,Dati!$B136&\" | \"&TEXT(Dati!$C136,\"gg/mm/aa\")&\" | \"&TEXT(Dati!$D136,\"€. 0,00\")&\" | \"&Dati!$G136&\" | \"&Dati!$H136,\"---\")","v":"---"}]
[null,null,null,null,null,null,{"$f":"IF(Dati!$C137 >0,Dati!$B137&\" | \"&TEXT(Dati!$C137,\"gg/mm/aa\")&\" | \"&TEXT(Dati!$D137,\"€. 0,00\")&\" | \"&Dati!$G137&\" | \"&Dati!$H137,\"---\")","v":"---"}]
[null,null,null,null,null,null,{"$f":"IF(Dati!$C138 >0,Dati!$B138&\" | \"&TEXT(Dati!$C138,\"gg/mm/aa\")&\" | \"&TEXT(Dati!$D138,\"€. 0,00\")&\" | \"&Dati!$G138&\" | \"&Dati!$H138,\"---\")","v":"---"}]
[null,null,null,null,null,null,{"$f":"IF(Dati!$C139 >0,Dati!$B139&\" | \"&TEXT(Dati!$C139,\"gg/mm/aa\")&\" | \"&TEXT(Dati!$D139,\"€. 0,00\")&\" | \"&Dati!$G139&\" | \"&Dati!$H139,\"---\")","v":"---"}]
[null,null,null,null,null,null,{"$f":"IF(Dati!$C140 >0,Dati!$B140&\" | \"&TEXT(Dati!$C140,\"gg/mm/aa\")&\" | \"&TEXT(Dati!$D140,\"€. 0,00\")&\" | \"&Dati!$G140&\" | \"&Dati!$H140,\"---\")","v":"---"}]
[null,null,null,null,null,null,{"$f":"IF(Dati!$C141 >0,Dati!$B141&\" | \"&TEXT(Dati!$C141,\"gg/mm/aa\")&\" | \"&TEXT(Dati!$D141,\"€. 0,00\")&\" | \"&Dati!$G141&\" | \"&Dati!$H141,\"---\")","v":"---"}]
[null,null,null,null,null,null,{"$f":"IF(Dati!$C142 >0,Dati!$B142&\" | \"&TEXT(Dati!$C142,\"gg/mm/aa\")&\" | \"&TEXT(Dati!$D142,\"€. 0,00\")&\" | \"&Dati!$G142&\" | \"&Dati!$H142,\"---\")","v":"---"}]
[null,null,null,null,null,null,{"$f":"IF(Dati!$C143 >0,Dati!$B143&\" | \"&TEXT(Dati!$C143,\"gg/mm/aa\")&\" | \"&TEXT(Dati!$D143,\"€. 0,00\")&\" | \"&Dati!$G143&\" | \"&Dati!$H143,\"---\")","v":"---"}]
[null,null,null,null,null,null,{"$f":"IF(Dati!$C144 >0,Dati!$B144&\" | \"&TEXT(Dati!$C144,\"gg/mm/aa\")&\" | \"&TEXT(Dati!$D144,\"€. 0,00\")&\" | \"&Dati!$G144&\" | \"&Dati!$H144,\"---\")","v":"---"}]
[null,null,null,null,null,null,{"$f":"IF(Dati!$C145 >0,Dati!$B145&\" | \"&TEXT(Dati!$C145,\"gg/mm/aa\")&\" | \"&TEXT(Dati!$D145,\"€. 0,00\")&\" | \"&Dati!$G145&\" | \"&Dati!$H145,\"---\")","v":"---"}]
[null,null,null,null,null,null,{"$f":"IF(Dati!$C146 >0,Dati!$B146&\" | \"&TEXT(Dati!$C146,\"gg/mm/aa\")&\" | \"&TEXT(Dati!$D146,\"€. 0,00\")&\" | \"&Dati!$G146&\" | \"&Dati!$H146,\"---\")","v":"---"}]
[null,null,null,null,null,null,{"$f":"IF(Dati!$C147 >0,Dati!$B147&\" | \"&TEXT(Dati!$C147,\"gg/mm/aa\")&\" | \"&TEXT(Dati!$D147,\"€. 0,00\")&\" | \"&Dati!$G147&\" | \"&Dati!$H147,\"---\")","v":"---"}]
[null,null,null,null,null,null,{"$f":"IF(Dati!$C148 >0,Dati!$B148&\" | \"&TEXT(Dati!$C148,\"gg/mm/aa\")&\" | \"&TEXT(Dati!$D148,\"€. 0,00\")&\" | \"&Dati!$G148&\" | \"&Dati!$H148,\"---\")","v":"---"}]
[null,null,null,null,null,null,{"$f":"IF(Dati!$C149 >0,Dati!$B149&\" | \"&TEXT(Dati!$C149,\"gg/mm/aa\")&\" | \"&TEXT(Dati!$D149,\"€. 0,00\")&\" | \"&Dati!$G149&\" | \"&Dati!$H149,\"---\")","v":"---"}]
[null,null,null,null,null,null,{"$f":"IF(Dati!$C150 >0,Dati!$B150&\" | \"&TEXT(Dati!$C150,\"gg/mm/aa\")&\" | \"&TEXT(Dati!$D150,\"€. 0,00\")&\" | \"&Dati!$G150&\" | \"&Dati!$H150,\"---\")","v":"---"}]
[null,null,null,null,null,null,{"$f":"IF(Dati!$C151 >0,Dati!$B151&\" | \"&TEXT(Dati!$C151,\"gg/mm/aa\")&\" | \"&TEXT(Dati!$D151,\"€. 0,00\")&\" | \"&Dati!$G151&\" | \"&Dati!$H151,\"---\")","v":"---"}]
[null,null,null,null,null,null,{"$f":"IF(Dati!$C152 >0,Dati!$B152&\" | \"&TEXT(Dati!$C152,\"gg/mm/aa\")&\" | \"&TEXT(Dati!$D152,\"€. 0,00\")&\" | \"&Dati!$G152&\" | \"&Dati!$H152,\"---\")","v":"---"}]
[null,null,null,null,null,null,{"$f":"IF(Dati!$C153 >0,Dati!$B153&\" | \"&TEXT(Dati!$C153,\"gg/mm/aa\")&\" | \"&TEXT(Dati!$D153,\"€. 0,00\")&\" | \"&Dati!$G153&\" | \"&Dati!$H153,\"---\")","v":"---"}]
[null,null,null,null,null,null,{"$f":"IF(Dati!$C154 >0,Dati!$B154&\" | \"&TEXT(Dati!$C154,\"gg/mm/aa\")&\" | \"&TEXT(Dati!$D154,\"€. 0,00\")&\" | \"&Dati!$G154&\" | \"&Dati!$H154,\"---\")","v":"---"}]
[null,null,null,null,null,null,{"$f":"IF(Dati!$C155 >0,Dati!$B155&\" | \"&TEXT(Dati!$C155,\"gg/mm/aa\")&\" | \"&TEXT(Dati!$D155,\"€. 0,00\")&\" | \"&Dati!$G155&\" | \"&Dati!$H155,\"---\")","v":"---"}]
[null,null,null,null,null,null,{"$f":"IF(Dati!$C156 >0,Dati!$B156&\" | \"&TEXT(Dati!$C156,\"gg/mm/aa\")&\" | \"&TEXT(Dati!$D156,\"€. 0,00\")&\" | \"&Dati!$G156&\" | \"&Dati!$H156,\"---\")","v":"---"}]
[null,null,null,null,null,null,{"$f":"IF(Dati!$C157 >0,Dati!$B157&\" | \"&TEXT(Dati!$C157,\"gg/mm/aa\")&\" | \"&TEXT(Dati!$D157,\"€. 0,00\")&\" | \"&Dati!$G157&\" | \"&Dati!$H157,\"---\")","v":"---"}]
[null,null,null,null,null,null,{"$f":"IF(Dati!$C158 >0,Dati!$B158&\" | \"&TEXT(Dati!$C158,\"gg/mm/aa\")&\" | \"&TEXT(Dati!$D158,\"€. 0,00\")&\" | \"&Dati!$G158&\" | \"&Dati!$H158,\"---\")","v":"---"}]
[null,null,null,null,null,null,{"$f":"IF(Dati!$C159 >0,Dati!$B159&\" | \"&TEXT(Dati!$C159,\"gg/mm/aa\")&\" | \"&TEXT(Dati!$D159,\"€. 0,00\")&\" | \"&Dati!$G159&\" | \"&Dati!$H159,\"---\")","v":"---"}]
[null,null,null,null,null,null,{"$f":"IF(Dati!$C160 >0,Dati!$B160&\" | \"&TEXT(Dati!$C160,\"gg/mm/aa\")&\" | \"&TEXT(Dati!$D160,\"€. 0,00\")&\" | \"&Dati!$G160&\" | \"&Dati!$H160,\"---\")","v":"---"}]
[null,null,null,null,null,null,{"$f":"IF(Dati!$C161 >0,Dati!$B161&\" | \"&TEXT(Dati!$C161,\"gg/mm/aa\")&\" | \"&TEXT(Dati!$D161,\"€. 0,00\")&\" | \"&Dati!$G161&\" | \"&Dati!$H161,\"---\")","v":"---"}]
[null,null,null,null,null,null,{"$f":"IF(Dati!$C162 >0,Dati!$B162&\" | \"&TEXT(Dati!$C162,\"gg/mm/aa\")&\" | \"&TEXT(Dati!$D162,\"€. 0,00\")&\" | \"&Dati!$G162&\" | \"&Dati!$H162,\"---\")","v":"---"}]
[null,null,null,null,null,null,{"$f":"IF(Dati!$C163 >0,Dati!$B163&\" | \"&TEXT(Dati!$C163,\"gg/mm/aa\")&\" | \"&TEXT(Dati!$D163,\"€. 0,00\")&\" | \"&Dati!$G163&\" | \"&Dati!$H163,\"---\")","v":"---"}]
[null,null,null,null,null,null,{"$f":"IF(Dati!$C164 >0,Dati!$B164&\" | \"&TEXT(Dati!$C164,\"gg/mm/aa\")&\" | \"&TEXT(Dati!$D164,\"€. 0,00\")&\" | \"&Dati!$G164&\" | \"&Dati!$H164,\"---\")","v":"---"}]
[null,null,null,null,null,null,{"$f":"IF(Dati!$C165 >0,Dati!$B165&\" | \"&TEXT(Dati!$C165,\"gg/mm/aa\")&\" | \"&TEXT(Dati!$D165,\"€. 0,00\")&\" | \"&Dati!$G165&\" | \"&Dati!$H165,\"---\")","v":"---"}]
[null,null,null,null,null,null,{"$f":"IF(Dati!$C166 >0,Dati!$B166&\" | \"&TEXT(Dati!$C166,\"gg/mm/aa\")&\" | \"&TEXT(Dati!$D166,\"€. 0,00\")&\" | \"&Dati!$G166&\" | \"&Dati!$H166,\"---\")","v":"---"}]
[null,null,null,null,null,null,{"$f":"IF(Dati!$C167 >0,Dati!$B167&\" | \"&TEXT(Dati!$C167,\"gg/mm/aa\")&\" | \"&TEXT(Dati!$D167,\"€. 0,00\")&\" | \"&Dati!$G167&\" | \"&Dati!$H167,\"---\")","v":"---"}]
[null,null,null,null,null,null,{"$f":"IF(Dati!$C168 >0,Dati!$B168&\" | \"&TEXT(Dati!$C168,\"gg/mm/aa\")&\" | \"&TEXT(Dati!$D168,\"€. 0,00\")&\" | \"&Dati!$G168&\" | \"&Dati!$H168,\"---\")","v":"---"}]
[null,null,null,null,null,null,{"$f":"IF(Dati!$C169 >0,Dati!$B169&\" | \"&TEXT(Dati!$C169,\"gg/mm/aa\")&\" | \"&TEXT(Dati!$D169,\"€. 0,00\")&\" | \"&Dati!$G169&\" | \"&Dati!$H169,\"---\")","v":"---"}]
[null,null,null,null,null,null,{"$f":"IF(Dati!$C170 >0,Dati!$B170&\" | \"&TEXT(Dati!$C170,\"gg/mm/aa\")&\" | \"&TEXT(Dati!$D170,\"€. 0,00\")&\" | \"&Dati!$G170&\" | \"&Dati!$H170,\"---\")","v":"---"}]
[null,null,null,null,null,null,{"$f":"IF(Dati!$C171 >0,Dati!$B171&\" | \"&TEXT(Dati!$C171,\"gg/mm/aa\")&\" | \"&TEXT(Dati!$D171,\"€. 0,00\")&\" | \"&Dati!$G171&\" | \"&Dati!$H171,\"---\")","v":"---"}]
[null,null,null,null,null,null,{"$f":"IF(Dati!$C172 >0,Dati!$B172&\" | \"&TEXT(Dati!$C172,\"gg/mm/aa\")&\" | \"&TEXT(Dati!$D172,\"€. 0,00\")&\" | \"&Dati!$G172&\" | \"&Dati!$H172,\"---\")","v":"---"}]
[null,null,null,null,null,null,{"$f":"IF(Dati!$C173 >0,Dati!$B173&\" | \"&TEXT(Dati!$C173,\"gg/mm/aa\")&\" | \"&TEXT(Dati!$D173,\"€. 0,00\")&\" | \"&Dati!$G173&\" | \"&Dati!$H173,\"---\")","v":"---"}]
[null,null,null,null,null,null,{"$f":"IF(Dati!$C174 >0,Dati!$B174&\" | \"&TEXT(Dati!$C174,\"gg/mm/aa\")&\" | \"&TEXT(Dati!$D174,\"€. 0,00\")&\" | \"&Dati!$G174&\" | \"&Dati!$H174,\"---\")","v":"---"}]
[null,null,null,null,null,null,{"$f":"IF(Dati!$C175 >0,Dati!$B175&\" | \"&TEXT(Dati!$C175,\"gg/mm/aa\")&\" | \"&TEXT(Dati!$D175,\"€. 0,00\")&\" | \"&Dati!$G175&\" | \"&Dati!$H175,\"---\")","v":"---"}]
[null,null,null,null,null,null,{"$f":"IF(Dati!$C176 >0,Dati!$B176&\" | \"&TEXT(Dati!$C176,\"gg/mm/aa\")&\" | \"&TEXT(Dati!$D176,\"€. 0,00\")&\" | \"&Dati!$G176&\" | \"&Dati!$H176,\"---\")","v":"---"}]
[null,null,null,null,null,null,{"$f":"IF(Dati!$C177 >0,Dati!$B177&\" | \"&TEXT(Dati!$C177,\"gg/mm/aa\")&\" | \"&TEXT(Dati!$D177,\"€. 0,00\")&\" | \"&Dati!$G177&\" | \"&Dati!$H177,\"---\")","v":"---"}]
[null,null,null,null,null,null,{"$f":"IF(Dati!$C178 >0,Dati!$B178&\" | \"&TEXT(Dati!$C178,\"gg/mm/aa\")&\" | \"&TEXT(Dati!$D178,\"€. 0,00\")&\" | \"&Dati!$G178&\" | \"&Dati!$H178,\"---\")","v":"---"}]
[null,null,null,null,null,null,{"$f":"IF(Dati!$C179 >0,Dati!$B179&\" | \"&TEXT(Dati!$C179,\"gg/mm/aa\")&\" | \"&TEXT(Dati!$D179,\"€. 0,00\")&\" | \"&Dati!$G179&\" | \"&Dati!$H179,\"---\")","v":"---"}]
[null,null,null,null,null,null,{"$f":"IF(Dati!$C180 >0,Dati!$B180&\" | \"&TEXT(Dati!$C180,\"gg/mm/aa\")&\" | \"&TEXT(Dati!$D180,\"€. 0,00\")&\" | \"&Dati!$G180&\" | \"&Dati!$H180,\"---\")","v":"---"}]
[null,null,null,null,null,null,{"$f":"IF(Dati!$C181 >0,Dati!$B181&\" | \"&TEXT(Dati!$C181,\"gg/mm/aa\")&\" | \"&TEXT(Dati!$D181,\"€. 0,00\")&\" | \"&Dati!$G181&\" | \"&Dati!$H181,\"---\")","v":"---"}]
[null,null,null,null,null,null,{"$f":"IF(Dati!$C182 >0,Dati!$B182&\" | \"&TEXT(Dati!$C182,\"gg/mm/aa\")&\" | \"&TEXT(Dati!$D182,\"€. 0,00\")&\" | \"&Dati!$G182&\" | \"&Dati!$H182,\"---\")","v":"---"}]
[null,null,null,null,null,null,{"$f":"IF(Dati!$C183 >0,Dati!$B183&\" | \"&TEXT(Dati!$C183,\"gg/mm/aa\")&\" | \"&TEXT(Dati!$D183,\"€. 0,00\")&\" | \"&Dati!$G183&\" | \"&Dati!$H183,\"---\")","v":"---"}]
[null,null,null,null,null,null,{"$f":"IF(Dati!$C184 >0,Dati!$B184&\" | \"&TEXT(Dati!$C184,\"gg/mm/aa\")&\" | \"&TEXT(Dati!$D184,\"€. 0,00\")&\" | \"&Dati!$G184&\" | \"&Dati!$H184,\"---\")","v":"---"}]
[null,null,null,null,null,null,{"$f":"IF(Dati!$C185 >0,Dati!$B185&\" | \"&TEXT(Dati!$C185,\"gg/mm/aa\")&\" | \"&TEXT(Dati!$D185,\"€. 0,00\")&\" | \"&Dati!$G185&\" | \"&Dati!$H185,\"---\")","v":"---"}]
[null,null,null,null,null,null,{"$f":"IF(Dati!$C186 >0,Dati!$B186&\" | \"&TEXT(Dati!$C186,\"gg/mm/aa\")&\" | \"&TEXT(Dati!$D186,\"€. 0,00\")&\" | \"&Dati!$G186&\" | \"&Dati!$H186,\"---\")","v":"---"}]
[null,null,null,null,null,null,{"$f":"IF(Dati!$C187 >0,Dati!$B187&\" | \"&TEXT(Dati!$C187,\"gg/mm/aa\")&\" | \"&TEXT(Dati!$D187,\"€. 0,00\")&\" | \"&Dati!$G187&\" | \"&Dati!$H187,\"---\")","v":"---"}]
[null,null,null,null,null,null,{"$f":"IF(Dati!$C188 >0,Dati!$B188&\" | \"&TEXT(Dati!$C188,\"gg/mm/aa\")&\" | \"&TEXT(Dati!$D188,\"€. 0,00\")&\" | \"&Dati!$G188&\" | \"&Dati!$H188,\"---\")","v":"---"}]
[null,null,null,null,null,null,{"$f":"IF(Dati!$C189 >0,Dati!$B189&\" | \"&TEXT(Dati!$C189,\"gg/mm/aa\")&\" | \"&TEXT(Dati!$D189,\"€. 0,00\")&\" | \"&Dati!$G189&\" | \"&Dati!$H189,\"---\")","v":"---"}]
[null,null,null,null,null,null,{"$f":"IF(Dati!$C190 >0,Dati!$B190&\" | \"&TEXT(Dati!$C190,\"gg/mm/aa\")&\" | \"&TEXT(Dati!$D190,\"€. 0,00\")&\" | \"&Dati!$G190&\" | \"&Dati!$H190,\"---\")","v":"---"}]
[null,null,null,null,null,null,{"$f":"IF(Dati!$C191 >0,Dati!$B191&\" | \"&TEXT(Dati!$C191,\"gg/mm/aa\")&\" | \"&TEXT(Dati!$D191,\"€. 0,00\")&\" | \"&Dati!$G191&\" | \"&Dati!$H191,\"---\")","v":"---"}]
[null,null,null,null,null,null,{"$f":"IF(Dati!$C192 >0,Dati!$B192&\" | \"&TEXT(Dati!$C192,\"gg/mm/aa\")&\" | \"&TEXT(Dati!$D192,\"€. 0,00\")&\" | \"&Dati!$G192&\" | \"&Dati!$H192,\"---\")","v":"---"}]
[null,null,null,null,null,null,{"$f":"IF(Dati!$C193 >0,Dati!$B193&\" | \"&TEXT(Dati!$C193,\"gg/mm/aa\")&\" | \"&TEXT(Dati!$D193,\"€. 0,00\")&\" | \"&Dati!$G193&\" | \"&Dati!$H193,\"---\")","v":"---"}]
[null,null,null,null,null,null,{"$f":"IF(Dati!$C194 >0,Dati!$B194&\" | \"&TEXT(Dati!$C194,\"gg/mm/aa\")&\" | \"&TEXT(Dati!$D194,\"€. 0,00\")&\" | \"&Dati!$G194&\" | \"&Dati!$H194,\"---\")","v":"---"}]
[null,null,null,null,null,null,{"$f":"IF(Dati!$C195 >0,Dati!$B195&\" | \"&TEXT(Dati!$C195,\"gg/mm/aa\")&\" | \"&TEXT(Dati!$D195,\"€. 0,00\")&\" | \"&Dati!$G195&\" | \"&Dati!$H195,\"---\")","v":"---"}]
[null,null,null,null,null,null,{"$f":"IF(Dati!$C196 >0,Dati!$B196&\" | \"&TEXT(Dati!$C196,\"gg/mm/aa\")&\" | \"&TEXT(Dati!$D196,\"€. 0,00\")&\" | \"&Dati!$G196&\" | \"&Dati!$H196,\"---\")","v":"---"}]
[null,null,null,null,null,null,{"$f":"IF(Dati!$C197 >0,Dati!$B197&\" | \"&TEXT(Dati!$C197,\"gg/mm/aa\")&\" | \"&TEXT(Dati!$D197,\"€. 0,00\")&\" | \"&Dati!$G197&\" | \"&Dati!$H197,\"---\")","v":"---"}]
[null,null,null,null,null,null,{"$f":"IF(Dati!$C198 >0,Dati!$B198&\" | \"&TEXT(Dati!$C198,\"gg/mm/aa\")&\" | \"&TEXT(Dati!$D198,\"€. 0,00\")&\" | \"&Dati!$G198&\" | \"&Dati!$H198,\"---\")","v":"---"}]
[null,null,null,null,null,null,{"$f":"IF(Dati!$C199 >0,Dati!$B199&\" | \"&TEXT(Dati!$C199,\"gg/mm/aa\")&\" | \"&TEXT(Dati!$D199,\"€. 0,00\")&\" | \"&Dati!$G199&\" | \"&Dati!$H199,\"---\")","v":"---"}]
[null,null,null,null,null,null,{"$f":"IF(Dati!$C200 >0,Dati!$B200&\" | \"&TEXT(Dati!$C200,\"gg/mm/aa\")&\" | \"&TEXT(Dati!$D200,\"€. 0,00\")&\" | \"&Dati!$G200&\" | \"&Dati!$H200,\"---\")","v":"---"}]
[null,null,null,null,null,null,{"$f":"IF(Dati!$C201 >0,Dati!$B201&\" | \"&TEXT(Dati!$C201,\"gg/mm/aa\")&\" | \"&TEXT(Dati!$D201,\"€. 0,00\")&\" | \"&Dati!$G201&\" | \"&Dati!$H201,\"---\")","v":"---"}]
[null,null,null,null,null,null,{"$f":"IF(Dati!$C202 >0,Dati!$B202&\" | \"&TEXT(Dati!$C202,\"gg/mm/aa\")&\" | \"&TEXT(Dati!$D202,\"€. 0,00\")&\" | \"&Dati!$G202&\" | \"&Dati!$H202,\"---\")","v":"---"}]
[null,null,null,null,null,null,{"$f":"IF(Dati!$C203 >0,Dati!$B203&\" | \"&TEXT(Dati!$C203,\"gg/mm/aa\")&\" | \"&TEXT(Dati!$D203,\"€. 0,00\")&\" | \"&Dati!$G203&\" | \"&Dati!$H203,\"---\")","v":"---"}]
[null,null,null,null,null,null,{"$f":"IF(Dati!$C204 >0,Dati!$B204&\" | \"&TEXT(Dati!$C204,\"gg/mm/aa\")&\" | \"&TEXT(Dati!$D204,\"€. 0,00\")&\" | \"&Dati!$G204&\" | \"&Dati!$H204,\"---\")","v":"---"}]
[null,null,null,null,null,null,{"$f":"IF(Dati!$C205 >0,Dati!$B205&\" | \"&TEXT(Dati!$C205,\"gg/mm/aa\")&\" | \"&TEXT(Dati!$D205,\"€. 0,00\")&\" | \"&Dati!$G205&\" | \"&Dati!$H205,\"---\")","v":"---"}]
[null,null,null,null,null,null,{"$f":"IF(Dati!$C206 >0,Dati!$B206&\" | \"&TEXT(Dati!$C206,\"gg/mm/aa\")&\" | \"&TEXT(Dati!$D206,\"€. 0,00\")&\" | \"&Dati!$G206&\" | \"&Dati!$H206,\"---\")","v":"---"}]
[null,null,null,null,null,null,{"$f":"IF(Dati!$C207 >0,Dati!$B207&\" | \"&TEXT(Dati!$C207,\"gg/mm/aa\")&\" | \"&TEXT(Dati!$D207,\"€. 0,00\")&\" | \"&Dati!$G207&\" | \"&Dati!$H207,\"---\")","v":"---"}]
[null,null,null,null,null,null,{"$f":"IF(Dati!$C208 >0,Dati!$B208&\" | \"&TEXT(Dati!$C208,\"gg/mm/aa\")&\" | \"&TEXT(Dati!$D208,\"€. 0,00\")&\" | \"&Dati!$G208&\" | \"&Dati!$H208,\"---\")","v":"---"}]
[null,null,null,null,null,null,{"$f":"IF(Dati!$C209 >0,Dati!$B209&\" | \"&TEXT(Dati!$C209,\"gg/mm/aa\")&\" | \"&TEXT(Dati!$D209,\"€. 0,00\")&\" | \"&Dati!$G209&\" | \"&Dati!$H209,\"---\")","v":"---"}]
[null,null,null,null,null,null,{"$f":"IF(Dati!$C210 >0,Dati!$B210&\" | \"&TEXT(Dati!$C210,\"gg/mm/aa\")&\" | \"&TEXT(Dati!$D210,\"€. 0,00\")&\" | \"&Dati!$G210&\" | \"&Dati!$H210,\"---\")","v":"---"}]
[null,null,null,null,null,null,{"$f":"IF(Dati!$C211 >0,Dati!$B211&\" | \"&TEXT(Dati!$C211,\"gg/mm/aa\")&\" | \"&TEXT(Dati!$D211,\"€. 0,00\")&\" | \"&Dati!$G211&\" | \"&Dati!$H211,\"---\")","v":"---"}]
[null,null,null,null,null,null,{"$f":"IF(Dati!$C212 >0,Dati!$B212&\" | \"&TEXT(Dati!$C212,\"gg/mm/aa\")&\" | \"&TEXT(Dati!$D212,\"€. 0,00\")&\" | \"&Dati!$G212&\" | \"&Dati!$H212,\"---\")","v":"---"}]
[null,null,null,null,null,null,{"$f":"IF(Dati!$C213 >0,Dati!$B213&\" | \"&TEXT(Dati!$C213,\"gg/mm/aa\")&\" | \"&TEXT(Dati!$D213,\"€. 0,00\")&\" | \"&Dati!$G213&\" | \"&Dati!$H213,\"---\")","v":"---"}]
[null,null,null,null,null,null,{"$f":"IF(Dati!$C214 >0,Dati!$B214&\" | \"&TEXT(Dati!$C214,\"gg/mm/aa\")&\" | \"&TEXT(Dati!$D214,\"€. 0,00\")&\" | \"&Dati!$G214&\" | \"&Dati!$H214,\"---\")","v":"---"}]
[null,null,null,null,null,null,{"$f":"IF(Dati!$C215 >0,Dati!$B215&\" | \"&TEXT(Dati!$C215,\"gg/mm/aa\")&\" | \"&TEXT(Dati!$D215,\"€. 0,00\")&\" | \"&Dati!$G215&\" | \"&Dati!$H215,\"---\")","v":"---"}]
[null,null,null,null,null,null,{"$f":"IF(Dati!$C216 >0,Dati!$B216&\" | \"&TEXT(Dati!$C216,\"gg/mm/aa\")&\" | \"&TEXT(Dati!$D216,\"€. 0,00\")&\" | \"&Dati!$G216&\" | \"&Dati!$H216,\"---\")","v":"---"}]
[null,null,null,null,null,null,{"$f":"IF(Dati!$C217 >0,Dati!$B217&\" | \"&TEXT(Dati!$C217,\"gg/mm/aa\")&\" | \"&TEXT(Dati!$D217,\"€. 0,00\")&\" | \"&Dati!$G217&\" | \"&Dati!$H217,\"---\")","v":"---"}]
[null,null,null,null,null,null,{"$f":"IF(Dati!$C218 >0,Dati!$B218&\" | \"&TEXT(Dati!$C218,\"gg/mm/aa\")&\" | \"&TEXT(Dati!$D218,\"€. 0,00\")&\" | \"&Dati!$G218&\" | \"&Dati!$H218,\"---\")","v":"---"}]
[null,null,null,null,null,null,{"$f":"IF(Dati!$C219 >0,Dati!$B219&\" | \"&TEXT(Dati!$C219,\"gg/mm/aa\")&\" | \"&TEXT(Dati!$D219,\"€. 0,00\")&\" | \"&Dati!$G219&\" | \"&Dati!$H219,\"---\")","v":"---"}]
[null,null,null,null,null,null,{"$f":"IF(Dati!$C220 >0,Dati!$B220&\" | \"&TEXT(Dati!$C220,\"gg/mm/aa\")&\" | \"&TEXT(Dati!$D220,\"€. 0,00\")&\" | \"&Dati!$G220&\" | \"&Dati!$H220,\"---\")","v":"---"}]
[null,null,null,null,null,null,{"$f":"IF(Dati!$C221 >0,Dati!$B221&\" | \"&TEXT(Dati!$C221,\"gg/mm/aa\")&\" | \"&TEXT(Dati!$D221,\"€. 0,00\")&\" | \"&Dati!$G221&\" | \"&Dati!$H221,\"---\")","v":"---"}]
[null,null,null,null,null,null,{"$f":"IF(Dati!$C222 >0,Dati!$B222&\" | \"&TEXT(Dati!$C222,\"gg/mm/aa\")&\" | \"&TEXT(Dati!$D222,\"€. 0,00\")&\" | \"&Dati!$G222&\" | \"&Dati!$H222,\"---\")","v":"---"}]
[null,null,null,null,null,null,{"$f":"IF(Dati!$C223 >0,Dati!$B223&\" | \"&TEXT(Dati!$C223,\"gg/mm/aa\")&\" | \"&TEXT(Dati!$D223,\"€. 0,00\")&\" | \"&Dati!$G223&\" | \"&Dati!$H223,\"---\")","v":"---"}]
[null,null,null,null,null,null,{"$f":"IF(Dati!$C224 >0,Dati!$B224&\" | \"&TEXT(Dati!$C224,\"gg/mm/aa\")&\" | \"&TEXT(Dati!$D224,\"€. 0,00\")&\" | \"&Dati!$G224&\" | \"&Dati!$H224,\"---\")","v":"---"}]
[null,null,null,null,null,null,{"$f":"IF(Dati!$C225 >0,Dati!$B225&\" | \"&TEXT(Dati!$C225,\"gg/mm/aa\")&\" | \"&TEXT(Dati!$D225,\"€. 0,00\")&\" | \"&Dati!$G225&\" | \"&Dati!$H225,\"---\")","v":"---"}]
[null,null,null,null,null,null,{"$f":"IF(Dati!$C226 >0,Dati!$B226&\" | \"&TEXT(Dati!$C226,\"gg/mm/aa\")&\" | \"&TEXT(Dati!$D226,\"€. 0,00\")&\" | \"&Dati!$G226&\" | \"&Dati!$H226,\"---\")","v":"---"}]
[null,null,null,null,null,null,{"$f":"IF(Dati!$C227 >0,Dati!$B227&\" | \"&TEXT(Dati!$C227,\"gg/mm/aa\")&\" | \"&TEXT(Dati!$D227,\"€. 0,00\")&\" | \"&Dati!$G227&\" | \"&Dati!$H227,\"---\")","v":"---"}]
[null,null,null,null,null,null,{"$f":"IF(Dati!$C228 >0,Dati!$B228&\" | \"&TEXT(Dati!$C228,\"gg/mm/aa\")&\" | \"&TEXT(Dati!$D228,\"€. 0,00\")&\" | \"&Dati!$G228&\" | \"&Dati!$H228,\"---\")","v":"---"}]
[null,null,null,null,null,null,{"$f":"IF(Dati!$C229 >0,Dati!$B229&\" | \"&TEXT(Dati!$C229,\"gg/mm/aa\")&\" | \"&TEXT(Dati!$D229,\"€. 0,00\")&\" | \"&Dati!$G229&\" | \"&Dati!$H229,\"---\")","v":"---"}]
[null,null,null,null,null,null,{"$f":"IF(Dati!$C230 >0,Dati!$B230&\" | \"&TEXT(Dati!$C230,\"gg/mm/aa\")&\" | \"&TEXT(Dati!$D230,\"€. 0,00\")&\" | \"&Dati!$G230&\" | \"&Dati!$H230,\"---\")","v":"---"}]
[null,null,null,null,null,null,{"$f":"IF(Dati!$C231 >0,Dati!$B231&\" | \"&TEXT(Dati!$C231,\"gg/mm/aa\")&\" | \"&TEXT(Dati!$D231,\"€. 0,00\")&\" | \"&Dati!$G231&\" | \"&Dati!$H231,\"---\")","v":"---"}]
[null,null,null,null,null,null,{"$f":"IF(Dati!$C232 >0,Dati!$B232&\" | \"&TEXT(Dati!$C232,\"gg/mm/aa\")&\" | \"&TEXT(Dati!$D232,\"€. 0,00\")&\" | \"&Dati!$G232&\" | \"&Dati!$H232,\"---\")","v":"---"}]
[null,null,null,null,null,null,{"$f":"IF(Dati!$C233 >0,Dati!$B233&\" | \"&TEXT(Dati!$C233,\"gg/mm/aa\")&\" | \"&TEXT(Dati!$D233,\"€. 0,00\")&\" | \"&Dati!$G233&\" | \"&Dati!$H233,\"---\")","v":"---"}]
[null,null,null,null,null,null,{"$f":"IF(Dati!$C234 >0,Dati!$B234&\" | \"&TEXT(Dati!$C234,\"gg/mm/aa\")&\" | \"&TEXT(Dati!$D234,\"€. 0,00\")&\" | \"&Dati!$G234&\" | \"&Dati!$H234,\"---\")","v":"---"}]
[null,null,null,null,null,null,{"$f":"IF(Dati!$C235 >0,Dati!$B235&\" | \"&TEXT(Dati!$C235,\"gg/mm/aa\")&\" | \"&TEXT(Dati!$D235,\"€. 0,00\")&\" | \"&Dati!$G235&\" | \"&Dati!$H235,\"---\")","v":"---"}]
[null,null,null,null,null,null,{"$f":"IF(Dati!$C236 >0,Dati!$B236&\" | \"&TEXT(Dati!$C236,\"gg/mm/aa\")&\" | \"&TEXT(Dati!$D236,\"€. 0,00\")&\" | \"&Dati!$G236&\" | \"&Dati!$H236,\"---\")","v":"---"}]
[null,null,null,null,null,null,{"$f":"IF(Dati!$C237 >0,Dati!$B237&\" | \"&TEXT(Dati!$C237,\"gg/mm/aa\")&\" | \"&TEXT(Dati!$D237,\"€. 0,00\")&\" | \"&Dati!$G237&\" | \"&Dati!$H237,\"---\")","v":"---"}]
[null,null,null,null,null,null,{"$f":"IF(Dati!$C238 >0,Dati!$B238&\" | \"&TEXT(Dati!$C238,\"gg/mm/aa\")&\" | \"&TEXT(Dati!$D238,\"€. 0,00\")&\" | \"&Dati!$G238&\" | \"&Dati!$H238,\"---\")","v":"---"}]
[null,null,null,null,null,null,{"$f":"IF(Dati!$C239 >0,Dati!$B239&\" | \"&TEXT(Dati!$C239,\"gg/mm/aa\")&\" | \"&TEXT(Dati!$D239,\"€. 0,00\")&\" | \"&Dati!$G239&\" | \"&Dati!$H239,\"---\")","v":"---"}]
[null,null,null,null,null,null,{"$f":"IF(Dati!$C240 >0,Dati!$B240&\" | \"&TEXT(Dati!$C240,\"gg/mm/aa\")&\" | \"&TEXT(Dati!$D240,\"€. 0,00\")&\" | \"&Dati!$G240&\" | \"&Dati!$H240,\"---\")","v":"---"}]
[null,null,null,null,null,null,{"$f":"IF(Dati!$C241 >0,Dati!$B241&\" | \"&TEXT(Dati!$C241,\"gg/mm/aa\")&\" | \"&TEXT(Dati!$D241,\"€. 0,00\")&\" | \"&Dati!$G241&\" | \"&Dati!$H241,\"---\")","v":"---"}]
[null,null,null,null,null,null,{"$f":"IF(Dati!$C242 >0,Dati!$B242&\" | \"&TEXT(Dati!$C242,\"gg/mm/aa\")&\" | \"&TEXT(Dati!$D242,\"€. 0,00\")&\" | \"&Dati!$G242&\" | \"&Dati!$H242,\"---\")","v":"---"}]
[null,null,null,null,null,null,{"$f":"IF(Dati!$C243 >0,Dati!$B243&\" | \"&TEXT(Dati!$C243,\"gg/mm/aa\")&\" | \"&TEXT(Dati!$D243,\"€. 0,00\")&\" | \"&Dati!$G243&\" | \"&Dati!$H243,\"---\")","v":"---"}]
[null,null,null,null,null,null,{"$f":"IF(Dati!$C244 >0,Dati!$B244&\" | \"&TEXT(Dati!$C244,\"gg/mm/aa\")&\" | \"&TEXT(Dati!$D244,\"€. 0,00\")&\" | \"&Dati!$G244&\" | \"&Dati!$H244,\"---\")","v":"---"}]
[null,null,null,null,null,null,{"$f":"IF(Dati!$C245 >0,Dati!$B245&\" | \"&TEXT(Dati!$C245,\"gg/mm/aa\")&\" | \"&TEXT(Dati!$D245,\"€. 0,00\")&\" | \"&Dati!$G245&\" | \"&Dati!$H245,\"---\")","v":"---"}]
[null,null,null,null,null,null,{"$f":"IF(Dati!$C246 >0,Dati!$B246&\" | \"&TEXT(Dati!$C246,\"gg/mm/aa\")&\" | \"&TEXT(Dati!$D246,\"€. 0,00\")&\" | \"&Dati!$G246&\" | \"&Dati!$H246,\"---\")","v":"---"}]
[null,null,null,null,null,null,{"$f":"IF(Dati!$C247 >0,Dati!$B247&\" | \"&TEXT(Dati!$C247,\"gg/mm/aa\")&\" | \"&TEXT(Dati!$D247,\"€. 0,00\")&\" | \"&Dati!$G247&\" | \"&Dati!$H247,\"---\")","v":"---"}]
[null,null,null,null,null,null,{"$f":"IF(Dati!$C248 >0,Dati!$B248&\" | \"&TEXT(Dati!$C248,\"gg/mm/aa\")&\" | \"&TEXT(Dati!$D248,\"€. 0,00\")&\" | \"&Dati!$G248&\" | \"&Dati!$H248,\"---\")","v":"---"}]
[null,null,null,null,null,null,{"$f":"IF(Dati!$C249 >0,Dati!$B249&\" | \"&TEXT(Dati!$C249,\"gg/mm/aa\")&\" | \"&TEXT(Dati!$D249,\"€. 0,00\")&\" | \"&Dati!$G249&\" | \"&Dati!$H249,\"---\")","v":"---"}]
[null,null,null,null,null,null,{"$f":"IF(Dati!$C250 >0,Dati!$B250&\" | \"&TEXT(Dati!$C250,\"gg/mm/aa\")&\" | \"&TEXT(Dati!$D250,\"€. 0,00\")&\" | \"&Dati!$G250&\" | \"&Dati!$H250,\"---\")","v":"---"}]
[null,null,null,null,null,null,{"$f":"IF(Dati!$C251 >0,Dati!$B251&\" | \"&TEXT(Dati!$C251,\"gg/mm/aa\")&\" | \"&TEXT(Dati!$D251,\"€. 0,00\")&\" | \"&Dati!$G251&\" | \"&Dati!$H251,\"---\")","v":"---"}]
[null,null,null,null,null,null,{"$f":"IF(Dati!$C252 >0,Dati!$B252&\" | \"&TEXT(Dati!$C252,\"gg/mm/aa\")&\" | \"&TEXT(Dati!$D252,\"€. 0,00\")&\" | \"&Dati!$G252&\" | \"&Dati!$H252,\"---\")","v":"---"}]
[null,null,null,null,null,null,{"$f":"IF(Dati!$C253 >0,Dati!$B253&\" | \"&TEXT(Dati!$C253,\"gg/mm/aa\")&\" | \"&TEXT(Dati!$D253,\"€. 0,00\")&\" | \"&Dati!$G253&\" | \"&Dati!$H253,\"---\")","v":"---"}]
[null,null,null,null,null,null,{"$f":"IF(Dati!$C254 >0,Dati!$B254&\" | \"&TEXT(Dati!$C254,\"gg/mm/aa\")&\" | \"&TEXT(Dati!$D254,\"€. 0,00\")&\" | \"&Dati!$G254&\" | \"&Dati!$H254,\"---\")","v":"---"}]
[null,null,null,null,null,null,{"$f":"IF(Dati!$C255 >0,Dati!$B255&\" | \"&TEXT(Dati!$C255,\"gg/mm/aa\")&\" | \"&TEXT(Dati!$D255,\"€. 0,00\")&\" | \"&Dati!$G255&\" | \"&Dati!$H255,\"---\")","v":"---"}]
[null,null,null,null,null,null,{"$f":"IF(Dati!$C256 >0,Dati!$B256&\" | \"&TEXT(Dati!$C256,\"gg/mm/aa\")&\" | \"&TEXT(Dati!$D256,\"€. 0,00\")&\" | \"&Dati!$G256&\" | \"&Dati!$H256,\"---\")","v":"---"}]
[null,null,null,null,null,null,{"$f":"IF(Dati!$C257 >0,Dati!$B257&\" | \"&TEXT(Dati!$C257,\"gg/mm/aa\")&\" | \"&TEXT(Dati!$D257,\"€. 0,00\")&\" | \"&Dati!$G257&\" | \"&Dati!$H257,\"---\")","v":"---"}]
[null,null,null,null,null,null,{"$f":"IF(Dati!$C258 >0,Dati!$B258&\" | \"&TEXT(Dati!$C258,\"gg/mm/aa\")&\" | \"&TEXT(Dati!$D258,\"€. 0,00\")&\" | \"&Dati!$G258&\" | \"&Dati!$H258,\"---\")","v":"---"}]
[null,null,null,null,null,null,{"$f":"IF(Dati!$C259 >0,Dati!$B259&\" | \"&TEXT(Dati!$C259,\"gg/mm/aa\")&\" | \"&TEXT(Dati!$D259,\"€. 0,00\")&\" | \"&Dati!$G259&\" | \"&Dati!$H259,\"---\")","v":"---"}]
[null,null,null,null,null,null,{"$f":"IF(Dati!$C260 >0,Dati!$B260&\" | \"&TEXT(Dati!$C260,\"gg/mm/aa\")&\" | \"&TEXT(Dati!$D260,\"€. 0,00\")&\" | \"&Dati!$G260&\" | \"&Dati!$H260,\"---\")","v":"---"}]
[null,null,null,null,null,null,{"$f":"IF(Dati!$C261 >0,Dati!$B261&\" | \"&TEXT(Dati!$C261,\"gg/mm/aa\")&\" | \"&TEXT(Dati!$D261,\"€. 0,00\")&\" | \"&Dati!$G261&\" | \"&Dati!$H261,\"---\")","v":"---"}]
[null,null,null,null,null,null,{"$f":"IF(Dati!$C262 >0,Dati!$B262&\" | \"&TEXT(Dati!$C262,\"gg/mm/aa\")&\" | \"&TEXT(Dati!$D262,\"€. 0,00\")&\" | \"&Dati!$G262&\" | \"&Dati!$H262,\"---\")","v":"---"}]
[null,null,null,null,null,null,{"$f":"IF(Dati!$C263 >0,Dati!$B263&\" | \"&TEXT(Dati!$C263,\"gg/mm/aa\")&\" | \"&TEXT(Dati!$D263,\"€. 0,00\")&\" | \"&Dati!$G263&\" | \"&Dati!$H263,\"---\")","v":"---"}]
[null,null,null,null,null,null,{"$f":"IF(Dati!$C264 >0,Dati!$B264&\" | \"&TEXT(Dati!$C264,\"gg/mm/aa\")&\" | \"&TEXT(Dati!$D264,\"€. 0,00\")&\" | \"&Dati!$G264&\" | \"&Dati!$H264,\"---\")","v":"---"}]
[null,null,null,null,null,null,{"$f":"IF(Dati!$C265 >0,Dati!$B265&\" | \"&TEXT(Dati!$C265,\"gg/mm/aa\")&\" | \"&TEXT(Dati!$D265,\"€. 0,00\")&\" | \"&Dati!$G265&\" | \"&Dati!$H265,\"---\")","v":"---"}]
[null,null,null,null,null,null,{"$f":"IF(Dati!$C266 >0,Dati!$B266&\" | \"&TEXT(Dati!$C266,\"gg/mm/aa\")&\" | \"&TEXT(Dati!$D266,\"€. 0,00\")&\" | \"&Dati!$G266&\" | \"&Dati!$H266,\"---\")","v":"---"}]
[null,null,null,null,null,null,{"$f":"IF(Dati!$C267 >0,Dati!$B267&\" | \"&TEXT(Dati!$C267,\"gg/mm/aa\")&\" | \"&TEXT(Dati!$D267,\"€. 0,00\")&\" | \"&Dati!$G267&\" | \"&Dati!$H267,\"---\")","v":"---"}]
[null,null,null,null,null,null,{"$f":"IF(Dati!$C268 >0,Dati!$B268&\" | \"&TEXT(Dati!$C268,\"gg/mm/aa\")&\" | \"&TEXT(Dati!$D268,\"€. 0,00\")&\" | \"&Dati!$G268&\" | \"&Dati!$H268,\"---\")","v":"---"}]
[null,null,null,null,null,null,{"$f":"IF(Dati!$C269 >0,Dati!$B269&\" | \"&TEXT(Dati!$C269,\"gg/mm/aa\")&\" | \"&TEXT(Dati!$D269,\"€. 0,00\")&\" | \"&Dati!$G269&\" | \"&Dati!$H269,\"---\")","v":"---"}]
[null,null,null,null,null,null,{"$f":"IF(Dati!$C270 >0,Dati!$B270&\" | \"&TEXT(Dati!$C270,\"gg/mm/aa\")&\" | \"&TEXT(Dati!$D270,\"€. 0,00\")&\" | \"&Dati!$G270&\" | \"&Dati!$H270,\"---\")","v":"---"}]
[null,null,null,null,null,null,{"$f":"IF(Dati!$C271 >0,Dati!$B271&\" | \"&TEXT(Dati!$C271,\"gg/mm/aa\")&\" | \"&TEXT(Dati!$D271,\"€. 0,00\")&\" | \"&Dati!$G271&\" | \"&Dati!$H271,\"---\")","v":"---"}]
[null,null,null,null,null,null,{"$f":"IF(Dati!$C272 >0,Dati!$B272&\" | \"&TEXT(Dati!$C272,\"gg/mm/aa\")&\" | \"&TEXT(Dati!$D272,\"€. 0,00\")&\" | \"&Dati!$G272&\" | \"&Dati!$H272,\"---\")","v":"---"}]
[null,null,null,null,null,null,{"$f":"IF(Dati!$C273 >0,Dati!$B273&\" | \"&TEXT(Dati!$C273,\"gg/mm/aa\")&\" | \"&TEXT(Dati!$D273,\"€. 0,00\")&\" | \"&Dati!$G273&\" | \"&Dati!$H273,\"---\")","v":"---"}]
[null,null,null,null,null,null,{"$f":"IF(Dati!$C274 >0,Dati!$B274&\" | \"&TEXT(Dati!$C274,\"gg/mm/aa\")&\" | \"&TEXT(Dati!$D274,\"€. 0,00\")&\" | \"&Dati!$G274&\" | \"&Dati!$H274,\"---\")","v":"---"}]
[null,null,null,null,null,null,{"$f":"IF(Dati!$C275 >0,Dati!$B275&\" | \"&TEXT(Dati!$C275,\"gg/mm/aa\")&\" | \"&TEXT(Dati!$D275,\"€. 0,00\")&\" | \"&Dati!$G275&\" | \"&Dati!$H275,\"---\")","v":"---"}]
[null,null,null,null,null,null,{"$f":"IF(Dati!$C276 >0,Dati!$B276&\" | \"&TEXT(Dati!$C276,\"gg/mm/aa\")&\" | \"&TEXT(Dati!$D276,\"€. 0,00\")&\" | \"&Dati!$G276&\" | \"&Dati!$H276,\"---\")","v":"---"}]
[null,null,null,null,null,null,{"$f":"IF(Dati!$C277 >0,Dati!$B277&\" | \"&TEXT(Dati!$C277,\"gg/mm/aa\")&\" | \"&TEXT(Dati!$D277,\"€. 0,00\")&\" | \"&Dati!$G277&\" | \"&Dati!$H277,\"---\")","v":"---"}]
[null,null,null,null,null,null,{"$f":"IF(Dati!$C278 >0,Dati!$B278&\" | \"&TEXT(Dati!$C278,\"gg/mm/aa\")&\" | \"&TEXT(Dati!$D278,\"€. 0,00\")&\" | \"&Dati!$G278&\" | \"&Dati!$H278,\"---\")","v":"---"}]
[null,null,null,null,null,null,{"$f":"IF(Dati!$C279 >0,Dati!$B279&\" | \"&TEXT(Dati!$C279,\"gg/mm/aa\")&\" | \"&TEXT(Dati!$D279,\"€. 0,00\")&\" | \"&Dati!$G279&\" | \"&Dati!$H279,\"---\")","v":"---"}]
[null,null,null,null,null,null,{"$f":"IF(Dati!$C280 >0,Dati!$B280&\" | \"&TEXT(Dati!$C280,\"gg/mm/aa\")&\" | \"&TEXT(Dati!$D280,\"€. 0,00\")&\" | \"&Dati!$G280&\" | \"&Dati!$H280,\"---\")","v":"---"}]
[null,null,null,null,null,null,{"$f":"IF(Dati!$C281 >0,Dati!$B281&\" | \"&TEXT(Dati!$C281,\"gg/mm/aa\")&\" | \"&TEXT(Dati!$D281,\"€. 0,00\")&\" | \"&Dati!$G281&\" | \"&Dati!$H281,\"---\")","v":"---"}]
[null,null,null,null,null,null,{"$f":"IF(Dati!$C282 >0,Dati!$B282&\" | \"&TEXT(Dati!$C282,\"gg/mm/aa\")&\" | \"&TEXT(Dati!$D282,\"€. 0,00\")&\" | \"&Dati!$G282&\" | \"&Dati!$H282,\"---\")","v":"---"}]
[null,null,null,null,null,null,{"$f":"IF(Dati!$C283 >0,Dati!$B283&\" | \"&TEXT(Dati!$C283,\"gg/mm/aa\")&\" | \"&TEXT(Dati!$D283,\"€. 0,00\")&\" | \"&Dati!$G283&\" | \"&Dati!$H283,\"---\")","v":"---"}]
[null,null,null,null,null,null,{"$f":"IF(Dati!$C284 >0,Dati!$B284&\" | \"&TEXT(Dati!$C284,\"gg/mm/aa\")&\" | \"&TEXT(Dati!$D284,\"€. 0,00\")&\" | \"&Dati!$G284&\" | \"&Dati!$H284,\"---\")","v":"---"}]
[null,null,null,null,null,null,{"$f":"IF(Dati!$C285 >0,Dati!$B285&\" | \"&TEXT(Dati!$C285,\"gg/mm/aa\")&\" | \"&TEXT(Dati!$D285,\"€. 0,00\")&\" | \"&Dati!$G285&\" | \"&Dati!$H285,\"---\")","v":"---"}]
[null,null,null,null,null,null,{"$f":"IF(Dati!$C286 >0,Dati!$B286&\" | \"&TEXT(Dati!$C286,\"gg/mm/aa\")&\" | \"&TEXT(Dati!$D286,\"€. 0,00\")&\" | \"&Dati!$G286&\" | \"&Dati!$H286,\"---\")","v":"---"}]
[null,null,null,null,null,null,{"$f":"IF(Dati!$C287 >0,Dati!$B287&\" | \"&TEXT(Dati!$C287,\"gg/mm/aa\")&\" | \"&TEXT(Dati!$D287,\"€. 0,00\")&\" | \"&Dati!$G287&\" | \"&Dati!$H287,\"---\")","v":"---"}]
[null,null,null,null,null,null,{"$f":"IF(Dati!$C288 >0,Dati!$B288&\" | \"&TEXT(Dati!$C288,\"gg/mm/aa\")&\" | \"&TEXT(Dati!$D288,\"€. 0,00\")&\" | \"&Dati!$G288&\" | \"&Dati!$H288,\"---\")","v":"---"}]
[null,null,null,null,null,null,{"$f":"IF(Dati!$C289 >0,Dati!$B289&\" | \"&TEXT(Dati!$C289,\"gg/mm/aa\")&\" | \"&TEXT(Dati!$D289,\"€. 0,00\")&\" | \"&Dati!$G289&\" | \"&Dati!$H289,\"---\")","v":"---"}]
[null,null,null,null,null,null,{"$f":"IF(Dati!$C290 >0,Dati!$B290&\" | \"&TEXT(Dati!$C290,\"gg/mm/aa\")&\" | \"&TEXT(Dati!$D290,\"€. 0,00\")&\" | \"&Dati!$G290&\" | \"&Dati!$H290,\"---\")","v":"---"}]
[null,null,null,null,null,null,{"$f":"IF(Dati!$C291 >0,Dati!$B291&\" | \"&TEXT(Dati!$C291,\"gg/mm/aa\")&\" | \"&TEXT(Dati!$D291,\"€. 0,00\")&\" | \"&Dati!$G291&\" | \"&Dati!$H291,\"---\")","v":"---"}]
[null,null,null,null,null,null,{"$f":"IF(Dati!$C292 >0,Dati!$B292&\" | \"&TEXT(Dati!$C292,\"gg/mm/aa\")&\" | \"&TEXT(Dati!$D292,\"€. 0,00\")&\" | \"&Dati!$G292&\" | \"&Dati!$H292,\"---\")","v":"---"}]
[null,null,null,null,null,null,{"$f":"IF(Dati!$C293 >0,Dati!$B293&\" | \"&TEXT(Dati!$C293,\"gg/mm/aa\")&\" | \"&TEXT(Dati!$D293,\"€. 0,00\")&\" | \"&Dati!$G293&\" | \"&Dati!$H293,\"---\")","v":"---"}]
[null,null,null,null,null,null,{"$f":"IF(Dati!$C294 >0,Dati!$B294&\" | \"&TEXT(Dati!$C294,\"gg/mm/aa\")&\" | \"&TEXT(Dati!$D294,\"€. 0,00\")&\" | \"&Dati!$G294&\" | \"&Dati!$H294,\"---\")","v":"---"}]
[null,null,null,null,null,null,{"$f":"IF(Dati!$C295 >0,Dati!$B295&\" | \"&TEXT(Dati!$C295,\"gg/mm/aa\")&\" | \"&TEXT(Dati!$D295,\"€. 0,00\")&\" | \"&Dati!$G295&\" | \"&Dati!$H295,\"---\")","v":"---"}]
[null,null,null,null,null,null,{"$f":"IF(Dati!$C296 >0,Dati!$B296&\" | \"&TEXT(Dati!$C296,\"gg/mm/aa\")&\" | \"&TEXT(Dati!$D296,\"€. 0,00\")&\" | \"&Dati!$G296&\" | \"&Dati!$H296,\"---\")","v":"---"}]
[null,null,null,null,null,null,{"$f":"IF(Dati!$C297 >0,Dati!$B297&\" | \"&TEXT(Dati!$C297,\"gg/mm/aa\")&\" | \"&TEXT(Dati!$D297,\"€. 0,00\")&\" | \"&Dati!$G297&\" | \"&Dati!$H297,\"---\")","v":"---"}]
[null,null,null,null,null,null,{"$f":"IF(Dati!$C298 >0,Dati!$B298&\" | \"&TEXT(Dati!$C298,\"gg/mm/aa\")&\" | \"&TEXT(Dati!$D298,\"€. 0,00\")&\" | \"&Dati!$G298&\" | \"&Dati!$H298,\"---\")","v":"---"}]
[null,null,null,null,null,null,{"$f":"IF(Dati!$C299 >0,Dati!$B299&\" | \"&TEXT(Dati!$C299,\"gg/mm/aa\")&\" | \"&TEXT(Dati!$D299,\"€. 0,00\")&\" | \"&Dati!$G299&\" | \"&Dati!$H299,\"---\")","v":"---"}]
[null,null,null,null,null,null,{"$f":"IF(Dati!$C300 >0,Dati!$B300&\" | \"&TEXT(Dati!$C300,\"gg/mm/aa\")&\" | \"&TEXT(Dati!$D300,\"€. 0,00\")&\" | \"&Dati!$G300&\" | \"&Dati!$H300,\"---\")","v":"---"}]
[null,null,null,null,null,null,{"$f":"IF(Dati!$C301 >0,Dati!$B301&\" | \"&TEXT(Dati!$C301,\"gg/mm/aa\")&\" | \"&TEXT(Dati!$D301,\"€. 0,00\")&\" | \"&Dati!$G301&\" | \"&Dati!$H301,\"---\")","v":"---"}]
[null,null,null,null,null,null,{"$f":"IF(Dati!$C302 >0,Dati!$B302&\" | \"&TEXT(Dati!$C302,\"gg/mm/aa\")&\" | \"&TEXT(Dati!$D302,\"€. 0,00\")&\" | \"&Dati!$G302&\" | \"&Dati!$H302,\"---\")","v":"---"}]
[null,null,null,null,null,null,{"$f":"IF(Dati!$C303 >0,Dati!$B303&\" | \"&TEXT(Dati!$C303,\"gg/mm/aa\")&\" | \"&TEXT(Dati!$D303,\"€. 0,00\")&\" | \"&Dati!$G303&\" | \"&Dati!$H303,\"---\")","v":"---"}]
[null,null,null,null,null,null,{"$f":"IF(Dati!$C304 >0,Dati!$B304&\" | \"&TEXT(Dati!$C304,\"gg/mm/aa\")&\" | \"&TEXT(Dati!$D304,\"€. 0,00\")&\" | \"&Dati!$G304&\" | \"&Dati!$H304,\"---\")","v":"---"}]
[null,null,null,null,null,null,{"$f":"IF(Dati!$C305 >0,Dati!$B305&\" | \"&TEXT(Dati!$C305,\"gg/mm/aa\")&\" | \"&TEXT(Dati!$D305,\"€. 0,00\")&\" | \"&Dati!$G305&\" | \"&Dati!$H305,\"---\")","v":"---"}]
[null,null,null,null,null,null,{"$f":"IF(Dati!$C306 >0,Dati!$B306&\" | \"&TEXT(Dati!$C306,\"gg/mm/aa\")&\" | \"&TEXT(Dati!$D306,\"€. 0,00\")&\" | \"&Dati!$G306&\" | \"&Dati!$H306,\"---\")","v":"---"}]
[null,null,null,null,null,null,{"$f":"IF(Dati!$C307 >0,Dati!$B307&\" | \"&TEXT(Dati!$C307,\"gg/mm/aa\")&\" | \"&TEXT(Dati!$D307,\"€. 0,00\")&\" | \"&Dati!$G307&\" | \"&Dati!$H307,\"---\")","v":"---"}]
[null,null,null,null,null,null,{"$f":"IF(Dati!$C308 >0,Dati!$B308&\" | \"&TEXT(Dati!$C308,\"gg/mm/aa\")&\" | \"&TEXT(Dati!$D308,\"€. 0,00\")&\" | \"&Dati!$G308&\" | \"&Dati!$H308,\"---\")","v":"---"}]
[null,null,null,null,null,null,{"$f":"IF(Dati!$C309 >0,Dati!$B309&\" | \"&TEXT(Dati!$C309,\"gg/mm/aa\")&\" | \"&TEXT(Dati!$D309,\"€. 0,00\")&\" | \"&Dati!$G309&\" | \"&Dati!$H309,\"---\")","v":"---"}]
[null,null,null,null,null,null,{"$f":"IF(Dati!$C310 >0,Dati!$B310&\" | \"&TEXT(Dati!$C310,\"gg/mm/aa\")&\" | \"&TEXT(Dati!$D310,\"€. 0,00\")&\" | \"&Dati!$G310&\" | \"&Dati!$H310,\"---\")","v":"---"}]
[null,null,null,null,null,null,{"$f":"IF(Dati!$C311 >0,Dati!$B311&\" | \"&TEXT(Dati!$C311,\"gg/mm/aa\")&\" | \"&TEXT(Dati!$D311,\"€. 0,00\")&\" | \"&Dati!$G311&\" | \"&Dati!$H311,\"---\")","v":"---"}]
[null,null,null,null,null,null,{"$f":"IF(Dati!$C312 >0,Dati!$B312&\" | \"&TEXT(Dati!$C312,\"gg/mm/aa\")&\" | \"&TEXT(Dati!$D312,\"€. 0,00\")&\" | \"&Dati!$G312&\" | \"&Dati!$H312,\"---\")","v":"---"}]
[null,null,null,null,null,null,{"$f":"IF(Dati!$C313 >0,Dati!$B313&\" | \"&TEXT(Dati!$C313,\"gg/mm/aa\")&\" | \"&TEXT(Dati!$D313,\"€. 0,00\")&\" | \"&Dati!$G313&\" | \"&Dati!$H313,\"---\")","v":"---"}]
[null,null,null,null,null,null,{"$f":"IF(Dati!$C314 >0,Dati!$B314&\" | \"&TEXT(Dati!$C314,\"gg/mm/aa\")&\" | \"&TEXT(Dati!$D314,\"€. 0,00\")&\" | \"&Dati!$G314&\" | \"&Dati!$H314,\"---\")","v":"---"}]
[null,null,null,null,null,null,{"$f":"IF(Dati!$C315 >0,Dati!$B315&\" | \"&TEXT(Dati!$C315,\"gg/mm/aa\")&\" | \"&TEXT(Dati!$D315,\"€. 0,00\")&\" | \"&Dati!$G315&\" | \"&Dati!$H315,\"---\")","v":"---"}]
[null,null,null,null,null,null,{"$f":"IF(Dati!$C316 >0,Dati!$B316&\" | \"&TEXT(Dati!$C316,\"gg/mm/aa\")&\" | \"&TEXT(Dati!$D316,\"€. 0,00\")&\" | \"&Dati!$G316&\" | \"&Dati!$H316,\"---\")","v":"---"}]
[null,null,null,null,null,null,{"$f":"IF(Dati!$C317 >0,Dati!$B317&\" | \"&TEXT(Dati!$C317,\"gg/mm/aa\")&\" | \"&TEXT(Dati!$D317,\"€. 0,00\")&\" | \"&Dati!$G317&\" | \"&Dati!$H317,\"---\")","v":"---"}]
[null,null,null,null,null,null,{"$f":"IF(Dati!$C318 >0,Dati!$B318&\" | \"&TEXT(Dati!$C318,\"gg/mm/aa\")&\" | \"&TEXT(Dati!$D318,\"€. 0,00\")&\" | \"&Dati!$G318&\" | \"&Dati!$H318,\"---\")","v":"---"}]
[null,null,null,null,null,null,{"$f":"IF(Dati!$C319 >0,Dati!$B319&\" | \"&TEXT(Dati!$C319,\"gg/mm/aa\")&\" | \"&TEXT(Dati!$D319,\"€. 0,00\")&\" | \"&Dati!$G319&\" | \"&Dati!$H319,\"---\")","v":"---"}]
[null,null,null,null,null,null,{"$f":"IF(Dati!$C320 >0,Dati!$B320&\" | \"&TEXT(Dati!$C320,\"gg/mm/aa\")&\" | \"&TEXT(Dati!$D320,\"€. 0,00\")&\" | \"&Dati!$G320&\" | \"&Dati!$H320,\"---\")","v":"---"}]
[null,null,null,null,null,null,{"$f":"IF(Dati!$C321 >0,Dati!$B321&\" | \"&TEXT(Dati!$C321,\"gg/mm/aa\")&\" | \"&TEXT(Dati!$D321,\"€. 0,00\")&\" | \"&Dati!$G321&\" | \"&Dati!$H321,\"---\")","v":"---"}]
[null,null,null,null,null,null,{"$f":"IF(Dati!$C322 >0,Dati!$B322&\" | \"&TEXT(Dati!$C322,\"gg/mm/aa\")&\" | \"&TEXT(Dati!$D322,\"€. 0,00\")&\" | \"&Dati!$G322&\" | \"&Dati!$H322,\"---\")","v":"---"}]
[null,null,null,null,null,null,{"$f":"IF(Dati!$C323 >0,Dati!$B323&\" | \"&TEXT(Dati!$C323,\"gg/mm/aa\")&\" | \"&TEXT(Dati!$D323,\"€. 0,00\")&\" | \"&Dati!$G323&\" | \"&Dati!$H323,\"---\")","v":"---"}]
[null,null,null,null,null,null,{"$f":"IF(Dati!$C324 >0,Dati!$B324&\" | \"&TEXT(Dati!$C324,\"gg/mm/aa\")&\" | \"&TEXT(Dati!$D324,\"€. 0,00\")&\" | \"&Dati!$G324&\" | \"&Dati!$H324,\"---\")","v":"---"}]
[null,null,null,null,null,null,{"$f":"IF(Dati!$C325 >0,Dati!$B325&\" | \"&TEXT(Dati!$C325,\"gg/mm/aa\")&\" | \"&TEXT(Dati!$D325,\"€. 0,00\")&\" | \"&Dati!$G325&\" | \"&Dati!$H325,\"---\")","v":"---"}]
[null,null,null,null,null,null,{"$f":"IF(Dati!$C326 >0,Dati!$B326&\" | \"&TEXT(Dati!$C326,\"gg/mm/aa\")&\" | \"&TEXT(Dati!$D326,\"€. 0,00\")&\" | \"&Dati!$G326&\" | \"&Dati!$H326,\"---\")","v":"---"}]
[null,null,null,null,null,null,{"$f":"IF(Dati!$C327 >0,Dati!$B327&\" | \"&TEXT(Dati!$C327,\"gg/mm/aa\")&\" | \"&TEXT(Dati!$D327,\"€. 0,00\")&\" | \"&Dati!$G327&\" | \"&Dati!$H327,\"---\")","v":"---"}]
[null,null,null,null,null,null,{"$f":"IF(Dati!$C328 >0,Dati!$B328&\" | \"&TEXT(Dati!$C328,\"gg/mm/aa\")&\" | \"&TEXT(Dati!$D328,\"€. 0,00\")&\" | \"&Dati!$G328&\" | \"&Dati!$H328,\"---\")","v":"---"}]
[null,null,null,null,null,null,{"$f":"IF(Dati!$C329 >0,Dati!$B329&\" | \"&TEXT(Dati!$C329,\"gg/mm/aa\")&\" | \"&TEXT(Dati!$D329,\"€. 0,00\")&\" | \"&Dati!$G329&\" | \"&Dati!$H329,\"---\")","v":"---"}]
[null,null,null,null,null,null,{"$f":"IF(Dati!$C330 >0,Dati!$B330&\" | \"&TEXT(Dati!$C330,\"gg/mm/aa\")&\" | \"&TEXT(Dati!$D330,\"€. 0,00\")&\" | \"&Dati!$G330&\" | \"&Dati!$H330,\"---\")","v":"---"}]
[null,null,null,null,null,null,{"$f":"IF(Dati!$C331 >0,Dati!$B331&\" | \"&TEXT(Dati!$C331,\"gg/mm/aa\")&\" | \"&TEXT(Dati!$D331,\"€. 0,00\")&\" | \"&Dati!$G331&\" | \"&Dati!$H331,\"---\")","v":"---"}]
[null,null,null,null,null,null,{"$f":"IF(Dati!$C332 >0,Dati!$B332&\" | \"&TEXT(Dati!$C332,\"gg/mm/aa\")&\" | \"&TEXT(Dati!$D332,\"€. 0,00\")&\" | \"&Dati!$G332&\" | \"&Dati!$H332,\"---\")","v":"---"}]
[null,null,null,null,null,null,{"$f":"IF(Dati!$C333 >0,Dati!$B333&\" | \"&TEXT(Dati!$C333,\"gg/mm/aa\")&\" | \"&TEXT(Dati!$D333,\"€. 0,00\")&\" | \"&Dati!$G333&\" | \"&Dati!$H333,\"---\")","v":"---"}]
[null,null,null,null,null,null,{"$f":"IF(Dati!$C334 >0,Dati!$B334&\" | \"&TEXT(Dati!$C334,\"gg/mm/aa\")&\" | \"&TEXT(Dati!$D334,\"€. 0,00\")&\" | \"&Dati!$G334&\" | \"&Dati!$H334,\"---\")","v":"---"}]
[null,null,null,null,null,null,{"$f":"IF(Dati!$C335 >0,Dati!$B335&\" | \"&TEXT(Dati!$C335,\"gg/mm/aa\")&\" | \"&TEXT(Dati!$D335,\"€. 0,00\")&\" | \"&Dati!$G335&\" | \"&Dati!$H335,\"---\")","v":"---"}]
[null,null,null,null,null,null,{"$f":"IF(Dati!$C336 >0,Dati!$B336&\" | \"&TEXT(Dati!$C336,\"gg/mm/aa\")&\" | \"&TEXT(Dati!$D336,\"€. 0,00\")&\" | \"&Dati!$G336&\" | \"&Dati!$H336,\"---\")","v":"---"}]
[null,null,null,null,null,null,{"$f":"IF(Dati!$C337 >0,Dati!$B337&\" | \"&TEXT(Dati!$C337,\"gg/mm/aa\")&\" | \"&TEXT(Dati!$D337,\"€. 0,00\")&\" | \"&Dati!$G337&\" | \"&Dati!$H337,\"---\")","v":"---"}]
[null,null,null,null,null,null,{"$f":"IF(Dati!$C338 >0,Dati!$B338&\" | \"&TEXT(Dati!$C338,\"gg/mm/aa\")&\" | \"&TEXT(Dati!$D338,\"€. 0,00\")&\" | \"&Dati!$G338&\" | \"&Dati!$H338,\"---\")","v":"---"}]
[null,null,null,null,null,null,{"$f":"IF(Dati!$C339 >0,Dati!$B339&\" | \"&TEXT(Dati!$C339,\"gg/mm/aa\")&\" | \"&TEXT(Dati!$D339,\"€. 0,00\")&\" | \"&Dati!$G339&\" | \"&Dati!$H339,\"---\")","v":"---"}]
[null,null,null,null,null,null,{"$f":"IF(Dati!$C340 >0,Dati!$B340&\" | \"&TEXT(Dati!$C340,\"gg/mm/aa\")&\" | \"&TEXT(Dati!$D340,\"€. 0,00\")&\" | \"&Dati!$G340&\" | \"&Dati!$H340,\"---\")","v":"---"}]
[null,null,null,null,null,null,{"$f":"IF(Dati!$C341 >0,Dati!$B341&\" | \"&TEXT(Dati!$C341,\"gg/mm/aa\")&\" | \"&TEXT(Dati!$D341,\"€. 0,00\")&\" | \"&Dati!$G341&\" | \"&Dati!$H341,\"---\")","v":"---"}]
[null,null,null,null,null,null,{"$f":"IF(Dati!$C342 >0,Dati!$B342&\" | \"&TEXT(Dati!$C342,\"gg/mm/aa\")&\" | \"&TEXT(Dati!$D342,\"€. 0,00\")&\" | \"&Dati!$G342&\" | \"&Dati!$H342,\"---\")","v":"---"}]
[null,null,null,null,null,null,{"$f":"IF(Dati!$C343 >0,Dati!$B343&\" | \"&TEXT(Dati!$C343,\"gg/mm/aa\")&\" | \"&TEXT(Dati!$D343,\"€. 0,00\")&\" | \"&Dati!$G343&\" | \"&Dati!$H343,\"---\")","v":"---"}]
[null,null,null,null,null,null,{"$f":"IF(Dati!$C344 >0,Dati!$B344&\" | \"&TEXT(Dati!$C344,\"gg/mm/aa\")&\" | \"&TEXT(Dati!$D344,\"€. 0,00\")&\" | \"&Dati!$G344&\" | \"&Dati!$H344,\"---\")","v":"---"}]
[null,null,null,null,null,null,{"$f":"IF(Dati!$C345 >0,Dati!$B345&\" | \"&TEXT(Dati!$C345,\"gg/mm/aa\")&\" | \"&TEXT(Dati!$D345,\"€. 0,00\")&\" | \"&Dati!$G345&\" | \"&Dati!$H345,\"---\")","v":"---"}]
[null,null,null,null,null,null,{"$f":"IF(Dati!$C346 >0,Dati!$B346&\" | \"&TEXT(Dati!$C346,\"gg/mm/aa\")&\" | \"&TEXT(Dati!$D346,\"€. 0,00\")&\" | \"&Dati!$G346&\" | \"&Dati!$H346,\"---\")","v":"---"}]
[null,null,null,null,null,null,{"$f":"IF(Dati!$C347 >0,Dati!$B347&\" | \"&TEXT(Dati!$C347,\"gg/mm/aa\")&\" | \"&TEXT(Dati!$D347,\"€. 0,00\")&\" | \"&Dati!$G347&\" | \"&Dati!$H347,\"---\")","v":"---"}]
[null,null,null,null,null,null,{"$f":"IF(Dati!$C348 >0,Dati!$B348&\" | \"&TEXT(Dati!$C348,\"gg/mm/aa\")&\" | \"&TEXT(Dati!$D348,\"€. 0,00\")&\" | \"&Dati!$G348&\" | \"&Dati!$H348,\"---\")","v":"---"}]
[null,null,null,null,null,null,{"$f":"IF(Dati!$C349 >0,Dati!$B349&\" | \"&TEXT(Dati!$C349,\"gg/mm/aa\")&\" | \"&TEXT(Dati!$D349,\"€. 0,00\")&\" | \"&Dati!$G349&\" | \"&Dati!$H349,\"---\")","v":"---"}]
[null,null,null,null,null,null,{"$f":"IF(Dati!$C350 >0,Dati!$B350&\" | \"&TEXT(Dati!$C350,\"gg/mm/aa\")&\" | \"&TEXT(Dati!$D350,\"€. 0,00\")&\" | \"&Dati!$G350&\" | \"&Dati!$H350,\"---\")","v":"---"}]
[null,null,null,null,null,null,{"$f":"IF(Dati!$C351 >0,Dati!$B351&\" | \"&TEXT(Dati!$C351,\"gg/mm/aa\")&\" | \"&TEXT(Dati!$D351,\"€. 0,00\")&\" | \"&Dati!$G351&\" | \"&Dati!$H351,\"---\")","v":"---"}]
[null,null,null,null,null,null,{"$f":"IF(Dati!$C352 >0,Dati!$B352&\" | \"&TEXT(Dati!$C352,\"gg/mm/aa\")&\" | \"&TEXT(Dati!$D352,\"€. 0,00\")&\" | \"&Dati!$G352&\" | \"&Dati!$H352,\"---\")","v":"---"}]
[null,null,null,null,null,null,{"$f":"IF(Dati!$C353 >0,Dati!$B353&\" | \"&TEXT(Dati!$C353,\"gg/mm/aa\")&\" | \"&TEXT(Dati!$D353,\"€. 0,00\")&\" | \"&Dati!$G353&\" | \"&Dati!$H353,\"---\")","v":"---"}]
[null,null,null,null,null,null,{"$f":"IF(Dati!$C354 >0,Dati!$B354&\" | \"&TEXT(Dati!$C354,\"gg/mm/aa\")&\" | \"&TEXT(Dati!$D354,\"€. 0,00\")&\" | \"&Dati!$G354&\" | \"&Dati!$H354,\"---\")","v":"---"}]
[null,null,null,null,null,null,{"$f":"IF(Dati!$C355 >0,Dati!$B355&\" | \"&TEXT(Dati!$C355,\"gg/mm/aa\")&\" | \"&TEXT(Dati!$D355,\"€. 0,00\")&\" | \"&Dati!$G355&\" | \"&Dati!$H355,\"---\")","v":"---"}]
[null,null,null,null,null,null,{"$f":"IF(Dati!$C356 >0,Dati!$B356&\" | \"&TEXT(Dati!$C356,\"gg/mm/aa\")&\" | \"&TEXT(Dati!$D356,\"€. 0,00\")&\" | \"&Dati!$G356&\" | \"&Dati!$H356,\"---\")","v":"---"}]
[null,null,null,null,null,null,{"$f":"IF(Dati!$C357 >0,Dati!$B357&\" | \"&TEXT(Dati!$C357,\"gg/mm/aa\")&\" | \"&TEXT(Dati!$D357,\"€. 0,00\")&\" | \"&Dati!$G357&\" | \"&Dati!$H357,\"---\")","v":"---"}]
[null,null,null,null,null,null,{"$f":"IF(Dati!$C358 >0,Dati!$B358&\" | \"&TEXT(Dati!$C358,\"gg/mm/aa\")&\" | \"&TEXT(Dati!$D358,\"€. 0,00\")&\" | \"&Dati!$G358&\" | \"&Dati!$H358,\"---\")","v":"---"}]
[null,null,null,null,null,null,{"$f":"IF(Dati!$C359 >0,Dati!$B359&\" | \"&TEXT(Dati!$C359,\"gg/mm/aa\")&\" | \"&TEXT(Dati!$D359,\"€. 0,00\")&\" | \"&Dati!$G359&\" | \"&Dati!$H359,\"---\")","v":"---"}]
[null,null,null,null,null,null,{"$f":"IF(Dati!$C360 >0,Dati!$B360&\" | \"&TEXT(Dati!$C360,\"gg/mm/aa\")&\" | \"&TEXT(Dati!$D360,\"€. 0,00\")&\" | \"&Dati!$G360&\" | \"&Dati!$H360,\"---\")","v":"---"}]
[null,null,null,null,null,null,{"$f":"IF(Dati!$C361 >0,Dati!$B361&\" | \"&TEXT(Dati!$C361,\"gg/mm/aa\")&\" | \"&TEXT(Dati!$D361,\"€. 0,00\")&\" | \"&Dati!$G361&\" | \"&Dati!$H361,\"---\")","v":"---"}]
[null,null,null,null,null,null,{"$f":"IF(Dati!$C362 >0,Dati!$B362&\" | \"&TEXT(Dati!$C362,\"gg/mm/aa\")&\" | \"&TEXT(Dati!$D362,\"€. 0,00\")&\" | \"&Dati!$G362&\" | \"&Dati!$H362,\"---\")","v":"---"}]
[null,null,null,null,null,null,{"$f":"IF(Dati!$C363 >0,Dati!$B363&\" | \"&TEXT(Dati!$C363,\"gg/mm/aa\")&\" | \"&TEXT(Dati!$D363,\"€. 0,00\")&\" | \"&Dati!$G363&\" | \"&Dati!$H363,\"---\")","v":"---"}]
[null,null,null,null,null,null,{"$f":"IF(Dati!$C364 >0,Dati!$B364&\" | \"&TEXT(Dati!$C364,\"gg/mm/aa\")&\" | \"&TEXT(Dati!$D364,\"€. 0,00\")&\" | \"&Dati!$G364&\" | \"&Dati!$H364,\"---\")","v":"---"}]
[null,null,null,null,null,null,{"$f":"IF(Dati!$C365 >0,Dati!$B365&\" | \"&TEXT(Dati!$C365,\"gg/mm/aa\")&\" | \"&TEXT(Dati!$D365,\"€. 0,00\")&\" | \"&Dati!$G365&\" | \"&Dati!$H365,\"---\")","v":"---"}]
[null,null,null,null,null,null,{"$f":"IF(Dati!$C366 >0,Dati!$B366&\" | \"&TEXT(Dati!$C366,\"gg/mm/aa\")&\" | \"&TEXT(Dati!$D366,\"€. 0,00\")&\" | \"&Dati!$G366&\" | \"&Dati!$H366,\"---\")","v":"---"}]
[null,null,null,null,null,null,{"$f":"IF(Dati!$C367 >0,Dati!$B367&\" | \"&TEXT(Dati!$C367,\"gg/mm/aa\")&\" | \"&TEXT(Dati!$D367,\"€. 0,00\")&\" | \"&Dati!$G367&\" | \"&Dati!$H367,\"---\")","v":"---"}]
[null,null,null,null,null,null,{"$f":"IF(Dati!$C368 >0,Dati!$B368&\" | \"&TEXT(Dati!$C368,\"gg/mm/aa\")&\" | \"&TEXT(Dati!$D368,\"€. 0,00\")&\" | \"&Dati!$G368&\" | \"&Dati!$H368,\"---\")","v":"---"}]
[null,null,null,null,null,null,{"$f":"IF(Dati!$C369 >0,Dati!$B369&\" | \"&TEXT(Dati!$C369,\"gg/mm/aa\")&\" | \"&TEXT(Dati!$D369,\"€. 0,00\")&\" | \"&Dati!$G369&\" | \"&Dati!$H369,\"---\")","v":"---"}]
[null,null,null,null,null,null,{"$f":"IF(Dati!$C370 >0,Dati!$B370&\" | \"&TEXT(Dati!$C370,\"gg/mm/aa\")&\" | \"&TEXT(Dati!$D370,\"€. 0,00\")&\" | \"&Dati!$G370&\" | \"&Dati!$H370,\"---\")","v":"---"}]
[null,null,null,null,null,null,{"$f":"IF(Dati!$C371 >0,Dati!$B371&\" | \"&TEXT(Dati!$C371,\"gg/mm/aa\")&\" | \"&TEXT(Dati!$D371,\"€. 0,00\")&\" | \"&Dati!$G371&\" | \"&Dati!$H371,\"---\")","v":"---"}]
[null,null,null,null,null,null,{"$f":"IF(Dati!$C372 >0,Dati!$B372&\" | \"&TEXT(Dati!$C372,\"gg/mm/aa\")&\" | \"&TEXT(Dati!$D372,\"€. 0,00\")&\" | \"&Dati!$G372&\" | \"&Dati!$H372,\"---\")","v":"---"}]
[null,null,null,null,null,null,{"$f":"IF(Dati!$C373 >0,Dati!$B373&\" | \"&TEXT(Dati!$C373,\"gg/mm/aa\")&\" | \"&TEXT(Dati!$D373,\"€. 0,00\")&\" | \"&Dati!$G373&\" | \"&Dati!$H373,\"---\")","v":"---"}]
[null,null,null,null,null,null,{"$f":"IF(Dati!$C374 >0,Dati!$B374&\" | \"&TEXT(Dati!$C374,\"gg/mm/aa\")&\" | \"&TEXT(Dati!$D374,\"€. 0,00\")&\" | \"&Dati!$G374&\" | \"&Dati!$H374,\"---\")","v":"---"}]
[null,null,null,null,null,null,{"$f":"IF(Dati!$C375 >0,Dati!$B375&\" | \"&TEXT(Dati!$C375,\"gg/mm/aa\")&\" | \"&TEXT(Dati!$D375,\"€. 0,00\")&\" | \"&Dati!$G375&\" | \"&Dati!$H375,\"---\")","v":"---"}]
[null,null,null,null,null,null,{"$f":"IF(Dati!$C376 >0,Dati!$B376&\" | \"&TEXT(Dati!$C376,\"gg/mm/aa\")&\" | \"&TEXT(Dati!$D376,\"€. 0,00\")&\" | \"&Dati!$G376&\" | \"&Dati!$H376,\"---\")","v":"---"}]
[null,null,null,null,null,null,{"$f":"IF(Dati!$C377 >0,Dati!$B377&\" | \"&TEXT(Dati!$C377,\"gg/mm/aa\")&\" | \"&TEXT(Dati!$D377,\"€. 0,00\")&\" | \"&Dati!$G377&\" | \"&Dati!$H377,\"---\")","v":"---"}]
[null,null,null,null,null,null,{"$f":"IF(Dati!$C378 >0,Dati!$B378&\" | \"&TEXT(Dati!$C378,\"gg/mm/aa\")&\" | \"&TEXT(Dati!$D378,\"€. 0,00\")&\" | \"&Dati!$G378&\" | \"&Dati!$H378,\"---\")","v":"---"}]
[null,null,null,null,null,null,{"$f":"IF(Dati!$C379 >0,Dati!$B379&\" | \"&TEXT(Dati!$C379,\"gg/mm/aa\")&\" | \"&TEXT(Dati!$D379,\"€. 0,00\")&\" | \"&Dati!$G379&\" | \"&Dati!$H379,\"---\")","v":"---"}]
[null,null,null,null,null,null,{"$f":"IF(Dati!$C380 >0,Dati!$B380&\" | \"&TEXT(Dati!$C380,\"gg/mm/aa\")&\" | \"&TEXT(Dati!$D380,\"€. 0,00\")&\" | \"&Dati!$G380&\" | \"&Dati!$H380,\"---\")","v":"---"}]
[null,null,null,null,null,null,{"$f":"IF(Dati!$C381 >0,Dati!$B381&\" | \"&TEXT(Dati!$C381,\"gg/mm/aa\")&\" | \"&TEXT(Dati!$D381,\"€. 0,00\")&\" | \"&Dati!$G381&\" | \"&Dati!$H381,\"---\")","v":"---"}]
[null,null,null,null,null,null,{"$f":"IF(Dati!$C382 >0,Dati!$B382&\" | \"&TEXT(Dati!$C382,\"gg/mm/aa\")&\" | \"&TEXT(Dati!$D382,\"€. 0,00\")&\" | \"&Dati!$G382&\" | \"&Dati!$H382,\"---\")","v":"---"}]
[null,null,null,null,null,null,{"$f":"IF(Dati!$C383 >0,Dati!$B383&\" | \"&TEXT(Dati!$C383,\"gg/mm/aa\")&\" | \"&TEXT(Dati!$D383,\"€. 0,00\")&\" | \"&Dati!$G383&\" | \"&Dati!$H383,\"---\")","v":"---"}]
[null,null,null,null,null,null,{"$f":"IF(Dati!$C384 >0,Dati!$B384&\" | \"&TEXT(Dati!$C384,\"gg/mm/aa\")&\" | \"&TEXT(Dati!$D384,\"€. 0,00\")&\" | \"&Dati!$G384&\" | \"&Dati!$H384,\"---\")","v":"---"}]
[null,null,null,null,null,null,{"$f":"IF(Dati!$C385 >0,Dati!$B385&\" | \"&TEXT(Dati!$C385,\"gg/mm/aa\")&\" | \"&TEXT(Dati!$D385,\"€. 0,00\")&\" | \"&Dati!$G385&\" | \"&Dati!$H385,\"---\")","v":"---"}]
[null,null,null,null,null,null,{"$f":"IF(Dati!$C386 >0,Dati!$B386&\" | \"&TEXT(Dati!$C386,\"gg/mm/aa\")&\" | \"&TEXT(Dati!$D386,\"€. 0,00\")&\" | \"&Dati!$G386&\" | \"&Dati!$H386,\"---\")","v":"---"}]
[null,null,null,null,null,null,{"$f":"IF(Dati!$C387 >0,Dati!$B387&\" | \"&TEXT(Dati!$C387,\"gg/mm/aa\")&\" | \"&TEXT(Dati!$D387,\"€. 0,00\")&\" | \"&Dati!$G387&\" | \"&Dati!$H387,\"---\")","v":"---"}]
[null,null,null,null,null,null,{"$f":"IF(Dati!$C388 >0,Dati!$B388&\" | \"&TEXT(Dati!$C388,\"gg/mm/aa\")&\" | \"&TEXT(Dati!$D388,\"€. 0,00\")&\" | \"&Dati!$G388&\" | \"&Dati!$H388,\"---\")","v":"---"}]
[null,null,null,null,null,null,{"$f":"IF(Dati!$C389 >0,Dati!$B389&\" | \"&TEXT(Dati!$C389,\"gg/mm/aa\")&\" | \"&TEXT(Dati!$D389,\"€. 0,00\")&\" | \"&Dati!$G389&\" | \"&Dati!$H389,\"---\")","v":"---"}]
[null,null,null,null,null,null,{"$f":"IF(Dati!$C390 >0,Dati!$B390&\" | \"&TEXT(Dati!$C390,\"gg/mm/aa\")&\" | \"&TEXT(Dati!$D390,\"€. 0,00\")&\" | \"&Dati!$G390&\" | \"&Dati!$H390,\"---\")","v":"---"}]
[null,null,null,null,null,null,{"$f":"IF(Dati!$C391 >0,Dati!$B391&\" | \"&TEXT(Dati!$C391,\"gg/mm/aa\")&\" | \"&TEXT(Dati!$D391,\"€. 0,00\")&\" | \"&Dati!$G391&\" | \"&Dati!$H391,\"---\")","v":"---"}]
[null,null,null,null,null,null,{"$f":"IF(Dati!$C392 >0,Dati!$B392&\" | \"&TEXT(Dati!$C392,\"gg/mm/aa\")&\" | \"&TEXT(Dati!$D392,\"€. 0,00\")&\" | \"&Dati!$G392&\" | \"&Dati!$H392,\"---\")","v":"---"}]
[null,null,null,null,null,null,{"$f":"IF(Dati!$C393 >0,Dati!$B393&\" | \"&TEXT(Dati!$C393,\"gg/mm/aa\")&\" | \"&TEXT(Dati!$D393,\"€. 0,00\")&\" | \"&Dati!$G393&\" | \"&Dati!$H393,\"---\")","v":"---"}]
[null,null,null,null,null,null,{"$f":"IF(Dati!$C394 >0,Dati!$B394&\" | \"&TEXT(Dati!$C394,\"gg/mm/aa\")&\" | \"&TEXT(Dati!$D394,\"€. 0,00\")&\" | \"&Dati!$G394&\" | \"&Dati!$H394,\"---\")","v":"---"}]
[null,null,null,null,null,null,{"$f":"IF(Dati!$C395 >0,Dati!$B395&\" | \"&TEXT(Dati!$C395,\"gg/mm/aa\")&\" | \"&TEXT(Dati!$D395,\"€. 0,00\")&\" | \"&Dati!$G395&\" | \"&Dati!$H395,\"---\")","v":"---"}]
[null,null,null,null,null,null,{"$f":"IF(Dati!$C396 >0,Dati!$B396&\" | \"&TEXT(Dati!$C396,\"gg/mm/aa\")&\" | \"&TEXT(Dati!$D396,\"€. 0,00\")&\" | \"&Dati!$G396&\" | \"&Dati!$H396,\"---\")","v":"---"}]
[null,null,null,null,null,null,{"$f":"IF(Dati!$C397 >0,Dati!$B397&\" | \"&TEXT(Dati!$C397,\"gg/mm/aa\")&\" | \"&TEXT(Dati!$D397,\"€. 0,00\")&\" | \"&Dati!$G397&\" | \"&Dati!$H397,\"---\")","v":"---"}]
[null,null,null,null,null,null,{"$f":"IF(Dati!$C398 >0,Dati!$B398&\" | \"&TEXT(Dati!$C398,\"gg/mm/aa\")&\" | \"&TEXT(Dati!$D398,\"€. 0,00\")&\" | \"&Dati!$G398&\" | \"&Dati!$H398,\"---\")","v":"---"}]
[null,null,null,null,null,null,{"$f":"IF(Dati!$C399 >0,Dati!$B399&\" | \"&TEXT(Dati!$C399,\"gg/mm/aa\")&\" | \"&TEXT(Dati!$D399,\"€. 0,00\")&\" | \"&Dati!$G399&\" | \"&Dati!$H399,\"---\")","v":"---"}]
[null,null,null,null,null,null,{"$f":"IF(Dati!$C400 >0,Dati!$B400&\" | \"&TEXT(Dati!$C400,\"gg/mm/aa\")&\" | \"&TEXT(Dati!$D400,\"€. 0,00\")&\" | \"&Dati!$G400&\" | \"&Dati!$H400,\"---\")","v":"---"}]
[null,null,null,null,null,null,{"$f":"IF(Dati!$C401 >0,Dati!$B401&\" | \"&TEXT(Dati!$C401,\"gg/mm/aa\")&\" | \"&TEXT(Dati!$D401,\"€. 0,00\")&\" | \"&Dati!$G401&\" | \"&Dati!$H401,\"---\")","v":"---"}]
[null,null,null,null,null,null,{"$f":"IF(Dati!$C402 >0,Dati!$B402&\" | \"&TEXT(Dati!$C402,\"gg/mm/aa\")&\" | \"&TEXT(Dati!$D402,\"€. 0,00\")&\" | \"&Dati!$G402&\" | \"&Dati!$H402,\"---\")","v":"---"}]
[null,null,null,null,null,null,{"$f":"IF(Dati!$C403 >0,Dati!$B403&\" | \"&TEXT(Dati!$C403,\"gg/mm/aa\")&\" | \"&TEXT(Dati!$D403,\"€. 0,00\")&\" | \"&Dati!$G403&\" | \"&Dati!$H403,\"---\")","v":"---"}]
[null,null,null,null,null,null,{"$f":"IF(Dati!$C404 >0,Dati!$B404&\" | \"&TEXT(Dati!$C404,\"gg/mm/aa\")&\" | \"&TEXT(Dati!$D404,\"€. 0,00\")&\" | \"&Dati!$G404&\" | \"&Dati!$H404,\"---\")","v":"---"}]
[null,null,null,null,null,null,{"$f":"IF(Dati!$C405 >0,Dati!$B405&\" | \"&TEXT(Dati!$C405,\"gg/mm/aa\")&\" | \"&TEXT(Dati!$D405,\"€. 0,00\")&\" | \"&Dati!$G405&\" | \"&Dati!$H405,\"---\")","v":"---"}]
[null,null,null,null,null,null,{"$f":"IF(Dati!$C406 >0,Dati!$B406&\" | \"&TEXT(Dati!$C406,\"gg/mm/aa\")&\" | \"&TEXT(Dati!$D406,\"€. 0,00\")&\" | \"&Dati!$G406&\" | \"&Dati!$H406,\"---\")","v":"---"}]
[null,null,null,null,null,null,{"$f":"IF(Dati!$C407 >0,Dati!$B407&\" | \"&TEXT(Dati!$C407,\"gg/mm/aa\")&\" | \"&TEXT(Dati!$D407,\"€. 0,00\")&\" | \"&Dati!$G407&\" | \"&Dati!$H407,\"---\")","v":"---"}]
[null,null,null,null,null,null,{"$f":"IF(Dati!$C408 >0,Dati!$B408&\" | \"&TEXT(Dati!$C408,\"gg/mm/aa\")&\" | \"&TEXT(Dati!$D408,\"€. 0,00\")&\" | \"&Dati!$G408&\" | \"&Dati!$H408,\"---\")","v":"---"}]
[null,null,null,null,null,null,{"$f":"IF(Dati!$C409 >0,Dati!$B409&\" | \"&TEXT(Dati!$C409,\"gg/mm/aa\")&\" | \"&TEXT(Dati!$D409,\"€. 0,00\")&\" | \"&Dati!$G409&\" | \"&Dati!$H409,\"---\")","v":"---"}]
[null,null,null,null,null,null,{"$f":"IF(Dati!$C410 >0,Dati!$B410&\" | \"&TEXT(Dati!$C410,\"gg/mm/aa\")&\" | \"&TEXT(Dati!$D410,\"€. 0,00\")&\" | \"&Dati!$G410&\" | \"&Dati!$H410,\"---\")","v":"---"}]
[null,null,null,null,null,null,{"$f":"IF(Dati!$C411 >0,Dati!$B411&\" | \"&TEXT(Dati!$C411,\"gg/mm/aa\")&\" | \"&TEXT(Dati!$D411,\"€. 0,00\")&\" | \"&Dati!$G411&\" | \"&Dati!$H411,\"---\")","v":"---"}]
[null,null,null,null,null,null,{"$f":"IF(Dati!$C412 >0,Dati!$B412&\" | \"&TEXT(Dati!$C412,\"gg/mm/aa\")&\" | \"&TEXT(Dati!$D412,\"€. 0,00\")&\" | \"&Dati!$G412&\" | \"&Dati!$H412,\"---\")","v":"---"}]
[null,null,null,null,null,null,{"$f":"IF(Dati!$C413 >0,Dati!$B413&\" | \"&TEXT(Dati!$C413,\"gg/mm/aa\")&\" | \"&TEXT(Dati!$D413,\"€. 0,00\")&\" | \"&Dati!$G413&\" | \"&Dati!$H413,\"---\")","v":"---"}]
[null,null,null,null,null,null,{"$f":"IF(Dati!$C414 >0,Dati!$B414&\" | \"&TEXT(Dati!$C414,\"gg/mm/aa\")&\" | \"&TEXT(Dati!$D414,\"€. 0,00\")&\" | \"&Dati!$G414&\" | \"&Dati!$H414,\"---\")","v":"---"}]
[null,null,null,null,null,null,{"$f":"IF(Dati!$C415 >0,Dati!$B415&\" | \"&TEXT(Dati!$C415,\"gg/mm/aa\")&\" | \"&TEXT(Dati!$D415,\"€. 0,00\")&\" | \"&Dati!$G415&\" | \"&Dati!$H415,\"---\")","v":"---"}]
[null,null,null,null,null,null,{"$f":"IF(Dati!$C416 >0,Dati!$B416&\" | \"&TEXT(Dati!$C416,\"gg/mm/aa\")&\" | \"&TEXT(Dati!$D416,\"€. 0,00\")&\" | \"&Dati!$G416&\" | \"&Dati!$H416,\"---\")","v":"---"}]
[null,null,null,null,null,null,{"$f":"IF(Dati!$C417 >0,Dati!$B417&\" | \"&TEXT(Dati!$C417,\"gg/mm/aa\")&\" | \"&TEXT(Dati!$D417,\"€. 0,00\")&\" | \"&Dati!$G417&\" | \"&Dati!$H417,\"---\")","v":"---"}]
[null,null,null,null,null,null,{"$f":"IF(Dati!$C418 >0,Dati!$B418&\" | \"&TEXT(Dati!$C418,\"gg/mm/aa\")&\" | \"&TEXT(Dati!$D418,\"€. 0,00\")&\" | \"&Dati!$G418&\" | \"&Dati!$H418,\"---\")","v":"---"}]
[null,null,null,null,null,null,{"$f":"IF(Dati!$C419 >0,Dati!$B419&\" | \"&TEXT(Dati!$C419,\"gg/mm/aa\")&\" | \"&TEXT(Dati!$D419,\"€. 0,00\")&\" | \"&Dati!$G419&\" | \"&Dati!$H419,\"---\")","v":"---"}]
[null,null,null,null,null,null,{"$f":"IF(Dati!$C420 >0,Dati!$B420&\" | \"&TEXT(Dati!$C420,\"gg/mm/aa\")&\" | \"&TEXT(Dati!$D420,\"€. 0,00\")&\" | \"&Dati!$G420&\" | \"&Dati!$H420,\"---\")","v":"---"}]
[null,null,null,null,null,null,{"$f":"IF(Dati!$C421 >0,Dati!$B421&\" | \"&TEXT(Dati!$C421,\"gg/mm/aa\")&\" | \"&TEXT(Dati!$D421,\"€. 0,00\")&\" | \"&Dati!$G421&\" | \"&Dati!$H421,\"---\")","v":"---"}]
[null,null,null,null,null,null,{"$f":"IF(Dati!$C422 >0,Dati!$B422&\" | \"&TEXT(Dati!$C422,\"gg/mm/aa\")&\" | \"&TEXT(Dati!$D422,\"€. 0,00\")&\" | \"&Dati!$G422&\" | \"&Dati!$H422,\"---\")","v":"---"}]
[null,null,null,null,null,null,{"$f":"IF(Dati!$C423 >0,Dati!$B423&\" | \"&TEXT(Dati!$C423,\"gg/mm/aa\")&\" | \"&TEXT(Dati!$D423,\"€. 0,00\")&\" | \"&Dati!$G423&\" | \"&Dati!$H423,\"---\")","v":"---"}]
[null,null,null,null,null,null,{"$f":"IF(Dati!$C424 >0,Dati!$B424&\" | \"&TEXT(Dati!$C424,\"gg/mm/aa\")&\" | \"&TEXT(Dati!$D424,\"€. 0,00\")&\" | \"&Dati!$G424&\" | \"&Dati!$H424,\"---\")","v":"---"}]
[null,null,null,null,null,null,{"$f":"IF(Dati!$C425 >0,Dati!$B425&\" | \"&TEXT(Dati!$C425,\"gg/mm/aa\")&\" | \"&TEXT(Dati!$D425,\"€. 0,00\")&\" | \"&Dati!$G425&\" | \"&Dati!$H425,\"---\")","v":"---"}]
[null,null,null,null,null,null,{"$f":"IF(Dati!$C426 >0,Dati!$B426&\" | \"&TEXT(Dati!$C426,\"gg/mm/aa\")&\" | \"&TEXT(Dati!$D426,\"€. 0,00\")&\" | \"&Dati!$G426&\" | \"&Dati!$H426,\"---\")","v":"---"}]
[null,null,null,null,null,null,{"$f":"IF(Dati!$C427 >0,Dati!$B427&\" | \"&TEXT(Dati!$C427,\"gg/mm/aa\")&\" | \"&TEXT(Dati!$D427,\"€. 0,00\")&\" | \"&Dati!$G427&\" | \"&Dati!$H427,\"---\")","v":"---"}]
[null,null,null,null,null,null,{"$f":"IF(Dati!$C428 >0,Dati!$B428&\" | \"&TEXT(Dati!$C428,\"gg/mm/aa\")&\" | \"&TEXT(Dati!$D428,\"€. 0,00\")&\" | \"&Dati!$G428&\" | \"&Dati!$H428,\"---\")","v":"---"}]
[null,null,null,null,null,null,{"$f":"IF(Dati!$C429 >0,Dati!$B429&\" | \"&TEXT(Dati!$C429,\"gg/mm/aa\")&\" | \"&TEXT(Dati!$D429,\"€. 0,00\")&\" | \"&Dati!$G429&\" | \"&Dati!$H429,\"---\")","v":"---"}]
[null,null,null,null,null,null,{"$f":"IF(Dati!$C430 >0,Dati!$B430&\" | \"&TEXT(Dati!$C430,\"gg/mm/aa\")&\" | \"&TEXT(Dati!$D430,\"€. 0,00\")&\" | \"&Dati!$G430&\" | \"&Dati!$H430,\"---\")","v":"---"}]
[null,null,null,null,null,null,{"$f":"IF(Dati!$C431 >0,Dati!$B431&\" | \"&TEXT(Dati!$C431,\"gg/mm/aa\")&\" | \"&TEXT(Dati!$D431,\"€. 0,00\")&\" | \"&Dati!$G431&\" | \"&Dati!$H431,\"---\")","v":"---"}]
[null,null,null,null,null,null,{"$f":"IF(Dati!$C432 >0,Dati!$B432&\" | \"&TEXT(Dati!$C432,\"gg/mm/aa\")&\" | \"&TEXT(Dati!$D432,\"€. 0,00\")&\" | \"&Dati!$G432&\" | \"&Dati!$H432,\"---\")","v":"---"}]
[null,null,null,null,null,null,{"$f":"IF(Dati!$C433 >0,Dati!$B433&\" | \"&TEXT(Dati!$C433,\"gg/mm/aa\")&\" | \"&TEXT(Dati!$D433,\"€. 0,00\")&\" | \"&Dati!$G433&\" | \"&Dati!$H433,\"---\")","v":"---"}]
[null,null,null,null,null,null,{"$f":"IF(Dati!$C434 >0,Dati!$B434&\" | \"&TEXT(Dati!$C434,\"gg/mm/aa\")&\" | \"&TEXT(Dati!$D434,\"€. 0,00\")&\" | \"&Dati!$G434&\" | \"&Dati!$H434,\"---\")","v":"---"}]
[null,null,null,null,null,null,{"$f":"IF(Dati!$C435 >0,Dati!$B435&\" | \"&TEXT(Dati!$C435,\"gg/mm/aa\")&\" | \"&TEXT(Dati!$D435,\"€. 0,00\")&\" | \"&Dati!$G435&\" | \"&Dati!$H435,\"---\")","v":"---"}]
[null,null,null,null,null,null,{"$f":"IF(Dati!$C436 >0,Dati!$B436&\" | \"&TEXT(Dati!$C436,\"gg/mm/aa\")&\" | \"&TEXT(Dati!$D436,\"€. 0,00\")&\" | \"&Dati!$G436&\" | \"&Dati!$H436,\"---\")","v":"---"}]
[null,null,null,null,null,null,{"$f":"IF(Dati!$C437 >0,Dati!$B437&\" | \"&TEXT(Dati!$C437,\"gg/mm/aa\")&\" | \"&TEXT(Dati!$D437,\"€. 0,00\")&\" | \"&Dati!$G437&\" | \"&Dati!$H437,\"---\")","v":"---"}]
[null,null,null,null,null,null,{"$f":"IF(Dati!$C438 >0,Dati!$B438&\" | \"&TEXT(Dati!$C438,\"gg/mm/aa\")&\" | \"&TEXT(Dati!$D438,\"€. 0,00\")&\" | \"&Dati!$G438&\" | \"&Dati!$H438,\"---\")","v":"---"}]
[null,null,null,null,null,null,{"$f":"IF(Dati!$C439 >0,Dati!$B439&\" | \"&TEXT(Dati!$C439,\"gg/mm/aa\")&\" | \"&TEXT(Dati!$D439,\"€. 0,00\")&\" | \"&Dati!$G439&\" | \"&Dati!$H439,\"---\")","v":"---"}]
[null,null,null,null,null,null,{"$f":"IF(Dati!$C440 >0,Dati!$B440&\" | \"&TEXT(Dati!$C440,\"gg/mm/aa\")&\" | \"&TEXT(Dati!$D440,\"€. 0,00\")&\" | \"&Dati!$G440&\" | \"&Dati!$H440,\"---\")","v":"---"}]
[null,null,null,null,null,null,{"$f":"IF(Dati!$C441 >0,Dati!$B441&\" | \"&TEXT(Dati!$C441,\"gg/mm/aa\")&\" | \"&TEXT(Dati!$D441,\"€. 0,00\")&\" | \"&Dati!$G441&\" | \"&Dati!$H441,\"---\")","v":"---"}]
[null,null,null,null,null,null,{"$f":"IF(Dati!$C442 >0,Dati!$B442&\" | \"&TEXT(Dati!$C442,\"gg/mm/aa\")&\" | \"&TEXT(Dati!$D442,\"€. 0,00\")&\" | \"&Dati!$G442&\" | \"&Dati!$H442,\"---\")","v":"---"}]
[null,null,null,null,null,null,{"$f":"IF(Dati!$C443 >0,Dati!$B443&\" | \"&TEXT(Dati!$C443,\"gg/mm/aa\")&\" | \"&TEXT(Dati!$D443,\"€. 0,00\")&\" | \"&Dati!$G443&\" | \"&Dati!$H443,\"---\")","v":"---"}]
[null,null,null,null,null,null,{"$f":"IF(Dati!$C444 >0,Dati!$B444&\" | \"&TEXT(Dati!$C444,\"gg/mm/aa\")&\" | \"&TEXT(Dati!$D444,\"€. 0,00\")&\" | \"&Dati!$G444&\" | \"&Dati!$H444,\"---\")","v":"---"}]
[null,null,null,null,null,null,{"$f":"IF(Dati!$C445 >0,Dati!$B445&\" | \"&TEXT(Dati!$C445,\"gg/mm/aa\")&\" | \"&TEXT(Dati!$D445,\"€. 0,00\")&\" | \"&Dati!$G445&\" | \"&Dati!$H445,\"---\")","v":"---"}]
[null,null,null,null,null,null,{"$f":"IF(Dati!$C446 >0,Dati!$B446&\" | \"&TEXT(Dati!$C446,\"gg/mm/aa\")&\" | \"&TEXT(Dati!$D446,\"€. 0,00\")&\" | \"&Dati!$G446&\" | \"&Dati!$H446,\"---\")","v":"---"}]
[null,null,null,null,null,null,{"$f":"IF(Dati!$C447 >0,Dati!$B447&\" | \"&TEXT(Dati!$C447,\"gg/mm/aa\")&\" | \"&TEXT(Dati!$D447,\"€. 0,00\")&\" | \"&Dati!$G447&\" | \"&Dati!$H447,\"---\")","v":"---"}]
[null,null,null,null,null,null,{"$f":"IF(Dati!$C448 >0,Dati!$B448&\" | \"&TEXT(Dati!$C448,\"gg/mm/aa\")&\" | \"&TEXT(Dati!$D448,\"€. 0,00\")&\" | \"&Dati!$G448&\" | \"&Dati!$H448,\"---\")","v":"---"}]
[null,null,null,null,null,null,{"$f":"IF(Dati!$C449 >0,Dati!$B449&\" | \"&TEXT(Dati!$C449,\"gg/mm/aa\")&\" | \"&TEXT(Dati!$D449,\"€. 0,00\")&\" | \"&Dati!$G449&\" | \"&Dati!$H449,\"---\")","v":"---"}]
[null,null,null,null,null,null,{"$f":"IF(Dati!$C450 >0,Dati!$B450&\" | \"&TEXT(Dati!$C450,\"gg/mm/aa\")&\" | \"&TEXT(Dati!$D450,\"€. 0,00\")&\" | \"&Dati!$G450&\" | \"&Dati!$H450,\"---\")","v":"---"}]
[null,null,null,null,null,null,{"$f":"IF(Dati!$C451 >0,Dati!$B451&\" | \"&TEXT(Dati!$C451,\"gg/mm/aa\")&\" | \"&TEXT(Dati!$D451,\"€. 0,00\")&\" | \"&Dati!$G451&\" | \"&Dati!$H451,\"---\")","v":"---"}]
[null,null,null,null,null,null,{"$f":"IF(Dati!$C452 >0,Dati!$B452&\" | \"&TEXT(Dati!$C452,\"gg/mm/aa\")&\" | \"&TEXT(Dati!$D452,\"€. 0,00\")&\" | \"&Dati!$G452&\" | \"&Dati!$H452,\"---\")","v":"---"}]
[null,null,null,null,null,null,{"$f":"IF(Dati!$C453 >0,Dati!$B453&\" | \"&TEXT(Dati!$C453,\"gg/mm/aa\")&\" | \"&TEXT(Dati!$D453,\"€. 0,00\")&\" | \"&Dati!$G453&\" | \"&Dati!$H453,\"---\")","v":"---"}]
[null,null,null,null,null,null,{"$f":"IF(Dati!$C454 >0,Dati!$B454&\" | \"&TEXT(Dati!$C454,\"gg/mm/aa\")&\" | \"&TEXT(Dati!$D454,\"€. 0,00\")&\" | \"&Dati!$G454&\" | \"&Dati!$H454,\"---\")","v":"---"}]
[null,null,null,null,null,null,{"$f":"IF(Dati!$C455 >0,Dati!$B455&\" | \"&TEXT(Dati!$C455,\"gg/mm/aa\")&\" | \"&TEXT(Dati!$D455,\"€. 0,00\")&\" | \"&Dati!$G455&\" | \"&Dati!$H455,\"---\")","v":"---"}]
[null,null,null,null,null,null,{"$f":"IF(Dati!$C456 >0,Dati!$B456&\" | \"&TEXT(Dati!$C456,\"gg/mm/aa\")&\" | \"&TEXT(Dati!$D456,\"€. 0,00\")&\" | \"&Dati!$G456&\" | \"&Dati!$H456,\"---\")","v":"---"}]
[null,null,null,null,null,null,{"$f":"IF(Dati!$C457 >0,Dati!$B457&\" | \"&TEXT(Dati!$C457,\"gg/mm/aa\")&\" | \"&TEXT(Dati!$D457,\"€. 0,00\")&\" | \"&Dati!$G457&\" | \"&Dati!$H457,\"---\")","v":"---"}]
[null,null,null,null,null,null,{"$f":"IF(Dati!$C458 >0,Dati!$B458&\" | \"&TEXT(Dati!$C458,\"gg/mm/aa\")&\" | \"&TEXT(Dati!$D458,\"€. 0,00\")&\" | \"&Dati!$G458&\" | \"&Dati!$H458,\"---\")","v":"---"}]
[null,null,null,null,null,null,{"$f":"IF(Dati!$C459 >0,Dati!$B459&\" | \"&TEXT(Dati!$C459,\"gg/mm/aa\")&\" | \"&TEXT(Dati!$D459,\"€. 0,00\")&\" | \"&Dati!$G459&\" | \"&Dati!$H459,\"---\")","v":"---"}]
[null,null,null,null,null,null,{"$f":"IF(Dati!$C460 >0,Dati!$B460&\" | \"&TEXT(Dati!$C460,\"gg/mm/aa\")&\" | \"&TEXT(Dati!$D460,\"€. 0,00\")&\" | \"&Dati!$G460&\" | \"&Dati!$H460,\"---\")","v":"---"}]
[null,null,null,null,null,null,{"$f":"IF(Dati!$C461 >0,Dati!$B461&\" | \"&TEXT(Dati!$C461,\"gg/mm/aa\")&\" | \"&TEXT(Dati!$D461,\"€. 0,00\")&\" | \"&Dati!$G461&\" | \"&Dati!$H461,\"---\")","v":"---"}]
[null,null,null,null,null,null,{"$f":"IF(Dati!$C462 >0,Dati!$B462&\" | \"&TEXT(Dati!$C462,\"gg/mm/aa\")&\" | \"&TEXT(Dati!$D462,\"€. 0,00\")&\" | \"&Dati!$G462&\" | \"&Dati!$H462,\"---\")","v":"---"}]
[null,null,null,null,null,null,{"$f":"IF(Dati!$C463 >0,Dati!$B463&\" | \"&TEXT(Dati!$C463,\"gg/mm/aa\")&\" | \"&TEXT(Dati!$D463,\"€. 0,00\")&\" | \"&Dati!$G463&\" | \"&Dati!$H463,\"---\")","v":"---"}]
[null,null,null,null,null,null,{"$f":"IF(Dati!$C464 >0,Dati!$B464&\" | \"&TEXT(Dati!$C464,\"gg/mm/aa\")&\" | \"&TEXT(Dati!$D464,\"€. 0,00\")&\" | \"&Dati!$G464&\" | \"&Dati!$H464,\"---\")","v":"---"}]
[null,null,null,null,null,null,{"$f":"IF(Dati!$C465 >0,Dati!$B465&\" | \"&TEXT(Dati!$C465,\"gg/mm/aa\")&\" | \"&TEXT(Dati!$D465,\"€. 0,00\")&\" | \"&Dati!$G465&\" | \"&Dati!$H465,\"---\")","v":"---"}]
[null,null,null,null,null,null,{"$f":"IF(Dati!$C466 >0,Dati!$B466&\" | \"&TEXT(Dati!$C466,\"gg/mm/aa\")&\" | \"&TEXT(Dati!$D466,\"€. 0,00\")&\" | \"&Dati!$G466&\" | \"&Dati!$H466,\"---\")","v":"---"}]
[null,null,null,null,null,null,{"$f":"IF(Dati!$C467 >0,Dati!$B467&\" | \"&TEXT(Dati!$C467,\"gg/mm/aa\")&\" | \"&TEXT(Dati!$D467,\"€. 0,00\")&\" | \"&Dati!$G467&\" | \"&Dati!$H467,\"---\")","v":"---"}]
[null,null,null,null,null,null,{"$f":"IF(Dati!$C468 >0,Dati!$B468&\" | \"&TEXT(Dati!$C468,\"gg/mm/aa\")&\" | \"&TEXT(Dati!$D468,\"€. 0,00\")&\" | \"&Dati!$G468&\" | \"&Dati!$H468,\"---\")","v":"---"}]
[null,null,null,null,null,null,{"$f":"IF(Dati!$C469 >0,Dati!$B469&\" | \"&TEXT(Dati!$C469,\"gg/mm/aa\")&\" | \"&TEXT(Dati!$D469,\"€. 0,00\")&\" | \"&Dati!$G469&\" | \"&Dati!$H469,\"---\")","v":"---"}]
[null,null,null,null,null,null,{"$f":"IF(Dati!$C470 >0,Dati!$B470&\" | \"&TEXT(Dati!$C470,\"gg/mm/aa\")&\" | \"&TEXT(Dati!$D470,\"€. 0,00\")&\" | \"&Dati!$G470&\" | \"&Dati!$H470,\"---\")","v":"---"}]
[null,null,null,null,null,null,{"$f":"IF(Dati!$C471 >0,Dati!$B471&\" | \"&TEXT(Dati!$C471,\"gg/mm/aa\")&\" | \"&TEXT(Dati!$D471,\"€. 0,00\")&\" | \"&Dati!$G471&\" | \"&Dati!$H471,\"---\")","v":"---"}]
[null,null,null,null,null,null,{"$f":"IF(Dati!$C472 >0,Dati!$B472&\" | \"&TEXT(Dati!$C472,\"gg/mm/aa\")&\" | \"&TEXT(Dati!$D472,\"€. 0,00\")&\" | \"&Dati!$G472&\" | \"&Dati!$H472,\"---\")","v":"---"}]
[null,null,null,null,null,null,{"$f":"IF(Dati!$C473 >0,Dati!$B473&\" | \"&TEXT(Dati!$C473,\"gg/mm/aa\")&\" | \"&TEXT(Dati!$D473,\"€. 0,00\")&\" | \"&Dati!$G473&\" | \"&Dati!$H473,\"---\")","v":"---"}]
[null,null,null,null,null,null,{"$f":"IF(Dati!$C474 >0,Dati!$B474&\" | \"&TEXT(Dati!$C474,\"gg/mm/aa\")&\" | \"&TEXT(Dati!$D474,\"€. 0,00\")&\" | \"&Dati!$G474&\" | \"&Dati!$H474,\"---\")","v":"---"}]
[null,null,null,null,null,null,{"$f":"IF(Dati!$C475 >0,Dati!$B475&\" | \"&TEXT(Dati!$C475,\"gg/mm/aa\")&\" | \"&TEXT(Dati!$D475,\"€. 0,00\")&\" | \"&Dati!$G475&\" | \"&Dati!$H475,\"---\")","v":"---"}]
[null,null,null,null,null,null,{"$f":"IF(Dati!$C476 >0,Dati!$B476&\" | \"&TEXT(Dati!$C476,\"gg/mm/aa\")&\" | \"&TEXT(Dati!$D476,\"€. 0,00\")&\" | \"&Dati!$G476&\" | \"&Dati!$H476,\"---\")","v":"---"}]
[null,null,null,null,null,null,{"$f":"IF(Dati!$C477 >0,Dati!$B477&\" | \"&TEXT(Dati!$C477,\"gg/mm/aa\")&\" | \"&TEXT(Dati!$D477,\"€. 0,00\")&\" | \"&Dati!$G477&\" | \"&Dati!$H477,\"---\")","v":"---"}]
[null,null,null,null,null,null,{"$f":"IF(Dati!$C478 >0,Dati!$B478&\" | \"&TEXT(Dati!$C478,\"gg/mm/aa\")&\" | \"&TEXT(Dati!$D478,\"€. 0,00\")&\" | \"&Dati!$G478&\" | \"&Dati!$H478,\"---\")","v":"---"}]
[null,null,null,null,null,null,{"$f":"IF(Dati!$C479 >0,Dati!$B479&\" | \"&TEXT(Dati!$C479,\"gg/mm/aa\")&\" | \"&TEXT(Dati!$D479,\"€. 0,00\")&\" | \"&Dati!$G479&\" | \"&Dati!$H479,\"---\")","v":"---"}]
[null,null,null,null,null,null,{"$f":"IF(Dati!$C480 >0,Dati!$B480&\" | \"&TEXT(Dati!$C480,\"gg/mm/aa\")&\" | \"&TEXT(Dati!$D480,\"€. 0,00\")&\" | \"&Dati!$G480&\" | \"&Dati!$H480,\"---\")","v":"---"}]
[null,null,null,null,null,null,{"$f":"IF(Dati!$C481 >0,Dati!$B481&\" | \"&TEXT(Dati!$C481,\"gg/mm/aa\")&\" | \"&TEXT(Dati!$D481,\"€. 0,00\")&\" | \"&Dati!$G481&\" | \"&Dati!$H481,\"---\")","v":"---"}]
[null,null,null,null,null,null,{"$f":"IF(Dati!$C482 >0,Dati!$B482&\" | \"&TEXT(Dati!$C482,\"gg/mm/aa\")&\" | \"&TEXT(Dati!$D482,\"€. 0,00\")&\" | \"&Dati!$G482&\" | \"&Dati!$H482,\"---\")","v":"---"}]
[null,null,null,null,null,null,{"$f":"IF(Dati!$C483 >0,Dati!$B483&\" | \"&TEXT(Dati!$C483,\"gg/mm/aa\")&\" | \"&TEXT(Dati!$D483,\"€. 0,00\")&\" | \"&Dati!$G483&\" | \"&Dati!$H483,\"---\")","v":"---"}]
[null,null,null,null,null,null,{"$f":"IF(Dati!$C484 >0,Dati!$B484&\" | \"&TEXT(Dati!$C484,\"gg/mm/aa\")&\" | \"&TEXT(Dati!$D484,\"€. 0,00\")&\" | \"&Dati!$G484&\" | \"&Dati!$H484,\"---\")","v":"---"}]
[null,null,null,null,null,null,{"$f":"IF(Dati!$C485 >0,Dati!$B485&\" | \"&TEXT(Dati!$C485,\"gg/mm/aa\")&\" | \"&TEXT(Dati!$D485,\"€. 0,00\")&\" | \"&Dati!$G485&\" | \"&Dati!$H485,\"---\")","v":"---"}]
[null,null,null,null,null,null,{"$f":"IF(Dati!$C486 >0,Dati!$B486&\" | \"&TEXT(Dati!$C486,\"gg/mm/aa\")&\" | \"&TEXT(Dati!$D486,\"€. 0,00\")&\" | \"&Dati!$G486&\" | \"&Dati!$H486,\"---\")","v":"---"}]
[null,null,null,null,null,null,{"$f":"IF(Dati!$C487 >0,Dati!$B487&\" | \"&TEXT(Dati!$C487,\"gg/mm/aa\")&\" | \"&TEXT(Dati!$D487,\"€. 0,00\")&\" | \"&Dati!$G487&\" | \"&Dati!$H487,\"---\")","v":"---"}]
[null,null,null,null,null,null,{"$f":"IF(Dati!$C488 >0,Dati!$B488&\" | \"&TEXT(Dati!$C488,\"gg/mm/aa\")&\" | \"&TEXT(Dati!$D488,\"€. 0,00\")&\" | \"&Dati!$G488&\" | \"&Dati!$H488,\"---\")","v":"---"}]
[null,null,null,null,null,null,{"$f":"IF(Dati!$C489 >0,Dati!$B489&\" | \"&TEXT(Dati!$C489,\"gg/mm/aa\")&\" | \"&TEXT(Dati!$D489,\"€. 0,00\")&\" | \"&Dati!$G489&\" | \"&Dati!$H489,\"---\")","v":"---"}]
[null,null,null,null,null,null,{"$f":"IF(Dati!$C490 >0,Dati!$B490&\" | \"&TEXT(Dati!$C490,\"gg/mm/aa\")&\" | \"&TEXT(Dati!$D490,\"€. 0,00\")&\" | \"&Dati!$G490&\" | \"&Dati!$H490,\"---\")","v":"---"}]
[null,null,null,null,null,null,{"$f":"IF(Dati!$C491 >0,Dati!$B491&\" | \"&TEXT(Dati!$C491,\"gg/mm/aa\")&\" | \"&TEXT(Dati!$D491,\"€. 0,00\")&\" | \"&Dati!$G491&\" | \"&Dati!$H491,\"---\")","v":"---"}]
[null,null,null,null,null,null,{"$f":"IF(Dati!$C492 >0,Dati!$B492&\" | \"&TEXT(Dati!$C492,\"gg/mm/aa\")&\" | \"&TEXT(Dati!$D492,\"€. 0,00\")&\" | \"&Dati!$G492&\" | \"&Dati!$H492,\"---\")","v":"---"}]
[null,null,null,null,null,null,{"$f":"IF(Dati!$C493 >0,Dati!$B493&\" | \"&TEXT(Dati!$C493,\"gg/mm/aa\")&\" | \"&TEXT(Dati!$D493,\"€. 0,00\")&\" | \"&Dati!$G493&\" | \"&Dati!$H493,\"---\")","v":"---"}]
[null,null,null,null,null,null,{"$f":"IF(Dati!$C494 >0,Dati!$B494&\" | \"&TEXT(Dati!$C494,\"gg/mm/aa\")&\" | \"&TEXT(Dati!$D494,\"€. 0,00\")&\" | \"&Dati!$G494&\" | \"&Dati!$H494,\"---\")","v":"---"}]
[null,null,null,null,null,null,{"$f":"IF(Dati!$C495 >0,Dati!$B495&\" | \"&TEXT(Dati!$C495,\"gg/mm/aa\")&\" | \"&TEXT(Dati!$D495,\"€. 0,00\")&\" | \"&Dati!$G495&\" | \"&Dati!$H495,\"---\")","v":"---"}]
[null,null,null,null,null,null,{"$f":"IF(Dati!$C496 >0,Dati!$B496&\" | \"&TEXT(Dati!$C496,\"gg/mm/aa\")&\" | \"&TEXT(Dati!$D496,\"€. 0,00\")&\" | \"&Dati!$G496&\" | \"&Dati!$H496,\"---\")","v":"---"}]
[null,null,null,null,null,null,{"$f":"IF(Dati!$C497 >0,Dati!$B497&\" | \"&TEXT(Dati!$C497,\"gg/mm/aa\")&\" | \"&TEXT(Dati!$D497,\"€. 0,00\")&\" | \"&Dati!$G497&\" | \"&Dati!$H497,\"---\")","v":"---"}]
[null,null,null,null,null,null,{"$f":"IF(Dati!$C498 >0,Dati!$B498&\" | \"&TEXT(Dati!$C498,\"gg/mm/aa\")&\" | \"&TEXT(Dati!$D498,\"€. 0,00\")&\" | \"&Dati!$G498&\" | \"&Dati!$H498,\"---\")","v":"---"}]
[null,null,null,null,null,null,{"$f":"IF(Dati!$C499 >0,Dati!$B499&\" | \"&TEXT(Dati!$C499,\"gg/mm/aa\")&\" | \"&TEXT(Dati!$D499,\"€. 0,00\")&\" | \"&Dati!$G499&\" | \"&Dati!$H499,\"---\")","v":"---"}]
[null,null,null,null,null,null,{"$f":"IF(Dati!$C500 >0,Dati!$B500&\" | \"&TEXT(Dati!$C500,\"gg/mm/aa\")&\" | \"&TEXT(Dati!$D500,\"€. 0,00\")&\" | \"&Dati!$G500&\" | \"&Dati!$H500,\"---\")","v":"---"}]
[null,null,null,null,null,null,{"$f":"IF(Dati!$C501 >0,Dati!$B501&\" | \"&TEXT(Dati!$C501,\"gg/mm/aa\")&\" | \"&TEXT(Dati!$D501,\"€. 0,00\")&\" | \"&Dati!$G501&\" | \"&Dati!$H501,\"---\")","v":"---"}]
[null,null,null,null,null,null,{"$f":"IF(Dati!$C502 >0,Dati!$B502&\" | \"&TEXT(Dati!$C502,\"gg/mm/aa\")&\" | \"&TEXT(Dati!$D502,\"€. 0,00\")&\" | \"&Dati!$G502&\" | \"&Dati!$H502,\"---\")","v":"---"}]
[null,null,null,null,null,null,{"$f":"IF(Dati!$C503 >0,Dati!$B503&\" | \"&TEXT(Dati!$C503,\"gg/mm/aa\")&\" | \"&TEXT(Dati!$D503,\"€. 0,00\")&\" | \"&Dati!$G503&\" | \"&Dati!$H503,\"---\")","v":"---"}]
[null,null,null,null,null,null,{"$f":"IF(Dati!$C504 >0,Dati!$B504&\" | \"&TEXT(Dati!$C504,\"gg/mm/aa\")&\" | \"&TEXT(Dati!$D504,\"€. 0,00\")&\" | \"&Dati!$G504&\" | \"&Dati!$H504,\"---\")","v":"---"}]
[null,null,null,null,null,null,{"$f":"IF(Dati!$C505 >0,Dati!$B505&\" | \"&TEXT(Dati!$C505,\"gg/mm/aa\")&\" | \"&TEXT(Dati!$D505,\"€. 0,00\")&\" | \"&Dati!$G505&\" | \"&Dati!$H505,\"---\")","v":"---"}]
[null,null,null,null,null,null,{"$f":"IF(Dati!$C506 >0,Dati!$B506&\" | \"&TEXT(Dati!$C506,\"gg/mm/aa\")&\" | \"&TEXT(Dati!$D506,\"€. 0,00\")&\" | \"&Dati!$G506&\" | \"&Dati!$H506,\"---\")","v":"---"}]
[null,null,null,null,null,null,{"$f":"IF(Dati!$C507 >0,Dati!$B507&\" | \"&TEXT(Dati!$C507,\"gg/mm/aa\")&\" | \"&TEXT(Dati!$D507,\"€. 0,00\")&\" | \"&Dati!$G507&\" | \"&Dati!$H507,\"---\")","v":"---"}]
[null,null,null,null,null,null,{"$f":"IF(Dati!$C508 >0,Dati!$B508&\" | \"&TEXT(Dati!$C508,\"gg/mm/aa\")&\" | \"&TEXT(Dati!$D508,\"€. 0,00\")&\" | \"&Dati!$G508&\" | \"&Dati!$H508,\"---\")","v":"---"}]
[null,null,null,null,null,null,{"$f":"IF(Dati!$C509 >0,Dati!$B509&\" | \"&TEXT(Dati!$C509,\"gg/mm/aa\")&\" | \"&TEXT(Dati!$D509,\"€. 0,00\")&\" | \"&Dati!$G509&\" | \"&Dati!$H509,\"---\")","v":"---"}]
[null,null,null,null,null,null,{"$f":"IF(Dati!$C510 >0,Dati!$B510&\" | \"&TEXT(Dati!$C510,\"gg/mm/aa\")&\" | \"&TEXT(Dati!$D510,\"€. 0,00\")&\" | \"&Dati!$G510&\" | \"&Dati!$H510,\"---\")","v":"---"}]
[null,null,null,null,null,null,{"$f":"IF(Dati!$C511 >0,Dati!$B511&\" | \"&TEXT(Dati!$C511,\"gg/mm/aa\")&\" | \"&TEXT(Dati!$D511,\"€. 0,00\")&\" | \"&Dati!$G511&\" | \"&Dati!$H511,\"---\")","v":"---"}]
[null,null,null,null,null,null,{"$f":"IF(Dati!$C512 >0,Dati!$B512&\" | \"&TEXT(Dati!$C512,\"gg/mm/aa\")&\" | \"&TEXT(Dati!$D512,\"€. 0,00\")&\" | \"&Dati!$G512&\" | \"&Dati!$H512,\"---\")","v":"---"}]
[null,null,null,null,null,null,{"$f":"IF(Dati!$C513 >0,Dati!$B513&\" | \"&TEXT(Dati!$C513,\"gg/mm/aa\")&\" | \"&TEXT(Dati!$D513,\"€. 0,00\")&\" | \"&Dati!$G513&\" | \"&Dati!$H513,\"---\")","v":"---"}]
[null,null,null,null,null,null,{"$f":"IF(Dati!$C514 >0,Dati!$B514&\" | \"&TEXT(Dati!$C514,\"gg/mm/aa\")&\" | \"&TEXT(Dati!$D514,\"€. 0,00\")&\" | \"&Dati!$G514&\" | \"&Dati!$H514,\"---\")","v":"---"}]
[null,null,null,null,null,null,{"$f":"IF(Dati!$C515 >0,Dati!$B515&\" | \"&TEXT(Dati!$C515,\"gg/mm/aa\")&\" | \"&TEXT(Dati!$D515,\"€. 0,00\")&\" | \"&Dati!$G515&\" | \"&Dati!$H515,\"---\")","v":"---"}]
[null,null,null,null,null,null,{"$f":"IF(Dati!$C516 >0,Dati!$B516&\" | \"&TEXT(Dati!$C516,\"gg/mm/aa\")&\" | \"&TEXT(Dati!$D516,\"€. 0,00\")&\" | \"&Dati!$G516&\" | \"&Dati!$H516,\"---\")","v":"---"}]
[null,null,null,null,null,null,{"$f":"IF(Dati!$C517 >0,Dati!$B517&\" | \"&TEXT(Dati!$C517,\"gg/mm/aa\")&\" | \"&TEXT(Dati!$D517,\"€. 0,00\")&\" | \"&Dati!$G517&\" | \"&Dati!$H517,\"---\")","v":"---"}]
[null,null,null,null,null,null,{"$f":"IF(Dati!$C518 >0,Dati!$B518&\" | \"&TEXT(Dati!$C518,\"gg/mm/aa\")&\" | \"&TEXT(Dati!$D518,\"€. 0,00\")&\" | \"&Dati!$G518&\" | \"&Dati!$H518,\"---\")","v":"---"}]
[null,null,null,null,null,null,{"$f":"IF(Dati!$C519 >0,Dati!$B519&\" | \"&TEXT(Dati!$C519,\"gg/mm/aa\")&\" | \"&TEXT(Dati!$D519,\"€. 0,00\")&\" | \"&Dati!$G519&\" | \"&Dati!$H519,\"---\")","v":"---"}]
[null,null,null,null,null,null,{"$f":"IF(Dati!$C520 >0,Dati!$B520&\" | \"&TEXT(Dati!$C520,\"gg/mm/aa\")&\" | \"&TEXT(Dati!$D520,\"€. 0,00\")&\" | \"&Dati!$G520&\" | \"&Dati!$H520,\"---\")","v":"---"}]
[null,null,null,null,null,null,{"$f":"IF(Dati!$C521 >0,Dati!$B521&\" | \"&TEXT(Dati!$C521,\"gg/mm/aa\")&\" | \"&TEXT(Dati!$D521,\"€. 0,00\")&\" | \"&Dati!$G521&\" | \"&Dati!$H521,\"---\")","v":"---"}]
[null,null,null,null,null,null,{"$f":"IF(Dati!$C522 >0,Dati!$B522&\" | \"&TEXT(Dati!$C522,\"gg/mm/aa\")&\" | \"&TEXT(Dati!$D522,\"€. 0,00\")&\" | \"&Dati!$G522&\" | \"&Dati!$H522,\"---\")","v":"---"}]
[null,null,null,null,null,null,{"$f":"IF(Dati!$C523 >0,Dati!$B523&\" | \"&TEXT(Dati!$C523,\"gg/mm/aa\")&\" | \"&TEXT(Dati!$D523,\"€. 0,00\")&\" | \"&Dati!$G523&\" | \"&Dati!$H523,\"---\")","v":"---"}]
[null,null,null,null,null,null,{"$f":"IF(Dati!$C524 >0,Dati!$B524&\" | \"&TEXT(Dati!$C524,\"gg/mm/aa\")&\" | \"&TEXT(Dati!$D524,\"€. 0,00\")&\" | \"&Dati!$G524&\" | \"&Dati!$H524,\"---\")","v":"---"}]
[null,null,null,null,null,null,{"$f":"IF(Dati!$C525 >0,Dati!$B525&\" | \"&TEXT(Dati!$C525,\"gg/mm/aa\")&\" | \"&TEXT(Dati!$D525,\"€. 0,00\")&\" | \"&Dati!$G525&\" | \"&Dati!$H525,\"---\")","v":"---"}]
[null,null,null,null,null,null,{"$f":"IF(Dati!$C526 >0,Dati!$B526&\" | \"&TEXT(Dati!$C526,\"gg/mm/aa\")&\" | \"&TEXT(Dati!$D526,\"€. 0,00\")&\" | \"&Dati!$G526&\" | \"&Dati!$H526,\"---\")","v":"---"}]
[null,null,null,null,null,null,{"$f":"IF(Dati!$C527 >0,Dati!$B527&\" | \"&TEXT(Dati!$C527,\"gg/mm/aa\")&\" | \"&TEXT(Dati!$D527,\"€. 0,00\")&\" | \"&Dati!$G527&\" | \"&Dati!$H527,\"---\")","v":"---"}]
[null,null,null,null,null,null,{"$f":"IF(Dati!$C528 >0,Dati!$B528&\" | \"&TEXT(Dati!$C528,\"gg/mm/aa\")&\" | \"&TEXT(Dati!$D528,\"€. 0,00\")&\" | \"&Dati!$G528&\" | \"&Dati!$H528,\"---\")","v":"---"}]
[null,null,null,null,null,null,{"$f":"IF(Dati!$C529 >0,Dati!$B529&\" | \"&TEXT(Dati!$C529,\"gg/mm/aa\")&\" | \"&TEXT(Dati!$D529,\"€. 0,00\")&\" | \"&Dati!$G529&\" | \"&Dati!$H529,\"---\")","v":"---"}]
[null,null,null,null,null,null,{"$f":"IF(Dati!$C530 >0,Dati!$B530&\" | \"&TEXT(Dati!$C530,\"gg/mm/aa\")&\" | \"&TEXT(Dati!$D530,\"€. 0,00\")&\" | \"&Dati!$G530&\" | \"&Dati!$H530,\"---\")","v":"---"}]
[null,null,null,null,null,null,{"$f":"IF(Dati!$C531 >0,Dati!$B531&\" | \"&TEXT(Dati!$C531,\"gg/mm/aa\")&\" | \"&TEXT(Dati!$D531,\"€. 0,00\")&\" | \"&Dati!$G531&\" | \"&Dati!$H531,\"---\")","v":"---"}]
[null,null,null,null,null,null,{"$f":"IF(Dati!$C532 >0,Dati!$B532&\" | \"&TEXT(Dati!$C532,\"gg/mm/aa\")&\" | \"&TEXT(Dati!$D532,\"€. 0,00\")&\" | \"&Dati!$G532&\" | \"&Dati!$H532,\"---\")","v":"---"}]
[null,null,null,null,null,null,{"$f":"IF(Dati!$C533 >0,Dati!$B533&\" | \"&TEXT(Dati!$C533,\"gg/mm/aa\")&\" | \"&TEXT(Dati!$D533,\"€. 0,00\")&\" | \"&Dati!$G533&\" | \"&Dati!$H533,\"---\")","v":"---"}]
[null,null,null,null,null,null,{"$f":"IF(Dati!$C534 >0,Dati!$B534&\" | \"&TEXT(Dati!$C534,\"gg/mm/aa\")&\" | \"&TEXT(Dati!$D534,\"€. 0,00\")&\" | \"&Dati!$G534&\" | \"&Dati!$H534,\"---\")","v":"---"}]
[null,null,null,null,null,null,{"$f":"IF(Dati!$C535 >0,Dati!$B535&\" | \"&TEXT(Dati!$C535,\"gg/mm/aa\")&\" | \"&TEXT(Dati!$D535,\"€. 0,00\")&\" | \"&Dati!$G535&\" | \"&Dati!$H535,\"---\")","v":"---"}]
[null,null,null,null,null,null,{"$f":"IF(Dati!$C536 >0,Dati!$B536&\" | \"&TEXT(Dati!$C536,\"gg/mm/aa\")&\" | \"&TEXT(Dati!$D536,\"€. 0,00\")&\" | \"&Dati!$G536&\" | \"&Dati!$H536,\"---\")","v":"---"}]
[null,null,null,null,null,null,{"$f":"IF(Dati!$C537 >0,Dati!$B537&\" | \"&TEXT(Dati!$C537,\"gg/mm/aa\")&\" | \"&TEXT(Dati!$D537,\"€. 0,00\")&\" | \"&Dati!$G537&\" | \"&Dati!$H537,\"---\")","v":"---"}]
[null,null,null,null,null,null,{"$f":"IF(Dati!$C538 >0,Dati!$B538&\" | \"&TEXT(Dati!$C538,\"gg/mm/aa\")&\" | \"&TEXT(Dati!$D538,\"€. 0,00\")&\" | \"&Dati!$G538&\" | \"&Dati!$H538,\"---\")","v":"---"}]
[null,null,null,null,null,null,{"$f":"IF(Dati!$C539 >0,Dati!$B539&\" | \"&TEXT(Dati!$C539,\"gg/mm/aa\")&\" | \"&TEXT(Dati!$D539,\"€. 0,00\")&\" | \"&Dati!$G539&\" | \"&Dati!$H539,\"---\")","v":"---"}]
[null,null,null,null,null,null,{"$f":"IF(Dati!$C540 >0,Dati!$B540&\" | \"&TEXT(Dati!$C540,\"gg/mm/aa\")&\" | \"&TEXT(Dati!$D540,\"€. 0,00\")&\" | \"&Dati!$G540&\" | \"&Dati!$H540,\"---\")","v":"---"}]
[null,null,null,null,null,null,{"$f":"IF(Dati!$C541 >0,Dati!$B541&\" | \"&TEXT(Dati!$C541,\"gg/mm/aa\")&\" | \"&TEXT(Dati!$D541,\"€. 0,00\")&\" | \"&Dati!$G541&\" | \"&Dati!$H541,\"---\")","v":"---"}]
[null,null,null,null,null,null,{"$f":"IF(Dati!$C542 >0,Dati!$B542&\" | \"&TEXT(Dati!$C542,\"gg/mm/aa\")&\" | \"&TEXT(Dati!$D542,\"€. 0,00\")&\" | \"&Dati!$G542&\" | \"&Dati!$H542,\"---\")","v":"---"}]
[null,null,null,null,null,null,{"$f":"IF(Dati!$C543 >0,Dati!$B543&\" | \"&TEXT(Dati!$C543,\"gg/mm/aa\")&\" | \"&TEXT(Dati!$D543,\"€. 0,00\")&\" | \"&Dati!$G543&\" | \"&Dati!$H543,\"---\")","v":"---"}]
[null,null,null,null,null,null,{"$f":"IF(Dati!$C544 >0,Dati!$B544&\" | \"&TEXT(Dati!$C544,\"gg/mm/aa\")&\" | \"&TEXT(Dati!$D544,\"€. 0,00\")&\" | \"&Dati!$G544&\" | \"&Dati!$H544,\"---\")","v":"---"}]
[null,null,null,null,null,null,{"$f":"IF(Dati!$C545 >0,Dati!$B545&\" | \"&TEXT(Dati!$C545,\"gg/mm/aa\")&\" | \"&TEXT(Dati!$D545,\"€. 0,00\")&\" | \"&Dati!$G545&\" | \"&Dati!$H545,\"---\")","v":"---"}]
[null,null,null,null,null,null,{"$f":"IF(Dati!$C546 >0,Dati!$B546&\" | \"&TEXT(Dati!$C546,\"gg/mm/aa\")&\" | \"&TEXT(Dati!$D546,\"€. 0,00\")&\" | \"&Dati!$G546&\" | \"&Dati!$H546,\"---\")","v":"---"}]
[null,null,null,null,null,null,{"$f":"IF(Dati!$C547 >0,Dati!$B547&\" | \"&TEXT(Dati!$C547,\"gg/mm/aa\")&\" | \"&TEXT(Dati!$D547,\"€. 0,00\")&\" | \"&Dati!$G547&\" | \"&Dati!$H547,\"---\")","v":"---"}]
[null,null,null,null,null,null,{"$f":"IF(Dati!$C548 >0,Dati!$B548&\" | \"&TEXT(Dati!$C548,\"gg/mm/aa\")&\" | \"&TEXT(Dati!$D548,\"€. 0,00\")&\" | \"&Dati!$G548&\" | \"&Dati!$H548,\"---\")","v":"---"}]
[null,null,null,null,null,null,{"$f":"IF(Dati!$C549 >0,Dati!$B549&\" | \"&TEXT(Dati!$C549,\"gg/mm/aa\")&\" | \"&TEXT(Dati!$D549,\"€. 0,00\")&\" | \"&Dati!$G549&\" | \"&Dati!$H549,\"---\")","v":"---"}]
[null,null,null,null,null,null,{"$f":"IF(Dati!$C550 >0,Dati!$B550&\" | \"&TEXT(Dati!$C550,\"gg/mm/aa\")&\" | \"&TEXT(Dati!$D550,\"€. 0,00\")&\" | \"&Dati!$G550&\" | \"&Dati!$H550,\"---\")","v":"---"}]
[null,null,null,null,null,null,{"$f":"IF(Dati!$C551 >0,Dati!$B551&\" | \"&TEXT(Dati!$C551,\"gg/mm/aa\")&\" | \"&TEXT(Dati!$D551,\"€. 0,00\")&\" | \"&Dati!$G551&\" | \"&Dati!$H551,\"---\")","v":"---"}]
[null,null,null,null,null,null,{"$f":"IF(Dati!$C552 >0,Dati!$B552&\" | \"&TEXT(Dati!$C552,\"gg/mm/aa\")&\" | \"&TEXT(Dati!$D552,\"€. 0,00\")&\" | \"&Dati!$G552&\" | \"&Dati!$H552,\"---\")","v":"---"}]
[null,null,null,null,null,null,{"$f":"IF(Dati!$C553 >0,Dati!$B553&\" | \"&TEXT(Dati!$C553,\"gg/mm/aa\")&\" | \"&TEXT(Dati!$D553,\"€. 0,00\")&\" | \"&Dati!$G553&\" | \"&Dati!$H553,\"---\")","v":"---"}]
[null,null,null,null,null,null,{"$f":"IF(Dati!$C554 >0,Dati!$B554&\" | \"&TEXT(Dati!$C554,\"gg/mm/aa\")&\" | \"&TEXT(Dati!$D554,\"€. 0,00\")&\" | \"&Dati!$G554&\" | \"&Dati!$H554,\"---\")","v":"---"}]
[null,null,null,null,null,null,{"$f":"IF(Dati!$C555 >0,Dati!$B555&\" | \"&TEXT(Dati!$C555,\"gg/mm/aa\")&\" | \"&TEXT(Dati!$D555,\"€. 0,00\")&\" | \"&Dati!$G555&\" | \"&Dati!$H555,\"---\")","v":"---"}]
[null,null,null,null,null,null,{"$f":"IF(Dati!$C556 >0,Dati!$B556&\" | \"&TEXT(Dati!$C556,\"gg/mm/aa\")&\" | \"&TEXT(Dati!$D556,\"€. 0,00\")&\" | \"&Dati!$G556&\" | \"&Dati!$H556,\"---\")","v":"---"}]
[null,null,null,null,null,null,{"$f":"IF(Dati!$C557 >0,Dati!$B557&\" | \"&TEXT(Dati!$C557,\"gg/mm/aa\")&\" | \"&TEXT(Dati!$D557,\"€. 0,00\")&\" | \"&Dati!$G557&\" | \"&Dati!$H557,\"---\")","v":"---"}]
[null,null,null,null,null,null,{"$f":"IF(Dati!$C558 >0,Dati!$B558&\" | \"&TEXT(Dati!$C558,\"gg/mm/aa\")&\" | \"&TEXT(Dati!$D558,\"€. 0,00\")&\" | \"&Dati!$G558&\" | \"&Dati!$H558,\"---\")","v":"---"}]
[null,null,null,null,null,null,{"$f":"IF(Dati!$C559 >0,Dati!$B559&\" | \"&TEXT(Dati!$C559,\"gg/mm/aa\")&\" | \"&TEXT(Dati!$D559,\"€. 0,00\")&\" | \"&Dati!$G559&\" | \"&Dati!$H559,\"---\")","v":"---"}]
[null,null,null,null,null,null,{"$f":"IF(Dati!$C560 >0,Dati!$B560&\" | \"&TEXT(Dati!$C560,\"gg/mm/aa\")&\" | \"&TEXT(Dati!$D560,\"€. 0,00\")&\" | \"&Dati!$G560&\" | \"&Dati!$H560,\"---\")","v":"---"}]
[null,null,null,null,null,null,{"$f":"IF(Dati!$C561 >0,Dati!$B561&\" | \"&TEXT(Dati!$C561,\"gg/mm/aa\")&\" | \"&TEXT(Dati!$D561,\"€. 0,00\")&\" | \"&Dati!$G561&\" | \"&Dati!$H561,\"---\")","v":"---"}]
[null,null,null,null,null,null,{"$f":"IF(Dati!$C562 >0,Dati!$B562&\" | \"&TEXT(Dati!$C562,\"gg/mm/aa\")&\" | \"&TEXT(Dati!$D562,\"€. 0,00\")&\" | \"&Dati!$G562&\" | \"&Dati!$H562,\"---\")","v":"---"}]
[null,null,null,null,null,null,{"$f":"IF(Dati!$C563 >0,Dati!$B563&\" | \"&TEXT(Dati!$C563,\"gg/mm/aa\")&\" | \"&TEXT(Dati!$D563,\"€. 0,00\")&\" | \"&Dati!$G563&\" | \"&Dati!$H563,\"---\")","v":"---"}]
[null,null,null,null,null,null,{"$f":"IF(Dati!$C564 >0,Dati!$B564&\" | \"&TEXT(Dati!$C564,\"gg/mm/aa\")&\" | \"&TEXT(Dati!$D564,\"€. 0,00\")&\" | \"&Dati!$G564&\" | \"&Dati!$H564,\"---\")","v":"---"}]
[null,null,null,null,null,null,{"$f":"IF(Dati!$C565 >0,Dati!$B565&\" | \"&TEXT(Dati!$C565,\"gg/mm/aa\")&\" | \"&TEXT(Dati!$D565,\"€. 0,00\")&\" | \"&Dati!$G565&\" | \"&Dati!$H565,\"---\")","v":"---"}]
[null,null,null,null,null,null,{"$f":"IF(Dati!$C566 >0,Dati!$B566&\" | \"&TEXT(Dati!$C566,\"gg/mm/aa\")&\" | \"&TEXT(Dati!$D566,\"€. 0,00\")&\" | \"&Dati!$G566&\" | \"&Dati!$H566,\"---\")","v":"---"}]
[null,null,null,null,null,null,{"$f":"IF(Dati!$C567 >0,Dati!$B567&\" | \"&TEXT(Dati!$C567,\"gg/mm/aa\")&\" | \"&TEXT(Dati!$D567,\"€. 0,00\")&\" | \"&Dati!$G567&\" | \"&Dati!$H567,\"---\")","v":"---"}]
[null,null,null,null,null,null,{"$f":"IF(Dati!$C568 >0,Dati!$B568&\" | \"&TEXT(Dati!$C568,\"gg/mm/aa\")&\" | \"&TEXT(Dati!$D568,\"€. 0,00\")&\" | \"&Dati!$G568&\" | \"&Dati!$H568,\"---\")","v":"---"}]
[null,null,null,null,null,null,{"$f":"IF(Dati!$C569 >0,Dati!$B569&\" | \"&TEXT(Dati!$C569,\"gg/mm/aa\")&\" | \"&TEXT(Dati!$D569,\"€. 0,00\")&\" | \"&Dati!$G569&\" | \"&Dati!$H569,\"---\")","v":"---"}]
[null,null,null,null,null,null,{"$f":"IF(Dati!$C570 >0,Dati!$B570&\" | \"&TEXT(Dati!$C570,\"gg/mm/aa\")&\" | \"&TEXT(Dati!$D570,\"€. 0,00\")&\" | \"&Dati!$G570&\" | \"&Dati!$H570,\"---\")","v":"---"}]
[null,null,null,null,null,null,{"$f":"IF(Dati!$C571 >0,Dati!$B571&\" | \"&TEXT(Dati!$C571,\"gg/mm/aa\")&\" | \"&TEXT(Dati!$D571,\"€. 0,00\")&\" | \"&Dati!$G571&\" | \"&Dati!$H571,\"---\")","v":"---"}]
[null,null,null,null,null,null,{"$f":"IF(Dati!$C572 >0,Dati!$B572&\" | \"&TEXT(Dati!$C572,\"gg/mm/aa\")&\" | \"&TEXT(Dati!$D572,\"€. 0,00\")&\" | \"&Dati!$G572&\" | \"&Dati!$H572,\"---\")","v":"---"}]
[null,null,null,null,null,null,{"$f":"IF(Dati!$C573 >0,Dati!$B573&\" | \"&TEXT(Dati!$C573,\"gg/mm/aa\")&\" | \"&TEXT(Dati!$D573,\"€. 0,00\")&\" | \"&Dati!$G573&\" | \"&Dati!$H573,\"---\")","v":"---"}]
[null,null,null,null,null,null,{"$f":"IF(Dati!$C574 >0,Dati!$B574&\" | \"&TEXT(Dati!$C574,\"gg/mm/aa\")&\" | \"&TEXT(Dati!$D574,\"€. 0,00\")&\" | \"&Dati!$G574&\" | \"&Dati!$H574,\"---\")","v":"---"}]
[null,null,null,null,null,null,{"$f":"IF(Dati!$C575 >0,Dati!$B575&\" | \"&TEXT(Dati!$C575,\"gg/mm/aa\")&\" | \"&TEXT(Dati!$D575,\"€. 0,00\")&\" | \"&Dati!$G575&\" | \"&Dati!$H575,\"---\")","v":"---"}]
[null,null,null,null,null,null,{"$f":"IF(Dati!$C576 >0,Dati!$B576&\" | \"&TEXT(Dati!$C576,\"gg/mm/aa\")&\" | \"&TEXT(Dati!$D576,\"€. 0,00\")&\" | \"&Dati!$G576&\" | \"&Dati!$H576,\"---\")","v":"---"}]
[null,null,null,null,null,null,{"$f":"IF(Dati!$C577 >0,Dati!$B577&\" | \"&TEXT(Dati!$C577,\"gg/mm/aa\")&\" | \"&TEXT(Dati!$D577,\"€. 0,00\")&\" | \"&Dati!$G577&\" | \"&Dati!$H577,\"---\")","v":"---"}]
[null,null,null,null,null,null,{"$f":"IF(Dati!$C578 >0,Dati!$B578&\" | \"&TEXT(Dati!$C578,\"gg/mm/aa\")&\" | \"&TEXT(Dati!$D578,\"€. 0,00\")&\" | \"&Dati!$G578&\" | \"&Dati!$H578,\"---\")","v":"---"}]
[null,null,null,null,null,null,{"$f":"IF(Dati!$C579 >0,Dati!$B579&\" | \"&TEXT(Dati!$C579,\"gg/mm/aa\")&\" | \"&TEXT(Dati!$D579,\"€. 0,00\")&\" | \"&Dati!$G579&\" | \"&Dati!$H579,\"---\")","v":"---"}]
[null,null,null,null,null,null,{"$f":"IF(Dati!$C580 >0,Dati!$B580&\" | \"&TEXT(Dati!$C580,\"gg/mm/aa\")&\" | \"&TEXT(Dati!$D580,\"€. 0,00\")&\" | \"&Dati!$G580&\" | \"&Dati!$H580,\"---\")","v":"---"}]
[null,null,null,null,null,null,{"$f":"IF(Dati!$C581 >0,Dati!$B581&\" | \"&TEXT(Dati!$C581,\"gg/mm/aa\")&\" | \"&TEXT(Dati!$D581,\"€. 0,00\")&\" | \"&Dati!$G581&\" | \"&Dati!$H581,\"---\")","v":"---"}]
[null,null,null,null,null,null,{"$f":"IF(Dati!$C582 >0,Dati!$B582&\" | \"&TEXT(Dati!$C582,\"gg/mm/aa\")&\" | \"&TEXT(Dati!$D582,\"€. 0,00\")&\" | \"&Dati!$G582&\" | \"&Dati!$H582,\"---\")","v":"---"}]
[null,null,null,null,null,null,{"$f":"IF(Dati!$C583 >0,Dati!$B583&\" | \"&TEXT(Dati!$C583,\"gg/mm/aa\")&\" | \"&TEXT(Dati!$D583,\"€. 0,00\")&\" | \"&Dati!$G583&\" | \"&Dati!$H583,\"---\")","v":"---"}]
[null,null,null,null,null,null,{"$f":"IF(Dati!$C584 >0,Dati!$B584&\" | \"&TEXT(Dati!$C584,\"gg/mm/aa\")&\" | \"&TEXT(Dati!$D584,\"€. 0,00\")&\" | \"&Dati!$G584&\" | \"&Dati!$H584,\"---\")","v":"---"}]
[null,null,null,null,null,null,{"$f":"IF(Dati!$C585 >0,Dati!$B585&\" | \"&TEXT(Dati!$C585,\"gg/mm/aa\")&\" | \"&TEXT(Dati!$D585,\"€. 0,00\")&\" | \"&Dati!$G585&\" | \"&Dati!$H585,\"---\")","v":"---"}]
[null,null,null,null,null,null,{"$f":"IF(Dati!$C586 >0,Dati!$B586&\" | \"&TEXT(Dati!$C586,\"gg/mm/aa\")&\" | \"&TEXT(Dati!$D586,\"€. 0,00\")&\" | \"&Dati!$G586&\" | \"&Dati!$H586,\"---\")","v":"---"}]
[null,null,null,null,null,null,{"$f":"IF(Dati!$C587 >0,Dati!$B587&\" | \"&TEXT(Dati!$C587,\"gg/mm/aa\")&\" | \"&TEXT(Dati!$D587,\"€. 0,00\")&\" | \"&Dati!$G587&\" | \"&Dati!$H587,\"---\")","v":"---"}]
[null,null,null,null,null,null,{"$f":"IF(Dati!$C588 >0,Dati!$B588&\" | \"&TEXT(Dati!$C588,\"gg/mm/aa\")&\" | \"&TEXT(Dati!$D588,\"€. 0,00\")&\" | \"&Dati!$G588&\" | \"&Dati!$H588,\"---\")","v":"---"}]
[null,null,null,null,null,null,{"$f":"IF(Dati!$C589 >0,Dati!$B589&\" | \"&TEXT(Dati!$C589,\"gg/mm/aa\")&\" | \"&TEXT(Dati!$D589,\"€. 0,00\")&\" | \"&Dati!$G589&\" | \"&Dati!$H589,\"---\")","v":"---"}]
[null,null,null,null,null,null,{"$f":"IF(Dati!$C590 >0,Dati!$B590&\" | \"&TEXT(Dati!$C590,\"gg/mm/aa\")&\" | \"&TEXT(Dati!$D590,\"€. 0,00\")&\" | \"&Dati!$G590&\" | \"&Dati!$H590,\"---\")","v":"---"}]
[null,null,null,null,null,null,{"$f":"IF(Dati!$C591 >0,Dati!$B591&\" | \"&TEXT(Dati!$C591,\"gg/mm/aa\")&\" | \"&TEXT(Dati!$D591,\"€. 0,00\")&\" | \"&Dati!$G591&\" | \"&Dati!$H591,\"---\")","v":"---"}]
[null,null,null,null,null,null,{"$f":"IF(Dati!$C592 >0,Dati!$B592&\" | \"&TEXT(Dati!$C592,\"gg/mm/aa\")&\" | \"&TEXT(Dati!$D592,\"€. 0,00\")&\" | \"&Dati!$G592&\" | \"&Dati!$H592,\"---\")","v":"---"}]
[null,null,null,null,null,null,{"$f":"IF(Dati!$C593 >0,Dati!$B593&\" | \"&TEXT(Dati!$C593,\"gg/mm/aa\")&\" | \"&TEXT(Dati!$D593,\"€. 0,00\")&\" | \"&Dati!$G593&\" | \"&Dati!$H593,\"---\")","v":"---"}]
[null,null,null,null,null,null,{"$f":"IF(Dati!$C594 >0,Dati!$B594&\" | \"&TEXT(Dati!$C594,\"gg/mm/aa\")&\" | \"&TEXT(Dati!$D594,\"€. 0,00\")&\" | \"&Dati!$G594&\" | \"&Dati!$H594,\"---\")","v":"---"}]
[null,null,null,null,null,null,{"$f":"IF(Dati!$C595 >0,Dati!$B595&\" | \"&TEXT(Dati!$C595,\"gg/mm/aa\")&\" | \"&TEXT(Dati!$D595,\"€. 0,00\")&\" | \"&Dati!$G595&\" | \"&Dati!$H595,\"---\")","v":"---"}]
[null,null,null,null,null,null,{"$f":"IF(Dati!$C596 >0,Dati!$B596&\" | \"&TEXT(Dati!$C596,\"gg/mm/aa\")&\" | \"&TEXT(Dati!$D596,\"€. 0,00\")&\" | \"&Dati!$G596&\" | \"&Dati!$H596,\"---\")","v":"---"}]
[null,null,null,null,null,null,{"$f":"IF(Dati!$C597 >0,Dati!$B597&\" | \"&TEXT(Dati!$C597,\"gg/mm/aa\")&\" | \"&TEXT(Dati!$D597,\"€. 0,00\")&\" | \"&Dati!$G597&\" | \"&Dati!$H597,\"---\")","v":"---"}]
[null,null,null,null,null,null,{"$f":"IF(Dati!$C598 >0,Dati!$B598&\" | \"&TEXT(Dati!$C598,\"gg/mm/aa\")&\" | \"&TEXT(Dati!$D598,\"€. 0,00\")&\" | \"&Dati!$G598&\" | \"&Dati!$H598,\"---\")","v":"---"}]
[null,null,null,null,null,null,{"$f":"IF(Dati!$C599 >0,Dati!$B599&\" | \"&TEXT(Dati!$C599,\"gg/mm/aa\")&\" | \"&TEXT(Dati!$D599,\"€. 0,00\")&\" | \"&Dati!$G599&\" | \"&Dati!$H599,\"---\")","v":"---"}]
[null,null,null,null,null,null,{"$f":"IF(Dati!$C600 >0,Dati!$B600&\" | \"&TEXT(Dati!$C600,\"gg/mm/aa\")&\" | \"&TEXT(Dati!$D600,\"€. 0,00\")&\" | \"&Dati!$G600&\" | \"&Dati!$H600,\"---\")","v":"---"}]
[null,null,null,null,null,null,{"$f":"IF(Dati!$C601 >0,Dati!$B601&\" | \"&TEXT(Dati!$C601,\"gg/mm/aa\")&\" | \"&TEXT(Dati!$D601,\"€. 0,00\")&\" | \"&Dati!$G601&\" | \"&Dati!$H601,\"---\")","v":"---"}]
[null,null,null,null,null,null,{"$f":"IF(Dati!$C602 >0,Dati!$B602&\" | \"&TEXT(Dati!$C602,\"gg/mm/aa\")&\" | \"&TEXT(Dati!$D602,\"€. 0,00\")&\" | \"&Dati!$G602&\" | \"&Dati!$H602,\"---\")","v":"---"}]
[null,null,null,null,null,null,{"$f":"IF(Dati!$C603 >0,Dati!$B603&\" | \"&TEXT(Dati!$C603,\"gg/mm/aa\")&\" | \"&TEXT(Dati!$D603,\"€. 0,00\")&\" | \"&Dati!$G603&\" | \"&Dati!$H603,\"---\")","v":"---"}]
[null,null,null,null,null,null,{"$f":"IF(Dati!$C604 >0,Dati!$B604&\" | \"&TEXT(Dati!$C604,\"gg/mm/aa\")&\" | \"&TEXT(Dati!$D604,\"€. 0,00\")&\" | \"&Dati!$G604&\" | \"&Dati!$H604,\"---\")","v":"---"}]
[null,null,null,null,null,null,{"$f":"IF(Dati!$C605 >0,Dati!$B605&\" | \"&TEXT(Dati!$C605,\"gg/mm/aa\")&\" | \"&TEXT(Dati!$D605,\"€. 0,00\")&\" | \"&Dati!$G605&\" | \"&Dati!$H605,\"---\")","v":"---"}]
[null,null,null,null,null,null,{"$f":"IF(Dati!$C606 >0,Dati!$B606&\" | \"&TEXT(Dati!$C606,\"gg/mm/aa\")&\" | \"&TEXT(Dati!$D606,\"€. 0,00\")&\" | \"&Dati!$G606&\" | \"&Dati!$H606,\"---\")","v":"---"}]
[null,null,null,null,null,null,{"$f":"IF(Dati!$C607 >0,Dati!$B607&\" | \"&TEXT(Dati!$C607,\"gg/mm/aa\")&\" | \"&TEXT(Dati!$D607,\"€. 0,00\")&\" | \"&Dati!$G607&\" | \"&Dati!$H607,\"---\")","v":"---"}]
[null,null,null,null,null,null,{"$f":"IF(Dati!$C608 >0,Dati!$B608&\" | \"&TEXT(Dati!$C608,\"gg/mm/aa\")&\" | \"&TEXT(Dati!$D608,\"€. 0,00\")&\" | \"&Dati!$G608&\" | \"&Dati!$H608,\"---\")","v":"---"}]
[null,null,null,null,null,null,{"$f":"IF(Dati!$C609 >0,Dati!$B609&\" | \"&TEXT(Dati!$C609,\"gg/mm/aa\")&\" | \"&TEXT(Dati!$D609,\"€. 0,00\")&\" | \"&Dati!$G609&\" | \"&Dati!$H609,\"---\")","v":"---"}]
[null,null,null,null,null,null,{"$f":"IF(Dati!$C610 >0,Dati!$B610&\" | \"&TEXT(Dati!$C610,\"gg/mm/aa\")&\" | \"&TEXT(Dati!$D610,\"€. 0,00\")&\" | \"&Dati!$G610&\" | \"&Dati!$H610,\"---\")","v":"---"}]
[null,null,null,null,null,null,{"$f":"IF(Dati!$C611 >0,Dati!$B611&\" | \"&TEXT(Dati!$C611,\"gg/mm/aa\")&\" | \"&TEXT(Dati!$D611,\"€. 0,00\")&\" | \"&Dati!$G611&\" | \"&Dati!$H611,\"---\")","v":"---"}]
[null,null,null,null,null,null,{"$f":"IF(Dati!$C612 >0,Dati!$B612&\" | \"&TEXT(Dati!$C612,\"gg/mm/aa\")&\" | \"&TEXT(Dati!$D612,\"€. 0,00\")&\" | \"&Dati!$G612&\" | \"&Dati!$H612,\"---\")","v":"---"}]
[null,null,null,null,null,null,{"$f":"IF(Dati!$C613 >0,Dati!$B613&\" | \"&TEXT(Dati!$C613,\"gg/mm/aa\")&\" | \"&TEXT(Dati!$D613,\"€. 0,00\")&\" | \"&Dati!$G613&\" | \"&Dati!$H613,\"---\")","v":"---"}]
[null,null,null,null,null,null,{"$f":"IF(Dati!$C614 >0,Dati!$B614&\" | \"&TEXT(Dati!$C614,\"gg/mm/aa\")&\" | \"&TEXT(Dati!$D614,\"€. 0,00\")&\" | \"&Dati!$G614&\" | \"&Dati!$H614,\"---\")","v":"---"}]
[null,null,null,null,null,null,{"$f":"IF(Dati!$C615 >0,Dati!$B615&\" | \"&TEXT(Dati!$C615,\"gg/mm/aa\")&\" | \"&TEXT(Dati!$D615,\"€. 0,00\")&\" | \"&Dati!$G615&\" | \"&Dati!$H615,\"---\")","v":"---"}]
[null,null,null,null,null,null,{"$f":"IF(Dati!$C616 >0,Dati!$B616&\" | \"&TEXT(Dati!$C616,\"gg/mm/aa\")&\" | \"&TEXT(Dati!$D616,\"€. 0,00\")&\" | \"&Dati!$G616&\" | \"&Dati!$H616,\"---\")","v":"---"}]
[null,null,null,null,null,null,{"$f":"IF(Dati!$C617 >0,Dati!$B617&\" | \"&TEXT(Dati!$C617,\"gg/mm/aa\")&\" | \"&TEXT(Dati!$D617,\"€. 0,00\")&\" | \"&Dati!$G617&\" | \"&Dati!$H617,\"---\")","v":"---"}]
[null,null,null,null,null,null,{"$f":"IF(Dati!$C618 >0,Dati!$B618&\" | \"&TEXT(Dati!$C618,\"gg/mm/aa\")&\" | \"&TEXT(Dati!$D618,\"€. 0,00\")&\" | \"&Dati!$G618&\" | \"&Dati!$H618,\"---\")","v":"---"}]
[null,null,null,null,null,null,{"$f":"IF(Dati!$C619 >0,Dati!$B619&\" | \"&TEXT(Dati!$C619,\"gg/mm/aa\")&\" | \"&TEXT(Dati!$D619,\"€. 0,00\")&\" | \"&Dati!$G619&\" | \"&Dati!$H619,\"---\")","v":"---"}]
[null,null,null,null,null,null,{"$f":"IF(Dati!$C620 >0,Dati!$B620&\" | \"&TEXT(Dati!$C620,\"gg/mm/aa\")&\" | \"&TEXT(Dati!$D620,\"€. 0,00\")&\" | \"&Dati!$G620&\" | \"&Dati!$H620,\"---\")","v":"---"}]
[null,null,null,null,null,null,{"$f":"IF(Dati!$C621 >0,Dati!$B621&\" | \"&TEXT(Dati!$C621,\"gg/mm/aa\")&\" | \"&TEXT(Dati!$D621,\"€. 0,00\")&\" | \"&Dati!$G621&\" | \"&Dati!$H621,\"---\")","v":"---"}]
[null,null,null,null,null,null,{"$f":"IF(Dati!$C622 >0,Dati!$B622&\" | \"&TEXT(Dati!$C622,\"gg/mm/aa\")&\" | \"&TEXT(Dati!$D622,\"€. 0,00\")&\" | \"&Dati!$G622&\" | \"&Dati!$H622,\"---\")","v":"---"}]
[null,null,null,null,null,null,{"$f":"IF(Dati!$C623 >0,Dati!$B623&\" | \"&TEXT(Dati!$C623,\"gg/mm/aa\")&\" | \"&TEXT(Dati!$D623,\"€. 0,00\")&\" | \"&Dati!$G623&\" | \"&Dati!$H623,\"---\")","v":"---"}]
[null,null,null,null,null,null,{"$f":"IF(Dati!$C624 >0,Dati!$B624&\" | \"&TEXT(Dati!$C624,\"gg/mm/aa\")&\" | \"&TEXT(Dati!$D624,\"€. 0,00\")&\" | \"&Dati!$G624&\" | \"&Dati!$H624,\"---\")","v":"---"}]
[null,null,null,null,null,null,{"$f":"IF(Dati!$C625 >0,Dati!$B625&\" | \"&TEXT(Dati!$C625,\"gg/mm/aa\")&\" | \"&TEXT(Dati!$D625,\"€. 0,00\")&\" | \"&Dati!$G625&\" | \"&Dati!$H625,\"---\")","v":"---"}]
[null,null,null,null,null,null,{"$f":"IF(Dati!$C626 >0,Dati!$B626&\" | \"&TEXT(Dati!$C626,\"gg/mm/aa\")&\" | \"&TEXT(Dati!$D626,\"€. 0,00\")&\" | \"&Dati!$G626&\" | \"&Dati!$H626,\"---\")","v":"---"}]
[null,null,null,null,null,null,{"$f":"IF(Dati!$C627 >0,Dati!$B627&\" | \"&TEXT(Dati!$C627,\"gg/mm/aa\")&\" | \"&TEXT(Dati!$D627,\"€. 0,00\")&\" | \"&Dati!$G627&\" | \"&Dati!$H627,\"---\")","v":"---"}]
[null,null,null,null,null,null,{"$f":"IF(Dati!$C628 >0,Dati!$B628&\" | \"&TEXT(Dati!$C628,\"gg/mm/aa\")&\" | \"&TEXT(Dati!$D628,\"€. 0,00\")&\" | \"&Dati!$G628&\" | \"&Dati!$H628,\"---\")","v":"---"}]
[null,null,null,null,null,null,{"$f":"IF(Dati!$C629 >0,Dati!$B629&\" | \"&TEXT(Dati!$C629,\"gg/mm/aa\")&\" | \"&TEXT(Dati!$D629,\"€. 0,00\")&\" | \"&Dati!$G629&\" | \"&Dati!$H629,\"---\")","v":"---"}]
[null,null,null,null,null,null,{"$f":"IF(Dati!$C630 >0,Dati!$B630&\" | \"&TEXT(Dati!$C630,\"gg/mm/aa\")&\" | \"&TEXT(Dati!$D630,\"€. 0,00\")&\" | \"&Dati!$G630&\" | \"&Dati!$H630,\"---\")","v":"---"}]
[null,null,null,null,null,null,{"$f":"IF(Dati!$C631 >0,Dati!$B631&\" | \"&TEXT(Dati!$C631,\"gg/mm/aa\")&\" | \"&TEXT(Dati!$D631,\"€. 0,00\")&\" | \"&Dati!$G631&\" | \"&Dati!$H631,\"---\")","v":"---"}]
[null,null,null,null,null,null,{"$f":"IF(Dati!$C632 >0,Dati!$B632&\" | \"&TEXT(Dati!$C632,\"gg/mm/aa\")&\" | \"&TEXT(Dati!$D632,\"€. 0,00\")&\" | \"&Dati!$G632&\" | \"&Dati!$H632,\"---\")","v":"---"}]
[null,null,null,null,null,null,{"$f":"IF(Dati!$C633 >0,Dati!$B633&\" | \"&TEXT(Dati!$C633,\"gg/mm/aa\")&\" | \"&TEXT(Dati!$D633,\"€. 0,00\")&\" | \"&Dati!$G633&\" | \"&Dati!$H633,\"---\")","v":"---"}]
[null,null,null,null,null,null,{"$f":"IF(Dati!$C634 >0,Dati!$B634&\" | \"&TEXT(Dati!$C634,\"gg/mm/aa\")&\" | \"&TEXT(Dati!$D634,\"€. 0,00\")&\" | \"&Dati!$G634&\" | \"&Dati!$H634,\"---\")","v":"---"}]
[null,null,null,null,null,null,{"$f":"IF(Dati!$C635 >0,Dati!$B635&\" | \"&TEXT(Dati!$C635,\"gg/mm/aa\")&\" | \"&TEXT(Dati!$D635,\"€. 0,00\")&\" | \"&Dati!$G635&\" | \"&Dati!$H635,\"---\")","v":"---"}]
[null,null,null,null,null,null,{"$f":"IF(Dati!$C636 >0,Dati!$B636&\" | \"&TEXT(Dati!$C636,\"gg/mm/aa\")&\" | \"&TEXT(Dati!$D636,\"€. 0,00\")&\" | \"&Dati!$G636&\" | \"&Dati!$H636,\"---\")","v":"---"}]
[null,null,null,null,null,null,{"$f":"IF(Dati!$C637 >0,Dati!$B637&\" | \"&TEXT(Dati!$C637,\"gg/mm/aa\")&\" | \"&TEXT(Dati!$D637,\"€. 0,00\")&\" | \"&Dati!$G637&\" | \"&Dati!$H637,\"---\")","v":"---"}]
[null,null,null,null,null,null,{"$f":"IF(Dati!$C638 >0,Dati!$B638&\" | \"&TEXT(Dati!$C638,\"gg/mm/aa\")&\" | \"&TEXT(Dati!$D638,\"€. 0,00\")&\" | \"&Dati!$G638&\" | \"&Dati!$H638,\"---\")","v":"---"}]
[null,null,null,null,null,null,{"$f":"IF(Dati!$C639 >0,Dati!$B639&\" | \"&TEXT(Dati!$C639,\"gg/mm/aa\")&\" | \"&TEXT(Dati!$D639,\"€. 0,00\")&\" | \"&Dati!$G639&\" | \"&Dati!$H639,\"---\")","v":"---"}]
[null,null,null,null,null,null,{"$f":"IF(Dati!$C640 >0,Dati!$B640&\" | \"&TEXT(Dati!$C640,\"gg/mm/aa\")&\" | \"&TEXT(Dati!$D640,\"€. 0,00\")&\" | \"&Dati!$G640&\" | \"&Dati!$H640,\"---\")","v":"---"}]
[null,null,null,null,null,null,{"$f":"IF(Dati!$C641 >0,Dati!$B641&\" | \"&TEXT(Dati!$C641,\"gg/mm/aa\")&\" | \"&TEXT(Dati!$D641,\"€. 0,00\")&\" | \"&Dati!$G641&\" | \"&Dati!$H641,\"---\")","v":"---"}]
[null,null,null,null,null,null,{"$f":"IF(Dati!$C642 >0,Dati!$B642&\" | \"&TEXT(Dati!$C642,\"gg/mm/aa\")&\" | \"&TEXT(Dati!$D642,\"€. 0,00\")&\" | \"&Dati!$G642&\" | \"&Dati!$H642,\"---\")","v":"---"}]
[null,null,null,null,null,null,{"$f":"IF(Dati!$C643 >0,Dati!$B643&\" | \"&TEXT(Dati!$C643,\"gg/mm/aa\")&\" | \"&TEXT(Dati!$D643,\"€. 0,00\")&\" | \"&Dati!$G643&\" | \"&Dati!$H643,\"---\")","v":"---"}]
[null,null,null,null,null,null,{"$f":"IF(Dati!$C644 >0,Dati!$B644&\" | \"&TEXT(Dati!$C644,\"gg/mm/aa\")&\" | \"&TEXT(Dati!$D644,\"€. 0,00\")&\" | \"&Dati!$G644&\" | \"&Dati!$H644,\"---\")","v":"---"}]
[null,null,null,null,null,null,{"$f":"IF(Dati!$C645 >0,Dati!$B645&\" | \"&TEXT(Dati!$C645,\"gg/mm/aa\")&\" | \"&TEXT(Dati!$D645,\"€. 0,00\")&\" | \"&Dati!$G645&\" | \"&Dati!$H645,\"---\")","v":"---"}]
[null,null,null,null,null,null,{"$f":"IF(Dati!$C646 >0,Dati!$B646&\" | \"&TEXT(Dati!$C646,\"gg/mm/aa\")&\" | \"&TEXT(Dati!$D646,\"€. 0,00\")&\" | \"&Dati!$G646&\" | \"&Dati!$H646,\"---\")","v":"---"}]
[null,null,null,null,null,null,{"$f":"IF(Dati!$C647 >0,Dati!$B647&\" | \"&TEXT(Dati!$C647,\"gg/mm/aa\")&\" | \"&TEXT(Dati!$D647,\"€. 0,00\")&\" | \"&Dati!$G647&\" | \"&Dati!$H647,\"---\")","v":"---"}]
[null,null,null,null,null,null,{"$f":"IF(Dati!$C648 >0,Dati!$B648&\" | \"&TEXT(Dati!$C648,\"gg/mm/aa\")&\" | \"&TEXT(Dati!$D648,\"€. 0,00\")&\" | \"&Dati!$G648&\" | \"&Dati!$H648,\"---\")","v":"---"}]
[null,null,null,null,null,null,{"$f":"IF(Dati!$C649 >0,Dati!$B649&\" | \"&TEXT(Dati!$C649,\"gg/mm/aa\")&\" | \"&TEXT(Dati!$D649,\"€. 0,00\")&\" | \"&Dati!$G649&\" | \"&Dati!$H649,\"---\")","v":"---"}]
[null,null,null,null,null,null,{"$f":"IF(Dati!$C650 >0,Dati!$B650&\" | \"&TEXT(Dati!$C650,\"gg/mm/aa\")&\" | \"&TEXT(Dati!$D650,\"€. 0,00\")&\" | \"&Dati!$G650&\" | \"&Dati!$H650,\"---\")","v":"---"}]
[null,null,null,null,null,null,{"$f":"IF(Dati!$C651 >0,Dati!$B651&\" | \"&TEXT(Dati!$C651,\"gg/mm/aa\")&\" | \"&TEXT(Dati!$D651,\"€. 0,00\")&\" | \"&Dati!$G651&\" | \"&Dati!$H651,\"---\")","v":"---"}]
[null,null,null,null,null,null,{"$f":"IF(Dati!$C652 >0,Dati!$B652&\" | \"&TEXT(Dati!$C652,\"gg/mm/aa\")&\" | \"&TEXT(Dati!$D652,\"€. 0,00\")&\" | \"&Dati!$G652&\" | \"&Dati!$H652,\"---\")","v":"---"}]
[null,null,null,null,null,null,{"$f":"IF(Dati!$C653 >0,Dati!$B653&\" | \"&TEXT(Dati!$C653,\"gg/mm/aa\")&\" | \"&TEXT(Dati!$D653,\"€. 0,00\")&\" | \"&Dati!$G653&\" | \"&Dati!$H653,\"---\")","v":"---"}]
[null,null,null,null,null,null,{"$f":"IF(Dati!$C654 >0,Dati!$B654&\" | \"&TEXT(Dati!$C654,\"gg/mm/aa\")&\" | \"&TEXT(Dati!$D654,\"€. 0,00\")&\" | \"&Dati!$G654&\" | \"&Dati!$H654,\"---\")","v":"---"}]
[null,null,null,null,null,null,{"$f":"IF(Dati!$C655 >0,Dati!$B655&\" | \"&TEXT(Dati!$C655,\"gg/mm/aa\")&\" | \"&TEXT(Dati!$D655,\"€. 0,00\")&\" | \"&Dati!$G655&\" | \"&Dati!$H655,\"---\")","v":"---"}]
[null,null,null,null,null,null,{"$f":"IF(Dati!$C656 >0,Dati!$B656&\" | \"&TEXT(Dati!$C656,\"gg/mm/aa\")&\" | \"&TEXT(Dati!$D656,\"€. 0,00\")&\" | \"&Dati!$G656&\" | \"&Dati!$H656,\"---\")","v":"---"}]
[null,null,null,null,null,null,{"$f":"IF(Dati!$C657 >0,Dati!$B657&\" | \"&TEXT(Dati!$C657,\"gg/mm/aa\")&\" | \"&TEXT(Dati!$D657,\"€. 0,00\")&\" | \"&Dati!$G657&\" | \"&Dati!$H657,\"---\")","v":"---"}]
[null,null,null,null,null,null,{"$f":"IF(Dati!$C658 >0,Dati!$B658&\" | \"&TEXT(Dati!$C658,\"gg/mm/aa\")&\" | \"&TEXT(Dati!$D658,\"€. 0,00\")&\" | \"&Dati!$G658&\" | \"&Dati!$H658,\"---\")","v":"---"}]
[null,null,null,null,null,null,{"$f":"IF(Dati!$C659 >0,Dati!$B659&\" | \"&TEXT(Dati!$C659,\"gg/mm/aa\")&\" | \"&TEXT(Dati!$D659,\"€. 0,00\")&\" | \"&Dati!$G659&\" | \"&Dati!$H659,\"---\")","v":"---"}]
[null,null,null,null,null,null,{"$f":"IF(Dati!$C660 >0,Dati!$B660&\" | \"&TEXT(Dati!$C660,\"gg/mm/aa\")&\" | \"&TEXT(Dati!$D660,\"€. 0,00\")&\" | \"&Dati!$G660&\" | \"&Dati!$H660,\"---\")","v":"---"}]
[null,null,null,null,null,null,{"$f":"IF(Dati!$C661 >0,Dati!$B661&\" | \"&TEXT(Dati!$C661,\"gg/mm/aa\")&\" | \"&TEXT(Dati!$D661,\"€. 0,00\")&\" | \"&Dati!$G661&\" | \"&Dati!$H661,\"---\")","v":"---"}]
[null,null,null,null,null,null,{"$f":"IF(Dati!$C662 >0,Dati!$B662&\" | \"&TEXT(Dati!$C662,\"gg/mm/aa\")&\" | \"&TEXT(Dati!$D662,\"€. 0,00\")&\" | \"&Dati!$G662&\" | \"&Dati!$H662,\"---\")","v":"---"}]
[null,null,null,null,null,null,{"$f":"IF(Dati!$C663 >0,Dati!$B663&\" | \"&TEXT(Dati!$C663,\"gg/mm/aa\")&\" | \"&TEXT(Dati!$D663,\"€. 0,00\")&\" | \"&Dati!$G663&\" | \"&Dati!$H663,\"---\")","v":"---"}]
[null,null,null,null,null,null,{"$f":"IF(Dati!$C664 >0,Dati!$B664&\" | \"&TEXT(Dati!$C664,\"gg/mm/aa\")&\" | \"&TEXT(Dati!$D664,\"€. 0,00\")&\" | \"&Dati!$G664&\" | \"&Dati!$H664,\"---\")","v":"---"}]
[null,null,null,null,null,null,{"$f":"IF(Dati!$C665 >0,Dati!$B665&\" | \"&TEXT(Dati!$C665,\"gg/mm/aa\")&\" | \"&TEXT(Dati!$D665,\"€. 0,00\")&\" | \"&Dati!$G665&\" | \"&Dati!$H665,\"---\")","v":"---"}]
[null,null,null,null,null,null,{"$f":"IF(Dati!$C666 >0,Dati!$B666&\" | \"&TEXT(Dati!$C666,\"gg/mm/aa\")&\" | \"&TEXT(Dati!$D666,\"€. 0,00\")&\" | \"&Dati!$G666&\" | \"&Dati!$H666,\"---\")","v":"---"}]
[null,null,null,null,null,null,{"$f":"IF(Dati!$C667 >0,Dati!$B667&\" | \"&TEXT(Dati!$C667,\"gg/mm/aa\")&\" | \"&TEXT(Dati!$D667,\"€. 0,00\")&\" | \"&Dati!$G667&\" | \"&Dati!$H667,\"---\")","v":"---"}]
[null,null,null,null,null,null,{"$f":"IF(Dati!$C668 >0,Dati!$B668&\" | \"&TEXT(Dati!$C668,\"gg/mm/aa\")&\" | \"&TEXT(Dati!$D668,\"€. 0,00\")&\" | \"&Dati!$G668&\" | \"&Dati!$H668,\"---\")","v":"---"}]
[null,null,null,null,null,null,{"$f":"IF(Dati!$C669 >0,Dati!$B669&\" | \"&TEXT(Dati!$C669,\"gg/mm/aa\")&\" | \"&TEXT(Dati!$D669,\"€. 0,00\")&\" | \"&Dati!$G669&\" | \"&Dati!$H669,\"---\")","v":"---"}]
[null,null,null,null,null,null,{"$f":"IF(Dati!$C670 >0,Dati!$B670&\" | \"&TEXT(Dati!$C670,\"gg/mm/aa\")&\" | \"&TEXT(Dati!$D670,\"€. 0,00\")&\" | \"&Dati!$G670&\" | \"&Dati!$H670,\"---\")","v":"---"}]
[null,null,null,null,null,null,{"$f":"IF(Dati!$C671 >0,Dati!$B671&\" | \"&TEXT(Dati!$C671,\"gg/mm/aa\")&\" | \"&TEXT(Dati!$D671,\"€. 0,00\")&\" | \"&Dati!$G671&\" | \"&Dati!$H671,\"---\")","v":"---"}]
[null,null,null,null,null,null,{"$f":"IF(Dati!$C672 >0,Dati!$B672&\" | \"&TEXT(Dati!$C672,\"gg/mm/aa\")&\" | \"&TEXT(Dati!$D672,\"€. 0,00\")&\" | \"&Dati!$G672&\" | \"&Dati!$H672,\"---\")","v":"---"}]
[null,null,null,null,null,null,{"$f":"IF(Dati!$C673 >0,Dati!$B673&\" | \"&TEXT(Dati!$C673,\"gg/mm/aa\")&\" | \"&TEXT(Dati!$D673,\"€. 0,00\")&\" | \"&Dati!$G673&\" | \"&Dati!$H673,\"---\")","v":"---"}]
[null,null,null,null,null,null,{"$f":"IF(Dati!$C674 >0,Dati!$B674&\" | \"&TEXT(Dati!$C674,\"gg/mm/aa\")&\" | \"&TEXT(Dati!$D674,\"€. 0,00\")&\" | \"&Dati!$G674&\" | \"&Dati!$H674,\"---\")","v":"---"}]
[null,null,null,null,null,null,{"$f":"IF(Dati!$C675 >0,Dati!$B675&\" | \"&TEXT(Dati!$C675,\"gg/mm/aa\")&\" | \"&TEXT(Dati!$D675,\"€. 0,00\")&\" | \"&Dati!$G675&\" | \"&Dati!$H675,\"---\")","v":"---"}]
[null,null,null,null,null,null,{"$f":"IF(Dati!$C676 >0,Dati!$B676&\" | \"&TEXT(Dati!$C676,\"gg/mm/aa\")&\" | \"&TEXT(Dati!$D676,\"€. 0,00\")&\" | \"&Dati!$G676&\" | \"&Dati!$H676,\"---\")","v":"---"}]
[null,null,null,null,null,null,{"$f":"IF(Dati!$C677 >0,Dati!$B677&\" | \"&TEXT(Dati!$C677,\"gg/mm/aa\")&\" | \"&TEXT(Dati!$D677,\"€. 0,00\")&\" | \"&Dati!$G677&\" | \"&Dati!$H677,\"---\")","v":"---"}]
[null,null,null,null,null,null,{"$f":"IF(Dati!$C678 >0,Dati!$B678&\" | \"&TEXT(Dati!$C678,\"gg/mm/aa\")&\" | \"&TEXT(Dati!$D678,\"€. 0,00\")&\" | \"&Dati!$G678&\" | \"&Dati!$H678,\"---\")","v":"---"}]
[null,null,null,null,null,null,{"$f":"IF(Dati!$C679 >0,Dati!$B679&\" | \"&TEXT(Dati!$C679,\"gg/mm/aa\")&\" | \"&TEXT(Dati!$D679,\"€. 0,00\")&\" | \"&Dati!$G679&\" | \"&Dati!$H679,\"---\")","v":"---"}]
[null,null,null,null,null,null,{"$f":"IF(Dati!$C680 >0,Dati!$B680&\" | \"&TEXT(Dati!$C680,\"gg/mm/aa\")&\" | \"&TEXT(Dati!$D680,\"€. 0,00\")&\" | \"&Dati!$G680&\" | \"&Dati!$H680,\"---\")","v":"---"}]
[null,null,null,null,null,null,{"$f":"IF(Dati!$C681 >0,Dati!$B681&\" | \"&TEXT(Dati!$C681,\"gg/mm/aa\")&\" | \"&TEXT(Dati!$D681,\"€. 0,00\")&\" | \"&Dati!$G681&\" | \"&Dati!$H681,\"---\")","v":"---"}]
[null,null,null,null,null,null,{"$f":"IF(Dati!$C682 >0,Dati!$B682&\" | \"&TEXT(Dati!$C682,\"gg/mm/aa\")&\" | \"&TEXT(Dati!$D682,\"€. 0,00\")&\" | \"&Dati!$G682&\" | \"&Dati!$H682,\"---\")","v":"---"}]
[null,null,null,null,null,null,{"$f":"IF(Dati!$C683 >0,Dati!$B683&\" | \"&TEXT(Dati!$C683,\"gg/mm/aa\")&\" | \"&TEXT(Dati!$D683,\"€. 0,00\")&\" | \"&Dati!$G683&\" | \"&Dati!$H683,\"---\")","v":"---"}]
[null,null,null,null,null,null,{"$f":"IF(Dati!$C684 >0,Dati!$B684&\" | \"&TEXT(Dati!$C684,\"gg/mm/aa\")&\" | \"&TEXT(Dati!$D684,\"€. 0,00\")&\" | \"&Dati!$G684&\" | \"&Dati!$H684,\"---\")","v":"---"}]
[null,null,null,null,null,null,{"$f":"IF(Dati!$C685 >0,Dati!$B685&\" | \"&TEXT(Dati!$C685,\"gg/mm/aa\")&\" | \"&TEXT(Dati!$D685,\"€. 0,00\")&\" | \"&Dati!$G685&\" | \"&Dati!$H685,\"---\")","v":"---"}]
[null,null,null,null,null,null,{"$f":"IF(Dati!$C686 >0,Dati!$B686&\" | \"&TEXT(Dati!$C686,\"gg/mm/aa\")&\" | \"&TEXT(Dati!$D686,\"€. 0,00\")&\" | \"&Dati!$G686&\" | \"&Dati!$H686,\"---\")","v":"---"}]
[null,null,null,null,null,null,{"$f":"IF(Dati!$C687 >0,Dati!$B687&\" | \"&TEXT(Dati!$C687,\"gg/mm/aa\")&\" | \"&TEXT(Dati!$D687,\"€. 0,00\")&\" | \"&Dati!$G687&\" | \"&Dati!$H687,\"---\")","v":"---"}]
[null,null,null,null,null,null,{"$f":"IF(Dati!$C688 >0,Dati!$B688&\" | \"&TEXT(Dati!$C688,\"gg/mm/aa\")&\" | \"&TEXT(Dati!$D688,\"€. 0,00\")&\" | \"&Dati!$G688&\" | \"&Dati!$H688,\"---\")","v":"---"}]
[null,null,null,null,null,null,{"$f":"IF(Dati!$C689 >0,Dati!$B689&\" | \"&TEXT(Dati!$C689,\"gg/mm/aa\")&\" | \"&TEXT(Dati!$D689,\"€. 0,00\")&\" | \"&Dati!$G689&\" | \"&Dati!$H689,\"---\")","v":"---"}]
[null,null,null,null,null,null,{"$f":"IF(Dati!$C690 >0,Dati!$B690&\" | \"&TEXT(Dati!$C690,\"gg/mm/aa\")&\" | \"&TEXT(Dati!$D690,\"€. 0,00\")&\" | \"&Dati!$G690&\" | \"&Dati!$H690,\"---\")","v":"---"}]
[null,null,null,null,null,null,{"$f":"IF(Dati!$C691 >0,Dati!$B691&\" | \"&TEXT(Dati!$C691,\"gg/mm/aa\")&\" | \"&TEXT(Dati!$D691,\"€. 0,00\")&\" | \"&Dati!$G691&\" | \"&Dati!$H691,\"---\")","v":"---"}]
[null,null,null,null,null,null,{"$f":"IF(Dati!$C692 >0,Dati!$B692&\" | \"&TEXT(Dati!$C692,\"gg/mm/aa\")&\" | \"&TEXT(Dati!$D692,\"€. 0,00\")&\" | \"&Dati!$G692&\" | \"&Dati!$H692,\"---\")","v":"---"}]
[null,null,null,null,null,null,{"$f":"IF(Dati!$C693 >0,Dati!$B693&\" | \"&TEXT(Dati!$C693,\"gg/mm/aa\")&\" | \"&TEXT(Dati!$D693,\"€. 0,00\")&\" | \"&Dati!$G693&\" | \"&Dati!$H693,\"---\")","v":"---"}]
[null,null,null,null,null,null,{"$f":"IF(Dati!$C694 >0,Dati!$B694&\" | \"&TEXT(Dati!$C694,\"gg/mm/aa\")&\" | \"&TEXT(Dati!$D694,\"€. 0,00\")&\" | \"&Dati!$G694&\" | \"&Dati!$H694,\"---\")","v":"---"}]
[null,null,null,null,null,null,{"$f":"IF(Dati!$C695 >0,Dati!$B695&\" | \"&TEXT(Dati!$C695,\"gg/mm/aa\")&\" | \"&TEXT(Dati!$D695,\"€. 0,00\")&\" | \"&Dati!$G695&\" | \"&Dati!$H695,\"---\")","v":"---"}]
[null,null,null,null,null,null,{"$f":"IF(Dati!$C696 >0,Dati!$B696&\" | \"&TEXT(Dati!$C696,\"gg/mm/aa\")&\" | \"&TEXT(Dati!$D696,\"€. 0,00\")&\" | \"&Dati!$G696&\" | \"&Dati!$H696,\"---\")","v":"---"}]
[null,null,null,null,null,null,{"$f":"IF(Dati!$C697 >0,Dati!$B697&\" | \"&TEXT(Dati!$C697,\"gg/mm/aa\")&\" | \"&TEXT(Dati!$D697,\"€. 0,00\")&\" | \"&Dati!$G697&\" | \"&Dati!$H697,\"---\")","v":"---"}]
[null,null,null,null,null,null,{"$f":"IF(Dati!$C698 >0,Dati!$B698&\" | \"&TEXT(Dati!$C698,\"gg/mm/aa\")&\" | \"&TEXT(Dati!$D698,\"€. 0,00\")&\" | \"&Dati!$G698&\" | \"&Dati!$H698,\"---\")","v":"---"}]
[null,null,null,null,null,null,{"$f":"IF(Dati!$C699 >0,Dati!$B699&\" | \"&TEXT(Dati!$C699,\"gg/mm/aa\")&\" | \"&TEXT(Dati!$D699,\"€. 0,00\")&\" | \"&Dati!$G699&\" | \"&Dati!$H699,\"---\")","v":"---"}]
[null,null,null,null,null,null,{"$f":"IF(Dati!$C700 >0,Dati!$B700&\" | \"&TEXT(Dati!$C700,\"gg/mm/aa\")&\" | \"&TEXT(Dati!$D700,\"€. 0,00\")&\" | \"&Dati!$G700&\" | \"&Dati!$H700,\"---\")","v":"---"}]
[null,null,null,null,null,null,{"$f":"IF(Dati!$C701 >0,Dati!$B701&\" | \"&TEXT(Dati!$C701,\"gg/mm/aa\")&\" | \"&TEXT(Dati!$D701,\"€. 0,00\")&\" | \"&Dati!$G701&\" | \"&Dati!$H701,\"---\")","v":"---"}]
[null,null,null,null,null,null,{"$f":"IF(Dati!$C702 >0,Dati!$B702&\" | \"&TEXT(Dati!$C702,\"gg/mm/aa\")&\" | \"&TEXT(Dati!$D702,\"€. 0,00\")&\" | \"&Dati!$G702&\" | \"&Dati!$H702,\"---\")","v":"---"}]
[null,null,null,null,null,null,{"$f":"IF(Dati!$C703 >0,Dati!$B703&\" | \"&TEXT(Dati!$C703,\"gg/mm/aa\")&\" | \"&TEXT(Dati!$D703,\"€. 0,00\")&\" | \"&Dati!$G703&\" | \"&Dati!$H703,\"---\")","v":"---"}]
[null,null,null,null,null,null,{"$f":"IF(Dati!$C704 >0,Dati!$B704&\" | \"&TEXT(Dati!$C704,\"gg/mm/aa\")&\" | \"&TEXT(Dati!$D704,\"€. 0,00\")&\" | \"&Dati!$G704&\" | \"&Dati!$H704,\"---\")","v":"---"}]
[null,null,null,null,null,null,{"$f":"IF(Dati!$C705 >0,Dati!$B705&\" | \"&TEXT(Dati!$C705,\"gg/mm/aa\")&\" | \"&TEXT(Dati!$D705,\"€. 0,00\")&\" | \"&Dati!$G705&\" | \"&Dati!$H705,\"---\")","v":"---"}]
[null,null,null,null,null,null,{"$f":"IF(Dati!$C706 >0,Dati!$B706&\" | \"&TEXT(Dati!$C706,\"gg/mm/aa\")&\" | \"&TEXT(Dati!$D706,\"€. 0,00\")&\" | \"&Dati!$G706&\" | \"&Dati!$H706,\"---\")","v":"---"}]
[null,null,null,null,null,null,{"$f":"IF(Dati!$C707 >0,Dati!$B707&\" | \"&TEXT(Dati!$C707,\"gg/mm/aa\")&\" | \"&TEXT(Dati!$D707,\"€. 0,00\")&\" | \"&Dati!$G707&\" | \"&Dati!$H707,\"---\")","v":"---"}]
[null,null,null,null,null,null,{"$f":"IF(Dati!$C708 >0,Dati!$B708&\" | \"&TEXT(Dati!$C708,\"gg/mm/aa\")&\" | \"&TEXT(Dati!$D708,\"€. 0,00\")&\" | \"&Dati!$G708&\" | \"&Dati!$H708,\"---\")","v":"---"}]
[null,null,null,null,null,null,{"$f":"IF(Dati!$C709 >0,Dati!$B709&\" | \"&TEXT(Dati!$C709,\"gg/mm/aa\")&\" | \"&TEXT(Dati!$D709,\"€. 0,00\")&\" | \"&Dati!$G709&\" | \"&Dati!$H709,\"---\")","v":"---"}]
[null,null,null,null,null,null,{"$f":"IF(Dati!$C710 >0,Dati!$B710&\" | \"&TEXT(Dati!$C710,\"gg/mm/aa\")&\" | \"&TEXT(Dati!$D710,\"€. 0,00\")&\" | \"&Dati!$G710&\" | \"&Dati!$H710,\"---\")","v":"---"}]
[null,null,null,null,null,null,{"$f":"IF(Dati!$C711 >0,Dati!$B711&\" | \"&TEXT(Dati!$C711,\"gg/mm/aa\")&\" | \"&TEXT(Dati!$D711,\"€. 0,00\")&\" | \"&Dati!$G711&\" | \"&Dati!$H711,\"---\")","v":"---"}]
[null,null,null,null,null,null,{"$f":"IF(Dati!$C712 >0,Dati!$B712&\" | \"&TEXT(Dati!$C712,\"gg/mm/aa\")&\" | \"&TEXT(Dati!$D712,\"€. 0,00\")&\" | \"&Dati!$G712&\" | \"&Dati!$H712,\"---\")","v":"---"}]
[null,null,null,null,null,null,{"$f":"IF(Dati!$C713 >0,Dati!$B713&\" | \"&TEXT(Dati!$C713,\"gg/mm/aa\")&\" | \"&TEXT(Dati!$D713,\"€. 0,00\")&\" | \"&Dati!$G713&\" | \"&Dati!$H713,\"---\")","v":"---"}]
[null,null,null,null,null,null,{"$f":"IF(Dati!$C714 >0,Dati!$B714&\" | \"&TEXT(Dati!$C714,\"gg/mm/aa\")&\" | \"&TEXT(Dati!$D714,\"€. 0,00\")&\" | \"&Dati!$G714&\" | \"&Dati!$H714,\"---\")","v":"---"}]
[null,null,null,null,null,null,{"$f":"IF(Dati!$C715 >0,Dati!$B715&\" | \"&TEXT(Dati!$C715,\"gg/mm/aa\")&\" | \"&TEXT(Dati!$D715,\"€. 0,00\")&\" | \"&Dati!$G715&\" | \"&Dati!$H715,\"---\")","v":"---"}]
[null,null,null,null,null,null,{"$f":"IF(Dati!$C716 >0,Dati!$B716&\" | \"&TEXT(Dati!$C716,\"gg/mm/aa\")&\" | \"&TEXT(Dati!$D716,\"€. 0,00\")&\" | \"&Dati!$G716&\" | \"&Dati!$H716,\"---\")","v":"---"}]
[null,null,null,null,null,null,{"$f":"IF(Dati!$C717 >0,Dati!$B717&\" | \"&TEXT(Dati!$C717,\"gg/mm/aa\")&\" | \"&TEXT(Dati!$D717,\"€. 0,00\")&\" | \"&Dati!$G717&\" | \"&Dati!$H717,\"---\")","v":"---"}]
[null,null,null,null,null,null,{"$f":"IF(Dati!$C718 >0,Dati!$B718&\" | \"&TEXT(Dati!$C718,\"gg/mm/aa\")&\" | \"&TEXT(Dati!$D718,\"€. 0,00\")&\" | \"&Dati!$G718&\" | \"&Dati!$H718,\"---\")","v":"---"}]
[null,null,null,null,null,null,{"$f":"IF(Dati!$C719 >0,Dati!$B719&\" | \"&TEXT(Dati!$C719,\"gg/mm/aa\")&\" | \"&TEXT(Dati!$D719,\"€. 0,00\")&\" | \"&Dati!$G719&\" | \"&Dati!$H719,\"---\")","v":"---"}]
[null,null,null,null,null,null,{"$f":"IF(Dati!$C720 >0,Dati!$B720&\" | \"&TEXT(Dati!$C720,\"gg/mm/aa\")&\" | \"&TEXT(Dati!$D720,\"€. 0,00\")&\" | \"&Dati!$G720&\" | \"&Dati!$H720,\"---\")","v":"---"}]
[null,null,null,null,null,null,{"$f":"IF(Dati!$C721 >0,Dati!$B721&\" | \"&TEXT(Dati!$C721,\"gg/mm/aa\")&\" | \"&TEXT(Dati!$D721,\"€. 0,00\")&\" | \"&Dati!$G721&\" | \"&Dati!$H721,\"---\")","v":"---"}]
[null,null,null,null,null,null,{"$f":"IF(Dati!$C722 >0,Dati!$B722&\" | \"&TEXT(Dati!$C722,\"gg/mm/aa\")&\" | \"&TEXT(Dati!$D722,\"€. 0,00\")&\" | \"&Dati!$G722&\" | \"&Dati!$H722,\"---\")","v":"---"}]
[null,null,null,null,null,null,{"$f":"IF(Dati!$C723 >0,Dati!$B723&\" | \"&TEXT(Dati!$C723,\"gg/mm/aa\")&\" | \"&TEXT(Dati!$D723,\"€. 0,00\")&\" | \"&Dati!$G723&\" | \"&Dati!$H723,\"---\")","v":"---"}]
[null,null,null,null,null,null,{"$f":"IF(Dati!$C724 >0,Dati!$B724&\" | \"&TEXT(Dati!$C724,\"gg/mm/aa\")&\" | \"&TEXT(Dati!$D724,\"€. 0,00\")&\" | \"&Dati!$G724&\" | \"&Dati!$H724,\"---\")","v":"---"}]
[null,null,null,null,null,null,{"$f":"IF(Dati!$C725 >0,Dati!$B725&\" | \"&TEXT(Dati!$C725,\"gg/mm/aa\")&\" | \"&TEXT(Dati!$D725,\"€. 0,00\")&\" | \"&Dati!$G725&\" | \"&Dati!$H725,\"---\")","v":"---"}]
[null,null,null,null,null,null,{"$f":"IF(Dati!$C726 >0,Dati!$B726&\" | \"&TEXT(Dati!$C726,\"gg/mm/aa\")&\" | \"&TEXT(Dati!$D726,\"€. 0,00\")&\" | \"&Dati!$G726&\" | \"&Dati!$H726,\"---\")","v":"---"}]
[null,null,null,null,null,null,{"$f":"IF(Dati!$C727 >0,Dati!$B727&\" | \"&TEXT(Dati!$C727,\"gg/mm/aa\")&\" | \"&TEXT(Dati!$D727,\"€. 0,00\")&\" | \"&Dati!$G727&\" | \"&Dati!$H727,\"---\")","v":"---"}]
[null,null,null,null,null,null,{"$f":"IF(Dati!$C728 >0,Dati!$B728&\" | \"&TEXT(Dati!$C728,\"gg/mm/aa\")&\" | \"&TEXT(Dati!$D728,\"€. 0,00\")&\" | \"&Dati!$G728&\" | \"&Dati!$H728,\"---\")","v":"---"}]
[null,null,null,null,null,null,{"$f":"IF(Dati!$C729 >0,Dati!$B729&\" | \"&TEXT(Dati!$C729,\"gg/mm/aa\")&\" | \"&TEXT(Dati!$D729,\"€. 0,00\")&\" | \"&Dati!$G729&\" | \"&Dati!$H729,\"---\")","v":"---"}]
[null,null,null,null,null,null,{"$f":"IF(Dati!$C730 >0,Dati!$B730&\" | \"&TEXT(Dati!$C730,\"gg/mm/aa\")&\" | \"&TEXT(Dati!$D730,\"€. 0,00\")&\" | \"&Dati!$G730&\" | \"&Dati!$H730,\"---\")","v":"---"}]
[null,null,null,null,null,null,{"$f":"IF(Dati!$C731 >0,Dati!$B731&\" | \"&TEXT(Dati!$C731,\"gg/mm/aa\")&\" | \"&TEXT(Dati!$D731,\"€. 0,00\")&\" | \"&Dati!$G731&\" | \"&Dati!$H731,\"---\")","v":"---"}]
[null,null,null,null,null,null,{"$f":"IF(Dati!$C732 >0,Dati!$B732&\" | \"&TEXT(Dati!$C732,\"gg/mm/aa\")&\" | \"&TEXT(Dati!$D732,\"€. 0,00\")&\" | \"&Dati!$G732&\" | \"&Dati!$H732,\"---\")","v":"---"}]
[null,null,null,null,null,null,{"$f":"IF(Dati!$C733 >0,Dati!$B733&\" | \"&TEXT(Dati!$C733,\"gg/mm/aa\")&\" | \"&TEXT(Dati!$D733,\"€. 0,00\")&\" | \"&Dati!$G733&\" | \"&Dati!$H733,\"---\")","v":"---"}]
[null,null,null,null,null,null,{"$f":"IF(Dati!$C734 >0,Dati!$B734&\" | \"&TEXT(Dati!$C734,\"gg/mm/aa\")&\" | \"&TEXT(Dati!$D734,\"€. 0,00\")&\" | \"&Dati!$G734&\" | \"&Dati!$H734,\"---\")","v":"---"}]
[null,null,null,null,null,null,{"$f":"IF(Dati!$C735 >0,Dati!$B735&\" | \"&TEXT(Dati!$C735,\"gg/mm/aa\")&\" | \"&TEXT(Dati!$D735,\"€. 0,00\")&\" | \"&Dati!$G735&\" | \"&Dati!$H735,\"---\")","v":"---"}]
[null,null,null,null,null,null,{"$f":"IF(Dati!$C736 >0,Dati!$B736&\" | \"&TEXT(Dati!$C736,\"gg/mm/aa\")&\" | \"&TEXT(Dati!$D736,\"€. 0,00\")&\" | \"&Dati!$G736&\" | \"&Dati!$H736,\"---\")","v":"---"}]
[null,null,null,null,null,null,{"$f":"IF(Dati!$C737 >0,Dati!$B737&\" | \"&TEXT(Dati!$C737,\"gg/mm/aa\")&\" | \"&TEXT(Dati!$D737,\"€. 0,00\")&\" | \"&Dati!$G737&\" | \"&Dati!$H737,\"---\")","v":"---"}]
[null,null,null,null,null,null,{"$f":"IF(Dati!$C738 >0,Dati!$B738&\" | \"&TEXT(Dati!$C738,\"gg/mm/aa\")&\" | \"&TEXT(Dati!$D738,\"€. 0,00\")&\" | \"&Dati!$G738&\" | \"&Dati!$H738,\"---\")","v":"---"}]
[null,null,null,null,null,null,{"$f":"IF(Dati!$C739 >0,Dati!$B739&\" | \"&TEXT(Dati!$C739,\"gg/mm/aa\")&\" | \"&TEXT(Dati!$D739,\"€. 0,00\")&\" | \"&Dati!$G739&\" | \"&Dati!$H739,\"---\")","v":"---"}]
[null,null,null,null,null,null,{"$f":"IF(Dati!$C740 >0,Dati!$B740&\" | \"&TEXT(Dati!$C740,\"gg/mm/aa\")&\" | \"&TEXT(Dati!$D740,\"€. 0,00\")&\" | \"&Dati!$G740&\" | \"&Dati!$H740,\"---\")","v":"---"}]
[null,null,null,null,null,null,{"$f":"IF(Dati!$C741 >0,Dati!$B741&\" | \"&TEXT(Dati!$C741,\"gg/mm/aa\")&\" | \"&TEXT(Dati!$D741,\"€. 0,00\")&\" | \"&Dati!$G741&\" | \"&Dati!$H741,\"---\")","v":"---"}]
[null,null,null,null,null,null,{"$f":"IF(Dati!$C742 >0,Dati!$B742&\" | \"&TEXT(Dati!$C742,\"gg/mm/aa\")&\" | \"&TEXT(Dati!$D742,\"€. 0,00\")&\" | \"&Dati!$G742&\" | \"&Dati!$H742,\"---\")","v":"---"}]
[null,null,null,null,null,null,{"$f":"IF(Dati!$C743 >0,Dati!$B743&\" | \"&TEXT(Dati!$C743,\"gg/mm/aa\")&\" | \"&TEXT(Dati!$D743,\"€. 0,00\")&\" | \"&Dati!$G743&\" | \"&Dati!$H743,\"---\")","v":"---"}]
[null,null,null,null,null,null,{"$f":"IF(Dati!$C744 >0,Dati!$B744&\" | \"&TEXT(Dati!$C744,\"gg/mm/aa\")&\" | \"&TEXT(Dati!$D744,\"€. 0,00\")&\" | \"&Dati!$G744&\" | \"&Dati!$H744,\"---\")","v":"---"}]
[null,null,null,null,null,null,{"$f":"IF(Dati!$C745 >0,Dati!$B745&\" | \"&TEXT(Dati!$C745,\"gg/mm/aa\")&\" | \"&TEXT(Dati!$D745,\"€. 0,00\")&\" | \"&Dati!$G745&\" | \"&Dati!$H745,\"---\")","v":"---"}]
[null,null,null,null,null,null,{"$f":"IF(Dati!$C746 >0,Dati!$B746&\" | \"&TEXT(Dati!$C746,\"gg/mm/aa\")&\" | \"&TEXT(Dati!$D746,\"€. 0,00\")&\" | \"&Dati!$G746&\" | \"&Dati!$H746,\"---\")","v":"---"}]
[null,null,null,null,null,null,{"$f":"IF(Dati!$C747 >0,Dati!$B747&\" | \"&TEXT(Dati!$C747,\"gg/mm/aa\")&\" | \"&TEXT(Dati!$D747,\"€. 0,00\")&\" | \"&Dati!$G747&\" | \"&Dati!$H747,\"---\")","v":"---"}]
[null,null,null,null,null,null,{"$f":"IF(Dati!$C748 >0,Dati!$B748&\" | \"&TEXT(Dati!$C748,\"gg/mm/aa\")&\" | \"&TEXT(Dati!$D748,\"€. 0,00\")&\" | \"&Dati!$G748&\" | \"&Dati!$H748,\"---\")","v":"---"}]
[null,null,null,null,null,null,{"$f":"IF(Dati!$C749 >0,Dati!$B749&\" | \"&TEXT(Dati!$C749,\"gg/mm/aa\")&\" | \"&TEXT(Dati!$D749,\"€. 0,00\")&\" | \"&Dati!$G749&\" | \"&Dati!$H749,\"---\")","v":"---"}]
[null,null,null,null,null,null,{"$f":"IF(Dati!$C750 >0,Dati!$B750&\" | \"&TEXT(Dati!$C750,\"gg/mm/aa\")&\" | \"&TEXT(Dati!$D750,\"€. 0,00\")&\" | \"&Dati!$G750&\" | \"&Dati!$H750,\"---\")","v":"---"}]
[null,null,null,null,null,null,{"$f":"IF(Dati!$C751 >0,Dati!$B751&\" | \"&TEXT(Dati!$C751,\"gg/mm/aa\")&\" | \"&TEXT(Dati!$D751,\"€. 0,00\")&\" | \"&Dati!$G751&\" | \"&Dati!$H751,\"---\")","v":"---"}]
[null,null,null,null,null,null,{"$f":"IF(Dati!$C752 >0,Dati!$B752&\" | \"&TEXT(Dati!$C752,\"gg/mm/aa\")&\" | \"&TEXT(Dati!$D752,\"€. 0,00\")&\" | \"&Dati!$G752&\" | \"&Dati!$H752,\"---\")","v":"---"}]
[null,null,null,null,null,null,{"$f":"IF(Dati!$C753 >0,Dati!$B753&\" | \"&TEXT(Dati!$C753,\"gg/mm/aa\")&\" | \"&TEXT(Dati!$D753,\"€. 0,00\")&\" | \"&Dati!$G753&\" | \"&Dati!$H753,\"---\")","v":"---"}]
[null,null,null,null,null,null,{"$f":"IF(Dati!$C754 >0,Dati!$B754&\" | \"&TEXT(Dati!$C754,\"gg/mm/aa\")&\" | \"&TEXT(Dati!$D754,\"€. 0,00\")&\" | \"&Dati!$G754&\" | \"&Dati!$H754,\"---\")","v":"---"}]
[null,null,null,null,null,null,{"$f":"IF(Dati!$C755 >0,Dati!$B755&\" | \"&TEXT(Dati!$C755,\"gg/mm/aa\")&\" | \"&TEXT(Dati!$D755,\"€. 0,00\")&\" | \"&Dati!$G755&\" | \"&Dati!$H755,\"---\")","v":"---"}]
[null,null,null,null,null,null,{"$f":"IF(Dati!$C756 >0,Dati!$B756&\" | \"&TEXT(Dati!$C756,\"gg/mm/aa\")&\" | \"&TEXT(Dati!$D756,\"€. 0,00\")&\" | \"&Dati!$G756&\" | \"&Dati!$H756,\"---\")","v":"---"}]
[null,null,null,null,null,null,{"$f":"IF(Dati!$C757 >0,Dati!$B757&\" | \"&TEXT(Dati!$C757,\"gg/mm/aa\")&\" | \"&TEXT(Dati!$D757,\"€. 0,00\")&\" | \"&Dati!$G757&\" | \"&Dati!$H757,\"---\")","v":"---"}]
[null,null,null,null,null,null,{"$f":"IF(Dati!$C758 >0,Dati!$B758&\" | \"&TEXT(Dati!$C758,\"gg/mm/aa\")&\" | \"&TEXT(Dati!$D758,\"€. 0,00\")&\" | \"&Dati!$G758&\" | \"&Dati!$H758,\"---\")","v":"---"}]
[null,null,null,null,null,null,{"$f":"IF(Dati!$C759 >0,Dati!$B759&\" | \"&TEXT(Dati!$C759,\"gg/mm/aa\")&\" | \"&TEXT(Dati!$D759,\"€. 0,00\")&\" | \"&Dati!$G759&\" | \"&Dati!$H759,\"---\")","v":"---"}]
[null,null,null,null,null,null,{"$f":"IF(Dati!$C760 >0,Dati!$B760&\" | \"&TEXT(Dati!$C760,\"gg/mm/aa\")&\" | \"&TEXT(Dati!$D760,\"€. 0,00\")&\" | \"&Dati!$G760&\" | \"&Dati!$H760,\"---\")","v":"---"}]
[null,null,null,null,null,null,{"$f":"IF(Dati!$C761 >0,Dati!$B761&\" | \"&TEXT(Dati!$C761,\"gg/mm/aa\")&\" | \"&TEXT(Dati!$D761,\"€. 0,00\")&\" | \"&Dati!$G761&\" | \"&Dati!$H761,\"---\")","v":"---"}]
[null,null,null,null,null,null,{"$f":"IF(Dati!$C762 >0,Dati!$B762&\" | \"&TEXT(Dati!$C762,\"gg/mm/aa\")&\" | \"&TEXT(Dati!$D762,\"€. 0,00\")&\" | \"&Dati!$G762&\" | \"&Dati!$H762,\"---\")","v":"---"}]
[null,null,null,null,null,null,{"$f":"IF(Dati!$C763 >0,Dati!$B763&\" | \"&TEXT(Dati!$C763,\"gg/mm/aa\")&\" | \"&TEXT(Dati!$D763,\"€. 0,00\")&\" | \"&Dati!$G763&\" | \"&Dati!$H763,\"---\")","v":"---"}]
[null,null,null,null,null,null,{"$f":"IF(Dati!$C764 >0,Dati!$B764&\" | \"&TEXT(Dati!$C764,\"gg/mm/aa\")&\" | \"&TEXT(Dati!$D764,\"€. 0,00\")&\" | \"&Dati!$G764&\" | \"&Dati!$H764,\"---\")","v":"---"}]
[null,null,null,null,null,null,{"$f":"IF(Dati!$C765 >0,Dati!$B765&\" | \"&TEXT(Dati!$C765,\"gg/mm/aa\")&\" | \"&TEXT(Dati!$D765,\"€. 0,00\")&\" | \"&Dati!$G765&\" | \"&Dati!$H765,\"---\")","v":"---"}]
[null,null,null,null,null,null,{"$f":"IF(Dati!$C766 >0,Dati!$B766&\" | \"&TEXT(Dati!$C766,\"gg/mm/aa\")&\" | \"&TEXT(Dati!$D766,\"€. 0,00\")&\" | \"&Dati!$G766&\" | \"&Dati!$H766,\"---\")","v":"---"}]
[null,null,null,null,null,null,{"$f":"IF(Dati!$C767 >0,Dati!$B767&\" | \"&TEXT(Dati!$C767,\"gg/mm/aa\")&\" | \"&TEXT(Dati!$D767,\"€. 0,00\")&\" | \"&Dati!$G767&\" | \"&Dati!$H767,\"---\")","v":"---"}]
[null,null,null,null,null,null,{"$f":"IF(Dati!$C768 >0,Dati!$B768&\" | \"&TEXT(Dati!$C768,\"gg/mm/aa\")&\" | \"&TEXT(Dati!$D768,\"€. 0,00\")&\" | \"&Dati!$G768&\" | \"&Dati!$H768,\"---\")","v":"---"}]
[null,null,null,null,null,null,{"$f":"IF(Dati!$C769 >0,Dati!$B769&\" | \"&TEXT(Dati!$C769,\"gg/mm/aa\")&\" | \"&TEXT(Dati!$D769,\"€. 0,00\")&\" | \"&Dati!$G769&\" | \"&Dati!$H769,\"---\")","v":"---"}]
[null,null,null,null,null,null,{"$f":"IF(Dati!$C770 >0,Dati!$B770&\" | \"&TEXT(Dati!$C770,\"gg/mm/aa\")&\" | \"&TEXT(Dati!$D770,\"€. 0,00\")&\" | \"&Dati!$G770&\" | \"&Dati!$H770,\"---\")","v":"---"}]
[null,null,null,null,null,null,{"$f":"IF(Dati!$C771 >0,Dati!$B771&\" | \"&TEXT(Dati!$C771,\"gg/mm/aa\")&\" | \"&TEXT(Dati!$D771,\"€. 0,00\")&\" | \"&Dati!$G771&\" | \"&Dati!$H771,\"---\")","v":"---"}]
[null,null,null,null,null,null,{"$f":"IF(Dati!$C772 >0,Dati!$B772&\" | \"&TEXT(Dati!$C772,\"gg/mm/aa\")&\" | \"&TEXT(Dati!$D772,\"€. 0,00\")&\" | \"&Dati!$G772&\" | \"&Dati!$H772,\"---\")","v":"---"}]
[null,null,null,null,null,null,{"$f":"IF(Dati!$C773 >0,Dati!$B773&\" | \"&TEXT(Dati!$C773,\"gg/mm/aa\")&\" | \"&TEXT(Dati!$D773,\"€. 0,00\")&\" | \"&Dati!$G773&\" | \"&Dati!$H773,\"---\")","v":"---"}]
[null,null,null,null,null,null,{"$f":"IF(Dati!$C774 >0,Dati!$B774&\" | \"&TEXT(Dati!$C774,\"gg/mm/aa\")&\" | \"&TEXT(Dati!$D774,\"€. 0,00\")&\" | \"&Dati!$G774&\" | \"&Dati!$H774,\"---\")","v":"---"}]
[null,null,null,null,null,null,{"$f":"IF(Dati!$C775 >0,Dati!$B775&\" | \"&TEXT(Dati!$C775,\"gg/mm/aa\")&\" | \"&TEXT(Dati!$D775,\"€. 0,00\")&\" | \"&Dati!$G775&\" | \"&Dati!$H775,\"---\")","v":"---"}]
[null,null,null,null,null,null,{"$f":"IF(Dati!$C776 >0,Dati!$B776&\" | \"&TEXT(Dati!$C776,\"gg/mm/aa\")&\" | \"&TEXT(Dati!$D776,\"€. 0,00\")&\" | \"&Dati!$G776&\" | \"&Dati!$H776,\"---\")","v":"---"}]
[null,null,null,null,null,null,{"$f":"IF(Dati!$C777 >0,Dati!$B777&\" | \"&TEXT(Dati!$C777,\"gg/mm/aa\")&\" | \"&TEXT(Dati!$D777,\"€. 0,00\")&\" | \"&Dati!$G777&\" | \"&Dati!$H777,\"---\")","v":"---"}]
[null,null,null,null,null,null,{"$f":"IF(Dati!$C778 >0,Dati!$B778&\" | \"&TEXT(Dati!$C778,\"gg/mm/aa\")&\" | \"&TEXT(Dati!$D778,\"€. 0,00\")&\" | \"&Dati!$G778&\" | \"&Dati!$H778,\"---\")","v":"---"}]
[null,null,null,null,null,null,{"$f":"IF(Dati!$C779 >0,Dati!$B779&\" | \"&TEXT(Dati!$C779,\"gg/mm/aa\")&\" | \"&TEXT(Dati!$D779,\"€. 0,00\")&\" | \"&Dati!$G779&\" | \"&Dati!$H779,\"---\")","v":"---"}]
[null,null,null,null,null,null,{"$f":"IF(Dati!$C780 >0,Dati!$B780&\" | \"&TEXT(Dati!$C780,\"gg/mm/aa\")&\" | \"&TEXT(Dati!$D780,\"€. 0,00\")&\" | \"&Dati!$G780&\" | \"&Dati!$H780,\"---\")","v":"---"}]
[null,null,null,null,null,null,{"$f":"IF(Dati!$C781 >0,Dati!$B781&\" | \"&TEXT(Dati!$C781,\"gg/mm/aa\")&\" | \"&TEXT(Dati!$D781,\"€. 0,00\")&\" | \"&Dati!$G781&\" | \"&Dati!$H781,\"---\")","v":"---"}]
[null,null,null,null,null,null,{"$f":"IF(Dati!$C782 >0,Dati!$B782&\" | \"&TEXT(Dati!$C782,\"gg/mm/aa\")&\" | \"&TEXT(Dati!$D782,\"€. 0,00\")&\" | \"&Dati!$G782&\" | \"&Dati!$H782,\"---\")","v":"---"}]
[null,null,null,null,null,null,{"$f":"IF(Dati!$C783 >0,Dati!$B783&\" | \"&TEXT(Dati!$C783,\"gg/mm/aa\")&\" | \"&TEXT(Dati!$D783,\"€. 0,00\")&\" | \"&Dati!$G783&\" | \"&Dati!$H783,\"---\")","v":"---"}]
[null,null,null,null,null,null,{"$f":"IF(Dati!$C784 >0,Dati!$B784&\" | \"&TEXT(Dati!$C784,\"gg/mm/aa\")&\" | \"&TEXT(Dati!$D784,\"€. 0,00\")&\" | \"&Dati!$G784&\" | \"&Dati!$H784,\"---\")","v":"---"}]
[null,null,null,null,null,null,{"$f":"IF(Dati!$C785 >0,Dati!$B785&\" | \"&TEXT(Dati!$C785,\"gg/mm/aa\")&\" | \"&TEXT(Dati!$D785,\"€. 0,00\")&\" | \"&Dati!$G785&\" | \"&Dati!$H785,\"---\")","v":"---"}]
[null,null,null,null,null,null,{"$f":"IF(Dati!$C786 >0,Dati!$B786&\" | \"&TEXT(Dati!$C786,\"gg/mm/aa\")&\" | \"&TEXT(Dati!$D786,\"€. 0,00\")&\" | \"&Dati!$G786&\" | \"&Dati!$H786,\"---\")","v":"---"}]
[null,null,null,null,null,null,{"$f":"IF(Dati!$C787 >0,Dati!$B787&\" | \"&TEXT(Dati!$C787,\"gg/mm/aa\")&\" | \"&TEXT(Dati!$D787,\"€. 0,00\")&\" | \"&Dati!$G787&\" | \"&Dati!$H787,\"---\")","v":"---"}]
[null,null,null,null,null,null,{"$f":"IF(Dati!$C788 >0,Dati!$B788&\" | \"&TEXT(Dati!$C788,\"gg/mm/aa\")&\" | \"&TEXT(Dati!$D788,\"€. 0,00\")&\" | \"&Dati!$G788&\" | \"&Dati!$H788,\"---\")","v":"---"}]
[null,null,null,null,null,null,{"$f":"IF(Dati!$C789 >0,Dati!$B789&\" | \"&TEXT(Dati!$C789,\"gg/mm/aa\")&\" | \"&TEXT(Dati!$D789,\"€. 0,00\")&\" | \"&Dati!$G789&\" | \"&Dati!$H789,\"---\")","v":"---"}]
[null,null,null,null,null,null,{"$f":"IF(Dati!$C790 >0,Dati!$B790&\" | \"&TEXT(Dati!$C790,\"gg/mm/aa\")&\" | \"&TEXT(Dati!$D790,\"€. 0,00\")&\" | \"&Dati!$G790&\" | \"&Dati!$H790,\"---\")","v":"---"}]
[null,null,null,null,null,null,{"$f":"IF(Dati!$C791 >0,Dati!$B791&\" | \"&TEXT(Dati!$C791,\"gg/mm/aa\")&\" | \"&TEXT(Dati!$D791,\"€. 0,00\")&\" | \"&Dati!$G791&\" | \"&Dati!$H791,\"---\")","v":"---"}]
[null,null,null,null,null,null,{"$f":"IF(Dati!$C792 >0,Dati!$B792&\" | \"&TEXT(Dati!$C792,\"gg/mm/aa\")&\" | \"&TEXT(Dati!$D792,\"€. 0,00\")&\" | \"&Dati!$G792&\" | \"&Dati!$H792,\"---\")","v":"---"}]
[null,null,null,null,null,null,{"$f":"IF(Dati!$C793 >0,Dati!$B793&\" | \"&TEXT(Dati!$C793,\"gg/mm/aa\")&\" | \"&TEXT(Dati!$D793,\"€. 0,00\")&\" | \"&Dati!$G793&\" | \"&Dati!$H793,\"---\")","v":"---"}]
[null,null,null,null,null,null,{"$f":"IF(Dati!$C794 >0,Dati!$B794&\" | \"&TEXT(Dati!$C794,\"gg/mm/aa\")&\" | \"&TEXT(Dati!$D794,\"€. 0,00\")&\" | \"&Dati!$G794&\" | \"&Dati!$H794,\"---\")","v":"---"}]
[null,null,null,null,null,null,{"$f":"IF(Dati!$C795 >0,Dati!$B795&\" | \"&TEXT(Dati!$C795,\"gg/mm/aa\")&\" | \"&TEXT(Dati!$D795,\"€. 0,00\")&\" | \"&Dati!$G795&\" | \"&Dati!$H795,\"---\")","v":"---"}]
[null,null,null,null,null,null,{"$f":"IF(Dati!$C796 >0,Dati!$B796&\" | \"&TEXT(Dati!$C796,\"gg/mm/aa\")&\" | \"&TEXT(Dati!$D796,\"€. 0,00\")&\" | \"&Dati!$G796&\" | \"&Dati!$H796,\"---\")","v":"---"}]
[null,null,null,null,null,null,{"$f":"IF(Dati!$C797 >0,Dati!$B797&\" | \"&TEXT(Dati!$C797,\"gg/mm/aa\")&\" | \"&TEXT(Dati!$D797,\"€. 0,00\")&\" | \"&Dati!$G797&\" | \"&Dati!$H797,\"---\")","v":"---"}]
[null,null,null,null,null,null,{"$f":"IF(Dati!$C798 >0,Dati!$B798&\" | \"&TEXT(Dati!$C798,\"gg/mm/aa\")&\" | \"&TEXT(Dati!$D798,\"€. 0,00\")&\" | \"&Dati!$G798&\" | \"&Dati!$H798,\"---\")","v":"---"}]
[null,null,null,null,null,null,{"$f":"IF(Dati!$C799 >0,Dati!$B799&\" | \"&TEXT(Dati!$C799,\"gg/mm/aa\")&\" | \"&TEXT(Dati!$D799,\"€. 0,00\")&\" | \"&Dati!$G799&\" | \"&Dati!$H799,\"---\")","v":"---"}]
[null,null,null,null,null,null,{"$f":"IF(Dati!$C800 >0,Dati!$B800&\" | \"&TEXT(Dati!$C800,\"gg/mm/aa\")&\" | \"&TEXT(Dati!$D800,\"€. 0,00\")&\" | \"&Dati!$G800&\" | \"&Dati!$H800,\"---\")","v":"---"}]
[null,null,null,null,null,null,{"$f":"IF(Dati!$C801 >0,Dati!$B801&\" | \"&TEXT(Dati!$C801,\"gg/mm/aa\")&\" | \"&TEXT(Dati!$D801,\"€. 0,00\")&\" | \"&Dati!$G801&\" | \"&Dati!$H801,\"---\")","v":"---"}]
[null,null,null,null,null,null,{"$f":"IF(Dati!$C802 >0,Dati!$B802&\" | \"&TEXT(Dati!$C802,\"gg/mm/aa\")&\" | \"&TEXT(Dati!$D802,\"€. 0,00\")&\" | \"&Dati!$G802&\" | \"&Dati!$H802,\"---\")","v":"---"}]
[null,null,null,null,null,null,{"$f":"IF(Dati!$C803 >0,Dati!$B803&\" | \"&TEXT(Dati!$C803,\"gg/mm/aa\")&\" | \"&TEXT(Dati!$D803,\"€. 0,00\")&\" | \"&Dati!$G803&\" | \"&Dati!$H803,\"---\")","v":"---"}]
[null,null,null,null,null,null,{"$f":"IF(Dati!$C804 >0,Dati!$B804&\" | \"&TEXT(Dati!$C804,\"gg/mm/aa\")&\" | \"&TEXT(Dati!$D804,\"€. 0,00\")&\" | \"&Dati!$G804&\" | \"&Dati!$H804,\"---\")","v":"---"}]
[null,null,null,null,null,null,{"$f":"IF(Dati!$C805 >0,Dati!$B805&\" | \"&TEXT(Dati!$C805,\"gg/mm/aa\")&\" | \"&TEXT(Dati!$D805,\"€. 0,00\")&\" | \"&Dati!$G805&\" | \"&Dati!$H805,\"---\")","v":"---"}]
[null,null,null,null,null,null,{"$f":"IF(Dati!$C806 >0,Dati!$B806&\" | \"&TEXT(Dati!$C806,\"gg/mm/aa\")&\" | \"&TEXT(Dati!$D806,\"€. 0,00\")&\" | \"&Dati!$G806&\" | \"&Dati!$H806,\"---\")","v":"---"}]
[null,null,null,null,null,null,{"$f":"IF(Dati!$C807 >0,Dati!$B807&\" | \"&TEXT(Dati!$C807,\"gg/mm/aa\")&\" | \"&TEXT(Dati!$D807,\"€. 0,00\")&\" | \"&Dati!$G807&\" | \"&Dati!$H807,\"---\")","v":"---"}]
[null,null,null,null,null,null,{"$f":"IF(Dati!$C808 >0,Dati!$B808&\" | \"&TEXT(Dati!$C808,\"gg/mm/aa\")&\" | \"&TEXT(Dati!$D808,\"€. 0,00\")&\" | \"&Dati!$G808&\" | \"&Dati!$H808,\"---\")","v":"---"}]
[null,null,null,null,null,null,{"$f":"IF(Dati!$C809 >0,Dati!$B809&\" | \"&TEXT(Dati!$C809,\"gg/mm/aa\")&\" | \"&TEXT(Dati!$D809,\"€. 0,00\")&\" | \"&Dati!$G809&\" | \"&Dati!$H809,\"---\")","v":"---"}]
[null,null,null,null,null,null,{"$f":"IF(Dati!$C810 >0,Dati!$B810&\" | \"&TEXT(Dati!$C810,\"gg/mm/aa\")&\" | \"&TEXT(Dati!$D810,\"€. 0,00\")&\" | \"&Dati!$G810&\" | \"&Dati!$H810,\"---\")","v":"---"}]
[null,null,null,null,null,null,{"$f":"IF(Dati!$C811 >0,Dati!$B811&\" | \"&TEXT(Dati!$C811,\"gg/mm/aa\")&\" | \"&TEXT(Dati!$D811,\"€. 0,00\")&\" | \"&Dati!$G811&\" | \"&Dati!$H811,\"---\")","v":"---"}]
[null,null,null,null,null,null,{"$f":"IF(Dati!$C812 >0,Dati!$B812&\" | \"&TEXT(Dati!$C812,\"gg/mm/aa\")&\" | \"&TEXT(Dati!$D812,\"€. 0,00\")&\" | \"&Dati!$G812&\" | \"&Dati!$H812,\"---\")","v":"---"}]
[null,null,null,null,null,null,{"$f":"IF(Dati!$C813 >0,Dati!$B813&\" | \"&TEXT(Dati!$C813,\"gg/mm/aa\")&\" | \"&TEXT(Dati!$D813,\"€. 0,00\")&\" | \"&Dati!$G813&\" | \"&Dati!$H813,\"---\")","v":"---"}]
[null,null,null,null,null,null,{"$f":"IF(Dati!$C814 >0,Dati!$B814&\" | \"&TEXT(Dati!$C814,\"gg/mm/aa\")&\" | \"&TEXT(Dati!$D814,\"€. 0,00\")&\" | \"&Dati!$G814&\" | \"&Dati!$H814,\"---\")","v":"---"}]
[null,null,null,null,null,null,{"$f":"IF(Dati!$C815 >0,Dati!$B815&\" | \"&TEXT(Dati!$C815,\"gg/mm/aa\")&\" | \"&TEXT(Dati!$D815,\"€. 0,00\")&\" | \"&Dati!$G815&\" | \"&Dati!$H815,\"---\")","v":"---"}]
[null,null,null,null,null,null,{"$f":"IF(Dati!$C816 >0,Dati!$B816&\" | \"&TEXT(Dati!$C816,\"gg/mm/aa\")&\" | \"&TEXT(Dati!$D816,\"€. 0,00\")&\" | \"&Dati!$G816&\" | \"&Dati!$H816,\"---\")","v":"---"}]
[null,null,null,null,null,null,{"$f":"IF(Dati!$C817 >0,Dati!$B817&\" | \"&TEXT(Dati!$C817,\"gg/mm/aa\")&\" | \"&TEXT(Dati!$D817,\"€. 0,00\")&\" | \"&Dati!$G817&\" | \"&Dati!$H817,\"---\")","v":"---"}]
[null,null,null,null,null,null,{"$f":"IF(Dati!$C818 >0,Dati!$B818&\" | \"&TEXT(Dati!$C818,\"gg/mm/aa\")&\" | \"&TEXT(Dati!$D818,\"€. 0,00\")&\" | \"&Dati!$G818&\" | \"&Dati!$H818,\"---\")","v":"---"}]
[null,null,null,null,null,null,{"$f":"IF(Dati!$C819 >0,Dati!$B819&\" | \"&TEXT(Dati!$C819,\"gg/mm/aa\")&\" | \"&TEXT(Dati!$D819,\"€. 0,00\")&\" | \"&Dati!$G819&\" | \"&Dati!$H819,\"---\")","v":"---"}]
[null,null,null,null,null,null,{"$f":"IF(Dati!$C820 >0,Dati!$B820&\" | \"&TEXT(Dati!$C820,\"gg/mm/aa\")&\" | \"&TEXT(Dati!$D820,\"€. 0,00\")&\" | \"&Dati!$G820&\" | \"&Dati!$H820,\"---\")","v":"---"}]
[null,null,null,null,null,null,{"$f":"IF(Dati!$C821 >0,Dati!$B821&\" | \"&TEXT(Dati!$C821,\"gg/mm/aa\")&\" | \"&TEXT(Dati!$D821,\"€. 0,00\")&\" | \"&Dati!$G821&\" | \"&Dati!$H821,\"---\")","v":"---"}]
[null,null,null,null,null,null,{"$f":"IF(Dati!$C822 >0,Dati!$B822&\" | \"&TEXT(Dati!$C822,\"gg/mm/aa\")&\" | \"&TEXT(Dati!$D822,\"€. 0,00\")&\" | \"&Dati!$G822&\" | \"&Dati!$H822,\"---\")","v":"---"}]
[null,null,null,null,null,null,{"$f":"IF(Dati!$C823 >0,Dati!$B823&\" | \"&TEXT(Dati!$C823,\"gg/mm/aa\")&\" | \"&TEXT(Dati!$D823,\"€. 0,00\")&\" | \"&Dati!$G823&\" | \"&Dati!$H823,\"---\")","v":"---"}]
[null,null,null,null,null,null,{"$f":"IF(Dati!$C824 >0,Dati!$B824&\" | \"&TEXT(Dati!$C824,\"gg/mm/aa\")&\" | \"&TEXT(Dati!$D824,\"€. 0,00\")&\" | \"&Dati!$G824&\" | \"&Dati!$H824,\"---\")","v":"---"}]
[null,null,null,null,null,null,{"$f":"IF(Dati!$C825 >0,Dati!$B825&\" | \"&TEXT(Dati!$C825,\"gg/mm/aa\")&\" | \"&TEXT(Dati!$D825,\"€. 0,00\")&\" | \"&Dati!$G825&\" | \"&Dati!$H825,\"---\")","v":"---"}]
[null,null,null,null,null,null,{"$f":"IF(Dati!$C826 >0,Dati!$B826&\" | \"&TEXT(Dati!$C826,\"gg/mm/aa\")&\" | \"&TEXT(Dati!$D826,\"€. 0,00\")&\" | \"&Dati!$G826&\" | \"&Dati!$H826,\"---\")","v":"---"}]
[null,null,null,null,null,null,{"$f":"IF(Dati!$C827 >0,Dati!$B827&\" | \"&TEXT(Dati!$C827,\"gg/mm/aa\")&\" | \"&TEXT(Dati!$D827,\"€. 0,00\")&\" | \"&Dati!$G827&\" | \"&Dati!$H827,\"---\")","v":"---"}]
[null,null,null,null,null,null,{"$f":"IF(Dati!$C828 >0,Dati!$B828&\" | \"&TEXT(Dati!$C828,\"gg/mm/aa\")&\" | \"&TEXT(Dati!$D828,\"€. 0,00\")&\" | \"&Dati!$G828&\" | \"&Dati!$H828,\"---\")","v":"---"}]
[null,null,null,null,null,null,{"$f":"IF(Dati!$C829 >0,Dati!$B829&\" | \"&TEXT(Dati!$C829,\"gg/mm/aa\")&\" | \"&TEXT(Dati!$D829,\"€. 0,00\")&\" | \"&Dati!$G829&\" | \"&Dati!$H829,\"---\")","v":"---"}]
[null,null,null,null,null,null,{"$f":"IF(Dati!$C830 >0,Dati!$B830&\" | \"&TEXT(Dati!$C830,\"gg/mm/aa\")&\" | \"&TEXT(Dati!$D830,\"€. 0,00\")&\" | \"&Dati!$G830&\" | \"&Dati!$H830,\"---\")","v":"---"}]
[null,null,null,null,null,null,{"$f":"IF(Dati!$C831 >0,Dati!$B831&\" | \"&TEXT(Dati!$C831,\"gg/mm/aa\")&\" | \"&TEXT(Dati!$D831,\"€. 0,00\")&\" | \"&Dati!$G831&\" | \"&Dati!$H831,\"---\")","v":"---"}]
[null,null,null,null,null,null,{"$f":"IF(Dati!$C832 >0,Dati!$B832&\" | \"&TEXT(Dati!$C832,\"gg/mm/aa\")&\" | \"&TEXT(Dati!$D832,\"€. 0,00\")&\" | \"&Dati!$G832&\" | \"&Dati!$H832,\"---\")","v":"---"}]
[null,null,null,null,null,null,{"$f":"IF(Dati!$C833 >0,Dati!$B833&\" | \"&TEXT(Dati!$C833,\"gg/mm/aa\")&\" | \"&TEXT(Dati!$D833,\"€. 0,00\")&\" | \"&Dati!$G833&\" | \"&Dati!$H833,\"---\")","v":"---"}]
[null,null,null,null,null,null,{"$f":"IF(Dati!$C834 >0,Dati!$B834&\" | \"&TEXT(Dati!$C834,\"gg/mm/aa\")&\" | \"&TEXT(Dati!$D834,\"€. 0,00\")&\" | \"&Dati!$G834&\" | \"&Dati!$H834,\"---\")","v":"---"}]
[null,null,null,null,null,null,{"$f":"IF(Dati!$C835 >0,Dati!$B835&\" | \"&TEXT(Dati!$C835,\"gg/mm/aa\")&\" | \"&TEXT(Dati!$D835,\"€. 0,00\")&\" | \"&Dati!$G835&\" | \"&Dati!$H835,\"---\")","v":"---"}]
[null,null,null,null,null,null,{"$f":"IF(Dati!$C836 >0,Dati!$B836&\" | \"&TEXT(Dati!$C836,\"gg/mm/aa\")&\" | \"&TEXT(Dati!$D836,\"€. 0,00\")&\" | \"&Dati!$G836&\" | \"&Dati!$H836,\"---\")","v":"---"}]
[null,null,null,null,null,null,{"$f":"IF(Dati!$C837 >0,Dati!$B837&\" | \"&TEXT(Dati!$C837,\"gg/mm/aa\")&\" | \"&TEXT(Dati!$D837,\"€. 0,00\")&\" | \"&Dati!$G837&\" | \"&Dati!$H837,\"---\")","v":"---"}]
[null,null,null,null,null,null,{"$f":"IF(Dati!$C838 >0,Dati!$B838&\" | \"&TEXT(Dati!$C838,\"gg/mm/aa\")&\" | \"&TEXT(Dati!$D838,\"€. 0,00\")&\" | \"&Dati!$G838&\" | \"&Dati!$H838,\"---\")","v":"---"}]
[null,null,null,null,null,null,{"$f":"IF(Dati!$C839 >0,Dati!$B839&\" | \"&TEXT(Dati!$C839,\"gg/mm/aa\")&\" | \"&TEXT(Dati!$D839,\"€. 0,00\")&\" | \"&Dati!$G839&\" | \"&Dati!$H839,\"---\")","v":"---"}]
[null,null,null,null,null,null,{"$f":"IF(Dati!$C840 >0,Dati!$B840&\" | \"&TEXT(Dati!$C840,\"gg/mm/aa\")&\" | \"&TEXT(Dati!$D840,\"€. 0,00\")&\" | \"&Dati!$G840&\" | \"&Dati!$H840,\"---\")","v":"---"}]
[null,null,null,null,null,null,{"$f":"IF(Dati!$C841 >0,Dati!$B841&\" | \"&TEXT(Dati!$C841,\"gg/mm/aa\")&\" | \"&TEXT(Dati!$D841,\"€. 0,00\")&\" | \"&Dati!$G841&\" | \"&Dati!$H841,\"---\")","v":"---"}]
[null,null,null,null,null,null,{"$f":"IF(Dati!$C842 >0,Dati!$B842&\" | \"&TEXT(Dati!$C842,\"gg/mm/aa\")&\" | \"&TEXT(Dati!$D842,\"€. 0,00\")&\" | \"&Dati!$G842&\" | \"&Dati!$H842,\"---\")","v":"---"}]
[null,null,null,null,null,null,{"$f":"IF(Dati!$C843 >0,Dati!$B843&\" | \"&TEXT(Dati!$C843,\"gg/mm/aa\")&\" | \"&TEXT(Dati!$D843,\"€. 0,00\")&\" | \"&Dati!$G843&\" | \"&Dati!$H843,\"---\")","v":"---"}]
[null,null,null,null,null,null,{"$f":"IF(Dati!$C844 >0,Dati!$B844&\" | \"&TEXT(Dati!$C844,\"gg/mm/aa\")&\" | \"&TEXT(Dati!$D844,\"€. 0,00\")&\" | \"&Dati!$G844&\" | \"&Dati!$H844,\"---\")","v":"---"}]
[null,null,null,null,null,null,{"$f":"IF(Dati!$C845 >0,Dati!$B845&\" | \"&TEXT(Dati!$C845,\"gg/mm/aa\")&\" | \"&TEXT(Dati!$D845,\"€. 0,00\")&\" | \"&Dati!$G845&\" | \"&Dati!$H845,\"---\")","v":"---"}]
[null,null,null,null,null,null,{"$f":"IF(Dati!$C846 >0,Dati!$B846&\" | \"&TEXT(Dati!$C846,\"gg/mm/aa\")&\" | \"&TEXT(Dati!$D846,\"€. 0,00\")&\" | \"&Dati!$G846&\" | \"&Dati!$H846,\"---\")","v":"---"}]
[null,null,null,null,null,null,{"$f":"IF(Dati!$C847 >0,Dati!$B847&\" | \"&TEXT(Dati!$C847,\"gg/mm/aa\")&\" | \"&TEXT(Dati!$D847,\"€. 0,00\")&\" | \"&Dati!$G847&\" | \"&Dati!$H847,\"---\")","v":"---"}]
[null,null,null,null,null,null,{"$f":"IF(Dati!$C848 >0,Dati!$B848&\" | \"&TEXT(Dati!$C848,\"gg/mm/aa\")&\" | \"&TEXT(Dati!$D848,\"€. 0,00\")&\" | \"&Dati!$G848&\" | \"&Dati!$H848,\"---\")","v":"---"}]
[null,null,null,null,null,null,{"$f":"IF(Dati!$C849 >0,Dati!$B849&\" | \"&TEXT(Dati!$C849,\"gg/mm/aa\")&\" | \"&TEXT(Dati!$D849,\"€. 0,00\")&\" | \"&Dati!$G849&\" | \"&Dati!$H849,\"---\")","v":"---"}]
[null,null,null,null,null,null,{"$f":"IF(Dati!$C850 >0,Dati!$B850&\" | \"&TEXT(Dati!$C850,\"gg/mm/aa\")&\" | \"&TEXT(Dati!$D850,\"€. 0,00\")&\" | \"&Dati!$G850&\" | \"&Dati!$H850,\"---\")","v":"---"}]
[null,null,null,null,null,null,{"$f":"IF(Dati!$C851 >0,Dati!$B851&\" | \"&TEXT(Dati!$C851,\"gg/mm/aa\")&\" | \"&TEXT(Dati!$D851,\"€. 0,00\")&\" | \"&Dati!$G851&\" | \"&Dati!$H851,\"---\")","v":"---"}]
[null,null,null,null,null,null,{"$f":"IF(Dati!$C852 >0,Dati!$B852&\" | \"&TEXT(Dati!$C852,\"gg/mm/aa\")&\" | \"&TEXT(Dati!$D852,\"€. 0,00\")&\" | \"&Dati!$G852&\" | \"&Dati!$H852,\"---\")","v":"---"}]
[null,null,null,null,null,null,{"$f":"IF(Dati!$C853 >0,Dati!$B853&\" | \"&TEXT(Dati!$C853,\"gg/mm/aa\")&\" | \"&TEXT(Dati!$D853,\"€. 0,00\")&\" | \"&Dati!$G853&\" | \"&Dati!$H853,\"---\")","v":"---"}]
[null,null,null,null,null,null,{"$f":"IF(Dati!$C854 >0,Dati!$B854&\" | \"&TEXT(Dati!$C854,\"gg/mm/aa\")&\" | \"&TEXT(Dati!$D854,\"€. 0,00\")&\" | \"&Dati!$G854&\" | \"&Dati!$H854,\"---\")","v":"---"}]
[null,null,null,null,null,null,{"$f":"IF(Dati!$C855 >0,Dati!$B855&\" | \"&TEXT(Dati!$C855,\"gg/mm/aa\")&\" | \"&TEXT(Dati!$D855,\"€. 0,00\")&\" | \"&Dati!$G855&\" | \"&Dati!$H855,\"---\")","v":"---"}]
[null,null,null,null,null,null,{"$f":"IF(Dati!$C856 >0,Dati!$B856&\" | \"&TEXT(Dati!$C856,\"gg/mm/aa\")&\" | \"&TEXT(Dati!$D856,\"€. 0,00\")&\" | \"&Dati!$G856&\" | \"&Dati!$H856,\"---\")","v":"---"}]
[null,null,null,null,null,null,{"$f":"IF(Dati!$C857 >0,Dati!$B857&\" | \"&TEXT(Dati!$C857,\"gg/mm/aa\")&\" | \"&TEXT(Dati!$D857,\"€. 0,00\")&\" | \"&Dati!$G857&\" | \"&Dati!$H857,\"---\")","v":"---"}]
[null,null,null,null,null,null,{"$f":"IF(Dati!$C858 >0,Dati!$B858&\" | \"&TEXT(Dati!$C858,\"gg/mm/aa\")&\" | \"&TEXT(Dati!$D858,\"€. 0,00\")&\" | \"&Dati!$G858&\" | \"&Dati!$H858,\"---\")","v":"---"}]
[null,null,null,null,null,null,{"$f":"IF(Dati!$C859 >0,Dati!$B859&\" | \"&TEXT(Dati!$C859,\"gg/mm/aa\")&\" | \"&TEXT(Dati!$D859,\"€. 0,00\")&\" | \"&Dati!$G859&\" | \"&Dati!$H859,\"---\")","v":"---"}]
[null,null,null,null,null,null,{"$f":"IF(Dati!$C860 >0,Dati!$B860&\" | \"&TEXT(Dati!$C860,\"gg/mm/aa\")&\" | \"&TEXT(Dati!$D860,\"€. 0,00\")&\" | \"&Dati!$G860&\" | \"&Dati!$H860,\"---\")","v":"---"}]
[null,null,null,null,null,null,{"$f":"IF(Dati!$C861 >0,Dati!$B861&\" | \"&TEXT(Dati!$C861,\"gg/mm/aa\")&\" | \"&TEXT(Dati!$D861,\"€. 0,00\")&\" | \"&Dati!$G861&\" | \"&Dati!$H861,\"---\")","v":"---"}]
[null,null,null,null,null,null,{"$f":"IF(Dati!$C862 >0,Dati!$B862&\" | \"&TEXT(Dati!$C862,\"gg/mm/aa\")&\" | \"&TEXT(Dati!$D862,\"€. 0,00\")&\" | \"&Dati!$G862&\" | \"&Dati!$H862,\"---\")","v":"---"}]
[null,null,null,null,null,null,{"$f":"IF(Dati!$C863 >0,Dati!$B863&\" | \"&TEXT(Dati!$C863,\"gg/mm/aa\")&\" | \"&TEXT(Dati!$D863,\"€. 0,00\")&\" | \"&Dati!$G863&\" | \"&Dati!$H863,\"---\")","v":"---"}]
[null,null,null,null,null,null,{"$f":"IF(Dati!$C864 >0,Dati!$B864&\" | \"&TEXT(Dati!$C864,\"gg/mm/aa\")&\" | \"&TEXT(Dati!$D864,\"€. 0,00\")&\" | \"&Dati!$G864&\" | \"&Dati!$H864,\"---\")","v":"---"}]
[null,null,null,null,null,null,{"$f":"IF(Dati!$C865 >0,Dati!$B865&\" | \"&TEXT(Dati!$C865,\"gg/mm/aa\")&\" | \"&TEXT(Dati!$D865,\"€. 0,00\")&\" | \"&Dati!$G865&\" | \"&Dati!$H865,\"---\")","v":"---"}]
[null,null,null,null,null,null,{"$f":"IF(Dati!$C866 >0,Dati!$B866&\" | \"&TEXT(Dati!$C866,\"gg/mm/aa\")&\" | \"&TEXT(Dati!$D866,\"€. 0,00\")&\" | \"&Dati!$G866&\" | \"&Dati!$H866,\"---\")","v":"---"}]
[null,null,null,null,null,null,{"$f":"IF(Dati!$C867 >0,Dati!$B867&\" | \"&TEXT(Dati!$C867,\"gg/mm/aa\")&\" | \"&TEXT(Dati!$D867,\"€. 0,00\")&\" | \"&Dati!$G867&\" | \"&Dati!$H867,\"---\")","v":"---"}]
[null,null,null,null,null,null,{"$f":"IF(Dati!$C868 >0,Dati!$B868&\" | \"&TEXT(Dati!$C868,\"gg/mm/aa\")&\" | \"&TEXT(Dati!$D868,\"€. 0,00\")&\" | \"&Dati!$G868&\" | \"&Dati!$H868,\"---\")","v":"---"}]
[null,null,null,null,null,null,{"$f":"IF(Dati!$C869 >0,Dati!$B869&\" | \"&TEXT(Dati!$C869,\"gg/mm/aa\")&\" | \"&TEXT(Dati!$D869,\"€. 0,00\")&\" | \"&Dati!$G869&\" | \"&Dati!$H869,\"---\")","v":"---"}]
[null,null,null,null,null,null,{"$f":"IF(Dati!$C870 >0,Dati!$B870&\" | \"&TEXT(Dati!$C870,\"gg/mm/aa\")&\" | \"&TEXT(Dati!$D870,\"€. 0,00\")&\" | \"&Dati!$G870&\" | \"&Dati!$H870,\"---\")","v":"---"}]
[null,null,null,null,null,null,{"$f":"IF(Dati!$C871 >0,Dati!$B871&\" | \"&TEXT(Dati!$C871,\"gg/mm/aa\")&\" | \"&TEXT(Dati!$D871,\"€. 0,00\")&\" | \"&Dati!$G871&\" | \"&Dati!$H871,\"---\")","v":"---"}]
[null,null,null,null,null,null,{"$f":"IF(Dati!$C872 >0,Dati!$B872&\" | \"&TEXT(Dati!$C872,\"gg/mm/aa\")&\" | \"&TEXT(Dati!$D872,\"€. 0,00\")&\" | \"&Dati!$G872&\" | \"&Dati!$H872,\"---\")","v":"---"}]
[null,null,null,null,null,null,{"$f":"IF(Dati!$C873 >0,Dati!$B873&\" | \"&TEXT(Dati!$C873,\"gg/mm/aa\")&\" | \"&TEXT(Dati!$D873,\"€. 0,00\")&\" | \"&Dati!$G873&\" | \"&Dati!$H873,\"---\")","v":"---"}]
[null,null,null,null,null,null,{"$f":"IF(Dati!$C874 >0,Dati!$B874&\" | \"&TEXT(Dati!$C874,\"gg/mm/aa\")&\" | \"&TEXT(Dati!$D874,\"€. 0,00\")&\" | \"&Dati!$G874&\" | \"&Dati!$H874,\"---\")","v":"---"}]
[null,null,null,null,null,null,{"$f":"IF(Dati!$C875 >0,Dati!$B875&\" | \"&TEXT(Dati!$C875,\"gg/mm/aa\")&\" | \"&TEXT(Dati!$D875,\"€. 0,00\")&\" | \"&Dati!$G875&\" | \"&Dati!$H875,\"---\")","v":"---"}]
[null,null,null,null,null,null,{"$f":"IF(Dati!$C876 >0,Dati!$B876&\" | \"&TEXT(Dati!$C876,\"gg/mm/aa\")&\" | \"&TEXT(Dati!$D876,\"€. 0,00\")&\" | \"&Dati!$G876&\" | \"&Dati!$H876,\"---\")","v":"---"}]
[null,null,null,null,null,null,{"$f":"IF(Dati!$C877 >0,Dati!$B877&\" | \"&TEXT(Dati!$C877,\"gg/mm/aa\")&\" | \"&TEXT(Dati!$D877,\"€. 0,00\")&\" | \"&Dati!$G877&\" | \"&Dati!$H877,\"---\")","v":"---"}]
[null,null,null,null,null,null,{"$f":"IF(Dati!$C878 >0,Dati!$B878&\" | \"&TEXT(Dati!$C878,\"gg/mm/aa\")&\" | \"&TEXT(Dati!$D878,\"€. 0,00\")&\" | \"&Dati!$G878&\" | \"&Dati!$H878,\"---\")","v":"---"}]
[null,null,null,null,null,null,{"$f":"IF(Dati!$C879 >0,Dati!$B879&\" | \"&TEXT(Dati!$C879,\"gg/mm/aa\")&\" | \"&TEXT(Dati!$D879,\"€. 0,00\")&\" | \"&Dati!$G879&\" | \"&Dati!$H879,\"---\")","v":"---"}]
[null,null,null,null,null,null,{"$f":"IF(Dati!$C880 >0,Dati!$B880&\" | \"&TEXT(Dati!$C880,\"gg/mm/aa\")&\" | \"&TEXT(Dati!$D880,\"€. 0,00\")&\" | \"&Dati!$G880&\" | \"&Dati!$H880,\"---\")","v":"---"}]
[null,null,null,null,null,null,{"$f":"IF(Dati!$C881 >0,Dati!$B881&\" | \"&TEXT(Dati!$C881,\"gg/mm/aa\")&\" | \"&TEXT(Dati!$D881,\"€. 0,00\")&\" | \"&Dati!$G881&\" | \"&Dati!$H881,\"---\")","v":"---"}]
[null,null,null,null,null,null,{"$f":"IF(Dati!$C882 >0,Dati!$B882&\" | \"&TEXT(Dati!$C882,\"gg/mm/aa\")&\" | \"&TEXT(Dati!$D882,\"€. 0,00\")&\" | \"&Dati!$G882&\" | \"&Dati!$H882,\"---\")","v":"---"}]
[null,null,null,null,null,null,{"$f":"IF(Dati!$C883 >0,Dati!$B883&\" | \"&TEXT(Dati!$C883,\"gg/mm/aa\")&\" | \"&TEXT(Dati!$D883,\"€. 0,00\")&\" | \"&Dati!$G883&\" | \"&Dati!$H883,\"---\")","v":"---"}]
[null,null,null,null,null,null,{"$f":"IF(Dati!$C884 >0,Dati!$B884&\" | \"&TEXT(Dati!$C884,\"gg/mm/aa\")&\" | \"&TEXT(Dati!$D884,\"€. 0,00\")&\" | \"&Dati!$G884&\" | \"&Dati!$H884,\"---\")","v":"---"}]
[null,null,null,null,null,null,{"$f":"IF(Dati!$C885 >0,Dati!$B885&\" | \"&TEXT(Dati!$C885,\"gg/mm/aa\")&\" | \"&TEXT(Dati!$D885,\"€. 0,00\")&\" | \"&Dati!$G885&\" | \"&Dati!$H885,\"---\")","v":"---"}]
[null,null,null,null,null,null,{"$f":"IF(Dati!$C886 >0,Dati!$B886&\" | \"&TEXT(Dati!$C886,\"gg/mm/aa\")&\" | \"&TEXT(Dati!$D886,\"€. 0,00\")&\" | \"&Dati!$G886&\" | \"&Dati!$H886,\"---\")","v":"---"}]
[null,null,null,null,null,null,{"$f":"IF(Dati!$C887 >0,Dati!$B887&\" | \"&TEXT(Dati!$C887,\"gg/mm/aa\")&\" | \"&TEXT(Dati!$D887,\"€. 0,00\")&\" | \"&Dati!$G887&\" | \"&Dati!$H887,\"---\")","v":"---"}]
[null,null,null,null,null,null,{"$f":"IF(Dati!$C888 >0,Dati!$B888&\" | \"&TEXT(Dati!$C888,\"gg/mm/aa\")&\" | \"&TEXT(Dati!$D888,\"€. 0,00\")&\" | \"&Dati!$G888&\" | \"&Dati!$H888,\"---\")","v":"---"}]
[null,null,null,null,null,null,{"$f":"IF(Dati!$C889 >0,Dati!$B889&\" | \"&TEXT(Dati!$C889,\"gg/mm/aa\")&\" | \"&TEXT(Dati!$D889,\"€. 0,00\")&\" | \"&Dati!$G889&\" | \"&Dati!$H889,\"---\")","v":"---"}]
[null,null,null,null,null,null,{"$f":"IF(Dati!$C890 >0,Dati!$B890&\" | \"&TEXT(Dati!$C890,\"gg/mm/aa\")&\" | \"&TEXT(Dati!$D890,\"€. 0,00\")&\" | \"&Dati!$G890&\" | \"&Dati!$H890,\"---\")","v":"---"}]
[null,null,null,null,null,null,{"$f":"IF(Dati!$C891 >0,Dati!$B891&\" | \"&TEXT(Dati!$C891,\"gg/mm/aa\")&\" | \"&TEXT(Dati!$D891,\"€. 0,00\")&\" | \"&Dati!$G891&\" | \"&Dati!$H891,\"---\")","v":"---"}]
[null,null,null,null,null,null,{"$f":"IF(Dati!$C892 >0,Dati!$B892&\" | \"&TEXT(Dati!$C892,\"gg/mm/aa\")&\" | \"&TEXT(Dati!$D892,\"€. 0,00\")&\" | \"&Dati!$G892&\" | \"&Dati!$H892,\"---\")","v":"---"}]
[null,null,null,null,null,null,{"$f":"IF(Dati!$C893 >0,Dati!$B893&\" | \"&TEXT(Dati!$C893,\"gg/mm/aa\")&\" | \"&TEXT(Dati!$D893,\"€. 0,00\")&\" | \"&Dati!$G893&\" | \"&Dati!$H893,\"---\")","v":"---"}]
[null,null,null,null,null,null,{"$f":"IF(Dati!$C894 >0,Dati!$B894&\" | \"&TEXT(Dati!$C894,\"gg/mm/aa\")&\" | \"&TEXT(Dati!$D894,\"€. 0,00\")&\" | \"&Dati!$G894&\" | \"&Dati!$H894,\"---\")","v":"---"}]
[null,null,null,null,null,null,{"$f":"IF(Dati!$C895 >0,Dati!$B895&\" | \"&TEXT(Dati!$C895,\"gg/mm/aa\")&\" | \"&TEXT(Dati!$D895,\"€. 0,00\")&\" | \"&Dati!$G895&\" | \"&Dati!$H895,\"---\")","v":"---"}]
[null,null,null,null,null,null,{"$f":"IF(Dati!$C896 >0,Dati!$B896&\" | \"&TEXT(Dati!$C896,\"gg/mm/aa\")&\" | \"&TEXT(Dati!$D896,\"€. 0,00\")&\" | \"&Dati!$G896&\" | \"&Dati!$H896,\"---\")","v":"---"}]
[null,null,null,null,null,null,{"$f":"IF(Dati!$C897 >0,Dati!$B897&\" | \"&TEXT(Dati!$C897,\"gg/mm/aa\")&\" | \"&TEXT(Dati!$D897,\"€. 0,00\")&\" | \"&Dati!$G897&\" | \"&Dati!$H897,\"---\")","v":"---"}]
[null,null,null,null,null,null,{"$f":"IF(Dati!$C898 >0,Dati!$B898&\" | \"&TEXT(Dati!$C898,\"gg/mm/aa\")&\" | \"&TEXT(Dati!$D898,\"€. 0,00\")&\" | \"&Dati!$G898&\" | \"&Dati!$H898,\"---\")","v":"---"}]
[null,null,null,null,null,null,{"$f":"IF(Dati!$C899 >0,Dati!$B899&\" | \"&TEXT(Dati!$C899,\"gg/mm/aa\")&\" | \"&TEXT(Dati!$D899,\"€. 0,00\")&\" | \"&Dati!$G899&\" | \"&Dati!$H899,\"---\")","v":"---"}]
[null,null,null,null,null,null,{"$f":"IF(Dati!$C900 >0,Dati!$B900&\" | \"&TEXT(Dati!$C900,\"gg/mm/aa\")&\" | \"&TEXT(Dati!$D900,\"€. 0,00\")&\" | \"&Dati!$G900&\" | \"&Dati!$H900,\"---\")","v":"---"}]
[null,null,null,null,null,null,{"$f":"IF(Dati!$C901 >0,Dati!$B901&\" | \"&TEXT(Dati!$C901,\"gg/mm/aa\")&\" | \"&TEXT(Dati!$D901,\"€. 0,00\")&\" | \"&Dati!$G901&\" | \"&Dati!$H901,\"---\")","v":"---"}]
[null,null,null,null,null,null,{"$f":"IF(Dati!$C902 >0,Dati!$B902&\" | \"&TEXT(Dati!$C902,\"gg/mm/aa\")&\" | \"&TEXT(Dati!$D902,\"€. 0,00\")&\" | \"&Dati!$G902&\" | \"&Dati!$H902,\"---\")","v":"---"}]
[null,null,null,null,null,null,{"$f":"IF(Dati!$C903 >0,Dati!$B903&\" | \"&TEXT(Dati!$C903,\"gg/mm/aa\")&\" | \"&TEXT(Dati!$D903,\"€. 0,00\")&\" | \"&Dati!$G903&\" | \"&Dati!$H903,\"---\")","v":"---"}]
[null,null,null,null,null,null,{"$f":"IF(Dati!$C904 >0,Dati!$B904&\" | \"&TEXT(Dati!$C904,\"gg/mm/aa\")&\" | \"&TEXT(Dati!$D904,\"€. 0,00\")&\" | \"&Dati!$G904&\" | \"&Dati!$H904,\"---\")","v":"---"}]
[null,null,null,null,null,null,{"$f":"IF(Dati!$C905 >0,Dati!$B905&\" | \"&TEXT(Dati!$C905,\"gg/mm/aa\")&\" | \"&TEXT(Dati!$D905,\"€. 0,00\")&\" | \"&Dati!$G905&\" | \"&Dati!$H905,\"---\")","v":"---"}]
[null,null,null,null,null,null,{"$f":"IF(Dati!$C906 >0,Dati!$B906&\" | \"&TEXT(Dati!$C906,\"gg/mm/aa\")&\" | \"&TEXT(Dati!$D906,\"€. 0,00\")&\" | \"&Dati!$G906&\" | \"&Dati!$H906,\"---\")","v":"---"}]
[null,null,null,null,null,null,{"$f":"IF(Dati!$C907 >0,Dati!$B907&\" | \"&TEXT(Dati!$C907,\"gg/mm/aa\")&\" | \"&TEXT(Dati!$D907,\"€. 0,00\")&\" | \"&Dati!$G907&\" | \"&Dati!$H907,\"---\")","v":"---"}]
[null,null,null,null,null,null,{"$f":"IF(Dati!$C908 >0,Dati!$B908&\" | \"&TEXT(Dati!$C908,\"gg/mm/aa\")&\" | \"&TEXT(Dati!$D908,\"€. 0,00\")&\" | \"&Dati!$G908&\" | \"&Dati!$H908,\"---\")","v":"---"}]
[null,null,null,null,null,null,{"$f":"IF(Dati!$C909 >0,Dati!$B909&\" | \"&TEXT(Dati!$C909,\"gg/mm/aa\")&\" | \"&TEXT(Dati!$D909,\"€. 0,00\")&\" | \"&Dati!$G909&\" | \"&Dati!$H909,\"---\")","v":"---"}]
[null,null,null,null,null,null,{"$f":"IF(Dati!$C910 >0,Dati!$B910&\" | \"&TEXT(Dati!$C910,\"gg/mm/aa\")&\" | \"&TEXT(Dati!$D910,\"€. 0,00\")&\" | \"&Dati!$G910&\" | \"&Dati!$H910,\"---\")","v":"---"}]
[null,null,null,null,null,null,{"$f":"IF(Dati!$C911 >0,Dati!$B911&\" | \"&TEXT(Dati!$C911,\"gg/mm/aa\")&\" | \"&TEXT(Dati!$D911,\"€. 0,00\")&\" | \"&Dati!$G911&\" | \"&Dati!$H911,\"---\")","v":"---"}]
[null,null,null,null,null,null,{"$f":"IF(Dati!$C912 >0,Dati!$B912&\" | \"&TEXT(Dati!$C912,\"gg/mm/aa\")&\" | \"&TEXT(Dati!$D912,\"€. 0,00\")&\" | \"&Dati!$G912&\" | \"&Dati!$H912,\"---\")","v":"---"}]
[null,null,null,null,null,null,{"$f":"IF(Dati!$C913 >0,Dati!$B913&\" | \"&TEXT(Dati!$C913,\"gg/mm/aa\")&\" | \"&TEXT(Dati!$D913,\"€. 0,00\")&\" | \"&Dati!$G913&\" | \"&Dati!$H913,\"---\")","v":"---"}]
[null,null,null,null,null,null,{"$f":"IF(Dati!$C914 >0,Dati!$B914&\" | \"&TEXT(Dati!$C914,\"gg/mm/aa\")&\" | \"&TEXT(Dati!$D914,\"€. 0,00\")&\" | \"&Dati!$G914&\" | \"&Dati!$H914,\"---\")","v":"---"}]
[null,null,null,null,null,null,{"$f":"IF(Dati!$C915 >0,Dati!$B915&\" | \"&TEXT(Dati!$C915,\"gg/mm/aa\")&\" | \"&TEXT(Dati!$D915,\"€. 0,00\")&\" | \"&Dati!$G915&\" | \"&Dati!$H915,\"---\")","v":"---"}]
[null,null,null,null,null,null,{"$f":"IF(Dati!$C916 >0,Dati!$B916&\" | \"&TEXT(Dati!$C916,\"gg/mm/aa\")&\" | \"&TEXT(Dati!$D916,\"€. 0,00\")&\" | \"&Dati!$G916&\" | \"&Dati!$H916,\"---\")","v":"---"}]
[null,null,null,null,null,null,{"$f":"IF(Dati!$C917 >0,Dati!$B917&\" | \"&TEXT(Dati!$C917,\"gg/mm/aa\")&\" | \"&TEXT(Dati!$D917,\"€. 0,00\")&\" | \"&Dati!$G917&\" | \"&Dati!$H917,\"---\")","v":"---"}]
[null,null,null,null,null,null,{"$f":"IF(Dati!$C918 >0,Dati!$B918&\" | \"&TEXT(Dati!$C918,\"gg/mm/aa\")&\" | \"&TEXT(Dati!$D918,\"€. 0,00\")&\" | \"&Dati!$G918&\" | \"&Dati!$H918,\"---\")","v":"---"}]
[null,null,null,null,null,null,{"$f":"IF(Dati!$C919 >0,Dati!$B919&\" | \"&TEXT(Dati!$C919,\"gg/mm/aa\")&\" | \"&TEXT(Dati!$D919,\"€. 0,00\")&\" | \"&Dati!$G919&\" | \"&Dati!$H919,\"---\")","v":"---"}]
[null,null,null,null,null,null,{"$f":"IF(Dati!$C920 >0,Dati!$B920&\" | \"&TEXT(Dati!$C920,\"gg/mm/aa\")&\" | \"&TEXT(Dati!$D920,\"€. 0,00\")&\" | \"&Dati!$G920&\" | \"&Dati!$H920,\"---\")","v":"---"}]
[null,null,null,null,null,null,{"$f":"IF(Dati!$C921 >0,Dati!$B921&\" | \"&TEXT(Dati!$C921,\"gg/mm/aa\")&\" | \"&TEXT(Dati!$D921,\"€. 0,00\")&\" | \"&Dati!$G921&\" | \"&Dati!$H921,\"---\")","v":"---"}]
[null,null,null,null,null,null,{"$f":"IF(Dati!$C922 >0,Dati!$B922&\" | \"&TEXT(Dati!$C922,\"gg/mm/aa\")&\" | \"&TEXT(Dati!$D922,\"€. 0,00\")&\" | \"&Dati!$G922&\" | \"&Dati!$H922,\"---\")","v":"---"}]
[null,null,null,null,null,null,{"$f":"IF(Dati!$C923 >0,Dati!$B923&\" | \"&TEXT(Dati!$C923,\"gg/mm/aa\")&\" | \"&TEXT(Dati!$D923,\"€. 0,00\")&\" | \"&Dati!$G923&\" | \"&Dati!$H923,\"---\")","v":"---"}]
[null,null,null,null,null,null,{"$f":"IF(Dati!$C924 >0,Dati!$B924&\" | \"&TEXT(Dati!$C924,\"gg/mm/aa\")&\" | \"&TEXT(Dati!$D924,\"€. 0,00\")&\" | \"&Dati!$G924&\" | \"&Dati!$H924,\"---\")","v":"---"}]
[null,null,null,null,null,null,{"$f":"IF(Dati!$C925 >0,Dati!$B925&\" | \"&TEXT(Dati!$C925,\"gg/mm/aa\")&\" | \"&TEXT(Dati!$D925,\"€. 0,00\")&\" | \"&Dati!$G925&\" | \"&Dati!$H925,\"---\")","v":"---"}]
[null,null,null,null,null,null,{"$f":"IF(Dati!$C926 >0,Dati!$B926&\" | \"&TEXT(Dati!$C926,\"gg/mm/aa\")&\" | \"&TEXT(Dati!$D926,\"€. 0,00\")&\" | \"&Dati!$G926&\" | \"&Dati!$H926,\"---\")","v":"---"}]
[null,null,null,null,null,null,{"$f":"IF(Dati!$C927 >0,Dati!$B927&\" | \"&TEXT(Dati!$C927,\"gg/mm/aa\")&\" | \"&TEXT(Dati!$D927,\"€. 0,00\")&\" | \"&Dati!$G927&\" | \"&Dati!$H927,\"---\")","v":"---"}]
[null,null,null,null,null,null,{"$f":"IF(Dati!$C928 >0,Dati!$B928&\" | \"&TEXT(Dati!$C928,\"gg/mm/aa\")&\" | \"&TEXT(Dati!$D928,\"€. 0,00\")&\" | \"&Dati!$G928&\" | \"&Dati!$H928,\"---\")","v":"---"}]
[null,null,null,null,null,null,{"$f":"IF(Dati!$C929 >0,Dati!$B929&\" | \"&TEXT(Dati!$C929,\"gg/mm/aa\")&\" | \"&TEXT(Dati!$D929,\"€. 0,00\")&\" | \"&Dati!$G929&\" | \"&Dati!$H929,\"---\")","v":"---"}]
[null,null,null,null,null,null,{"$f":"IF(Dati!$C930 >0,Dati!$B930&\" | \"&TEXT(Dati!$C930,\"gg/mm/aa\")&\" | \"&TEXT(Dati!$D930,\"€. 0,00\")&\" | \"&Dati!$G930&\" | \"&Dati!$H930,\"---\")","v":"---"}]
[null,null,null,null,null,null,{"$f":"IF(Dati!$C931 >0,Dati!$B931&\" | \"&TEXT(Dati!$C931,\"gg/mm/aa\")&\" | \"&TEXT(Dati!$D931,\"€. 0,00\")&\" | \"&Dati!$G931&\" | \"&Dati!$H931,\"---\")","v":"---"}]
[null,null,null,null,null,null,{"$f":"IF(Dati!$C932 >0,Dati!$B932&\" | \"&TEXT(Dati!$C932,\"gg/mm/aa\")&\" | \"&TEXT(Dati!$D932,\"€. 0,00\")&\" | \"&Dati!$G932&\" | \"&Dati!$H932,\"---\")","v":"---"}]
[null,null,null,null,null,null,{"$f":"IF(Dati!$C933 >0,Dati!$B933&\" | \"&TEXT(Dati!$C933,\"gg/mm/aa\")&\" | \"&TEXT(Dati!$D933,\"€. 0,00\")&\" | \"&Dati!$G933&\" | \"&Dati!$H933,\"---\")","v":"---"}]
[null,null,null,null,null,null,{"$f":"IF(Dati!$C934 >0,Dati!$B934&\" | \"&TEXT(Dati!$C934,\"gg/mm/aa\")&\" | \"&TEXT(Dati!$D934,\"€. 0,00\")&\" | \"&Dati!$G934&\" | \"&Dati!$H934,\"---\")","v":"---"}]
[null,null,null,null,null,null,{"$f":"IF(Dati!$C935 >0,Dati!$B935&\" | \"&TEXT(Dati!$C935,\"gg/mm/aa\")&\" | \"&TEXT(Dati!$D935,\"€. 0,00\")&\" | \"&Dati!$G935&\" | \"&Dati!$H935,\"---\")","v":"---"}]
[null,null,null,null,null,null,{"$f":"IF(Dati!$C936 >0,Dati!$B936&\" | \"&TEXT(Dati!$C936,\"gg/mm/aa\")&\" | \"&TEXT(Dati!$D936,\"€. 0,00\")&\" | \"&Dati!$G936&\" | \"&Dati!$H936,\"---\")","v":"---"}]
[null,null,null,null,null,null,{"$f":"IF(Dati!$C937 >0,Dati!$B937&\" | \"&TEXT(Dati!$C937,\"gg/mm/aa\")&\" | \"&TEXT(Dati!$D937,\"€. 0,00\")&\" | \"&Dati!$G937&\" | \"&Dati!$H937,\"---\")","v":"---"}]
[null,null,null,null,null,null,{"$f":"IF(Dati!$C938 >0,Dati!$B938&\" | \"&TEXT(Dati!$C938,\"gg/mm/aa\")&\" | \"&TEXT(Dati!$D938,\"€. 0,00\")&\" | \"&Dati!$G938&\" | \"&Dati!$H938,\"---\")","v":"---"}]
[null,null,null,null,null,null,{"$f":"IF(Dati!$C939 >0,Dati!$B939&\" | \"&TEXT(Dati!$C939,\"gg/mm/aa\")&\" | \"&TEXT(Dati!$D939,\"€. 0,00\")&\" | \"&Dati!$G939&\" | \"&Dati!$H939,\"---\")","v":"---"}]
[null,null,null,null,null,null,{"$f":"IF(Dati!$C940 >0,Dati!$B940&\" | \"&TEXT(Dati!$C940,\"gg/mm/aa\")&\" | \"&TEXT(Dati!$D940,\"€. 0,00\")&\" | \"&Dati!$G940&\" | \"&Dati!$H940,\"---\")","v":"---"}]
[null,null,null,null,null,null,{"$f":"IF(Dati!$C941 >0,Dati!$B941&\" | \"&TEXT(Dati!$C941,\"gg/mm/aa\")&\" | \"&TEXT(Dati!$D941,\"€. 0,00\")&\" | \"&Dati!$G941&\" | \"&Dati!$H941,\"---\")","v":"---"}]
[null,null,null,null,null,null,{"$f":"IF(Dati!$C942 >0,Dati!$B942&\" | \"&TEXT(Dati!$C942,\"gg/mm/aa\")&\" | \"&TEXT(Dati!$D942,\"€. 0,00\")&\" | \"&Dati!$G942&\" | \"&Dati!$H942,\"---\")","v":"---"}]
[null,null,null,null,null,null,{"$f":"IF(Dati!$C943 >0,Dati!$B943&\" | \"&TEXT(Dati!$C943,\"gg/mm/aa\")&\" | \"&TEXT(Dati!$D943,\"€. 0,00\")&\" | \"&Dati!$G943&\" | \"&Dati!$H943,\"---\")","v":"---"}]
[null,null,null,null,null,null,{"$f":"IF(Dati!$C944 >0,Dati!$B944&\" | \"&TEXT(Dati!$C944,\"gg/mm/aa\")&\" | \"&TEXT(Dati!$D944,\"€. 0,00\")&\" | \"&Dati!$G944&\" | \"&Dati!$H944,\"---\")","v":"---"}]
[null,null,null,null,null,null,{"$f":"IF(Dati!$C945 >0,Dati!$B945&\" | \"&TEXT(Dati!$C945,\"gg/mm/aa\")&\" | \"&TEXT(Dati!$D945,\"€. 0,00\")&\" | \"&Dati!$G945&\" | \"&Dati!$H945,\"---\")","v":"---"}]
[null,null,null,null,null,null,{"$f":"IF(Dati!$C946 >0,Dati!$B946&\" | \"&TEXT(Dati!$C946,\"gg/mm/aa\")&\" | \"&TEXT(Dati!$D946,\"€. 0,00\")&\" | \"&Dati!$G946&\" | \"&Dati!$H946,\"---\")","v":"---"}]
[null,null,null,null,null,null,{"$f":"IF(Dati!$C947 >0,Dati!$B947&\" | \"&TEXT(Dati!$C947,\"gg/mm/aa\")&\" | \"&TEXT(Dati!$D947,\"€. 0,00\")&\" | \"&Dati!$G947&\" | \"&Dati!$H947,\"---\")","v":"---"}]
[null,null,null,null,null,null,{"$f":"IF(Dati!$C948 >0,Dati!$B948&\" | \"&TEXT(Dati!$C948,\"gg/mm/aa\")&\" | \"&TEXT(Dati!$D948,\"€. 0,00\")&\" | \"&Dati!$G948&\" | \"&Dati!$H948,\"---\")","v":"---"}]
[null,null,null,null,null,null,{"$f":"IF(Dati!$C949 >0,Dati!$B949&\" | \"&TEXT(Dati!$C949,\"gg/mm/aa\")&\" | \"&TEXT(Dati!$D949,\"€. 0,00\")&\" | \"&Dati!$G949&\" | \"&Dati!$H949,\"---\")","v":"---"}]
[null,null,null,null,null,null,{"$f":"IF(Dati!$C950 >0,Dati!$B950&\" | \"&TEXT(Dati!$C950,\"gg/mm/aa\")&\" | \"&TEXT(Dati!$D950,\"€. 0,00\")&\" | \"&Dati!$G950&\" | \"&Dati!$H950,\"---\")","v":"---"}]
[null,null,null,null,null,null,{"$f":"IF(Dati!$C951 >0,Dati!$B951&\" | \"&TEXT(Dati!$C951,\"gg/mm/aa\")&\" | \"&TEXT(Dati!$D951,\"€. 0,00\")&\" | \"&Dati!$G951&\" | \"&Dati!$H951,\"---\")","v":"---"}]
[null,null,null,null,null,null,{"$f":"IF(Dati!$C952 >0,Dati!$B952&\" | \"&TEXT(Dati!$C952,\"gg/mm/aa\")&\" | \"&TEXT(Dati!$D952,\"€. 0,00\")&\" | \"&Dati!$G952&\" | \"&Dati!$H952,\"---\")","v":"---"}]
[null,null,null,null,null,null,{"$f":"IF(Dati!$C953 >0,Dati!$B953&\" | \"&TEXT(Dati!$C953,\"gg/mm/aa\")&\" | \"&TEXT(Dati!$D953,\"€. 0,00\")&\" | \"&Dati!$G953&\" | \"&Dati!$H953,\"---\")","v":"---"}]
[null,null,null,null,null,null,{"$f":"IF(Dati!$C954 >0,Dati!$B954&\" | \"&TEXT(Dati!$C954,\"gg/mm/aa\")&\" | \"&TEXT(Dati!$D954,\"€. 0,00\")&\" | \"&Dati!$G954&\" | \"&Dati!$H954,\"---\")","v":"---"}]
[null,null,null,null,null,null,{"$f":"IF(Dati!$C955 >0,Dati!$B955&\" | \"&TEXT(Dati!$C955,\"gg/mm/aa\")&\" | \"&TEXT(Dati!$D955,\"€. 0,00\")&\" | \"&Dati!$G955&\" | \"&Dati!$H955,\"---\")","v":"---"}]
[null,null,null,null,null,null,{"$f":"IF(Dati!$C956 >0,Dati!$B956&\" | \"&TEXT(Dati!$C956,\"gg/mm/aa\")&\" | \"&TEXT(Dati!$D956,\"€. 0,00\")&\" | \"&Dati!$G956&\" | \"&Dati!$H956,\"---\")","v":"---"}]
[null,null,null,null,null,null,{"$f":"IF(Dati!$C957 >0,Dati!$B957&\" | \"&TEXT(Dati!$C957,\"gg/mm/aa\")&\" | \"&TEXT(Dati!$D957,\"€. 0,00\")&\" | \"&Dati!$G957&\" | \"&Dati!$H957,\"---\")","v":"---"}]
[null,null,null,null,null,null,{"$f":"IF(Dati!$C958 >0,Dati!$B958&\" | \"&TEXT(Dati!$C958,\"gg/mm/aa\")&\" | \"&TEXT(Dati!$D958,\"€. 0,00\")&\" | \"&Dati!$G958&\" | \"&Dati!$H958,\"---\")","v":"---"}]
[null,null,null,null,null,null,{"$f":"IF(Dati!$C959 >0,Dati!$B959&\" | \"&TEXT(Dati!$C959,\"gg/mm/aa\")&\" | \"&TEXT(Dati!$D959,\"€. 0,00\")&\" | \"&Dati!$G959&\" | \"&Dati!$H959,\"---\")","v":"---"}]
[null,null,null,null,null,null,{"$f":"IF(Dati!$C960 >0,Dati!$B960&\" | \"&TEXT(Dati!$C960,\"gg/mm/aa\")&\" | \"&TEXT(Dati!$D960,\"€. 0,00\")&\" | \"&Dati!$G960&\" | \"&Dati!$H960,\"---\")","v":"---"}]
[null,null,null,null,null,null,{"$f":"IF(Dati!$C961 >0,Dati!$B961&\" | \"&TEXT(Dati!$C961,\"gg/mm/aa\")&\" | \"&TEXT(Dati!$D961,\"€. 0,00\")&\" | \"&Dati!$G961&\" | \"&Dati!$H961,\"---\")","v":"---"}]
[null,null,null,null,null,null,{"$f":"IF(Dati!$C962 >0,Dati!$B962&\" | \"&TEXT(Dati!$C962,\"gg/mm/aa\")&\" | \"&TEXT(Dati!$D962,\"€. 0,00\")&\" | \"&Dati!$G962&\" | \"&Dati!$H962,\"---\")","v":"---"}]
[null,null,null,null,null,null,{"$f":"IF(Dati!$C963 >0,Dati!$B963&\" | \"&TEXT(Dati!$C963,\"gg/mm/aa\")&\" | \"&TEXT(Dati!$D963,\"€. 0,00\")&\" | \"&Dati!$G963&\" | \"&Dati!$H963,\"---\")","v":"---"}]
[null,null,null,null,null,null,{"$f":"IF(Dati!$C964 >0,Dati!$B964&\" | \"&TEXT(Dati!$C964,\"gg/mm/aa\")&\" | \"&TEXT(Dati!$D964,\"€. 0,00\")&\" | \"&Dati!$G964&\" | \"&Dati!$H964,\"---\")","v":"---"}]
[null,null,null,null,null,null,{"$f":"IF(Dati!$C965 >0,Dati!$B965&\" | \"&TEXT(Dati!$C965,\"gg/mm/aa\")&\" | \"&TEXT(Dati!$D965,\"€. 0,00\")&\" | \"&Dati!$G965&\" | \"&Dati!$H965,\"---\")","v":"---"}]
[null,null,null,null,null,null,{"$f":"IF(Dati!$C966 >0,Dati!$B966&\" | \"&TEXT(Dati!$C966,\"gg/mm/aa\")&\" | \"&TEXT(Dati!$D966,\"€. 0,00\")&\" | \"&Dati!$G966&\" | \"&Dati!$H966,\"---\")","v":"---"}]
[null,null,null,null,null,null,{"$f":"IF(Dati!$C967 >0,Dati!$B967&\" | \"&TEXT(Dati!$C967,\"gg/mm/aa\")&\" | \"&TEXT(Dati!$D967,\"€. 0,00\")&\" | \"&Dati!$G967&\" | \"&Dati!$H967,\"---\")","v":"---"}]
[null,null,null,null,null,null,{"$f":"IF(Dati!$C968 >0,Dati!$B968&\" | \"&TEXT(Dati!$C968,\"gg/mm/aa\")&\" | \"&TEXT(Dati!$D968,\"€. 0,00\")&\" | \"&Dati!$G968&\" | \"&Dati!$H968,\"---\")","v":"---"}]
[null,null,null,null,null,null,{"$f":"IF(Dati!$C969 >0,Dati!$B969&\" | \"&TEXT(Dati!$C969,\"gg/mm/aa\")&\" | \"&TEXT(Dati!$D969,\"€. 0,00\")&\" | \"&Dati!$G969&\" | \"&Dati!$H969,\"---\")","v":"---"}]
[null,null,null,null,null,null,{"$f":"IF(Dati!$C970 >0,Dati!$B970&\" | \"&TEXT(Dati!$C970,\"gg/mm/aa\")&\" | \"&TEXT(Dati!$D970,\"€. 0,00\")&\" | \"&Dati!$G970&\" | \"&Dati!$H970,\"---\")","v":"---"}]
[null,null,null,null,null,null,{"$f":"IF(Dati!$C971 >0,Dati!$B971&\" | \"&TEXT(Dati!$C971,\"gg/mm/aa\")&\" | \"&TEXT(Dati!$D971,\"€. 0,00\")&\" | \"&Dati!$G971&\" | \"&Dati!$H971,\"---\")","v":"---"}]
[null,null,null,null,null,null,{"$f":"IF(Dati!$C972 >0,Dati!$B972&\" | \"&TEXT(Dati!$C972,\"gg/mm/aa\")&\" | \"&TEXT(Dati!$D972,\"€. 0,00\")&\" | \"&Dati!$G972&\" | \"&Dati!$H972,\"---\")","v":"---"}]
[null,null,null,null,null,null,{"$f":"IF(Dati!$C973 >0,Dati!$B973&\" | \"&TEXT(Dati!$C973,\"gg/mm/aa\")&\" | \"&TEXT(Dati!$D973,\"€. 0,00\")&\" | \"&Dati!$G973&\" | \"&Dati!$H973,\"---\")","v":"---"}]
[null,null,null,null,null,null,{"$f":"IF(Dati!$C974 >0,Dati!$B974&\" | \"&TEXT(Dati!$C974,\"gg/mm/aa\")&\" | \"&TEXT(Dati!$D974,\"€. 0,00\")&\" | \"&Dati!$G974&\" | \"&Dati!$H974,\"---\")","v":"---"}]
[null,null,null,null,null,null,{"$f":"IF(Dati!$C975 >0,Dati!$B975&\" | \"&TEXT(Dati!$C975,\"gg/mm/aa\")&\" | \"&TEXT(Dati!$D975,\"€. 0,00\")&\" | \"&Dati!$G975&\" | \"&Dati!$H975,\"---\")","v":"---"}]
[null,null,null,null,null,null,{"$f":"IF(Dati!$C976 >0,Dati!$B976&\" | \"&TEXT(Dati!$C976,\"gg/mm/aa\")&\" | \"&TEXT(Dati!$D976,\"€. 0,00\")&\" | \"&Dati!$G976&\" | \"&Dati!$H976,\"---\")","v":"---"}]
[null,null,null,null,null,null,{"$f":"IF(Dati!$C977 >0,Dati!$B977&\" | \"&TEXT(Dati!$C977,\"gg/mm/aa\")&\" | \"&TEXT(Dati!$D977,\"€. 0,00\")&\" | \"&Dati!$G977&\" | \"&Dati!$H977,\"---\")","v":"---"}]
[null,null,null,null,null,null,{"$f":"IF(Dati!$C978 >0,Dati!$B978&\" | \"&TEXT(Dati!$C978,\"gg/mm/aa\")&\" | \"&TEXT(Dati!$D978,\"€. 0,00\")&\" | \"&Dati!$G978&\" | \"&Dati!$H978,\"---\")","v":"---"}]
[null,null,null,null,null,null,{"$f":"IF(Dati!$C979 >0,Dati!$B979&\" | \"&TEXT(Dati!$C979,\"gg/mm/aa\")&\" | \"&TEXT(Dati!$D979,\"€. 0,00\")&\" | \"&Dati!$G979&\" | \"&Dati!$H979,\"---\")","v":"---"}]
[null,null,null,null,null,null,{"$f":"IF(Dati!$C980 >0,Dati!$B980&\" | \"&TEXT(Dati!$C980,\"gg/mm/aa\")&\" | \"&TEXT(Dati!$D980,\"€. 0,00\")&\" | \"&Dati!$G980&\" | \"&Dati!$H980,\"---\")","v":"---"}]
[null,null,null,null,null,null,{"$f":"IF(Dati!$C981 >0,Dati!$B981&\" | \"&TEXT(Dati!$C981,\"gg/mm/aa\")&\" | \"&TEXT(Dati!$D981,\"€. 0,00\")&\" | \"&Dati!$G981&\" | \"&Dati!$H981,\"---\")","v":"---"}]
[null,null,null,null,null,null,{"$f":"IF(Dati!$C982 >0,Dati!$B982&\" | \"&TEXT(Dati!$C982,\"gg/mm/aa\")&\" | \"&TEXT(Dati!$D982,\"€. 0,00\")&\" | \"&Dati!$G982&\" | \"&Dati!$H982,\"---\")","v":"---"}]
[null,null,null,null,null,null,{"$f":"IF(Dati!$C983 >0,Dati!$B983&\" | \"&TEXT(Dati!$C983,\"gg/mm/aa\")&\" | \"&TEXT(Dati!$D983,\"€. 0,00\")&\" | \"&Dati!$G983&\" | \"&Dati!$H983,\"---\")","v":"---"}]
[null,null,null,null,null,null,{"$f":"IF(Dati!$C984 >0,Dati!$B984&\" | \"&TEXT(Dati!$C984,\"gg/mm/aa\")&\" | \"&TEXT(Dati!$D984,\"€. 0,00\")&\" | \"&Dati!$G984&\" | \"&Dati!$H984,\"---\")","v":"---"}]
[null,null,null,null,null,null,{"$f":"IF(Dati!$C985 >0,Dati!$B985&\" | \"&TEXT(Dati!$C985,\"gg/mm/aa\")&\" | \"&TEXT(Dati!$D985,\"€. 0,00\")&\" | \"&Dati!$G985&\" | \"&Dati!$H985,\"---\")","v":"---"}]
[null,null,null,null,null,null,{"$f":"IF(Dati!$C986 >0,Dati!$B986&\" | \"&TEXT(Dati!$C986,\"gg/mm/aa\")&\" | \"&TEXT(Dati!$D986,\"€. 0,00\")&\" | \"&Dati!$G986&\" | \"&Dati!$H986,\"---\")","v":"---"}]
[null,null,null,null,null,null,{"$f":"IF(Dati!$C987 >0,Dati!$B987&\" | \"&TEXT(Dati!$C987,\"gg/mm/aa\")&\" | \"&TEXT(Dati!$D987,\"€. 0,00\")&\" | \"&Dati!$G987&\" | \"&Dati!$H987,\"---\")","v":"---"}]
[null,null,null,null,null,null,{"$f":"IF(Dati!$C988 >0,Dati!$B988&\" | \"&TEXT(Dati!$C988,\"gg/mm/aa\")&\" | \"&TEXT(Dati!$D988,\"€. 0,00\")&\" | \"&Dati!$G988&\" | \"&Dati!$H988,\"---\")","v":"---"}]
[null,null,null,null,null,null,{"$f":"IF(Dati!$C989 >0,Dati!$B989&\" | \"&TEXT(Dati!$C989,\"gg/mm/aa\")&\" | \"&TEXT(Dati!$D989,\"€. 0,00\")&\" | \"&Dati!$G989&\" | \"&Dati!$H989,\"---\")","v":"---"}]
[null,null,null,null,null,null,{"$f":"IF(Dati!$C990 >0,Dati!$B990&\" | \"&TEXT(Dati!$C990,\"gg/mm/aa\")&\" | \"&TEXT(Dati!$D990,\"€. 0,00\")&\" | \"&Dati!$G990&\" | \"&Dati!$H990,\"---\")","v":"---"}]
[null,null,null,null,null,null,{"$f":"IF(Dati!$C991 >0,Dati!$B991&\" | \"&TEXT(Dati!$C991,\"gg/mm/aa\")&\" | \"&TEXT(Dati!$D991,\"€. 0,00\")&\" | \"&Dati!$G991&\" | \"&Dati!$H991,\"---\")","v":"---"}]
[null,null,null,null,null,null,{"$f":"IF(Dati!$C992 >0,Dati!$B992&\" | \"&TEXT(Dati!$C992,\"gg/mm/aa\")&\" | \"&TEXT(Dati!$D992,\"€. 0,00\")&\" | \"&Dati!$G992&\" | \"&Dati!$H992,\"---\")","v":"---"}]
[null,null,null,null,null,null,{"$f":"IF(Dati!$C993 >0,Dati!$B993&\" | \"&TEXT(Dati!$C993,\"gg/mm/aa\")&\" | \"&TEXT(Dati!$D993,\"€. 0,00\")&\" | \"&Dati!$G993&\" | \"&Dati!$H993,\"---\")","v":"---"}]
[null,null,null,null,null,null,{"$f":"IF(Dati!$C994 >0,Dati!$B994&\" | \"&TEXT(Dati!$C994,\"gg/mm/aa\")&\" | \"&TEXT(Dati!$D994,\"€. 0,00\")&\" | \"&Dati!$G994&\" | \"&Dati!$H994,\"---\")","v":"---"}]
[null,null,null,null,null,null,{"$f":"IF(Dati!$C995 >0,Dati!$B995&\" | \"&TEXT(Dati!$C995,\"gg/mm/aa\")&\" | \"&TEXT(Dati!$D995,\"€. 0,00\")&\" | \"&Dati!$G995&\" | \"&Dati!$H995,\"---\")","v":"---"}]
[null,null,null,null,null,null,{"$f":"IF(Dati!$C996 >0,Dati!$B996&\" | \"&TEXT(Dati!$C996,\"gg/mm/aa\")&\" | \"&TEXT(Dati!$D996,\"€. 0,00\")&\" | \"&Dati!$G996&\" | \"&Dati!$H996,\"---\")","v":"---"}]
[null,null,null,null,null,null,{"$f":"IF(Dati!$C997 >0,Dati!$B997&\" | \"&TEXT(Dati!$C997,\"gg/mm/aa\")&\" | \"&TEXT(Dati!$D997,\"€. 0,00\")&\" | \"&Dati!$G997&\" | \"&Dati!$H997,\"---\")","v":"---"}]
[null,null,null,null,null,null,{"$f":"IF(Dati!$C998 >0,Dati!$B998&\" | \"&TEXT(Dati!$C998,\"gg/mm/aa\")&\" | \"&TEXT(Dati!$D998,\"€. 0,00\")&\" | \"&Dati!$G998&\" | \"&Dati!$H998,\"---\")","v":"---"}]
[null,null,null,null,null,null,{"$f":"IF(Dati!$C999 >0,Dati!$B999&\" | \"&TEXT(Dati!$C999,\"gg/mm/aa\")&\" | \"&TEXT(Dati!$D999,\"€. 0,00\")&\" | \"&Dati!$G999&\" | \"&Dati!$H999,\"---\")","v":"---"}]
[null,null,null,null,null,null,{"$f":"IF(Dati!$C1000 >0,Dati!$B1000&\" | \"&TEXT(Dati!$C1000,\"gg/mm/aa\")&\" | \"&TEXT(Dati!$D1000,\"€. 0,00\")&\" | \"&Dati!$G1000&\" | \"&Dati!$H1000,\"---\")","v":"---"}]
[null,null,null,null,null,null,{"$f":"IF(Dati!$C1001 >0,Dati!$B1001&\" | \"&TEXT(Dati!$C1001,\"gg/mm/aa\")&\" | \"&TEXT(Dati!$D1001,\"€. 0,00\")&\" | \"&Dati!$G1001&\" | \"&Dati!$H1001,\"---\")","v":"---"}]
[null,null,null,null,null,null,{"$f":"IF(Dati!$C1002 >0,Dati!$B1002&\" | \"&TEXT(Dati!$C1002,\"gg/mm/aa\")&\" | \"&TEXT(Dati!$D1002,\"€. 0,00\")&\" | \"&Dati!$G1002&\" | \"&Dati!$H1002,\"---\")","v":"---"}]
[null,null,null,null,null,null,{"$f":"IF(Dati!$C1003 >0,Dati!$B1003&\" | \"&TEXT(Dati!$C1003,\"gg/mm/aa\")&\" | \"&TEXT(Dati!$D1003,\"€. 0,00\")&\" | \"&Dati!$G1003&\" | \"&Dati!$H1003,\"---\")","v":"---"}]
[null,null,null,null,null,null,{"$f":"IF(Dati!$C1004 >0,Dati!$B1004&\" | \"&TEXT(Dati!$C1004,\"gg/mm/aa\")&\" | \"&TEXT(Dati!$D1004,\"€. 0,00\")&\" | \"&Dati!$G1004&\" | \"&Dati!$H1004,\"---\")","v":"---"}]

{"sheet":"SintesiMese","index":4,"n_rows":45,"n_cols":6,"rows_kept":45,"cut":false,"hidden":false,"merged":[]}
["Dati Mensili"]
["SE.ERRORE(INDICE(Dati!$H$6:Dati!H50;CONFRONTA(0;SE($C$3=Dati!$I$6:I50;CONTA.SE($D$5:D5;Dati!$H$6:Dati!H50);\"\");0));\"\")"]
["Selezionare il mese :","Luglio"]
[]
["Quadro di sintesi",null,null,"Descrizione","ENTRATA","USCITA"]
["Tot. Entrate",{"$f":"SUM(E:E)","v":0},null,{"$f":"IFERROR(INDEX(Dati!$H$6:'Dati'!H50,MATCH(0,IF($B$3=Dati!$I$6:I50,COUNTIF($D$5:D5,Dati!$H$6:'Dati'!H50),\"\"),0)),\"\")","v":""},{"$f":"IF(D6 >\"\",SUMIFS(Dati!$D$6:$D$1000,Dati!$I$6:'Dati'!$I$1000,$B$3,Dati!$H$6:'Dati'!$H$1000,D6,Dati!$F$6:'Dati'!$F$1000,$E$5),\"\")","v":""},{"$f":"IF(D6 >\"\",SUMIFS(Dati!$D$6:$D$1000,Dati!$I$6:'Dati'!$I$1000,$B$3,Dati!$H$6:'Dati'!$H$1000,D6,Dati!$F$6:'Dati'!$F$1000,$F$5),\"\")","v":""}]
["Tot. Escite",{"$f":"SUM(F:F)","v":0},null,{"$f":"IFERROR(INDEX(Dati!$H$6:'Dati'!H51,MATCH(0,IF($B$3=Dati!$I$6:I51,COUNTIF($D$5:D6,Dati!$H$6:'Dati'!H51),\"\"),0)),\"\")","v":""},{"$f":"IF(D7 >\"\",SUMIFS(Dati!$D$6:$D$1000,Dati!$I$6:'Dati'!$I$1000,$B$3,Dati!$H$6:'Dati'!$H$1000,D7,Dati!$F$6:'Dati'!$F$1000,$E$5),\"\")","v":""},{"$f":"IF(D7 >\"\",SUMIFS(Dati!$D$6:$D$1000,Dati!$I$6:'Dati'!$I$1000,$B$3,Dati!$H$6:'Dati'!$H$1000,D7,Dati!$F$6:'Dati'!$F$1000,$F$5),\"\")","v":""}]
["Sbilancio",{"$f":"SUM(B6:B7)","v":0},null,{"$f":"IFERROR(INDEX(Dati!$H$6:'Dati'!H52,MATCH(0,IF($B$3=Dati!$I$6:I52,COUNTIF($D$5:D7,Dati!$H$6:'Dati'!H52),\"\"),0)),\"\")","v":""},{"$f":"IF(D8 >\"\",SUMIFS(Dati!$D$6:$D$1000,Dati!$I$6:'Dati'!$I$1000,$B$3,Dati!$H$6:'Dati'!$H$1000,D8,Dati!$F$6:'Dati'!$F$1000,$E$5),\"\")","v":""},{"$f":"IF(D8 >\"\",SUMIFS(Dati!$D$6:$D$1000,Dati!$I$6:'Dati'!$I$1000,$B$3,Dati!$H$6:'Dati'!$H$1000,D8,Dati!$F$6:'Dati'!$F$1000,$F$5),\"\")","v":""}]
[null,null,null,{"$f":"IFERROR(INDEX(Dati!$H$6:'Dati'!H53,MATCH(0,IF($B$3=Dati!$I$6:I53,COUNTIF($D$5:D8,Dati!$H$6:'Dati'!H53),\"\"),0)),\"\")","v":""},{"$f":"IF(D9 >\"\",SUMIFS(Dati!$D$6:$D$1000,Dati!$I$6:'Dati'!$I$1000,$B$3,Dati!$H$6:'Dati'!$H$1000,D9,Dati!$F$6:'Dati'!$F$1000,$E$5),\"\")","v":""},{"$f":"IF(D9 >\"\",SUMIFS(Dati!$D$6:$D$1000,Dati!$I$6:'Dati'!$I$1000,$B$3,Dati!$H$6:'Dati'!$H$1000,D9,Dati!$F$6:'Dati'!$F$1000,$F$5),\"\")","v":""}]
[null,null,null,{"$f":"IFERROR(INDEX(Dati!$H$6:'Dati'!H54,MATCH(0,IF($B$3=Dati!$I$6:I54,COUNTIF($D$5:D9,Dati!$H$6:'Dati'!H54),\"\"),0)),\"\")","v":""},{"$f":"IF(D10 >\"\",SUMIFS(Dati!$D$6:$D$1000,Dati!$I$6:'Dati'!$I$1000,$B$3,Dati!$H$6:'Dati'!$H$1000,D10,Dati!$F$6:'Dati'!$F$1000,$E$5),\"\")","v":""},{"$f":"IF(D10 >\"\",SUMIFS(Dati!$D$6:$D$1000,Dati!$I$6:'Dati'!$I$1000,$B$3,Dati!$H$6:'Dati'!$H$1000,D10,Dati!$F$6:'Dati'!$F$1000,$F$5),\"\")","v":""}]
[null,null,null,{"$f":"IFERROR(INDEX(Dati!$H$6:'Dati'!H55,MATCH(0,IF($B$3=Dati!$I$6:I55,COUNTIF($D$5:D10,Dati!$H$6:'Dati'!H55),\"\"),0)),\"\")","v":""},{"$f":"IF(D11 >\"\",SUMIFS(Dati!$D$6:$D$1000,Dati!$I$6:'Dati'!$I$1000,$B$3,Dati!$H$6:'Dati'!$H$1000,D11,Dati!$F$6:'Dati'!$F$1000,$E$5),\"\")","v":""},{"$f":"IF(D11 >\"\",SUMIFS(Dati!$D$6:$D$1000,Dati!$I$6:'Dati'!$I$1000,$B$3,Dati!$H$6:'Dati'!$H$1000,D11,Dati!$F$6:'Dati'!$F$1000,$F$5),\"\")","v":""}]
[null,null,null,{"$f":"IFERROR(INDEX(Dati!$H$6:'Dati'!H56,MATCH(0,IF($B$3=Dati!$I$6:I56,COUNTIF($D$5:D11,Dati!$H$6:'Dati'!H56),\"\"),0)),\"\")","v":""},{"$f":"IF(D12 >\"\",SUMIFS(Dati!$D$6:$D$1000,Dati!$I$6:'Dati'!$I$1000,$B$3,Dati!$H$6:'Dati'!$H$1000,D12,Dati!$F$6:'Dati'!$F$1000,$E$5),\"\")","v":""},{"$f":"IF(D12 >\"\",SUMIFS(Dati!$D$6:$D$1000,Dati!$I$6:'Dati'!$I$1000,$B$3,Dati!$H$6:'Dati'!$H$1000,D12,Dati!$F$6:'Dati'!$F$1000,$F$5),\"\")","v":""}]
[null,null,null,{"$f":"IFERROR(INDEX(Dati!$H$6:'Dati'!H57,MATCH(0,IF($B$3=Dati!$I$6:I57,COUNTIF($D$5:D12,Dati!$H$6:'Dati'!H57),\"\"),0)),\"\")","v":""},{"$f":"IF(D13 >\"\",SUMIFS(Dati!$D$6:$D$1000,Dati!$I$6:'Dati'!$I$1000,$B$3,Dati!$H$6:'Dati'!$H$1000,D13,Dati!$F$6:'Dati'!$F$1000,$E$5),\"\")","v":""},{"$f":"IF(D13 >\"\",SUMIFS(Dati!$D$6:$D$1000,Dati!$I$6:'Dati'!$I$1000,$B$3,Dati!$H$6:'Dati'!$H$1000,D13,Dati!$F$6:'Dati'!$F$1000,$F$5),\"\")","v":""}]
[null,null,null,{"$f":"IFERROR(INDEX(Dati!$H$6:'Dati'!H58,MATCH(0,IF($B$3=Dati!$I$6:I58,COUNTIF($D$5:D13,Dati!$H$6:'Dati'!H58),\"\"),0)),\"\")","v":""},{"$f":"IF(D14 >\"\",SUMIFS(Dati!$D$6:$D$1000,Dati!$I$6:'Dati'!$I$1000,$B$3,Dati!$H$6:'Dati'!$H$1000,D14,Dati!$F$6:'Dati'!$F$1000,$E$5),\"\")","v":""},{"$f":"IF(D14 >\"\",SUMIFS(Dati!$D$6:$D$1000,Dati!$I$6:'Dati'!$I$1000,$B$3,Dati!$H$6:'Dati'!$H$1000,D14,Dati!$F$6:'Dati'!$F$1000,$F$5),\"\")","v":""}]
[null,null,null,{"$f":"IFERROR(INDEX(Dati!$H$6:'Dati'!H59,MATCH(0,IF($B$3=Dati!$I$6:I59,COUNTIF($D$5:D14,Dati!$H$6:'Dati'!H59),\"\"),0)),\"\")","v":""},{"$f":"IF(D15 >\"\",SUMIFS(Dati!$D$6:$D$1000,Dati!$I$6:'Dati'!$I$1000,$B$3,Dati!$H$6:'Dati'!$H$1000,D15,Dati!$F$6:'Dati'!$F$1000,$E$5),\"\")","v":""},{"$f":"IF(D15 >\"\",SUMIFS(Dati!$D$6:$D$1000,Dati!$I$6:'Dati'!$I$1000,$B$3,Dati!$H$6:'Dati'!$H$1000,D15,Dati!$F$6:'Dati'!$F$1000,$F$5),\"\")","v":""}]
[null,null,null,{"$f":"IFERROR(INDEX(Dati!$H$6:'Dati'!H60,MATCH(0,IF($B$3=Dati!$I$6:I60,COUNTIF($D$5:D15,Dati!$H$6:'Dati'!H60),\"\"),0)),\"\")","v":""},{"$f":"IF(D16 >\"\",SUMIFS(Dati!$D$6:$D$1000,Dati!$I$6:'Dati'!$I$1000,$B$3,Dati!$H$6:'Dati'!$H$1000,D16,Dati!$F$6:'Dati'!$F$1000,$E$5),\"\")","v":""},{"$f":"IF(D16 >\"\",SUMIFS(Dati!$D$6:$D$1000,Dati!$I$6:'Dati'!$I$1000,$B$3,Dati!$H$6:'Dati'!$H$1000,D16,Dati!$F$6:'Dati'!$F$1000,$F$5),\"\")","v":""}]
[null,null,null,{"$f":"IFERROR(INDEX(Dati!$H$6:'Dati'!H61,MATCH(0,IF($B$3=Dati!$I$6:I61,COUNTIF($D$5:D16,Dati!$H$6:'Dati'!H61),\"\"),0)),\"\")","v":""},{"$f":"IF(D17 >\"\",SUMIFS(Dati!$D$6:$D$1000,Dati!$I$6:'Dati'!$I$1000,$B$3,Dati!$H$6:'Dati'!$H$1000,D17,Dati!$F$6:'Dati'!$F$1000,$E$5),\"\")","v":""},{"$f":"IF(D17 >\"\",SUMIFS(Dati!$D$6:$D$1000,Dati!$I$6:'Dati'!$I$1000,$B$3,Dati!$H$6:'Dati'!$H$1000,D17,Dati!$F$6:'Dati'!$F$1000,$F$5),\"\")","v":""}]
[null,null,null,{"$f":"IFERROR(INDEX(Dati!$H$6:'Dati'!H62,MATCH(0,IF($B$3=Dati!$I$6:I62,COUNTIF($D$5:D17,Dati!$H$6:'Dati'!H62),\"\"),0)),\"\")","v":""},{"$f":"IF(D18 >\"\",SUMIFS(Dati!$D$6:$D$1000,Dati!$I$6:'Dati'!$I$1000,$B$3,Dati!$H$6:'Dati'!$H$1000,D18,Dati!$F$6:'Dati'!$F$1000,$E$5),\"\")","v":""},{"$f":"IF(D18 >\"\",SUMIFS(Dati!$D$6:$D$1000,Dati!$I$6:'Dati'!$I$1000,$B$3,Dati!$H$6:'Dati'!$H$1000,D18,Dati!$F$6:'Dati'!$F$1000,$F$5),\"\")","v":""}]
[null,null,null,{"$f":"IFERROR(INDEX(Dati!$H$6:'Dati'!H63,MATCH(0,IF($B$3=Dati!$I$6:I63,COUNTIF($D$5:D18,Dati!$H$6:'Dati'!H63),\"\"),0)),\"\")","v":""},{"$f":"IF(D19 >\"\",SUMIFS(Dati!$D$6:$D$1000,Dati!$I$6:'Dati'!$I$1000,$B$3,Dati!$H$6:'Dati'!$H$1000,D19,Dati!$F$6:'Dati'!$F$1000,$E$5),\"\")","v":""},{"$f":"IF(D19 >\"\",SUMIFS(Dati!$D$6:$D$1000,Dati!$I$6:'Dati'!$I$1000,$B$3,Dati!$H$6:'Dati'!$H$1000,D19,Dati!$F$6:'Dati'!$F$1000,$F$5),\"\")","v":""}]
[null,null,null,{"$f":"IFERROR(INDEX(Dati!$H$6:'Dati'!H64,MATCH(0,IF($B$3=Dati!$I$6:I64,COUNTIF($D$5:D19,Dati!$H$6:'Dati'!H64),\"\"),0)),\"\")","v":""},{"$f":"IF(D20 >\"\",SUMIFS(Dati!$D$6:$D$1000,Dati!$I$6:'Dati'!$I$1000,$B$3,Dati!$H$6:'Dati'!$H$1000,D20,Dati!$F$6:'Dati'!$F$1000,$E$5),\"\")","v":""},{"$f":"IF(D20 >\"\",SUMIFS(Dati!$D$6:$D$1000,Dati!$I$6:'Dati'!$I$1000,$B$3,Dati!$H$6:'Dati'!$H$1000,D20,Dati!$F$6:'Dati'!$F$1000,$F$5),\"\")","v":""}]
[null,null,null,{"$f":"IFERROR(INDEX(Dati!$H$6:'Dati'!H65,MATCH(0,IF($B$3=Dati!$I$6:I65,COUNTIF($D$5:D20,Dati!$H$6:'Dati'!H65),\"\"),0)),\"\")","v":""},{"$f":"IF(D21 >\"\",SUMIFS(Dati!$D$6:$D$1000,Dati!$I$6:'Dati'!$I$1000,$B$3,Dati!$H$6:'Dati'!$H$1000,D21,Dati!$F$6:'Dati'!$F$1000,$E$5),\"\")","v":""},{"$f":"IF(D21 >\"\",SUMIFS(Dati!$D$6:$D$1000,Dati!$I$6:'Dati'!$I$1000,$B$3,Dati!$H$6:'Dati'!$H$1000,D21,Dati!$F$6:'Dati'!$F$1000,$F$5),\"\")","v":""}]
[null,null,null,{"$f":"IFERROR(INDEX(Dati!$H$6:'Dati'!H66,MATCH(0,IF($B$3=Dati!$I$6:I66,COUNTIF($D$5:D21,Dati!$H$6:'Dati'!H66),\"\"),0)),\"\")","v":""},{"$f":"IF(D22 >\"\",SUMIFS(Dati!$D$6:$D$1000,Dati!$I$6:'Dati'!$I$1000,$B$3,Dati!$H$6:'Dati'!$H$1000,D22,Dati!$F$6:'Dati'!$F$1000,$E$5),\"\")","v":""},{"$f":"IF(D22 >\"\",SUMIFS(Dati!$D$6:$D$1000,Dati!$I$6:'Dati'!$I$1000,$B$3,Dati!$H$6:'Dati'!$H$1000,D22,Dati!$F$6:'Dati'!$F$1000,$F$5),\"\")","v":""}]
[null,null,null,{"$f":"IFERROR(INDEX(Dati!$H$6:'Dati'!H67,MATCH(0,IF($B$3=Dati!$I$6:I67,COUNTIF($D$5:D22,Dati!$H$6:'Dati'!H67),\"\"),0)),\"\")","v":""},{"$f":"IF(D23 >\"\",SUMIFS(Dati!$D$6:$D$1000,Dati!$I$6:'Dati'!$I$1000,$B$3,Dati!$H$6:'Dati'!$H$1000,D23,Dati!$F$6:'Dati'!$F$1000,$E$5),\"\")","v":""},{"$f":"IF(D23 >\"\",SUMIFS(Dati!$D$6:$D$1000,Dati!$I$6:'Dati'!$I$1000,$B$3,Dati!$H$6:'Dati'!$H$1000,D23,Dati!$F$6:'Dati'!$F$1000,$F$5),\"\")","v":""}]
[null,null,null,{"$f":"IFERROR(INDEX(Dati!$H$6:'Dati'!H68,MATCH(0,IF($B$3=Dati!$I$6:I68,COUNTIF($D$5:D23,Dati!$H$6:'Dati'!H68),\"\"),0)),\"\")","v":""},{"$f":"IF(D24 >\"\",SUMIFS(Dati!$D$6:$D$1000,Dati!$I$6:'Dati'!$I$1000,$B$3,Dati!$H$6:'Dati'!$H$1000,D24,Dati!$F$6:'Dati'!$F$1000,$E$5),\"\")","v":""},{"$f":"IF(D24 >\"\",SUMIFS(Dati!$D$6:$D$1000,Dati!$I$6:'Dati'!$I$1000,$B$3,Dati!$H$6:'Dati'!$H$1000,D24,Dati!$F$6:'Dati'!$F$1000,$F$5),\"\")","v":""}]
[null,null,null,{"$f":"IFERROR(INDEX(Dati!$H$6:'Dati'!H69,MATCH(0,IF($B$3=Dati!$I$6:I69,COUNTIF($D$5:D24,Dati!$H$6:'Dati'!H69),\"\"),0)),\"\")","v":""},{"$f":"IF(D25 >\"\",SUMIFS(Dati!$D$6:$D$1000,Dati!$I$6:'Dati'!$I$1000,$B$3,Dati!$H$6:'Dati'!$H$1000,D25,Dati!$F$6:'Dati'!$F$1000,$E$5),\"\")","v":""},{"$f":"IF(D25 >\"\",SUMIFS(Dati!$D$6:$D$1000,Dati!$I$6:'Dati'!$I$1000,$B$3,Dati!$H$6:'Dati'!$H$1000,D25,Dati!$F$6:'Dati'!$F$1000,$F$5),\"\")","v":""}]
[null,null,null,{"$f":"IFERROR(INDEX(Dati!$H$6:'Dati'!H70,MATCH(0,IF($B$3=Dati!$I$6:I70,COUNTIF($D$5:D25,Dati!$H$6:'Dati'!H70),\"\"),0)),\"\")","v":""},{"$f":"IF(D26 >\"\",SUMIFS(Dati!$D$6:$D$1000,Dati!$I$6:'Dati'!$I$1000,$B$3,Dati!$H$6:'Dati'!$H$1000,D26,Dati!$F$6:'Dati'!$F$1000,$E$5),\"\")","v":""},{"$f":"IF(D26 >\"\",SUMIFS(Dati!$D$6:$D$1000,Dati!$I$6:'Dati'!$I$1000,$B$3,Dati!$H$6:'Dati'!$H$1000,D26,Dati!$F$6:'Dati'!$F$1000,$F$5),\"\")","v":""}]
[null,null,null,{"$f":"IFERROR(INDEX(Dati!$H$6:'Dati'!H71,MATCH(0,IF($B$3=Dati!$I$6:I71,COUNTIF($D$5:D26,Dati!$H$6:'Dati'!H71),\"\"),0)),\"\")","v":""},{"$f":"IF(D27 >\"\",SUMIFS(Dati!$D$6:$D$1000,Dati!$I$6:'Dati'!$I$1000,$B$3,Dati!$H$6:'Dati'!$H$1000,D27,Dati!$F$6:'Dati'!$F$1000,$E$5),\"\")","v":""},{"$f":"IF(D27 >\"\",SUMIFS(Dati!$D$6:$D$1000,Dati!$I$6:'Dati'!$I$1000,$B$3,Dati!$H$6:'Dati'!$H$1000,D27,Dati!$F$6:'Dati'!$F$1000,$F$5),\"\")","v":""}]
[null,null,null,{"$f":"IFERROR(INDEX(Dati!$H$6:'Dati'!H72,MATCH(0,IF($B$3=Dati!$I$6:I72,COUNTIF($D$5:D27,Dati!$H$6:'Dati'!H72),\"\"),0)),\"\")","v":""},{"$f":"IF(D28 >\"\",SUMIFS(Dati!$D$6:$D$1000,Dati!$I$6:'Dati'!$I$1000,$B$3,Dati!$H$6:'Dati'!$H$1000,D28,Dati!$F$6:'Dati'!$F$1000,$E$5),\"\")","v":""},{"$f":"IF(D28 >\"\",SUMIFS(Dati!$D$6:$D$1000,Dati!$I$6:'Dati'!$I$1000,$B$3,Dati!$H$6:'Dati'!$H$1000,D28,Dati!$F$6:'Dati'!$F$1000,$F$5),\"\")","v":""}]
[null,null,null,{"$f":"IFERROR(INDEX(Dati!$H$6:'Dati'!H73,MATCH(0,IF($B$3=Dati!$I$6:I73,COUNTIF($D$5:D28,Dati!$H$6:'Dati'!H73),\"\"),0)),\"\")","v":""},{"$f":"IF(D29 >\"\",SUMIFS(Dati!$D$6:$D$1000,Dati!$I$6:'Dati'!$I$1000,$B$3,Dati!$H$6:'Dati'!$H$1000,D29,Dati!$F$6:'Dati'!$F$1000,$E$5),\"\")","v":""},{"$f":"IF(D29 >\"\",SUMIFS(Dati!$D$6:$D$1000,Dati!$I$6:'Dati'!$I$1000,$B$3,Dati!$H$6:'Dati'!$H$1000,D29,Dati!$F$6:'Dati'!$F$1000,$F$5),\"\")","v":""}]
[null,null,null,{"$f":"IFERROR(INDEX(Dati!$H$6:'Dati'!H74,MATCH(0,IF($B$3=Dati!$I$6:I74,COUNTIF($D$5:D29,Dati!$H$6:'Dati'!H74),\"\"),0)),\"\")","v":""},{"$f":"IF(D30 >\"\",SUMIFS(Dati!$D$6:$D$1000,Dati!$I$6:'Dati'!$I$1000,$B$3,Dati!$H$6:'Dati'!$H$1000,D30,Dati!$F$6:'Dati'!$F$1000,$E$5),\"\")","v":""},{"$f":"IF(D30 >\"\",SUMIFS(Dati!$D$6:$D$1000,Dati!$I$6:'Dati'!$I$1000,$B$3,Dati!$H$6:'Dati'!$H$1000,D30,Dati!$F$6:'Dati'!$F$1000,$F$5),\"\")","v":""}]
[null,null,null,{"$f":"IFERROR(INDEX(Dati!$H$6:'Dati'!H75,MATCH(0,IF($B$3=Dati!$I$6:I75,COUNTIF($D$5:D30,Dati!$H$6:'Dati'!H75),\"\"),0)),\"\")","v":""},{"$f":"IF(D31 >\"\",SUMIFS(Dati!$D$6:$D$1000,Dati!$I$6:'Dati'!$I$1000,$B$3,Dati!$H$6:'Dati'!$H$1000,D31,Dati!$F$6:'Dati'!$F$1000,$E$5),\"\")","v":""},{"$f":"IF(D31 >\"\",SUMIFS(Dati!$D$6:$D$1000,Dati!$I$6:'Dati'!$I$1000,$B$3,Dati!$H$6:'Dati'!$H$1000,D31,Dati!$F$6:'Dati'!$F$1000,$F$5),\"\")","v":""}]
[null,null,null,{"$f":"IFERROR(INDEX(Dati!$H$6:'Dati'!H76,MATCH(0,IF($B$3=Dati!$I$6:I76,COUNTIF($D$5:D31,Dati!$H$6:'Dati'!H76),\"\"),0)),\"\")","v":""},{"$f":"IF(D32 >\"\",SUMIFS(Dati!$D$6:$D$1000,Dati!$I$6:'Dati'!$I$1000,$B$3,Dati!$H$6:'Dati'!$H$1000,D32,Dati!$F$6:'Dati'!$F$1000,$E$5),\"\")","v":""},{"$f":"IF(D32 >\"\",SUMIFS(Dati!$D$6:$D$1000,Dati!$I$6:'Dati'!$I$1000,$B$3,Dati!$H$6:'Dati'!$H$1000,D32,Dati!$F$6:'Dati'!$F$1000,$F$5),\"\")","v":""}]
[null,null,null,{"$f":"IFERROR(INDEX(Dati!$H$6:'Dati'!H77,MATCH(0,IF($B$3=Dati!$I$6:I77,COUNTIFS($D$5:D32,Dati!$H$6:'Dati'!H77),\"\"),0)),\"\")","v":""},{"$f":"IF(D33 >\"\",SUMIFS(Dati!$D$6:$D$1000,Dati!$I$6:'Dati'!$I$1000,$B$3,Dati!$H$6:'Dati'!$H$1000,D33,Dati!$F$6:'Dati'!$F$1000,$E$5),\"\")","v":""},{"$f":"IF(D33 >\"\",SUMIFS(Dati!$D$6:$D$1000,Dati!$I$6:'Dati'!$I$1000,$B$3,Dati!$H$6:'Dati'!$H$1000,D33,Dati!$F$6:'Dati'!$F$1000,$F$5),\"\")","v":""}]
[null,null,null,{"$f":"IFERROR(INDEX(Dati!$H$6:'Dati'!H78,MATCH(0,IF($B$3=Dati!$I$6:I78,COUNTIFS($D$5:D33,Dati!$H$6:'Dati'!H78),\"\"),0)),\"\")","v":""},{"$f":"IF(D34 >\"\",SUMIFS(Dati!$D$6:$D$1000,Dati!$I$6:'Dati'!$I$1000,$B$3,Dati!$H$6:'Dati'!$H$1000,D34,Dati!$F$6:'Dati'!$F$1000,$E$5),\"\")","v":""},{"$f":"IF(D34 >\"\",SUMIFS(Dati!$D$6:$D$1000,Dati!$I$6:'Dati'!$I$1000,$B$3,Dati!$H$6:'Dati'!$H$1000,D34,Dati!$F$6:'Dati'!$F$1000,$F$5),\"\")","v":""}]
[null,null,null,{"$f":"IFERROR(INDEX(Dati!$H$6:'Dati'!H79,MATCH(0,IF($B$3=Dati!$I$6:I79,COUNTIFS($D$5:D34,Dati!$H$6:'Dati'!H79),\"\"),0)),\"\")","v":""},{"$f":"IF(D35 >\"\",SUMIFS(Dati!$D$6:$D$1000,Dati!$I$6:'Dati'!$I$1000,$B$3,Dati!$H$6:'Dati'!$H$1000,D35,Dati!$F$6:'Dati'!$F$1000,$E$5),\"\")","v":""},{"$f":"IF(D35 >\"\",SUMIFS(Dati!$D$6:$D$1000,Dati!$I$6:'Dati'!$I$1000,$B$3,Dati!$H$6:'Dati'!$H$1000,D35,Dati!$F$6:'Dati'!$F$1000,$F$5),\"\")","v":""}]
[null,null,null,{"$f":"IFERROR(INDEX(Dati!$H$6:'Dati'!H80,MATCH(0,IF($B$3=Dati!$I$6:I80,COUNTIFS($D$5:D35,Dati!$H$6:'Dati'!H80),\"\"),0)),\"\")","v":""},{"$f":"IF(D36 >\"\",SUMIFS(Dati!$D$6:$D$1000,Dati!$I$6:'Dati'!$I$1000,$B$3,Dati!$H$6:'Dati'!$H$1000,D36,Dati!$F$6:'Dati'!$F$1000,$E$5),\"\")","v":""},{"$f":"IF(D36 >\"\",SUMIFS(Dati!$D$6:$D$1000,Dati!$I$6:'Dati'!$I$1000,$B$3,Dati!$H$6:'Dati'!$H$1000,D36,Dati!$F$6:'Dati'!$F$1000,$F$5),\"\")","v":""}]
[null,null,null,{"$f":"IFERROR(INDEX(Dati!$H$6:'Dati'!H81,MATCH(0,IF($B$3=Dati!$I$6:I81,COUNTIFS($D$5:D36,Dati!$H$6:'Dati'!H81),\"\"),0)),\"\")","v":""},{"$f":"IF(D37 >\"\",SUMIFS(Dati!$D$6:$D$1000,Dati!$I$6:'Dati'!$I$1000,$B$3,Dati!$H$6:'Dati'!$H$1000,D37,Dati!$F$6:'Dati'!$F$1000,$E$5),\"\")","v":""}]
[null,null,null,{"$f":"IFERROR(INDEX(Dati!$H$6:'Dati'!H82,MATCH(0,IF($B$3=Dati!$I$6:I82,COUNTIFS($D$5:D37,Dati!$H$6:'Dati'!H82),\"\"),0)),\"\")","v":""}]
[null,null,null,{"$f":"IFERROR(INDEX(Dati!$H$6:'Dati'!H83,MATCH(0,IF($B$3=Dati!$I$6:I83,COUNTIFS($D$5:D38,Dati!$H$6:'Dati'!H83),\"\"),0)),\"\")","v":""}]
[null,null,null,{"$f":"IFERROR(INDEX(Dati!$H$6:'Dati'!H84,MATCH(0,IF($B$3=Dati!$I$6:I84,COUNTIFS($D$5:D39,Dati!$H$6:'Dati'!H84),\"\"),0)),\"\")","v":""}]
[null,null,null,{"$f":"IFERROR(INDEX(Dati!$H$6:'Dati'!H85,MATCH(0,IF($B$3=Dati!$I$6:I85,COUNTIFS($D$5:D40,Dati!$H$6:'Dati'!H85),\"\"),0)),\"\")","v":""}]
[null,null,null,{"$f":"IFERROR(INDEX(Dati!$H$6:'Dati'!H86,MATCH(0,IF($B$3=Dati!$I$6:I86,COUNTIFS($D$5:D41,Dati!$H$6:'Dati'!H86),\"\"),0)),\"\")","v":""}]
[null,null,null,{"$f":"IFERROR(INDEX(Dati!$H$6:'Dati'!H87,MATCH(0,IF($B$3=Dati!$I$6:I87,COUNTIFS($D$5:D42,Dati!$H$6:'Dati'!H87),\"\"),0)),\"\")","v":""}]
[null,null,null,{"$f":"IFERROR(INDEX(Dati!$H$6:'Dati'!H88,MATCH(0,IF($B$3=Dati!$I$6:I88,COUNTIFS($D$5:D43,Dati!$H$6:'Dati'!H88),\"\"),0)),\"\")","v":""}]
[null,null,null,{"$f":"IFERROR(INDEX(Dati!$H$6:'Dati'!H89,MATCH(0,IF($B$3=Dati!$I$6:I89,COUNTIFS($D$5:D44,Dati!$H$6:'Dati'!H89),\"\"),0)),\"\")","v":""}]

{"sheet":"Frontespizio","index":5,"n_rows":33,"n_cols":11,"rows_kept":33,"cut":false,"hidden":false,"merged":[[20,1,20,2],[20,3,20,6],[15,1,15,2],[16,1,16,2],[17,1,17,2],[17,3,17,10],[8,6,8,7],[10,1,10,10],[11,3,11,10],[14,3,14,10],[16,3,16,10],[11,1,11,2],[12,1,12,2],[13,1,13,2],[14,1,14,2],[15,9,15,10],[12,3,12,6],[13,3,13,6],[15,3,15,6]]}
[]
[]
[null,null,null,null,null,"DIOCESI DI"]
[null,null,null,null,"CIVITAVECCHIA - TARQUINIA"]
[]
[null,"RENDICONTO AMMINISTRATIVO PARROCCHIALE"]
[]
[]
[null,null,null,null,null,"ANNO",{"$f":"Home!B3","v":2022}]
[]
[null,"         L'Istruzione in materia amministrativa 2003 della CEI, ai nn. 59 e 114, rammenta che una retta amministrazione dei beni ecclesiastici non può sottrarsi alle esigenze di una sana organizzazione, che il codice di diritto canonico riassume in precisi adempimenti, tra cui una corretta tenuta delle scritture contabili (can. 1284 §. 2, 7°) e la presentazione del rendiconto annuale all'Ordinario del luogo (cann. 1284 § 2,8° e 1287 § 1). \n         Il rendiconto riassume la situazione economica e finanziaria della parrocchia e costituisce uno strumento indispensabile:\n- per consentire all'autorità ecclesiastica ed ai fedeli (nelle forme previste dal diritto particolare) di verificare, con il risultato finanziario, l'impiego dei beni e delle contribuzioni della carità ecclesiale;\n- per correggere tempestivamente situazioi complesse e rischiose;\n- per realizzare una gestione equilibrata e condivisa.\n         Il rendiconto deve essere esaminato collegialmente e sottoscritto dal Parroco e dai membri del Consiglio parrocchiale per gli affari economici e presentato all'Ufficio Amministrativo della Diocesi entro il 30 marzo dell'anno successivo a quello di riferimento."]
[null,"PARROCCHIA",null,{"$f":"Dominio!I2","v":"SS. Trinità"}]
[null,"Indirizzo",null,{"$f":"Dominio!I3","v":"Via don Milani, 2"},null,null,null,"Tel.",{"$f":"Dominio!I4","v":"0766  671070"},"Fax.",{"$f":"Dominio!I5","v":" --"}]
[null,"Comune",null,{"$f":"Dominio!I6","v":"Civitavecchia"},null,null,null,"Cap",{"$f":"Dominio!I7","v":"00053"},"Prov.",{"$f":"Dominio!I8","v":"Roma"}]
[null,"E-Mail",null,{"$f":"Dominio!I9","v":"lamanna25@libero.it"}]
[null,"Codice Fiscale",null,{"$f":"Dominio!I10","v":91005080584},null,null,null,"Part. Iva",null,{"$f":"Dominio!I11","v":91005080584}]
[null,"Conto Bancario C/O",null,{"$f":"Dominio!I12","v":"xxxxxxx"}]
[null,"Iban",null,{"$f":"Dominio!I13","v":"xxxxxxx"}]
[]
[null,"PARROCO"]
[null,"Nome-Cognome:",null,{"$f":"Dominio!I14","v":"Giuseppe Lamanna"},null,null,null,"Firma:"]
[]
[null,"Componenti del Consiglio Parrocchiale Affari Economici"]
[null,null,null,"Nominativi",null,null,null,null,"Firme"]
[]
[]
[]
[]
[]
[]
[]
[]
[null,null,null,null,null,null,null,"Data"]

{"sheet":"Redditi-Entrate","index":6,"n_rows":59,"n_cols":5,"rows_kept":59,"cut":false,"hidden":false,"merged":[[45,0,45,2],[2,1,2,2],[2,3,2,4],[33,0,33,2],[35,1,35,2],[35,3,35,4]]}
["Rendiconto al 31 dicembre",null,{"$f":"Home!B3","v":2022}]
[]
["ENTRATE ORDINARIE DELL'ANNO","IMPORTI PARZ.",null,"TOTALE"]
["1. Interessi attivi:"]
["a - da depositi e conti correnti","€",{"$f":"SUMIF(Dati!$E$4:$E$973,\"E1A\",Dati!$D$4:$D$973)","v":0}]
["b - da titoli ed altri investimenti finanziari","€",{"$f":"SUMIF(Dati!$E$4:$E$973,\"E1B\",Dati!$D$4:$D$973)","v":0}]
["c - dalla Cassa diocesana per legati di SS. Messe","€",{"$f":"SUMIF(Dati!$E$4:$E$973,\"E1C\",Dati!$D$4:$D$973)","v":0}]
[null,null,"Totali","€",{"$f":"SUM(C5:C7)","v":0}]
["2. Affitti attivi:"]
["a - da terreni (autorizzazione allegata)","€",{"$f":"SUMIF(Dati!$E$4:$E$973,\"E2A\",Dati!$D$4:$D$973)","v":0}]
["b - da fabbricati (autorizzazione allegata)","€",{"$f":"SUMIF(Dati!$E$4:$E$973,\"E2B\",Dati!$D$4:$D$973)","v":0}]
[null,null,"Totali","€",{"$f":"SUM(C10:C11)","v":0}]
["3. Offerte:"]
["a - per celebrazione di SS. Messe (al netto della quota sinoidale)","€",{"$f":"SUMIF(Dati!$E$4:$E$973,\"E3A\",Dati!$D$4:$D$973)","v":0}]
["b - da questue in chiesa durante le celebrazioni","€",{"$f":"SUMIF(Dati!$E$4:$E$973,\"E3B\",Dati!$D$4:$D$973)","v":0}]
["c - dalle candele votive e cassette","€",{"$f":"SUMIF(Dati!$E$4:$E$973,\"E3C\",Dati!$D$4:$D$973)","v":0}]
["d - per il bollettino parrocchiale","€",{"$f":"SUMIF(Dati!$E$4:$E$973,\"E3D\",Dati!$D$4:$D$973)","v":0}]
["e - altre offerte per la parrocchia","€",{"$f":"SUMIF(Dati!$E$4:$E$973,\"E3E\",Dati!$D$4:$D$973)","v":0}]
[null,null,"Totali","€",{"$f":"SUM(C14:C18)","v":0}]
["4. Offerte raccolte in occasione di:"]
["a - Sacramenti e sacramentali (Battesimi, Comunioni, Cresime, ecc.)","€",{"$f":"SUMIF(Dati!$E$4:$E$973,\"E4A\",Dati!$D$4:$D$973)","v":0}]
["b - Benedizioni pasquali alle famiglie","€",{"$f":"SUMIF(Dati!$E$4:$E$973,\"E4B\",Dati!$D$4:$D$973)","v":0}]
["c - feste patronai e manifestazioni religiose","€",{"$f":"SUMIF(Dati!$E$4:$E$973,\"E4C\",Dati!$D$4:$D$973)","v":0}]
["d - pesche di beneficenza, gite, ecc","€",{"$f":"SUMIF(Dati!$E$4:$E$973,\"E4D\",Dati!$D$4:$D$973)","v":0}]
[null,null,"Totali","€",{"$f":"SUM(C21:C24)","v":0}]
["5. Altre entrate per:"]
["a - attività caritative","€",{"$f":"SUMIF(Dati!$E$4:$E$973,\"E5A\",Dati!$D$4:$D$973)","v":0}]
["b - attività catechistiche e formative","€",{"$f":"SUMIF(Dati!$E$4:$E$973,\"E5B\",Dati!$D$4:$D$973)","v":0}]
["c - impianti","€",{"$f":"SUMIF(Dati!$E$4:$E$973,\"E5C\",Dati!$D$4:$D$973)","v":0}]
["d - Gruppi e Movimenti","€",{"$f":"SUMIF(Dati!$E$4:$E$973,\"E5D\",Dati!$D$4:$D$973)","v":0}]
["e - rimborsi spese","€",{"$f":"SUMIF(Dati!$E$4:$E$973,\"E5E\",Dati!$D$4:$D$973)","v":0}]
["f - ","€",{"$f":"SUMIF(Dati!$E$4:$E$973,\"E5F\",Dati!$D$4:$D$973)","v":0}]
[null,null,"Totali","€",{"$f":"SUM(C27:C32)","v":0}]
["TOTALE ENTRATE ORDINARIE",null,null,"€",{"$f":"SUM(E8,E12,E19,E25,E33)","v":0}]
[]
["ENTRATE STRAORDINARIE DELL'ANNO","IMPORTI PARZ.",null,"TOTALE"]
["6. Elargizioni di Enti e raccolte straordinarie"]
["a - da fondi bancari per:","€",{"$f":"SUMIF(Dati!$E$4:$E$973,\"E6A\",Dati!$D$4:$D$973)","v":0}]
["b - da altre per:","€",{"$f":"SUMIF(Dati!$E$4:$E$973,\"E6B\",Dati!$D$4:$D$973)","v":0}]
[null,null,"Totali","€",{"$f":"SUM(C38:C39)","v":0}]
["7. Altre entrate straordinarie"]
["a - da vendita beni mobili e immobili (autorizzazione allegata)","€",{"$f":"SUMIF(Dati!$E$4:$E$973,\"E7A\",Dati!$D$4:$D$973)","v":0}]
["b - da utilizzo mutui e prestiti (autorizzazione allegata)","€",{"$f":"SUMIF(Dati!$E$4:$E$973,\"E7B\",Dati!$D$4:$D$973)","v":0}]
[null,null,"Totali","€",{"$f":"SUM(C42:C43)","v":0}]
["8. Eredità e donazioni (autorizzazione allegata)",null,null,"€",{"$f":"SUMIF(Dati!$E$4:$E$973,\"E8A\",Dati!$D$4:$D$973)","v":0}]
["TOTALE ENTRATE STRAORDINARIE",null,null,"€",{"$f":"SUM(E40,E44,E45)","v":0}]
[]
["Partite di giro - Raccolte prescritte, da riversare"]
["a - Infanzia Missionaria (Epifania del Signore)","€",{"$f":"SUMIF(Dati!$E$4:$E$973,\"E9A\",Dati!$D$4:$D$973)","v":0}]
["b - Terra Santa (Venerdì Santo)","€",{"$f":"SUMIF(Dati!$E$4:$E$973,\"E9C\",Dati!$D$4:$D$973)","v":0}]
["c - Università Cattolica (terza domenica di Pasqua)","€",{"$f":"SUMIF(Dati!$E$4:$E$973,\"E9D\",Dati!$D$4:$D$973)","v":0}]
["d - Seminario (Pentecoste)","€",{"$f":"SUMIF(Dati!$E$4:$E$973,\"E9E\",Dati!$D$4:$D$973)","v":0}]
["e - Carità del Papa (ultima domenica di giugno)","€",{"$f":"SUMIF(Dati!$E$4:$E$973,\"E9F\",Dati!$D$4:$D$973)","v":0}]
["f - Giornata Mondiale Migrazioni (gennaio)","€",{"$f":"SUMIF(Dati!$E$4:$E$973,\"E9B\",Dati!$D$4:$D$973)","v":0}]
["g - Missioni (ultima domenica di ottobre)","€",{"$f":"SUMIF(Dati!$E$4:$E$973,\"E9G\",Dati!$D$4:$D$973)","v":0}]
["h - Giornata Straordinaria","€",{"$f":"SUMIF(Dati!$E$4:$E$973,\"E9H\",Dati!$D$4:$D$973)","v":0}]
[null,null,"Totali","€",{"$f":"SUM(C49:C56)","v":0}]
[]
[2]

{"sheet":"Spese","index":7,"n_rows":48,"n_cols":5,"rows_kept":48,"cut":false,"hidden":false,"merged":[[43,0,43,2],[2,1,2,2],[2,3,2,4],[33,0,33,2],[35,1,35,2],[35,3,35,4]]}
["Rendiconto al 31 dicembre",null,{"$f":"Home!B3","v":2022}]
[]
["USCITE ORDINARIE DELL'ANNO","IMPORTI PARZ.",null,"TOTALE"]
["1. Imposte e tasse sugli immobili di proprietà",null,null,"€",{"$f":"SUMIF(Dati!$E$4:$E$973,\"U1A\",Dati!$D$4:$D$973)","v":0}]
["2. Assicurazioni (incendio, furto, responsabilità civ. infortuni)",null,null,"€",{"$f":"SUMIF(Dati!$E$4:$E$973,\"U2A\",Dati!$D$4:$D$973)","v":0}]
["3. Spese per il personale:"]
["a - concorso della Parrocchia nella remunerazione del Parroco","€",{"$f":"SUMIF(Dati!$E$4:$E$973,\"U3A\",Dati!$D$4:$D$973)","v":0}]
["b - concorso nella remunerazione del Vicario cooperatore","€",{"$f":"SUMIF(Dati!$E$4:$E$973,\"U3B\",Dati!$D$4:$D$973)","v":0}]
["c - remunerazione lorda personale laico e relativi contributi","€",{"$f":"SUMIF(Dati!$E$4:$E$973,\"U3C\",Dati!$D$4:$D$973)","v":0}]
["d - accantonamento per indennità di fine rapporto","€",{"$f":"SUMIF(Dati!$E$4:$E$973,\"U3D\",Dati!$D$4:$D$973)","v":0}]
[null,null,"Totali","€",{"$f":"SUM(C7:C10)","v":0}]
["4. Spese per il culto:"]
["a - adempimento legati di SS. Messe","€",{"$f":"SUMIF(Dati!$E$4:$E$973,\"U4A\",Dati!$D$4:$D$973)","v":0}]
["b - ufficiatura della chiesa (officianti, confessori, predicatori)","€",{"$f":"SUMIF(Dati!$E$4:$E$973,\"U4B\",Dati!$D$4:$D$973)","v":0}]
["c - sacrificali, cere d'altare, fiori","€",{"$f":"SUMIF(Dati!$E$4:$E$973,\"U4C\",Dati!$D$4:$D$973)","v":0}]
["d - arredi, suppelettili, libri liturgici","€",{"$f":"SUMIF(Dati!$E$4:$E$973,\"U4D\",Dati!$D$4:$D$973)","v":0}]
["e - festa patronale","€",{"$f":"SUMIF(Dati!$E$4:$E$973,\"U4E\",Dati!$D$4:$D$973)","v":0}]
[null,null,"Totali","€",{"$f":"SUM(C13:C17)","v":0}]
["5. Altre spese:"]
["a - per attività caritative","€",{"$f":"SUMIF(Dati!$E$4:$E$973,\"U5A\",Dati!$D$4:$D$973)","v":0}]
["b - per attività catechistiche e formative oratorio","€",{"$f":"SUMIF(Dati!$E$4:$E$973,\"U5B\",Dati!$D$4:$D$973)","v":0}]
["c - bollettino parrocchiale","€",{"$f":"SUMIF(Dati!$E$4:$E$973,\"U5C\",Dati!$D$4:$D$973)","v":0}]
["d - acquisto cancelleria e manutenzione macchine d'ufficio","€",{"$f":"SUMIF(Dati!$E$4:$E$973,\"U5D\",Dati!$D$4:$D$973)","v":0}]
["e - abbonamento \"La Domenica\"","€",{"$f":"SUMIF(Dati!$E$4:$E$973,\"U5E\",Dati!$D$4:$D$973)","v":0}]
["f - abbonamento \"Avvenire\"","€",{"$f":"SUMIF(Dati!$E$4:$E$973,\"U5F\",Dati!$D$4:$D$973)","v":0}]
["g - ","€",{"$f":"SUMIF(Dati!$E$4:$E$973,\"U5G\",Dati!$D$4:$D$973)","v":0}]
[null,null,"Totali","€",{"$f":"SUM(C20:C26)","v":0}]
["6. Spese ordinarie per la conduzione degli immobili:"]
["a - manutenzioni ordinarie","€",{"$f":"SUMIF(Dati!$E$4:$E$973,\"U6A\",Dati!$D$4:$D$973)","v":0}]
["b - utenze e pulizia chiesa e op. parroch. ","€",{"$f":"SUMIF(Dati!$E$4:$E$973,\"U6B\",Dati!$D$4:$D$973)","v":0}]
["c -concorso della Parrocchia nelle spese della casa canonica","€",{"$f":"SUMIF(Dati!$E$4:$E$973,\"U6C\",Dati!$D$4:$D$973)","v":0}]
[null,null,"Totali","€",{"$f":"SUM(C29:C31)","v":0}]
["7. Contributo della parrocchia alla Diocesi (per n° 5.000 abitanti)",null,null,"€",{"$f":"SUMIF(Dati!$E$4:$E$973,\"U7A\",Dati!$D$4:$D$973)","v":0}]
["TOTALE USCITE ORDINARIE",null,null,"€",{"$f":"SUM(E33,E32,E27,E18,E11,E5,E4)","v":0}]
[]
["USCITE STRAORDINARIE DELL'ANNO","IMPORTI PARZ.",null,"TOTALE"]
["8. Spese straordinarie per gli immobili e gli impianti"]
["a - acquisto, nuove costruzioni e ristrutturazioni (aut. allegata)","€",{"$f":"SUMIF(Dati!$E$4:$E$973,\"U8A\",Dati!$D$4:$D$973)","v":0}]
["b - manutenzioni straordinarie (autorizzazione allegata)","€",{"$f":"SUMIF(Dati!$E$4:$E$973,\"U8B\",Dati!$D$4:$D$973)","v":0}]
[null,null,"Totali","€",{"$f":"SUM(C38:C39)","v":0}]
["9. Acquisto e manutenzioni straordinarie Beni mobili e opere d'arte",null,null,"€",{"$f":"SUMIF(Dati!$E$4:$E$973,\"U9A\",Dati!$D$4:$D$973)","v":0}]
["10. Rate di ammortamento mutui ed altri oneri per prestiti",null,null,"€",{"$f":"SUMIF(Dati!$E$4:$E$973,\"U10A\",Dati!$D$4:$D$973)","v":0}]
["11. Percentuale versata alla Diocesi su entrate straordinarie",null,null,"€",{"$f":"SUMIF(Dati!$E$4:$E$973,\"U11A\",Dati!$D$4:$D$973)","v":0}]
["TOTALE USCITE STRAORDINARIE",null,null,"€",{"$f":"SUM(E41:E43,E40)","v":0}]
[]
["Partite di giro - versamento raccolte prescritte",null,null,"€",{"$f":"SUMIF(Dati!$E$4:$E$973,\"U12A\",Dati!$D$4:$D$973)","v":0}]
[]
[3]

{"sheet":"Riepilogo","index":8,"n_rows":55,"n_cols":5,"rows_kept":55,"cut":false,"hidden":false,"merged":[[52,0,52,4],[53,0,53,4],[44,0,44,4],[45,0,45,4],[46,0,46,4],[47,0,47,4],[50,0,50,4],[6,0,6,2],[10,0,10,2],[12,0,12,4],[16,0,16,2],[20,0,20,2],[43,0,43,4],[24,0,24,4],[31,0,31,4],[38,0,38,4],[39,0,39,4],[41,0,41,4]]}
["Rendiconto al 31 dicembre",null,{"$f":"Home!B3","v":2022}]
[]
["RIEPILOGO"]
[]
["Entrate ordinarie dell'anno",null,null,"€",{"$f":"'Redditi-Entrate'!E34","v":0}]
["Escite ordinarie dell'anno",null,null,"€",{"$f":"Spese!E34","v":0}]
["SALDO CONTABILE DELLA GESTIONE ORDINARIA",null,null,"€",{"$f":"SUM(E5:E6)","v":0}]
[]
["Entrate straordinarie dell'anno",null,null,"€",{"$f":"'Redditi-Entrate'!E46","v":0}]
["Uscite straordinarie dell'anno",null,null,"€",{"$f":"Spese!E44","v":0}]
["SALDO CONTABILE DELLA GESTIONE STRAORDINARIA",null,null,"€",{"$f":"SUM(E9:E10)","v":0}]
[]
["Utili/perdite delle gestioni separate (scuola, cinema, teatro, casa per ferie, centro sportivo, ecc)\ncome da rendiconti allegati:"]
["a - ",null,null,"€",{"$f":"SUM(C10:C13)","v":0}]
["b - ",null,null,"€",{"$f":"SUM(C11:C14)","v":0}]
["c -",null,null,"€",{"$f":"SUM(C12:C15)","v":0}]
["SALDO NETTO DELLE GESTIONI SEPARATE",null,null,"€",{"$f":"SUM(E14:E16)","v":0}]
[]
["Saldo complessivo dell'anno",null,null,"€",{"$f":"SUM(E7,E11)","v":0}]
["Saldo degli anni precedenti",null,null,"€",{"$f":"Dati!H2","v":0}]
[{"$f":"$C$1","v":2022},null,null,"€",{"$f":"SUM(E19:E20)","v":0}]
[]
["ANNOTAZIONI"]
[]
["A - l'avanzo finale sopra riportato è così ripartito"]
["- contante in cassa",null,null,"€",{"$f":"Home!G4","v":0}]
[{"$f":"\"- disponibile in c/c presso: \" &Dominio!I12","v":"- disponibile in c/c presso: xxxxxxx"},null,null,"€",{"$f":"Home!G3","v":0}]
["- titoli c/o:",null,null,"€",{"$f":"SUM(C24:C27)","v":0}]
["- altro",null,null,"€",0]
[null,null,"Totale come sopra","€",{"$f":"SUM(E26:E29)","v":0}]
[]
["B - il disavanzo finale sopra riportato è coperto mediante (*)"]
["- fido bancario c/o",null,null,"€",{"$f":"SUM(C29:C32)","v":0}]
["- prestito da parte di: ",null,null,"€",{"$f":"SUM(C30:C33)","v":0}]
["- interventi di:",null,null,"€",{"$f":"SUM(C31:C34)","v":0}]
[null,null,"Totale come sopra","€",{"$f":"SUM(C30:C35)","v":0}]
["(*) estremi dell'autorizzazione della Diocesi"]
["C - quanto dovuto per trattamento di fine rapporto, pari a",null,null,"€",{"$f":"SUMIF(Dati!$E$4:$E$973,\"U1A\",Dati!$D$4:$D$973)","v":0}]
["- è stato regolarmente accantonato ed è depositato presso:"]
["- è accantonato solo per €. ………...…… , sono depositate presso:"]
[]
["D - le cauzioni per gli affitti, pari a E. …………. Sono depositate presso:\n"]
[]
["Altre annotazioni (notizie sui lavori in corso o da programmare, debiti verso fornitori, altre note) :"]
[]
[]
[]
[]
[]
[]
["Allegati:"]
[]
[]
[]
[4]

{"sheet":"Entrate divise","index":9,"n_rows":855,"n_cols":13,"rows_kept":855,"cut":false,"hidden":true,"merged":[[1,0,2,0],[1,1,2,1],[0,0,0,1]]}
[null,null,"Elemosine SS. Messe","Sacramenti e Benedizione case","Offerta lumini e candele","Raccolte finalizzate","Attività parrocchiali","Altre offerte","Raccolte straordinarie, contributi enti, eredità","Sagre e feste parrocchiali","Interessi depositi c/c e titoli","Redditi da terreni e fabbricati","Entrate per partite di giro"]
["Data","Ragione ↓                    Totali → ","EA1","EA2","EA3","EA4","EA5","EA6","EB1","EB2","EC1","ED1","EE1"]
[null,null,{"$f":"SUM(C4:C855)","v":{"$error":"#REF!"}},{"$f":"SUM(D4:D856)","v":{"$error":"#REF!"}},{"$f":"SUM(E4:E855)","v":{"$error":"#REF!"}},{"$error":"#REF!"},{"$error":"#REF!"},{"$error":"#REF!"},{"$error":"#REF!"},{"$error":"#REF!"},{"$error":"#REF!"},{"$error":"#REF!"},{"$error":"#REF!"}]
[{"$f":"Dati!#REF!","v":{"$error":"#REF!"}},{"$f":"Dati!#REF!","v":{"$error":"#REF!"}},{"$f":"IF(Dati!#REF!=\"EA1\",Dati!#REF!,)","v":{"$error":"#REF!"}},{"$f":"IF(Dati!#REF!=\"EA2\",Dati!#REF!,)","v":{"$error":"#REF!"}},{"$f":"IF(Dati!#REF!=\"EA3\",Dati!#REF!,)","v":{"$error":"#REF!"}},{"$f":"IF(Dati!#REF!=\"EA4\",Dati!#REF!,)","v":{"$error":"#REF!"}},{"$f":"IF(Dati!#REF!=\"EA5\",Dati!#REF!,)","v":{"$error":"#REF!"}},{"$f":"IF(Dati!#REF!=\"EA6\",Dati!#REF!,)","v":{"$error":"#REF!"}},{"$f":"IF(Dati!#REF!=\"EB1\",Dati!#REF!,)","v":{"$error":"#REF!"}},{"$f":"IF(Dati!#REF!=\"EB2\",Dati!#REF!,)","v":{"$error":"#REF!"}},{"$f":"IF(Dati!#REF!=\"EC1\",Dati!#REF!,)","v":{"$error":"#REF!"}},{"$f":"IF(Dati!#REF!=\"ED1\",Dati!#REF!,)","v":{"$error":"#REF!"}},{"$f":"IF(Dati!#REF!=\"EE1\",Dati!#REF!,)","v":{"$error":"#REF!"}}]
[{"$f":"Dati!#REF!","v":{"$error":"#REF!"}},{"$f":"Dati!#REF!","v":{"$error":"#REF!"}},{"$f":"IF(Dati!#REF!=\"EA1\",Dati!#REF!,)","v":{"$error":"#REF!"}},{"$f":"IF(Dati!#REF!=\"EA2\",Dati!#REF!,)","v":{"$error":"#REF!"}},{"$f":"IF(Dati!#REF!=\"EA3\",Dati!#REF!,)","v":{"$error":"#REF!"}},{"$f":"IF(Dati!#REF!=\"EA4\",Dati!#REF!,)","v":{"$error":"#REF!"}},{"$f":"IF(Dati!#REF!=\"EA5\",Dati!#REF!,)","v":{"$error":"#REF!"}},{"$f":"IF(Dati!#REF!=\"EA6\",Dati!#REF!,)","v":{"$error":"#REF!"}},{"$f":"IF(Dati!#REF!=\"EB1\",Dati!#REF!,)","v":{"$error":"#REF!"}},{"$f":"IF(Dati!#REF!=\"EB2\",Dati!#REF!,)","v":{"$error":"#REF!"}},{"$f":"IF(Dati!#REF!=\"EC1\",Dati!#REF!,)","v":{"$error":"#REF!"}},{"$f":"IF(Dati!#REF!=\"ED1\",Dati!#REF!,)","v":{"$error":"#REF!"}},{"$f":"IF(Dati!#REF!=\"EE1\",Dati!#REF!,)","v":{"$error":"#REF!"}}]
[{"$f":"Dati!#REF!","v":{"$error":"#REF!"}},{"$f":"Dati!#REF!","v":{"$error":"#REF!"}},{"$f":"IF(Dati!#REF!=\"EA1\",Dati!#REF!,)","v":{"$error":"#REF!"}},{"$f":"IF(Dati!#REF!=\"EA2\",Dati!#REF!,)","v":{"$error":"#REF!"}},{"$f":"IF(Dati!#REF!=\"EA3\",Dati!#REF!,)","v":{"$error":"#REF!"}},{"$f":"IF(Dati!#REF!=\"EA4\",Dati!#REF!,)","v":{"$error":"#REF!"}},{"$f":"IF(Dati!#REF!=\"EA5\",Dati!#REF!,)","v":{"$error":"#REF!"}},{"$f":"IF(Dati!#REF!=\"EA6\",Dati!#REF!,)","v":{"$error":"#REF!"}},{"$f":"IF(Dati!#REF!=\"EB1\",Dati!#REF!,)","v":{"$error":"#REF!"}},{"$f":"IF(Dati!#REF!=\"EB2\",Dati!#REF!,)","v":{"$error":"#REF!"}},{"$f":"IF(Dati!#REF!=\"EC1\",Dati!#REF!,)","v":{"$error":"#REF!"}},{"$f":"IF(Dati!#REF!=\"ED1\",Dati!#REF!,)","v":{"$error":"#REF!"}},{"$f":"IF(Dati!#REF!=\"EE1\",Dati!#REF!,)","v":{"$error":"#REF!"}}]
[{"$f":"Dati!C6","v":"00:00:00"},{"$f":"Dati!H6","v":"00:00:00"},{"$f":"IF(Dati!E6=\"EA1\",Dati!D6,)","v":0},{"$f":"IF(Dati!E6=\"EA2\",Dati!D6,)","v":0},{"$f":"IF(Dati!E6=\"EA3\",Dati!D6,)","v":0},{"$f":"IF(Dati!E6=\"EA4\",Dati!D6,)","v":0},{"$f":"IF(Dati!E6=\"EA5\",Dati!D6,)","v":0},{"$f":"IF(Dati!E6=\"EA6\",Dati!D6,)","v":0},{"$f":"IF(Dati!E6=\"EB1\",Dati!D6,)","v":0},{"$f":"IF(Dati!E6=\"EB2\",Dati!D6,)","v":0},{"$f":"IF(Dati!E6=\"EC1\",Dati!D6,)","v":0},{"$f":"IF(Dati!E6=\"ED1\",Dati!D6,)","v":0},{"$f":"IF(Dati!E6=\"EE1\",Dati!D6,)","v":0}]
[{"$f":"Dati!C7","v":"00:00:00"},{"$f":"Dati!H7","v":"00:00:00"},{"$f":"IF(Dati!E7=\"EA1\",Dati!D7,)","v":0},{"$f":"IF(Dati!E7=\"EA2\",Dati!D7,)","v":0},{"$f":"IF(Dati!E7=\"EA3\",Dati!D7,)","v":0},{"$f":"IF(Dati!E7=\"EA4\",Dati!D7,)","v":0},{"$f":"IF(Dati!E7=\"EA5\",Dati!D7,)","v":0},{"$f":"IF(Dati!E7=\"EA6\",Dati!D7,)","v":0},{"$f":"IF(Dati!E7=\"EB1\",Dati!D7,)","v":0},{"$f":"IF(Dati!E7=\"EB2\",Dati!D7,)","v":0},{"$f":"IF(Dati!E7=\"EC1\",Dati!D7,)","v":0},{"$f":"IF(Dati!E7=\"ED1\",Dati!D7,)","v":0},{"$f":"IF(Dati!E7=\"EE1\",Dati!D7,)","v":0}]
[{"$f":"Dati!C8","v":"00:00:00"},{"$f":"Dati!H8","v":"00:00:00"},{"$f":"IF(Dati!E8=\"EA1\",Dati!D8,)","v":0},{"$f":"IF(Dati!E8=\"EA2\",Dati!D8,)","v":0},{"$f":"IF(Dati!E8=\"EA3\",Dati!D8,)","v":0},{"$f":"IF(Dati!E8=\"EA4\",Dati!D8,)","v":0},{"$f":"IF(Dati!E8=\"EA5\",Dati!D8,)","v":0},{"$f":"IF(Dati!E8=\"EA6\",Dati!D8,)","v":0},{"$f":"IF(Dati!E8=\"EB1\",Dati!D8,)","v":0},{"$f":"IF(Dati!E8=\"EB2\",Dati!D8,)","v":0},{"$f":"IF(Dati!E8=\"EC1\",Dati!D8,)","v":0},{"$f":"IF(Dati!E8=\"ED1\",Dati!D8,)","v":0},{"$f":"IF(Dati!E8=\"EE1\",Dati!D8,)","v":0}]
[{"$f":"Dati!C9","v":"00:00:00"},{"$f":"Dati!H9","v":"00:00:00"},{"$f":"IF(Dati!E9=\"EA1\",Dati!D9,)","v":0},{"$f":"IF(Dati!E9=\"EA2\",Dati!D9,)","v":0},{"$f":"IF(Dati!E9=\"EA3\",Dati!D9,)","v":0},{"$f":"IF(Dati!E9=\"EA4\",Dati!D9,)","v":0},{"$f":"IF(Dati!E9=\"EA5\",Dati!D9,)","v":0},{"$f":"IF(Dati!E9=\"EA6\",Dati!D9,)","v":0},{"$f":"IF(Dati!E9=\"EB1\",Dati!D9,)","v":0},{"$f":"IF(Dati!E9=\"EB2\",Dati!D9,)","v":0},{"$f":"IF(Dati!E9=\"EC1\",Dati!D9,)","v":0},{"$f":"IF(Dati!E9=\"ED1\",Dati!D9,)","v":0},{"$f":"IF(Dati!E9=\"EE1\",Dati!D9,)","v":0}]
[{"$f":"Dati!#REF!","v":{"$error":"#REF!"}},{"$f":"Dati!#REF!","v":{"$error":"#REF!"}},{"$f":"IF(Dati!#REF!=\"EA1\",Dati!#REF!,)","v":{"$error":"#REF!"}},{"$f":"IF(Dati!#REF!=\"EA2\",Dati!#REF!,)","v":{"$error":"#REF!"}},{"$f":"IF(Dati!#REF!=\"EA3\",Dati!#REF!,)","v":{"$error":"#REF!"}},{"$f":"IF(Dati!#REF!=\"EA4\",Dati!#REF!,)","v":{"$error":"#REF!"}},{"$f":"IF(Dati!#REF!=\"EA5\",Dati!#REF!,)","v":{"$error":"#REF!"}},{"$f":"IF(Dati!#REF!=\"EA6\",Dati!#REF!,)","v":{"$error":"#REF!"}},{"$f":"IF(Dati!#REF!=\"EB1\",Dati!#REF!,)","v":{"$error":"#REF!"}},{"$f":"IF(Dati!#REF!=\"EB2\",Dati!#REF!,)","v":{"$error":"#REF!"}},{"$f":"IF(Dati!#REF!=\"EC1\",Dati!#REF!,)","v":{"$error":"#REF!"}},{"$f":"IF(Dati!#REF!=\"ED1\",Dati!#REF!,)","v":{"$error":"#REF!"}},{"$f":"IF(Dati!#REF!=\"EE1\",Dati!#REF!,)","v":{"$error":"#REF!"}}]
[{"$f":"Dati!C10","v":"00:00:00"},{"$f":"Dati!H10","v":"00:00:00"},{"$f":"IF(Dati!E10=\"EA1\",Dati!D10,)","v":0},{"$f":"IF(Dati!E10=\"EA2\",Dati!D10,)","v":0},{"$f":"IF(Dati!E10=\"EA3\",Dati!D10,)","v":0},{"$f":"IF(Dati!E10=\"EA4\",Dati!D10,)","v":0},{"$f":"IF(Dati!E10=\"EA5\",Dati!D10,)","v":0},{"$f":"IF(Dati!E10=\"EA6\",Dati!D10,)","v":0},{"$f":"IF(Dati!E10=\"EB1\",Dati!D10,)","v":0},{"$f":"IF(Dati!E10=\"EB2\",Dati!D10,)","v":0},{"$f":"IF(Dati!E10=\"EC1\",Dati!D10,)","v":0},{"$f":"IF(Dati!E10=\"ED1\",Dati!D10,)","v":0},{"$f":"IF(Dati!E10=\"EE1\",Dati!D10,)","v":0}]
[{"$f":"Dati!#REF!","v":{"$error":"#REF!"}},{"$f":"Dati!#REF!","v":{"$error":"#REF!"}},{"$f":"IF(Dati!#REF!=\"EA1\",Dati!#REF!,)","v":{"$error":"#REF!"}},{"$f":"IF(Dati!#REF!=\"EA2\",Dati!#REF!,)","v":{"$error":"#REF!"}},{"$f":"IF(Dati!#REF!=\"EA3\",Dati!#REF!,)","v":{"$error":"#REF!"}},{"$f":"IF(Dati!#REF!=\"EA4\",Dati!#REF!,)","v":{"$error":"#REF!"}},{"$f":"IF(Dati!#REF!=\"EA5\",Dati!#REF!,)","v":{"$error":"#REF!"}},{"$f":"IF(Dati!#REF!=\"EA6\",Dati!#REF!,)","v":{"$error":"#REF!"}},{"$f":"IF(Dati!#REF!=\"EB1\",Dati!#REF!,)","v":{"$error":"#REF!"}},{"$f":"IF(Dati!#REF!=\"EB2\",Dati!#REF!,)","v":{"$error":"#REF!"}},{"$f":"IF(Dati!#REF!=\"EC1\",Dati!#REF!,)","v":{"$error":"#REF!"}},{"$f":"IF(Dati!#REF!=\"ED1\",Dati!#REF!,)","v":{"$error":"#REF!"}},{"$f":"IF(Dati!#REF!=\"EE1\",Dati!#REF!,)","v":{"$error":"#REF!"}}]
[{"$f":"Dati!#REF!","v":{"$error":"#REF!"}},{"$f":"Dati!#REF!","v":{"$error":"#REF!"}},{"$f":"IF(Dati!#REF!=\"EA1\",Dati!#REF!,)","v":{"$error":"#REF!"}},{"$f":"IF(Dati!#REF!=\"EA2\",Dati!#REF!,)","v":{"$error":"#REF!"}},{"$f":"IF(Dati!#REF!=\"EA3\",Dati!#REF!,)","v":{"$error":"#REF!"}},{"$f":"IF(Dati!#REF!=\"EA4\",Dati!#REF!,)","v":{"$error":"#REF!"}},{"$f":"IF(Dati!#REF!=\"EA5\",Dati!#REF!,)","v":{"$error":"#REF!"}},{"$f":"IF(Dati!#REF!=\"EA6\",Dati!#REF!,)","v":{"$error":"#REF!"}},{"$f":"IF(Dati!#REF!=\"EB1\",Dati!#REF!,)","v":{"$error":"#REF!"}},{"$f":"IF(Dati!#REF!=\"EB2\",Dati!#REF!,)","v":{"$error":"#REF!"}},{"$f":"IF(Dati!#REF!=\"EC1\",Dati!#REF!,)","v":{"$error":"#REF!"}},{"$f":"IF(Dati!#REF!=\"ED1\",Dati!#REF!,)","v":{"$error":"#REF!"}},{"$f":"IF(Dati!#REF!=\"EE1\",Dati!#REF!,)","v":{"$error":"#REF!"}}]
[{"$f":"Dati!#REF!","v":{"$error":"#REF!"}},{"$f":"Dati!#REF!","v":{"$error":"#REF!"}},{"$f":"IF(Dati!#REF!=\"EA1\",Dati!#REF!,)","v":{"$error":"#REF!"}},{"$f":"IF(Dati!#REF!=\"EA2\",Dati!#REF!,)","v":{"$error":"#REF!"}},{"$f":"IF(Dati!#REF!=\"EA3\",Dati!#REF!,)","v":{"$error":"#REF!"}},{"$f":"IF(Dati!#REF!=\"EA4\",Dati!#REF!,)","v":{"$error":"#REF!"}},{"$f":"IF(Dati!#REF!=\"EA5\",Dati!#REF!,)","v":{"$error":"#REF!"}},{"$f":"IF(Dati!#REF!=\"EA6\",Dati!#REF!,)","v":{"$error":"#REF!"}},{"$f":"IF(Dati!#REF!=\"EB1\",Dati!#REF!,)","v":{"$error":"#REF!"}},{"$f":"IF(Dati!#REF!=\"EB2\",Dati!#REF!,)","v":{"$error":"#REF!"}},{"$f":"IF(Dati!#REF!=\"EC1\",Dati!#REF!,)","v":{"$error":"#REF!"}},{"$f":"IF(Dati!#REF!=\"ED1\",Dati!#REF!,)","v":{"$error":"#REF!"}},{"$f":"IF(Dati!#REF!=\"EE1\",Dati!#REF!,)","v":{"$error":"#REF!"}}]
[{"$f":"Dati!C11","v":"00:00:00"},{"$f":"Dati!H11","v":"00:00:00"},{"$f":"IF(Dati!E11=\"EA1\",Dati!D11,)","v":0},{"$f":"IF(Dati!E11=\"EA2\",Dati!D11,)","v":0},{"$f":"IF(Dati!E11=\"EA3\",Dati!D11,)","v":0},{"$f":"IF(Dati!E11=\"EA4\",Dati!D11,)","v":0},{"$f":"IF(Dati!E11=\"EA5\",Dati!D11,)","v":0},{"$f":"IF(Dati!E11=\"EA6\",Dati!D11,)","v":0},{"$f":"IF(Dati!E11=\"EB1\",Dati!D11,)","v":0},{"$f":"IF(Dati!E11=\"EB2\",Dati!D11,)","v":0},{"$f":"IF(Dati!E11=\"EC1\",Dati!D11,)","v":0},{"$f":"IF(Dati!E11=\"ED1\",Dati!D11,)","v":0},{"$f":"IF(Dati!E11=\"EE1\",Dati!D11,)","v":0}]
[{"$f":"Dati!C12","v":"00:00:00"},{"$f":"Dati!H12","v":"00:00:00"},{"$f":"IF(Dati!E12=\"EA1\",Dati!D12,)","v":0},{"$f":"IF(Dati!E12=\"EA2\",Dati!D12,)","v":0},{"$f":"IF(Dati!E12=\"EA3\",Dati!D12,)","v":0},{"$f":"IF(Dati!E12=\"EA4\",Dati!D12,)","v":0},{"$f":"IF(Dati!E12=\"EA5\",Dati!D12,)","v":0},{"$f":"IF(Dati!E12=\"EA6\",Dati!D12,)","v":0},{"$f":"IF(Dati!E12=\"EB1\",Dati!D12,)","v":0},{"$f":"IF(Dati!E12=\"EB2\",Dati!D12,)","v":0},{"$f":"IF(Dati!E12=\"EC1\",Dati!D12,)","v":0},{"$f":"IF(Dati!E12=\"ED1\",Dati!D12,)","v":0},{"$f":"IF(Dati!E12=\"EE1\",Dati!D12,)","v":0}]
[{"$f":"Dati!C13","v":"00:00:00"},{"$f":"Dati!H13","v":"00:00:00"},{"$f":"IF(Dati!E13=\"EA1\",Dati!D13,)","v":0},{"$f":"IF(Dati!E13=\"EA2\",Dati!D13,)","v":0},{"$f":"IF(Dati!E13=\"EA3\",Dati!D13,)","v":0},{"$f":"IF(Dati!E13=\"EA4\",Dati!D13,)","v":0},{"$f":"IF(Dati!E13=\"EA5\",Dati!D13,)","v":0},{"$f":"IF(Dati!E13=\"EA6\",Dati!D13,)","v":0},{"$f":"IF(Dati!E13=\"EB1\",Dati!D13,)","v":0},{"$f":"IF(Dati!E13=\"EB2\",Dati!D13,)","v":0},{"$f":"IF(Dati!E13=\"EC1\",Dati!D13,)","v":0},{"$f":"IF(Dati!E13=\"ED1\",Dati!D13,)","v":0},{"$f":"IF(Dati!E13=\"EE1\",Dati!D13,)","v":0}]
[{"$f":"Dati!C14","v":"00:00:00"},{"$f":"Dati!H14","v":"00:00:00"},{"$f":"IF(Dati!E14=\"EA1\",Dati!D14,)","v":0},{"$f":"IF(Dati!E14=\"EA2\",Dati!D14,)","v":0},{"$f":"IF(Dati!E14=\"EA3\",Dati!D14,)","v":0},{"$f":"IF(Dati!E14=\"EA4\",Dati!D14,)","v":0},{"$f":"IF(Dati!E14=\"EA5\",Dati!D14,)","v":0},{"$f":"IF(Dati!E14=\"EA6\",Dati!D14,)","v":0},{"$f":"IF(Dati!E14=\"EB1\",Dati!D14,)","v":0},{"$f":"IF(Dati!E14=\"EB2\",Dati!D14,)","v":0},{"$f":"IF(Dati!E14=\"EC1\",Dati!D14,)","v":0},{"$f":"IF(Dati!E14=\"ED1\",Dati!D14,)","v":0},{"$f":"IF(Dati!E14=\"EE1\",Dati!D14,)","v":0}]
[{"$f":"Dati!C15","v":"00:00:00"},{"$f":"Dati!H15","v":"00:00:00"},{"$f":"IF(Dati!E15=\"EA1\",Dati!D15,)","v":0},{"$f":"IF(Dati!E15=\"EA2\",Dati!D15,)","v":0},{"$f":"IF(Dati!E15=\"EA3\",Dati!D15,)","v":0},{"$f":"IF(Dati!E15=\"EA4\",Dati!D15,)","v":0},{"$f":"IF(Dati!E15=\"EA5\",Dati!D15,)","v":0},{"$f":"IF(Dati!E15=\"EA6\",Dati!D15,)","v":0},{"$f":"IF(Dati!E15=\"EB1\",Dati!D15,)","v":0},{"$f":"IF(Dati!E15=\"EB2\",Dati!D15,)","v":0},{"$f":"IF(Dati!E15=\"EC1\",Dati!D15,)","v":0},{"$f":"IF(Dati!E15=\"ED1\",Dati!D15,)","v":0},{"$f":"IF(Dati!E15=\"EE1\",Dati!D15,)","v":0}]
[{"$f":"Dati!C16","v":"00:00:00"},{"$f":"Dati!H16","v":"00:00:00"},{"$f":"IF(Dati!E16=\"EA1\",Dati!D16,)","v":0},{"$f":"IF(Dati!E16=\"EA2\",Dati!D16,)","v":0},{"$f":"IF(Dati!E16=\"EA3\",Dati!D16,)","v":0},{"$f":"IF(Dati!E16=\"EA4\",Dati!D16,)","v":0},{"$f":"IF(Dati!E16=\"EA5\",Dati!D16,)","v":0},{"$f":"IF(Dati!E16=\"EA6\",Dati!D16,)","v":0},{"$f":"IF(Dati!E16=\"EB1\",Dati!D16,)","v":0},{"$f":"IF(Dati!E16=\"EB2\",Dati!D16,)","v":0},{"$f":"IF(Dati!E16=\"EC1\",Dati!D16,)","v":0},{"$f":"IF(Dati!E16=\"ED1\",Dati!D16,)","v":0},{"$f":"IF(Dati!E16=\"EE1\",Dati!D16,)","v":0}]
[{"$f":"Dati!C17","v":"00:00:00"},{"$f":"Dati!H17","v":"00:00:00"},{"$f":"IF(Dati!E17=\"EA1\",Dati!D17,)","v":0},{"$f":"IF(Dati!E17=\"EA2\",Dati!D17,)","v":0},{"$f":"IF(Dati!E17=\"EA3\",Dati!D17,)","v":0},{"$f":"IF(Dati!E17=\"EA4\",Dati!D17,)","v":0},{"$f":"IF(Dati!E17=\"EA5\",Dati!D17,)","v":0},{"$f":"IF(Dati!E17=\"EA6\",Dati!D17,)","v":0},{"$f":"IF(Dati!E17=\"EB1\",Dati!D17,)","v":0},{"$f":"IF(Dati!E17=\"EB2\",Dati!D17,)","v":0},{"$f":"IF(Dati!E17=\"EC1\",Dati!D17,)","v":0},{"$f":"IF(Dati!E17=\"ED1\",Dati!D17,)","v":0},{"$f":"IF(Dati!E17=\"EE1\",Dati!D17,)","v":0}]
[{"$f":"Dati!C18","v":"00:00:00"},{"$f":"Dati!H18","v":"00:00:00"},{"$f":"IF(Dati!E18=\"EA1\",Dati!D18,)","v":0},{"$f":"IF(Dati!E18=\"EA2\",Dati!D18,)","v":0},{"$f":"IF(Dati!E18=\"EA3\",Dati!D18,)","v":0},{"$f":"IF(Dati!E18=\"EA4\",Dati!D18,)","v":0},{"$f":"IF(Dati!E18=\"EA5\",Dati!D18,)","v":0},{"$f":"IF(Dati!E18=\"EA6\",Dati!D18,)","v":0},{"$f":"IF(Dati!E18=\"EB1\",Dati!D18,)","v":0},{"$f":"IF(Dati!E18=\"EB2\",Dati!D18,)","v":0},{"$f":"IF(Dati!E18=\"EC1\",Dati!D18,)","v":0},{"$f":"IF(Dati!E18=\"ED1\",Dati!D18,)","v":0},{"$f":"IF(Dati!E18=\"EE1\",Dati!D18,)","v":0}]
[{"$f":"Dati!C19","v":"00:00:00"},{"$f":"Dati!H19","v":"00:00:00"},{"$f":"IF(Dati!E19=\"EA1\",Dati!D19,)","v":0},{"$f":"IF(Dati!E19=\"EA2\",Dati!D19,)","v":0},{"$f":"IF(Dati!E19=\"EA3\",Dati!D19,)","v":0},{"$f":"IF(Dati!E19=\"EA4\",Dati!D19,)","v":0},{"$f":"IF(Dati!E19=\"EA5\",Dati!D19,)","v":0},{"$f":"IF(Dati!E19=\"EA6\",Dati!D19,)","v":0},{"$f":"IF(Dati!E19=\"EB1\",Dati!D19,)","v":0},{"$f":"IF(Dati!E19=\"EB2\",Dati!D19,)","v":0},{"$f":"IF(Dati!E19=\"EC1\",Dati!D19,)","v":0},{"$f":"IF(Dati!E19=\"ED1\",Dati!D19,)","v":0},{"$f":"IF(Dati!E19=\"EE1\",Dati!D19,)","v":0}]
[{"$f":"Dati!C20","v":"00:00:00"},{"$f":"Dati!H20","v":"00:00:00"},{"$f":"IF(Dati!E20=\"EA1\",Dati!D20,)","v":0},{"$f":"IF(Dati!E20=\"EA2\",Dati!D20,)","v":0},{"$f":"IF(Dati!E20=\"EA3\",Dati!D20,)","v":0},{"$f":"IF(Dati!E20=\"EA4\",Dati!D20,)","v":0},{"$f":"IF(Dati!E20=\"EA5\",Dati!D20,)","v":0},{"$f":"IF(Dati!E20=\"EA6\",Dati!D20,)","v":0},{"$f":"IF(Dati!E20=\"EB1\",Dati!D20,)","v":0},{"$f":"IF(Dati!E20=\"EB2\",Dati!D20,)","v":0},{"$f":"IF(Dati!E20=\"EC1\",Dati!D20,)","v":0},{"$f":"IF(Dati!E20=\"ED1\",Dati!D20,)","v":0},{"$f":"IF(Dati!E20=\"EE1\",Dati!D20,)","v":0}]
[{"$f":"Dati!C21","v":"00:00:00"},{"$f":"Dati!H21","v":"00:00:00"},{"$f":"IF(Dati!E21=\"EA1\",Dati!D21,)","v":0},{"$f":"IF(Dati!E21=\"EA2\",Dati!D21,)","v":0},{"$f":"IF(Dati!E21=\"EA3\",Dati!D21,)","v":0},{"$f":"IF(Dati!E21=\"EA4\",Dati!D21,)","v":0},{"$f":"IF(Dati!E21=\"EA5\",Dati!D21,)","v":0},{"$f":"IF(Dati!E21=\"EA6\",Dati!D21,)","v":0},{"$f":"IF(Dati!E21=\"EB1\",Dati!D21,)","v":0},{"$f":"IF(Dati!E21=\"EB2\",Dati!D21,)","v":0},{"$f":"IF(Dati!E21=\"EC1\",Dati!D21,)","v":0},{"$f":"IF(Dati!E21=\"ED1\",Dati!D21,)","v":0},{"$f":"IF(Dati!E21=\"EE1\",Dati!D21,)","v":0}]
[{"$f":"Dati!C22","v":"00:00:00"},{"$f":"Dati!H22","v":"00:00:00"},{"$f":"IF(Dati!E22=\"EA1\",Dati!D22,)","v":0},{"$f":"IF(Dati!E22=\"EA2\",Dati!D22,)","v":0},{"$f":"IF(Dati!E22=\"EA3\",Dati!D22,)","v":0},{"$f":"IF(Dati!E22=\"EA4\",Dati!D22,)","v":0},{"$f":"IF(Dati!E22=\"EA5\",Dati!D22,)","v":0},{"$f":"IF(Dati!E22=\"EA6\",Dati!D22,)","v":0},{"$f":"IF(Dati!E22=\"EB1\",Dati!D22,)","v":0},{"$f":"IF(Dati!E22=\"EB2\",Dati!D22,)","v":0},{"$f":"IF(Dati!E22=\"EC1\",Dati!D22,)","v":0},{"$f":"IF(Dati!E22=\"ED1\",Dati!D22,)","v":0},{"$f":"IF(Dati!E22=\"EE1\",Dati!D22,)","v":0}]
[{"$f":"Dati!C23","v":"00:00:00"},{"$f":"Dati!H23","v":"00:00:00"},{"$f":"IF(Dati!E23=\"EA1\",Dati!D23,)","v":0},{"$f":"IF(Dati!E23=\"EA2\",Dati!D23,)","v":0},{"$f":"IF(Dati!E23=\"EA3\",Dati!D23,)","v":0},{"$f":"IF(Dati!E23=\"EA4\",Dati!D23,)","v":0},{"$f":"IF(Dati!E23=\"EA5\",Dati!D23,)","v":0},{"$f":"IF(Dati!E23=\"EA6\",Dati!D23,)","v":0},{"$f":"IF(Dati!E23=\"EB1\",Dati!D23,)","v":0},{"$f":"IF(Dati!E23=\"EB2\",Dati!D23,)","v":0},{"$f":"IF(Dati!E23=\"EC1\",Dati!D23,)","v":0},{"$f":"IF(Dati!E23=\"ED1\",Dati!D23,)","v":0},{"$f":"IF(Dati!E23=\"EE1\",Dati!D23,)","v":0}]
[{"$f":"Dati!C24","v":"00:00:00"},{"$f":"Dati!H24","v":"00:00:00"},{"$f":"IF(Dati!E24=\"EA1\",Dati!D24,)","v":0},{"$f":"IF(Dati!E24=\"EA2\",Dati!D24,)","v":0},{"$f":"IF(Dati!E24=\"EA3\",Dati!D24,)","v":0},{"$f":"IF(Dati!E24=\"EA4\",Dati!D24,)","v":0},{"$f":"IF(Dati!E24=\"EA5\",Dati!D24,)","v":0},{"$f":"IF(Dati!E24=\"EA6\",Dati!D24,)","v":0},{"$f":"IF(Dati!E24=\"EB1\",Dati!D24,)","v":0},{"$f":"IF(Dati!E24=\"EB2\",Dati!D24,)","v":0},{"$f":"IF(Dati!E24=\"EC1\",Dati!D24,)","v":0},{"$f":"IF(Dati!E24=\"ED1\",Dati!D24,)","v":0},{"$f":"IF(Dati!E24=\"EE1\",Dati!D24,)","v":0}]
[{"$f":"Dati!C25","v":"00:00:00"},{"$f":"Dati!H25","v":"00:00:00"},{"$f":"IF(Dati!E25=\"EA1\",Dati!D25,)","v":0},{"$f":"IF(Dati!E25=\"EA2\",Dati!D25,)","v":0},{"$f":"IF(Dati!E25=\"EA3\",Dati!D25,)","v":0},{"$f":"IF(Dati!E25=\"EA4\",Dati!D25,)","v":0},{"$f":"IF(Dati!E25=\"EA5\",Dati!D25,)","v":0},{"$f":"IF(Dati!E25=\"EA6\",Dati!D25,)","v":0},{"$f":"IF(Dati!E25=\"EB1\",Dati!D25,)","v":0},{"$f":"IF(Dati!E25=\"EB2\",Dati!D25,)","v":0},{"$f":"IF(Dati!E25=\"EC1\",Dati!D25,)","v":0},{"$f":"IF(Dati!E25=\"ED1\",Dati!D25,)","v":0},{"$f":"IF(Dati!E25=\"EE1\",Dati!D25,)","v":0}]
[{"$f":"Dati!C26","v":"00:00:00"},{"$f":"Dati!H26","v":"00:00:00"},{"$f":"IF(Dati!E26=\"EA1\",Dati!D26,)","v":0},{"$f":"IF(Dati!E26=\"EA2\",Dati!D26,)","v":0},{"$f":"IF(Dati!E26=\"EA3\",Dati!D26,)","v":0},{"$f":"IF(Dati!E26=\"EA4\",Dati!D26,)","v":0},{"$f":"IF(Dati!E26=\"EA5\",Dati!D26,)","v":0},{"$f":"IF(Dati!E26=\"EA6\",Dati!D26,)","v":0},{"$f":"IF(Dati!E26=\"EB1\",Dati!D26,)","v":0},{"$f":"IF(Dati!E26=\"EB2\",Dati!D26,)","v":0},{"$f":"IF(Dati!E26=\"EC1\",Dati!D26,)","v":0},{"$f":"IF(Dati!E26=\"ED1\",Dati!D26,)","v":0},{"$f":"IF(Dati!E26=\"EE1\",Dati!D26,)","v":0}]
[{"$f":"Dati!C27","v":"00:00:00"},{"$f":"Dati!H27","v":"00:00:00"},{"$f":"IF(Dati!E27=\"EA1\",Dati!D27,)","v":0},{"$f":"IF(Dati!E27=\"EA2\",Dati!D27,)","v":0},{"$f":"IF(Dati!E27=\"EA3\",Dati!D27,)","v":0},{"$f":"IF(Dati!E27=\"EA4\",Dati!D27,)","v":0},{"$f":"IF(Dati!E27=\"EA5\",Dati!D27,)","v":0},{"$f":"IF(Dati!E27=\"EA6\",Dati!D27,)","v":0},{"$f":"IF(Dati!E27=\"EB1\",Dati!D27,)","v":0},{"$f":"IF(Dati!E27=\"EB2\",Dati!D27,)","v":0},{"$f":"IF(Dati!E27=\"EC1\",Dati!D27,)","v":0},{"$f":"IF(Dati!E27=\"ED1\",Dati!D27,)","v":0},{"$f":"IF(Dati!E27=\"EE1\",Dati!D27,)","v":0}]
[{"$f":"Dati!C28","v":"00:00:00"},{"$f":"Dati!H28","v":"00:00:00"},{"$f":"IF(Dati!E28=\"EA1\",Dati!D28,)","v":0},{"$f":"IF(Dati!E28=\"EA2\",Dati!D28,)","v":0},{"$f":"IF(Dati!E28=\"EA3\",Dati!D28,)","v":0},{"$f":"IF(Dati!E28=\"EA4\",Dati!D28,)","v":0},{"$f":"IF(Dati!E28=\"EA5\",Dati!D28,)","v":0},{"$f":"IF(Dati!E28=\"EA6\",Dati!D28,)","v":0},{"$f":"IF(Dati!E28=\"EB1\",Dati!D28,)","v":0},{"$f":"IF(Dati!E28=\"EB2\",Dati!D28,)","v":0},{"$f":"IF(Dati!E28=\"EC1\",Dati!D28,)","v":0},{"$f":"IF(Dati!E28=\"ED1\",Dati!D28,)","v":0},{"$f":"IF(Dati!E28=\"EE1\",Dati!D28,)","v":0}]
[{"$f":"Dati!C29","v":"00:00:00"},{"$f":"Dati!H29","v":"00:00:00"},{"$f":"IF(Dati!E29=\"EA1\",Dati!D29,)","v":0},{"$f":"IF(Dati!E29=\"EA2\",Dati!D29,)","v":0},{"$f":"IF(Dati!E29=\"EA3\",Dati!D29,)","v":0},{"$f":"IF(Dati!E29=\"EA4\",Dati!D29,)","v":0},{"$f":"IF(Dati!E29=\"EA5\",Dati!D29,)","v":0},{"$f":"IF(Dati!E29=\"EA6\",Dati!D29,)","v":0},{"$f":"IF(Dati!E29=\"EB1\",Dati!D29,)","v":0},{"$f":"IF(Dati!E29=\"EB2\",Dati!D29,)","v":0},{"$f":"IF(Dati!E29=\"EC1\",Dati!D29,)","v":0},{"$f":"IF(Dati!E29=\"ED1\",Dati!D29,)","v":0},{"$f":"IF(Dati!E29=\"EE1\",Dati!D29,)","v":0}]
[{"$f":"Dati!C30","v":"00:00:00"},{"$f":"Dati!H30","v":"00:00:00"},{"$f":"IF(Dati!E30=\"EA1\",Dati!D30,)","v":0},{"$f":"IF(Dati!E30=\"EA2\",Dati!D30,)","v":0},{"$f":"IF(Dati!E30=\"EA3\",Dati!D30,)","v":0},{"$f":"IF(Dati!E30=\"EA4\",Dati!D30,)","v":0},{"$f":"IF(Dati!E30=\"EA5\",Dati!D30,)","v":0},{"$f":"IF(Dati!E30=\"EA6\",Dati!D30,)","v":0},{"$f":"IF(Dati!E30=\"EB1\",Dati!D30,)","v":0},{"$f":"IF(Dati!E30=\"EB2\",Dati!D30,)","v":0},{"$f":"IF(Dati!E30=\"EC1\",Dati!D30,)","v":0},{"$f":"IF(Dati!E30=\"ED1\",Dati!D30,)","v":0},{"$f":"IF(Dati!E30=\"EE1\",Dati!D30,)","v":0}]
[{"$f":"Dati!C31","v":"00:00:00"},{"$f":"Dati!H31","v":"00:00:00"},{"$f":"IF(Dati!E31=\"EA1\",Dati!D31,)","v":0},{"$f":"IF(Dati!E31=\"EA2\",Dati!D31,)","v":0},{"$f":"IF(Dati!E31=\"EA3\",Dati!D31,)","v":0},{"$f":"IF(Dati!E31=\"EA4\",Dati!D31,)","v":0},{"$f":"IF(Dati!E31=\"EA5\",Dati!D31,)","v":0},{"$f":"IF(Dati!E31=\"EA6\",Dati!D31,)","v":0},{"$f":"IF(Dati!E31=\"EB1\",Dati!D31,)","v":0},{"$f":"IF(Dati!E31=\"EB2\",Dati!D31,)","v":0},{"$f":"IF(Dati!E31=\"EC1\",Dati!D31,)","v":0},{"$f":"IF(Dati!E31=\"ED1\",Dati!D31,)","v":0},{"$f":"IF(Dati!E31=\"EE1\",Dati!D31,)","v":0}]
[{"$f":"Dati!C32","v":"00:00:00"},{"$f":"Dati!H32","v":"00:00:00"},{"$f":"IF(Dati!E32=\"EA1\",Dati!D32,)","v":0},{"$f":"IF(Dati!E32=\"EA2\",Dati!D32,)","v":0},{"$f":"IF(Dati!E32=\"EA3\",Dati!D32,)","v":0},{"$f":"IF(Dati!E32=\"EA4\",Dati!D32,)","v":0},{"$f":"IF(Dati!E32=\"EA5\",Dati!D32,)","v":0},{"$f":"IF(Dati!E32=\"EA6\",Dati!D32,)","v":0},{"$f":"IF(Dati!E32=\"EB1\",Dati!D32,)","v":0},{"$f":"IF(Dati!E32=\"EB2\",Dati!D32,)","v":0},{"$f":"IF(Dati!E32=\"EC1\",Dati!D32,)","v":0},{"$f":"IF(Dati!E32=\"ED1\",Dati!D32,)","v":0},{"$f":"IF(Dati!E32=\"EE1\",Dati!D32,)","v":0}]
[{"$f":"Dati!C33","v":"00:00:00"},{"$f":"Dati!H33","v":"00:00:00"},{"$f":"IF(Dati!E33=\"EA1\",Dati!D33,)","v":0},{"$f":"IF(Dati!E33=\"EA2\",Dati!D33,)","v":0},{"$f":"IF(Dati!E33=\"EA3\",Dati!D33,)","v":0},{"$f":"IF(Dati!E33=\"EA4\",Dati!D33,)","v":0},{"$f":"IF(Dati!E33=\"EA5\",Dati!D33,)","v":0},{"$f":"IF(Dati!E33=\"EA6\",Dati!D33,)","v":0},{"$f":"IF(Dati!E33=\"EB1\",Dati!D33,)","v":0},{"$f":"IF(Dati!E33=\"EB2\",Dati!D33,)","v":0},{"$f":"IF(Dati!E33=\"EC1\",Dati!D33,)","v":0},{"$f":"IF(Dati!E33=\"ED1\",Dati!D33,)","v":0},{"$f":"IF(Dati!E33=\"EE1\",Dati!D33,)","v":0}]
[{"$f":"Dati!C34","v":"00:00:00"},{"$f":"Dati!H34","v":"00:00:00"},{"$f":"IF(Dati!E34=\"EA1\",Dati!D34,)","v":0},{"$f":"IF(Dati!E34=\"EA2\",Dati!D34,)","v":0},{"$f":"IF(Dati!E34=\"EA3\",Dati!D34,)","v":0},{"$f":"IF(Dati!E34=\"EA4\",Dati!D34,)","v":0},{"$f":"IF(Dati!E34=\"EA5\",Dati!D34,)","v":0},{"$f":"IF(Dati!E34=\"EA6\",Dati!D34,)","v":0},{"$f":"IF(Dati!E34=\"EB1\",Dati!D34,)","v":0},{"$f":"IF(Dati!E34=\"EB2\",Dati!D34,)","v":0},{"$f":"IF(Dati!E34=\"EC1\",Dati!D34,)","v":0},{"$f":"IF(Dati!E34=\"ED1\",Dati!D34,)","v":0},{"$f":"IF(Dati!E34=\"EE1\",Dati!D34,)","v":0}]
[{"$f":"Dati!C35","v":"00:00:00"},{"$f":"Dati!H35","v":"00:00:00"},{"$f":"IF(Dati!E35=\"EA1\",Dati!D35,)","v":0},{"$f":"IF(Dati!E35=\"EA2\",Dati!D35,)","v":0},{"$f":"IF(Dati!E35=\"EA3\",Dati!D35,)","v":0},{"$f":"IF(Dati!E35=\"EA4\",Dati!D35,)","v":0},{"$f":"IF(Dati!E35=\"EA5\",Dati!D35,)","v":0},{"$f":"IF(Dati!E35=\"EA6\",Dati!D35,)","v":0},{"$f":"IF(Dati!E35=\"EB1\",Dati!D35,)","v":0},{"$f":"IF(Dati!E35=\"EB2\",Dati!D35,)","v":0},{"$f":"IF(Dati!E35=\"EC1\",Dati!D35,)","v":0},{"$f":"IF(Dati!E35=\"ED1\",Dati!D35,)","v":0},{"$f":"IF(Dati!E35=\"EE1\",Dati!D35,)","v":0}]
[{"$f":"Dati!C36","v":"00:00:00"},{"$f":"Dati!H36","v":"00:00:00"},{"$f":"IF(Dati!E36=\"EA1\",Dati!D36,)","v":0},{"$f":"IF(Dati!E36=\"EA2\",Dati!D36,)","v":0},{"$f":"IF(Dati!E36=\"EA3\",Dati!D36,)","v":0},{"$f":"IF(Dati!E36=\"EA4\",Dati!D36,)","v":0},{"$f":"IF(Dati!E36=\"EA5\",Dati!D36,)","v":0},{"$f":"IF(Dati!E36=\"EA6\",Dati!D36,)","v":0},{"$f":"IF(Dati!E36=\"EB1\",Dati!D36,)","v":0},{"$f":"IF(Dati!E36=\"EB2\",Dati!D36,)","v":0},{"$f":"IF(Dati!E36=\"EC1\",Dati!D36,)","v":0},{"$f":"IF(Dati!E36=\"ED1\",Dati!D36,)","v":0},{"$f":"IF(Dati!E36=\"EE1\",Dati!D36,)","v":0}]
[{"$f":"Dati!C37","v":"00:00:00"},{"$f":"Dati!H37","v":"00:00:00"},{"$f":"IF(Dati!E37=\"EA1\",Dati!D37,)","v":0},{"$f":"IF(Dati!E37=\"EA2\",Dati!D37,)","v":0},{"$f":"IF(Dati!E37=\"EA3\",Dati!D37,)","v":0},{"$f":"IF(Dati!E37=\"EA4\",Dati!D37,)","v":0},{"$f":"IF(Dati!E37=\"EA5\",Dati!D37,)","v":0},{"$f":"IF(Dati!E37=\"EA6\",Dati!D37,)","v":0},{"$f":"IF(Dati!E37=\"EB1\",Dati!D37,)","v":0},{"$f":"IF(Dati!E37=\"EB2\",Dati!D37,)","v":0},{"$f":"IF(Dati!E37=\"EC1\",Dati!D37,)","v":0},{"$f":"IF(Dati!E37=\"ED1\",Dati!D37,)","v":0},{"$f":"IF(Dati!E37=\"EE1\",Dati!D37,)","v":0}]
[{"$f":"Dati!C38","v":"00:00:00"},{"$f":"Dati!H38","v":"00:00:00"},{"$f":"IF(Dati!E38=\"EA1\",Dati!D38,)","v":0},{"$f":"IF(Dati!E38=\"EA2\",Dati!D38,)","v":0},{"$f":"IF(Dati!E38=\"EA3\",Dati!D38,)","v":0},{"$f":"IF(Dati!E38=\"EA4\",Dati!D38,)","v":0},{"$f":"IF(Dati!E38=\"EA5\",Dati!D38,)","v":0},{"$f":"IF(Dati!E38=\"EA6\",Dati!D38,)","v":0},{"$f":"IF(Dati!E38=\"EB1\",Dati!D38,)","v":0},{"$f":"IF(Dati!E38=\"EB2\",Dati!D38,)","v":0},{"$f":"IF(Dati!E38=\"EC1\",Dati!D38,)","v":0},{"$f":"IF(Dati!E38=\"ED1\",Dati!D38,)","v":0},{"$f":"IF(Dati!E38=\"EE1\",Dati!D38,)","v":0}]
[{"$f":"Dati!C39","v":"00:00:00"},{"$f":"Dati!H39","v":"00:00:00"},{"$f":"IF(Dati!E39=\"EA1\",Dati!D39,)","v":0},{"$f":"IF(Dati!E39=\"EA2\",Dati!D39,)","v":0},{"$f":"IF(Dati!E39=\"EA3\",Dati!D39,)","v":0},{"$f":"IF(Dati!E39=\"EA4\",Dati!D39,)","v":0},{"$f":"IF(Dati!E39=\"EA5\",Dati!D39,)","v":0},{"$f":"IF(Dati!E39=\"EA6\",Dati!D39,)","v":0},{"$f":"IF(Dati!E39=\"EB1\",Dati!D39,)","v":0},{"$f":"IF(Dati!E39=\"EB2\",Dati!D39,)","v":0},{"$f":"IF(Dati!E39=\"EC1\",Dati!D39,)","v":0},{"$f":"IF(Dati!E39=\"ED1\",Dati!D39,)","v":0},{"$f":"IF(Dati!E39=\"EE1\",Dati!D39,)","v":0}]
[{"$f":"Dati!C40","v":"00:00:00"},{"$f":"Dati!H40","v":"00:00:00"},{"$f":"IF(Dati!E40=\"EA1\",Dati!D40,)","v":0},{"$f":"IF(Dati!E40=\"EA2\",Dati!D40,)","v":0},{"$f":"IF(Dati!E40=\"EA3\",Dati!D40,)","v":0},{"$f":"IF(Dati!E40=\"EA4\",Dati!D40,)","v":0},{"$f":"IF(Dati!E40=\"EA5\",Dati!D40,)","v":0},{"$f":"IF(Dati!E40=\"EA6\",Dati!D40,)","v":0},{"$f":"IF(Dati!E40=\"EB1\",Dati!D40,)","v":0},{"$f":"IF(Dati!E40=\"EB2\",Dati!D40,)","v":0},{"$f":"IF(Dati!E40=\"EC1\",Dati!D40,)","v":0},{"$f":"IF(Dati!E40=\"ED1\",Dati!D40,)","v":0},{"$f":"IF(Dati!E40=\"EE1\",Dati!D40,)","v":0}]
[{"$f":"Dati!C41","v":"00:00:00"},{"$f":"Dati!H41","v":"00:00:00"},{"$f":"IF(Dati!E41=\"EA1\",Dati!D41,)","v":0},{"$f":"IF(Dati!E41=\"EA2\",Dati!D41,)","v":0},{"$f":"IF(Dati!E41=\"EA3\",Dati!D41,)","v":0},{"$f":"IF(Dati!E41=\"EA4\",Dati!D41,)","v":0},{"$f":"IF(Dati!E41=\"EA5\",Dati!D41,)","v":0},{"$f":"IF(Dati!E41=\"EA6\",Dati!D41,)","v":0},{"$f":"IF(Dati!E41=\"EB1\",Dati!D41,)","v":0},{"$f":"IF(Dati!E41=\"EB2\",Dati!D41,)","v":0},{"$f":"IF(Dati!E41=\"EC1\",Dati!D41,)","v":0},{"$f":"IF(Dati!E41=\"ED1\",Dati!D41,)","v":0},{"$f":"IF(Dati!E41=\"EE1\",Dati!D41,)","v":0}]
[{"$f":"Dati!C42","v":"00:00:00"},{"$f":"Dati!H42","v":"00:00:00"},{"$f":"IF(Dati!E42=\"EA1\",Dati!D42,)","v":0},{"$f":"IF(Dati!E42=\"EA2\",Dati!D42,)","v":0},{"$f":"IF(Dati!E42=\"EA3\",Dati!D42,)","v":0},{"$f":"IF(Dati!E42=\"EA4\",Dati!D42,)","v":0},{"$f":"IF(Dati!E42=\"EA5\",Dati!D42,)","v":0},{"$f":"IF(Dati!E42=\"EA6\",Dati!D42,)","v":0},{"$f":"IF(Dati!E42=\"EB1\",Dati!D42,)","v":0},{"$f":"IF(Dati!E42=\"EB2\",Dati!D42,)","v":0},{"$f":"IF(Dati!E42=\"EC1\",Dati!D42,)","v":0},{"$f":"IF(Dati!E42=\"ED1\",Dati!D42,)","v":0},{"$f":"IF(Dati!E42=\"EE1\",Dati!D42,)","v":0}]
[{"$f":"Dati!C43","v":"00:00:00"},{"$f":"Dati!H43","v":"00:00:00"},{"$f":"IF(Dati!E43=\"EA1\",Dati!D43,)","v":0},{"$f":"IF(Dati!E43=\"EA2\",Dati!D43,)","v":0},{"$f":"IF(Dati!E43=\"EA3\",Dati!D43,)","v":0},{"$f":"IF(Dati!E43=\"EA4\",Dati!D43,)","v":0},{"$f":"IF(Dati!E43=\"EA5\",Dati!D43,)","v":0},{"$f":"IF(Dati!E43=\"EA6\",Dati!D43,)","v":0},{"$f":"IF(Dati!E43=\"EB1\",Dati!D43,)","v":0},{"$f":"IF(Dati!E43=\"EB2\",Dati!D43,)","v":0},{"$f":"IF(Dati!E43=\"EC1\",Dati!D43,)","v":0},{"$f":"IF(Dati!E43=\"ED1\",Dati!D43,)","v":0},{"$f":"IF(Dati!E43=\"EE1\",Dati!D43,)","v":0}]
[{"$f":"Dati!C44","v":"00:00:00"},{"$f":"Dati!H44","v":"00:00:00"},{"$f":"IF(Dati!E44=\"EA1\",Dati!D44,)","v":0},{"$f":"IF(Dati!E44=\"EA2\",Dati!D44,)","v":0},{"$f":"IF(Dati!E44=\"EA3\",Dati!D44,)","v":0},{"$f":"IF(Dati!E44=\"EA4\",Dati!D44,)","v":0},{"$f":"IF(Dati!E44=\"EA5\",Dati!D44,)","v":0},{"$f":"IF(Dati!E44=\"EA6\",Dati!D44,)","v":0},{"$f":"IF(Dati!E44=\"EB1\",Dati!D44,)","v":0},{"$f":"IF(Dati!E44=\"EB2\",Dati!D44,)","v":0},{"$f":"IF(Dati!E44=\"EC1\",Dati!D44,)","v":0},{"$f":"IF(Dati!E44=\"ED1\",Dati!D44,)","v":0},{"$f":"IF(Dati!E44=\"EE1\",Dati!D44,)","v":0}]
[{"$f":"Dati!C45","v":"00:00:00"},{"$f":"Dati!H45","v":"00:00:00"},{"$f":"IF(Dati!E45=\"EA1\",Dati!D45,)","v":0},{"$f":"IF(Dati!E45=\"EA2\",Dati!D45,)","v":0},{"$f":"IF(Dati!E45=\"EA3\",Dati!D45,)","v":0},{"$f":"IF(Dati!E45=\"EA4\",Dati!D45,)","v":0},{"$f":"IF(Dati!E45=\"EA5\",Dati!D45,)","v":0},{"$f":"IF(Dati!E45=\"EA6\",Dati!D45,)","v":0},{"$f":"IF(Dati!E45=\"EB1\",Dati!D45,)","v":0},{"$f":"IF(Dati!E45=\"EB2\",Dati!D45,)","v":0},{"$f":"IF(Dati!E45=\"EC1\",Dati!D45,)","v":0},{"$f":"IF(Dati!E45=\"ED1\",Dati!D45,)","v":0},{"$f":"IF(Dati!E45=\"EE1\",Dati!D45,)","v":0}]
[{"$f":"Dati!C46","v":"00:00:00"},{"$f":"Dati!H46","v":"00:00:00"},{"$f":"IF(Dati!E46=\"EA1\",Dati!D46,)","v":0},{"$f":"IF(Dati!E46=\"EA2\",Dati!D46,)","v":0},{"$f":"IF(Dati!E46=\"EA3\",Dati!D46,)","v":0},{"$f":"IF(Dati!E46=\"EA4\",Dati!D46,)","v":0},{"$f":"IF(Dati!E46=\"EA5\",Dati!D46,)","v":0},{"$f":"IF(Dati!E46=\"EA6\",Dati!D46,)","v":0},{"$f":"IF(Dati!E46=\"EB1\",Dati!D46,)","v":0},{"$f":"IF(Dati!E46=\"EB2\",Dati!D46,)","v":0},{"$f":"IF(Dati!E46=\"EC1\",Dati!D46,)","v":0},{"$f":"IF(Dati!E46=\"ED1\",Dati!D46,)","v":0},{"$f":"IF(Dati!E46=\"EE1\",Dati!D46,)","v":0}]
[{"$f":"Dati!C47","v":"00:00:00"},{"$f":"Dati!H47","v":"00:00:00"},{"$f":"IF(Dati!E47=\"EA1\",Dati!D47,)","v":0},{"$f":"IF(Dati!E47=\"EA2\",Dati!D47,)","v":0},{"$f":"IF(Dati!E47=\"EA3\",Dati!D47,)","v":0},{"$f":"IF(Dati!E47=\"EA4\",Dati!D47,)","v":0},{"$f":"IF(Dati!E47=\"EA5\",Dati!D47,)","v":0},{"$f":"IF(Dati!E47=\"EA6\",Dati!D47,)","v":0},{"$f":"IF(Dati!E47=\"EB1\",Dati!D47,)","v":0},{"$f":"IF(Dati!E47=\"EB2\",Dati!D47,)","v":0},{"$f":"IF(Dati!E47=\"EC1\",Dati!D47,)","v":0},{"$f":"IF(Dati!E47=\"ED1\",Dati!D47,)","v":0},{"$f":"IF(Dati!E47=\"EE1\",Dati!D47,)","v":0}]
[{"$f":"Dati!C48","v":"00:00:00"},{"$f":"Dati!H48","v":"00:00:00"},{"$f":"IF(Dati!E48=\"EA1\",Dati!D48,)","v":0},{"$f":"IF(Dati!E48=\"EA2\",Dati!D48,)","v":0},{"$f":"IF(Dati!E48=\"EA3\",Dati!D48,)","v":0},{"$f":"IF(Dati!E48=\"EA4\",Dati!D48,)","v":0},{"$f":"IF(Dati!E48=\"EA5\",Dati!D48,)","v":0},{"$f":"IF(Dati!E48=\"EA6\",Dati!D48,)","v":0},{"$f":"IF(Dati!E48=\"EB1\",Dati!D48,)","v":0},{"$f":"IF(Dati!E48=\"EB2\",Dati!D48,)","v":0},{"$f":"IF(Dati!E48=\"EC1\",Dati!D48,)","v":0},{"$f":"IF(Dati!E48=\"ED1\",Dati!D48,)","v":0},{"$f":"IF(Dati!E48=\"EE1\",Dati!D48,)","v":0}]
[{"$f":"Dati!C49","v":"00:00:00"},{"$f":"Dati!H49","v":"00:00:00"},{"$f":"IF(Dati!E49=\"EA1\",Dati!D49,)","v":0},{"$f":"IF(Dati!E49=\"EA2\",Dati!D49,)","v":0},{"$f":"IF(Dati!E49=\"EA3\",Dati!D49,)","v":0},{"$f":"IF(Dati!E49=\"EA4\",Dati!D49,)","v":0},{"$f":"IF(Dati!E49=\"EA5\",Dati!D49,)","v":0},{"$f":"IF(Dati!E49=\"EA6\",Dati!D49,)","v":0},{"$f":"IF(Dati!E49=\"EB1\",Dati!D49,)","v":0},{"$f":"IF(Dati!E49=\"EB2\",Dati!D49,)","v":0},{"$f":"IF(Dati!E49=\"EC1\",Dati!D49,)","v":0},{"$f":"IF(Dati!E49=\"ED1\",Dati!D49,)","v":0},{"$f":"IF(Dati!E49=\"EE1\",Dati!D49,)","v":0}]
[{"$f":"Dati!C50","v":"00:00:00"},{"$f":"Dati!H50","v":"00:00:00"},{"$f":"IF(Dati!E50=\"EA1\",Dati!D50,)","v":0},{"$f":"IF(Dati!E50=\"EA2\",Dati!D50,)","v":0},{"$f":"IF(Dati!E50=\"EA3\",Dati!D50,)","v":0},{"$f":"IF(Dati!E50=\"EA4\",Dati!D50,)","v":0},{"$f":"IF(Dati!E50=\"EA5\",Dati!D50,)","v":0},{"$f":"IF(Dati!E50=\"EA6\",Dati!D50,)","v":0},{"$f":"IF(Dati!E50=\"EB1\",Dati!D50,)","v":0},{"$f":"IF(Dati!E50=\"EB2\",Dati!D50,)","v":0},{"$f":"IF(Dati!E50=\"EC1\",Dati!D50,)","v":0},{"$f":"IF(Dati!E50=\"ED1\",Dati!D50,)","v":0},{"$f":"IF(Dati!E50=\"EE1\",Dati!D50,)","v":0}]
[{"$f":"Dati!C51","v":"00:00:00"},{"$f":"Dati!H51","v":"00:00:00"},{"$f":"IF(Dati!E51=\"EA1\",Dati!D51,)","v":0},{"$f":"IF(Dati!E51=\"EA2\",Dati!D51,)","v":0},{"$f":"IF(Dati!E51=\"EA3\",Dati!D51,)","v":0},{"$f":"IF(Dati!E51=\"EA4\",Dati!D51,)","v":0},{"$f":"IF(Dati!E51=\"EA5\",Dati!D51,)","v":0},{"$f":"IF(Dati!E51=\"EA6\",Dati!D51,)","v":0},{"$f":"IF(Dati!E51=\"EB1\",Dati!D51,)","v":0},{"$f":"IF(Dati!E51=\"EB2\",Dati!D51,)","v":0},{"$f":"IF(Dati!E51=\"EC1\",Dati!D51,)","v":0},{"$f":"IF(Dati!E51=\"ED1\",Dati!D51,)","v":0},{"$f":"IF(Dati!E51=\"EE1\",Dati!D51,)","v":0}]
[{"$f":"Dati!C52","v":"00:00:00"},{"$f":"Dati!H52","v":"00:00:00"},{"$f":"IF(Dati!E52=\"EA1\",Dati!D52,)","v":0},{"$f":"IF(Dati!E52=\"EA2\",Dati!D52,)","v":0},{"$f":"IF(Dati!E52=\"EA3\",Dati!D52,)","v":0},{"$f":"IF(Dati!E52=\"EA4\",Dati!D52,)","v":0},{"$f":"IF(Dati!E52=\"EA5\",Dati!D52,)","v":0},{"$f":"IF(Dati!E52=\"EA6\",Dati!D52,)","v":0},{"$f":"IF(Dati!E52=\"EB1\",Dati!D52,)","v":0},{"$f":"IF(Dati!E52=\"EB2\",Dati!D52,)","v":0},{"$f":"IF(Dati!E52=\"EC1\",Dati!D52,)","v":0},{"$f":"IF(Dati!E52=\"ED1\",Dati!D52,)","v":0},{"$f":"IF(Dati!E52=\"EE1\",Dati!D52,)","v":0}]
[{"$f":"Dati!C53","v":"00:00:00"},{"$f":"Dati!H53","v":"00:00:00"},{"$f":"IF(Dati!E53=\"EA1\",Dati!D53,)","v":0},{"$f":"IF(Dati!E53=\"EA2\",Dati!D53,)","v":0},{"$f":"IF(Dati!E53=\"EA3\",Dati!D53,)","v":0},{"$f":"IF(Dati!E53=\"EA4\",Dati!D53,)","v":0},{"$f":"IF(Dati!E53=\"EA5\",Dati!D53,)","v":0},{"$f":"IF(Dati!E53=\"EA6\",Dati!D53,)","v":0},{"$f":"IF(Dati!E53=\"EB1\",Dati!D53,)","v":0},{"$f":"IF(Dati!E53=\"EB2\",Dati!D53,)","v":0},{"$f":"IF(Dati!E53=\"EC1\",Dati!D53,)","v":0},{"$f":"IF(Dati!E53=\"ED1\",Dati!D53,)","v":0},{"$f":"IF(Dati!E53=\"EE1\",Dati!D53,)","v":0}]
[{"$f":"Dati!C54","v":"00:00:00"},{"$f":"Dati!H54","v":"00:00:00"},{"$f":"IF(Dati!E54=\"EA1\",Dati!D54,)","v":0},{"$f":"IF(Dati!E54=\"EA2\",Dati!D54,)","v":0},{"$f":"IF(Dati!E54=\"EA3\",Dati!D54,)","v":0},{"$f":"IF(Dati!E54=\"EA4\",Dati!D54,)","v":0},{"$f":"IF(Dati!E54=\"EA5\",Dati!D54,)","v":0},{"$f":"IF(Dati!E54=\"EA6\",Dati!D54,)","v":0},{"$f":"IF(Dati!E54=\"EB1\",Dati!D54,)","v":0},{"$f":"IF(Dati!E54=\"EB2\",Dati!D54,)","v":0},{"$f":"IF(Dati!E54=\"EC1\",Dati!D54,)","v":0},{"$f":"IF(Dati!E54=\"ED1\",Dati!D54,)","v":0},{"$f":"IF(Dati!E54=\"EE1\",Dati!D54,)","v":0}]
[{"$f":"Dati!C55","v":"00:00:00"},{"$f":"Dati!H55","v":"00:00:00"},{"$f":"IF(Dati!E55=\"EA1\",Dati!D55,)","v":0},{"$f":"IF(Dati!E55=\"EA2\",Dati!D55,)","v":0},{"$f":"IF(Dati!E55=\"EA3\",Dati!D55,)","v":0},{"$f":"IF(Dati!E55=\"EA4\",Dati!D55,)","v":0},{"$f":"IF(Dati!E55=\"EA5\",Dati!D55,)","v":0},{"$f":"IF(Dati!E55=\"EA6\",Dati!D55,)","v":0},{"$f":"IF(Dati!E55=\"EB1\",Dati!D55,)","v":0},{"$f":"IF(Dati!E55=\"EB2\",Dati!D55,)","v":0},{"$f":"IF(Dati!E55=\"EC1\",Dati!D55,)","v":0},{"$f":"IF(Dati!E55=\"ED1\",Dati!D55,)","v":0},{"$f":"IF(Dati!E55=\"EE1\",Dati!D55,)","v":0}]
[{"$f":"Dati!C56","v":"00:00:00"},{"$f":"Dati!H56","v":"00:00:00"},{"$f":"IF(Dati!E56=\"EA1\",Dati!D56,)","v":0},{"$f":"IF(Dati!E56=\"EA2\",Dati!D56,)","v":0},{"$f":"IF(Dati!E56=\"EA3\",Dati!D56,)","v":0},{"$f":"IF(Dati!E56=\"EA4\",Dati!D56,)","v":0},{"$f":"IF(Dati!E56=\"EA5\",Dati!D56,)","v":0},{"$f":"IF(Dati!E56=\"EA6\",Dati!D56,)","v":0},{"$f":"IF(Dati!E56=\"EB1\",Dati!D56,)","v":0},{"$f":"IF(Dati!E56=\"EB2\",Dati!D56,)","v":0},{"$f":"IF(Dati!E56=\"EC1\",Dati!D56,)","v":0},{"$f":"IF(Dati!E56=\"ED1\",Dati!D56,)","v":0},{"$f":"IF(Dati!E56=\"EE1\",Dati!D56,)","v":0}]
[{"$f":"Dati!C57","v":"00:00:00"},{"$f":"Dati!H57","v":"00:00:00"},{"$f":"IF(Dati!E57=\"EA1\",Dati!D57,)","v":0},{"$f":"IF(Dati!E57=\"EA2\",Dati!D57,)","v":0},{"$f":"IF(Dati!E57=\"EA3\",Dati!D57,)","v":0},{"$f":"IF(Dati!E57=\"EA4\",Dati!D57,)","v":0},{"$f":"IF(Dati!E57=\"EA5\",Dati!D57,)","v":0},{"$f":"IF(Dati!E57=\"EA6\",Dati!D57,)","v":0},{"$f":"IF(Dati!E57=\"EB1\",Dati!D57,)","v":0},{"$f":"IF(Dati!E57=\"EB2\",Dati!D57,)","v":0},{"$f":"IF(Dati!E57=\"EC1\",Dati!D57,)","v":0},{"$f":"IF(Dati!E57=\"ED1\",Dati!D57,)","v":0},{"$f":"IF(Dati!E57=\"EE1\",Dati!D57,)","v":0}]
[{"$f":"Dati!C58","v":"00:00:00"},{"$f":"Dati!H58","v":"00:00:00"},{"$f":"IF(Dati!E58=\"EA1\",Dati!D58,)","v":0},{"$f":"IF(Dati!E58=\"EA2\",Dati!D58,)","v":0},{"$f":"IF(Dati!E58=\"EA3\",Dati!D58,)","v":0},{"$f":"IF(Dati!E58=\"EA4\",Dati!D58,)","v":0},{"$f":"IF(Dati!E58=\"EA5\",Dati!D58,)","v":0},{"$f":"IF(Dati!E58=\"EA6\",Dati!D58,)","v":0},{"$f":"IF(Dati!E58=\"EB1\",Dati!D58,)","v":0},{"$f":"IF(Dati!E58=\"EB2\",Dati!D58,)","v":0},{"$f":"IF(Dati!E58=\"EC1\",Dati!D58,)","v":0},{"$f":"IF(Dati!E58=\"ED1\",Dati!D58,)","v":0},{"$f":"IF(Dati!E58=\"EE1\",Dati!D58,)","v":0}]
[{"$f":"Dati!C59","v":"00:00:00"},{"$f":"Dati!H59","v":"00:00:00"},{"$f":"IF(Dati!E59=\"EA1\",Dati!D59,)","v":0},{"$f":"IF(Dati!E59=\"EA2\",Dati!D59,)","v":0},{"$f":"IF(Dati!E59=\"EA3\",Dati!D59,)","v":0},{"$f":"IF(Dati!E59=\"EA4\",Dati!D59,)","v":0},{"$f":"IF(Dati!E59=\"EA5\",Dati!D59,)","v":0},{"$f":"IF(Dati!E59=\"EA6\",Dati!D59,)","v":0},{"$f":"IF(Dati!E59=\"EB1\",Dati!D59,)","v":0},{"$f":"IF(Dati!E59=\"EB2\",Dati!D59,)","v":0},{"$f":"IF(Dati!E59=\"EC1\",Dati!D59,)","v":0},{"$f":"IF(Dati!E59=\"ED1\",Dati!D59,)","v":0},{"$f":"IF(Dati!E59=\"EE1\",Dati!D59,)","v":0}]
[{"$f":"Dati!C60","v":"00:00:00"},{"$f":"Dati!H60","v":"00:00:00"},{"$f":"IF(Dati!E60=\"EA1\",Dati!D60,)","v":0},{"$f":"IF(Dati!E60=\"EA2\",Dati!D60,)","v":0},{"$f":"IF(Dati!E60=\"EA3\",Dati!D60,)","v":0},{"$f":"IF(Dati!E60=\"EA4\",Dati!D60,)","v":0},{"$f":"IF(Dati!E60=\"EA5\",Dati!D60,)","v":0},{"$f":"IF(Dati!E60=\"EA6\",Dati!D60,)","v":0},{"$f":"IF(Dati!E60=\"EB1\",Dati!D60,)","v":0},{"$f":"IF(Dati!E60=\"EB2\",Dati!D60,)","v":0},{"$f":"IF(Dati!E60=\"EC1\",Dati!D60,)","v":0},{"$f":"IF(Dati!E60=\"ED1\",Dati!D60,)","v":0},{"$f":"IF(Dati!E60=\"EE1\",Dati!D60,)","v":0}]
[{"$f":"Dati!C61","v":"00:00:00"},{"$f":"Dati!H61","v":"00:00:00"},{"$f":"IF(Dati!E61=\"EA1\",Dati!D61,)","v":0},{"$f":"IF(Dati!E61=\"EA2\",Dati!D61,)","v":0},{"$f":"IF(Dati!E61=\"EA3\",Dati!D61,)","v":0},{"$f":"IF(Dati!E61=\"EA4\",Dati!D61,)","v":0},{"$f":"IF(Dati!E61=\"EA5\",Dati!D61,)","v":0},{"$f":"IF(Dati!E61=\"EA6\",Dati!D61,)","v":0},{"$f":"IF(Dati!E61=\"EB1\",Dati!D61,)","v":0},{"$f":"IF(Dati!E61=\"EB2\",Dati!D61,)","v":0},{"$f":"IF(Dati!E61=\"EC1\",Dati!D61,)","v":0},{"$f":"IF(Dati!E61=\"ED1\",Dati!D61,)","v":0},{"$f":"IF(Dati!E61=\"EE1\",Dati!D61,)","v":0}]
[{"$f":"Dati!C62","v":"00:00:00"},{"$f":"Dati!H62","v":"00:00:00"},{"$f":"IF(Dati!E62=\"EA1\",Dati!D62,)","v":0},{"$f":"IF(Dati!E62=\"EA2\",Dati!D62,)","v":0},{"$f":"IF(Dati!E62=\"EA3\",Dati!D62,)","v":0},{"$f":"IF(Dati!E62=\"EA4\",Dati!D62,)","v":0},{"$f":"IF(Dati!E62=\"EA5\",Dati!D62,)","v":0},{"$f":"IF(Dati!E62=\"EA6\",Dati!D62,)","v":0},{"$f":"IF(Dati!E62=\"EB1\",Dati!D62,)","v":0},{"$f":"IF(Dati!E62=\"EB2\",Dati!D62,)","v":0},{"$f":"IF(Dati!E62=\"EC1\",Dati!D62,)","v":0},{"$f":"IF(Dati!E62=\"ED1\",Dati!D62,)","v":0},{"$f":"IF(Dati!E62=\"EE1\",Dati!D62,)","v":0}]
[{"$f":"Dati!C63","v":"00:00:00"},{"$f":"Dati!H63","v":"00:00:00"},{"$f":"IF(Dati!E63=\"EA1\",Dati!D63,)","v":0},{"$f":"IF(Dati!E63=\"EA2\",Dati!D63,)","v":0},{"$f":"IF(Dati!E63=\"EA3\",Dati!D63,)","v":0},{"$f":"IF(Dati!E63=\"EA4\",Dati!D63,)","v":0},{"$f":"IF(Dati!E63=\"EA5\",Dati!D63,)","v":0},{"$f":"IF(Dati!E63=\"EA6\",Dati!D63,)","v":0},{"$f":"IF(Dati!E63=\"EB1\",Dati!D63,)","v":0},{"$f":"IF(Dati!E63=\"EB2\",Dati!D63,)","v":0},{"$f":"IF(Dati!E63=\"EC1\",Dati!D63,)","v":0},{"$f":"IF(Dati!E63=\"ED1\",Dati!D63,)","v":0},{"$f":"IF(Dati!E63=\"EE1\",Dati!D63,)","v":0}]
[{"$f":"Dati!C64","v":"00:00:00"},{"$f":"Dati!H64","v":"00:00:00"},{"$f":"IF(Dati!E64=\"EA1\",Dati!D64,)","v":0},{"$f":"IF(Dati!E64=\"EA2\",Dati!D64,)","v":0},{"$f":"IF(Dati!E64=\"EA3\",Dati!D64,)","v":0},{"$f":"IF(Dati!E64=\"EA4\",Dati!D64,)","v":0},{"$f":"IF(Dati!E64=\"EA5\",Dati!D64,)","v":0},{"$f":"IF(Dati!E64=\"EA6\",Dati!D64,)","v":0},{"$f":"IF(Dati!E64=\"EB1\",Dati!D64,)","v":0},{"$f":"IF(Dati!E64=\"EB2\",Dati!D64,)","v":0},{"$f":"IF(Dati!E64=\"EC1\",Dati!D64,)","v":0},{"$f":"IF(Dati!E64=\"ED1\",Dati!D64,)","v":0},{"$f":"IF(Dati!E64=\"EE1\",Dati!D64,)","v":0}]
[{"$f":"Dati!C65","v":"00:00:00"},{"$f":"Dati!H65","v":"00:00:00"},{"$f":"IF(Dati!E65=\"EA1\",Dati!D65,)","v":0},{"$f":"IF(Dati!E65=\"EA2\",Dati!D65,)","v":0},{"$f":"IF(Dati!E65=\"EA3\",Dati!D65,)","v":0},{"$f":"IF(Dati!E65=\"EA4\",Dati!D65,)","v":0},{"$f":"IF(Dati!E65=\"EA5\",Dati!D65,)","v":0},{"$f":"IF(Dati!E65=\"EA6\",Dati!D65,)","v":0},{"$f":"IF(Dati!E65=\"EB1\",Dati!D65,)","v":0},{"$f":"IF(Dati!E65=\"EB2\",Dati!D65,)","v":0},{"$f":"IF(Dati!E65=\"EC1\",Dati!D65,)","v":0},{"$f":"IF(Dati!E65=\"ED1\",Dati!D65,)","v":0},{"$f":"IF(Dati!E65=\"EE1\",Dati!D65,)","v":0}]
[{"$f":"Dati!C66","v":"00:00:00"},{"$f":"Dati!H66","v":"00:00:00"},{"$f":"IF(Dati!E66=\"EA1\",Dati!D66,)","v":0},{"$f":"IF(Dati!E66=\"EA2\",Dati!D66,)","v":0},{"$f":"IF(Dati!E66=\"EA3\",Dati!D66,)","v":0},{"$f":"IF(Dati!E66=\"EA4\",Dati!D66,)","v":0},{"$f":"IF(Dati!E66=\"EA5\",Dati!D66,)","v":0},{"$f":"IF(Dati!E66=\"EA6\",Dati!D66,)","v":0},{"$f":"IF(Dati!E66=\"EB1\",Dati!D66,)","v":0},{"$f":"IF(Dati!E66=\"EB2\",Dati!D66,)","v":0},{"$f":"IF(Dati!E66=\"EC1\",Dati!D66,)","v":0},{"$f":"IF(Dati!E66=\"ED1\",Dati!D66,)","v":0},{"$f":"IF(Dati!E66=\"EE1\",Dati!D66,)","v":0}]
[{"$f":"Dati!C67","v":"00:00:00"},{"$f":"Dati!H67","v":"00:00:00"},{"$f":"IF(Dati!E67=\"EA1\",Dati!D67,)","v":0},{"$f":"IF(Dati!E67=\"EA2\",Dati!D67,)","v":0},{"$f":"IF(Dati!E67=\"EA3\",Dati!D67,)","v":0},{"$f":"IF(Dati!E67=\"EA4\",Dati!D67,)","v":0},{"$f":"IF(Dati!E67=\"EA5\",Dati!D67,)","v":0},{"$f":"IF(Dati!E67=\"EA6\",Dati!D67,)","v":0},{"$f":"IF(Dati!E67=\"EB1\",Dati!D67,)","v":0},{"$f":"IF(Dati!E67=\"EB2\",Dati!D67,)","v":0},{"$f":"IF(Dati!E67=\"EC1\",Dati!D67,)","v":0},{"$f":"IF(Dati!E67=\"ED1\",Dati!D67,)","v":0},{"$f":"IF(Dati!E67=\"EE1\",Dati!D67,)","v":0}]
[{"$f":"Dati!C68","v":"00:00:00"},{"$f":"Dati!H68","v":"00:00:00"},{"$f":"IF(Dati!E68=\"EA1\",Dati!D68,)","v":0},{"$f":"IF(Dati!E68=\"EA2\",Dati!D68,)","v":0},{"$f":"IF(Dati!E68=\"EA3\",Dati!D68,)","v":0},{"$f":"IF(Dati!E68=\"EA4\",Dati!D68,)","v":0},{"$f":"IF(Dati!E68=\"EA5\",Dati!D68,)","v":0},{"$f":"IF(Dati!E68=\"EA6\",Dati!D68,)","v":0},{"$f":"IF(Dati!E68=\"EB1\",Dati!D68,)","v":0},{"$f":"IF(Dati!E68=\"EB2\",Dati!D68,)","v":0},{"$f":"IF(Dati!E68=\"EC1\",Dati!D68,)","v":0},{"$f":"IF(Dati!E68=\"ED1\",Dati!D68,)","v":0},{"$f":"IF(Dati!E68=\"EE1\",Dati!D68,)","v":0}]
[{"$f":"Dati!C69","v":"00:00:00"},{"$f":"Dati!H69","v":"00:00:00"},{"$f":"IF(Dati!E69=\"EA1\",Dati!D69,)","v":0},{"$f":"IF(Dati!E69=\"EA2\",Dati!D69,)","v":0},{"$f":"IF(Dati!E69=\"EA3\",Dati!D69,)","v":0},{"$f":"IF(Dati!E69=\"EA4\",Dati!D69,)","v":0},{"$f":"IF(Dati!E69=\"EA5\",Dati!D69,)","v":0},{"$f":"IF(Dati!E69=\"EA6\",Dati!D69,)","v":0},{"$f":"IF(Dati!E69=\"EB1\",Dati!D69,)","v":0},{"$f":"IF(Dati!E69=\"EB2\",Dati!D69,)","v":0},{"$f":"IF(Dati!E69=\"EC1\",Dati!D69,)","v":0},{"$f":"IF(Dati!E69=\"ED1\",Dati!D69,)","v":0},{"$f":"IF(Dati!E69=\"EE1\",Dati!D69,)","v":0}]
[{"$f":"Dati!C70","v":"00:00:00"},{"$f":"Dati!H70","v":"00:00:00"},{"$f":"IF(Dati!E70=\"EA1\",Dati!D70,)","v":0},{"$f":"IF(Dati!E70=\"EA2\",Dati!D70,)","v":0},{"$f":"IF(Dati!E70=\"EA3\",Dati!D70,)","v":0},{"$f":"IF(Dati!E70=\"EA4\",Dati!D70,)","v":0},{"$f":"IF(Dati!E70=\"EA5\",Dati!D70,)","v":0},{"$f":"IF(Dati!E70=\"EA6\",Dati!D70,)","v":0},{"$f":"IF(Dati!E70=\"EB1\",Dati!D70,)","v":0},{"$f":"IF(Dati!E70=\"EB2\",Dati!D70,)","v":0},{"$f":"IF(Dati!E70=\"EC1\",Dati!D70,)","v":0},{"$f":"IF(Dati!E70=\"ED1\",Dati!D70,)","v":0},{"$f":"IF(Dati!E70=\"EE1\",Dati!D70,)","v":0}]
[{"$f":"Dati!C71","v":"00:00:00"},{"$f":"Dati!H71","v":"00:00:00"},{"$f":"IF(Dati!E71=\"EA1\",Dati!D71,)","v":0},{"$f":"IF(Dati!E71=\"EA2\",Dati!D71,)","v":0},{"$f":"IF(Dati!E71=\"EA3\",Dati!D71,)","v":0},{"$f":"IF(Dati!E71=\"EA4\",Dati!D71,)","v":0},{"$f":"IF(Dati!E71=\"EA5\",Dati!D71,)","v":0},{"$f":"IF(Dati!E71=\"EA6\",Dati!D71,)","v":0},{"$f":"IF(Dati!E71=\"EB1\",Dati!D71,)","v":0},{"$f":"IF(Dati!E71=\"EB2\",Dati!D71,)","v":0},{"$f":"IF(Dati!E71=\"EC1\",Dati!D71,)","v":0},{"$f":"IF(Dati!E71=\"ED1\",Dati!D71,)","v":0},{"$f":"IF(Dati!E71=\"EE1\",Dati!D71,)","v":0}]
[{"$f":"Dati!C72","v":"00:00:00"},{"$f":"Dati!H72","v":"00:00:00"},{"$f":"IF(Dati!E72=\"EA1\",Dati!D72,)","v":0},{"$f":"IF(Dati!E72=\"EA2\",Dati!D72,)","v":0},{"$f":"IF(Dati!E72=\"EA3\",Dati!D72,)","v":0},{"$f":"IF(Dati!E72=\"EA4\",Dati!D72,)","v":0},{"$f":"IF(Dati!E72=\"EA5\",Dati!D72,)","v":0},{"$f":"IF(Dati!E72=\"EA6\",Dati!D72,)","v":0},{"$f":"IF(Dati!E72=\"EB1\",Dati!D72,)","v":0},{"$f":"IF(Dati!E72=\"EB2\",Dati!D72,)","v":0},{"$f":"IF(Dati!E72=\"EC1\",Dati!D72,)","v":0},{"$f":"IF(Dati!E72=\"ED1\",Dati!D72,)","v":0},{"$f":"IF(Dati!E72=\"EE1\",Dati!D72,)","v":0}]
[{"$f":"Dati!C73","v":"00:00:00"},{"$f":"Dati!H73","v":"00:00:00"},{"$f":"IF(Dati!E73=\"EA1\",Dati!D73,)","v":0},{"$f":"IF(Dati!E73=\"EA2\",Dati!D73,)","v":0},{"$f":"IF(Dati!E73=\"EA3\",Dati!D73,)","v":0},{"$f":"IF(Dati!E73=\"EA4\",Dati!D73,)","v":0},{"$f":"IF(Dati!E73=\"EA5\",Dati!D73,)","v":0},{"$f":"IF(Dati!E73=\"EA6\",Dati!D73,)","v":0},{"$f":"IF(Dati!E73=\"EB1\",Dati!D73,)","v":0},{"$f":"IF(Dati!E73=\"EB2\",Dati!D73,)","v":0},{"$f":"IF(Dati!E73=\"EC1\",Dati!D73,)","v":0},{"$f":"IF(Dati!E73=\"ED1\",Dati!D73,)","v":0},{"$f":"IF(Dati!E73=\"EE1\",Dati!D73,)","v":0}]
[{"$f":"Dati!C74","v":"00:00:00"},{"$f":"Dati!H74","v":"00:00:00"},{"$f":"IF(Dati!E74=\"EA1\",Dati!D74,)","v":0},{"$f":"IF(Dati!E74=\"EA2\",Dati!D74,)","v":0},{"$f":"IF(Dati!E74=\"EA3\",Dati!D74,)","v":0},{"$f":"IF(Dati!E74=\"EA4\",Dati!D74,)","v":0},{"$f":"IF(Dati!E74=\"EA5\",Dati!D74,)","v":0},{"$f":"IF(Dati!E74=\"EA6\",Dati!D74,)","v":0},{"$f":"IF(Dati!E74=\"EB1\",Dati!D74,)","v":0},{"$f":"IF(Dati!E74=\"EB2\",Dati!D74,)","v":0},{"$f":"IF(Dati!E74=\"EC1\",Dati!D74,)","v":0},{"$f":"IF(Dati!E74=\"ED1\",Dati!D74,)","v":0},{"$f":"IF(Dati!E74=\"EE1\",Dati!D74,)","v":0}]
[{"$f":"Dati!C75","v":"00:00:00"},{"$f":"Dati!H75","v":"00:00:00"},{"$f":"IF(Dati!E75=\"EA1\",Dati!D75,)","v":0},{"$f":"IF(Dati!E75=\"EA2\",Dati!D75,)","v":0},{"$f":"IF(Dati!E75=\"EA3\",Dati!D75,)","v":0},{"$f":"IF(Dati!E75=\"EA4\",Dati!D75,)","v":0},{"$f":"IF(Dati!E75=\"EA5\",Dati!D75,)","v":0},{"$f":"IF(Dati!E75=\"EA6\",Dati!D75,)","v":0},{"$f":"IF(Dati!E75=\"EB1\",Dati!D75,)","v":0},{"$f":"IF(Dati!E75=\"EB2\",Dati!D75,)","v":0},{"$f":"IF(Dati!E75=\"EC1\",Dati!D75,)","v":0},{"$f":"IF(Dati!E75=\"ED1\",Dati!D75,)","v":0},{"$f":"IF(Dati!E75=\"EE1\",Dati!D75,)","v":0}]
[{"$f":"Dati!C76","v":"00:00:00"},{"$f":"Dati!H76","v":"00:00:00"},{"$f":"IF(Dati!E76=\"EA1\",Dati!D76,)","v":0},{"$f":"IF(Dati!E76=\"EA2\",Dati!D76,)","v":0},{"$f":"IF(Dati!E76=\"EA3\",Dati!D76,)","v":0},{"$f":"IF(Dati!E76=\"EA4\",Dati!D76,)","v":0},{"$f":"IF(Dati!E76=\"EA5\",Dati!D76,)","v":0},{"$f":"IF(Dati!E76=\"EA6\",Dati!D76,)","v":0},{"$f":"IF(Dati!E76=\"EB1\",Dati!D76,)","v":0},{"$f":"IF(Dati!E76=\"EB2\",Dati!D76,)","v":0},{"$f":"IF(Dati!E76=\"EC1\",Dati!D76,)","v":0},{"$f":"IF(Dati!E76=\"ED1\",Dati!D76,)","v":0},{"$f":"IF(Dati!E76=\"EE1\",Dati!D76,)","v":0}]
[{"$f":"Dati!C77","v":"00:00:00"},{"$f":"Dati!H77","v":"00:00:00"},{"$f":"IF(Dati!E77=\"EA1\",Dati!D77,)","v":0},{"$f":"IF(Dati!E77=\"EA2\",Dati!D77,)","v":0},{"$f":"IF(Dati!E77=\"EA3\",Dati!D77,)","v":0},{"$f":"IF(Dati!E77=\"EA4\",Dati!D77,)","v":0},{"$f":"IF(Dati!E77=\"EA5\",Dati!D77,)","v":0},{"$f":"IF(Dati!E77=\"EA6\",Dati!D77,)","v":0},{"$f":"IF(Dati!E77=\"EB1\",Dati!D77,)","v":0},{"$f":"IF(Dati!E77=\"EB2\",Dati!D77,)","v":0},{"$f":"IF(Dati!E77=\"EC1\",Dati!D77,)","v":0},{"$f":"IF(Dati!E77=\"ED1\",Dati!D77,)","v":0},{"$f":"IF(Dati!E77=\"EE1\",Dati!D77,)","v":0}]
[{"$f":"Dati!C78","v":"00:00:00"},{"$f":"Dati!H78","v":"00:00:00"},{"$f":"IF(Dati!E78=\"EA1\",Dati!D78,)","v":0},{"$f":"IF(Dati!E78=\"EA2\",Dati!D78,)","v":0},{"$f":"IF(Dati!E78=\"EA3\",Dati!D78,)","v":0},{"$f":"IF(Dati!E78=\"EA4\",Dati!D78,)","v":0},{"$f":"IF(Dati!E78=\"EA5\",Dati!D78,)","v":0},{"$f":"IF(Dati!E78=\"EA6\",Dati!D78,)","v":0},{"$f":"IF(Dati!E78=\"EB1\",Dati!D78,)","v":0},{"$f":"IF(Dati!E78=\"EB2\",Dati!D78,)","v":0},{"$f":"IF(Dati!E78=\"EC1\",Dati!D78,)","v":0},{"$f":"IF(Dati!E78=\"ED1\",Dati!D78,)","v":0},{"$f":"IF(Dati!E78=\"EE1\",Dati!D78,)","v":0}]
[{"$f":"Dati!C79","v":"00:00:00"},{"$f":"Dati!H79","v":"00:00:00"},{"$f":"IF(Dati!E79=\"EA1\",Dati!D79,)","v":0},{"$f":"IF(Dati!E79=\"EA2\",Dati!D79,)","v":0},{"$f":"IF(Dati!E79=\"EA3\",Dati!D79,)","v":0},{"$f":"IF(Dati!E79=\"EA4\",Dati!D79,)","v":0},{"$f":"IF(Dati!E79=\"EA5\",Dati!D79,)","v":0},{"$f":"IF(Dati!E79=\"EA6\",Dati!D79,)","v":0},{"$f":"IF(Dati!E79=\"EB1\",Dati!D79,)","v":0},{"$f":"IF(Dati!E79=\"EB2\",Dati!D79,)","v":0},{"$f":"IF(Dati!E79=\"EC1\",Dati!D79,)","v":0},{"$f":"IF(Dati!E79=\"ED1\",Dati!D79,)","v":0},{"$f":"IF(Dati!E79=\"EE1\",Dati!D79,)","v":0}]
[{"$f":"Dati!C80","v":"00:00:00"},{"$f":"Dati!H80","v":"00:00:00"},{"$f":"IF(Dati!E80=\"EA1\",Dati!D80,)","v":0},{"$f":"IF(Dati!E80=\"EA2\",Dati!D80,)","v":0},{"$f":"IF(Dati!E80=\"EA3\",Dati!D80,)","v":0},{"$f":"IF(Dati!E80=\"EA4\",Dati!D80,)","v":0},{"$f":"IF(Dati!E80=\"EA5\",Dati!D80,)","v":0},{"$f":"IF(Dati!E80=\"EA6\",Dati!D80,)","v":0},{"$f":"IF(Dati!E80=\"EB1\",Dati!D80,)","v":0},{"$f":"IF(Dati!E80=\"EB2\",Dati!D80,)","v":0},{"$f":"IF(Dati!E80=\"EC1\",Dati!D80,)","v":0},{"$f":"IF(Dati!E80=\"ED1\",Dati!D80,)","v":0},{"$f":"IF(Dati!E80=\"EE1\",Dati!D80,)","v":0}]
[{"$f":"Dati!C81","v":"00:00:00"},{"$f":"Dati!H81","v":"00:00:00"},{"$f":"IF(Dati!E81=\"EA1\",Dati!D81,)","v":0},{"$f":"IF(Dati!E81=\"EA2\",Dati!D81,)","v":0},{"$f":"IF(Dati!E81=\"EA3\",Dati!D81,)","v":0},{"$f":"IF(Dati!E81=\"EA4\",Dati!D81,)","v":0},{"$f":"IF(Dati!E81=\"EA5\",Dati!D81,)","v":0},{"$f":"IF(Dati!E81=\"EA6\",Dati!D81,)","v":0},{"$f":"IF(Dati!E81=\"EB1\",Dati!D81,)","v":0},{"$f":"IF(Dati!E81=\"EB2\",Dati!D81,)","v":0},{"$f":"IF(Dati!E81=\"EC1\",Dati!D81,)","v":0},{"$f":"IF(Dati!E81=\"ED1\",Dati!D81,)","v":0},{"$f":"IF(Dati!E81=\"EE1\",Dati!D81,)","v":0}]
[{"$f":"Dati!C82","v":"00:00:00"},{"$f":"Dati!H82","v":"00:00:00"},{"$f":"IF(Dati!E82=\"EA1\",Dati!D82,)","v":0},{"$f":"IF(Dati!E82=\"EA2\",Dati!D82,)","v":0},{"$f":"IF(Dati!E82=\"EA3\",Dati!D82,)","v":0},{"$f":"IF(Dati!E82=\"EA4\",Dati!D82,)","v":0},{"$f":"IF(Dati!E82=\"EA5\",Dati!D82,)","v":0},{"$f":"IF(Dati!E82=\"EA6\",Dati!D82,)","v":0},{"$f":"IF(Dati!E82=\"EB1\",Dati!D82,)","v":0},{"$f":"IF(Dati!E82=\"EB2\",Dati!D82,)","v":0},{"$f":"IF(Dati!E82=\"EC1\",Dati!D82,)","v":0},{"$f":"IF(Dati!E82=\"ED1\",Dati!D82,)","v":0},{"$f":"IF(Dati!E82=\"EE1\",Dati!D82,)","v":0}]
[{"$f":"Dati!C83","v":"00:00:00"},{"$f":"Dati!H83","v":"00:00:00"},{"$f":"IF(Dati!E83=\"EA1\",Dati!D83,)","v":0},{"$f":"IF(Dati!E83=\"EA2\",Dati!D83,)","v":0},{"$f":"IF(Dati!E83=\"EA3\",Dati!D83,)","v":0},{"$f":"IF(Dati!E83=\"EA4\",Dati!D83,)","v":0},{"$f":"IF(Dati!E83=\"EA5\",Dati!D83,)","v":0},{"$f":"IF(Dati!E83=\"EA6\",Dati!D83,)","v":0},{"$f":"IF(Dati!E83=\"EB1\",Dati!D83,)","v":0},{"$f":"IF(Dati!E83=\"EB2\",Dati!D83,)","v":0},{"$f":"IF(Dati!E83=\"EC1\",Dati!D83,)","v":0},{"$f":"IF(Dati!E83=\"ED1\",Dati!D83,)","v":0},{"$f":"IF(Dati!E83=\"EE1\",Dati!D83,)","v":0}]
[{"$f":"Dati!C84","v":"00:00:00"},{"$f":"Dati!H84","v":"00:00:00"},{"$f":"IF(Dati!E84=\"EA1\",Dati!D84,)","v":0},{"$f":"IF(Dati!E84=\"EA2\",Dati!D84,)","v":0},{"$f":"IF(Dati!E84=\"EA3\",Dati!D84,)","v":0},{"$f":"IF(Dati!E84=\"EA4\",Dati!D84,)","v":0},{"$f":"IF(Dati!E84=\"EA5\",Dati!D84,)","v":0},{"$f":"IF(Dati!E84=\"EA6\",Dati!D84,)","v":0},{"$f":"IF(Dati!E84=\"EB1\",Dati!D84,)","v":0},{"$f":"IF(Dati!E84=\"EB2\",Dati!D84,)","v":0},{"$f":"IF(Dati!E84=\"EC1\",Dati!D84,)","v":0},{"$f":"IF(Dati!E84=\"ED1\",Dati!D84,)","v":0},{"$f":"IF(Dati!E84=\"EE1\",Dati!D84,)","v":0}]
[{"$f":"Dati!C85","v":"00:00:00"},{"$f":"Dati!H85","v":"00:00:00"},{"$f":"IF(Dati!E85=\"EA1\",Dati!D85,)","v":0},{"$f":"IF(Dati!E85=\"EA2\",Dati!D85,)","v":0},{"$f":"IF(Dati!E85=\"EA3\",Dati!D85,)","v":0},{"$f":"IF(Dati!E85=\"EA4\",Dati!D85,)","v":0},{"$f":"IF(Dati!E85=\"EA5\",Dati!D85,)","v":0},{"$f":"IF(Dati!E85=\"EA6\",Dati!D85,)","v":0},{"$f":"IF(Dati!E85=\"EB1\",Dati!D85,)","v":0},{"$f":"IF(Dati!E85=\"EB2\",Dati!D85,)","v":0},{"$f":"IF(Dati!E85=\"EC1\",Dati!D85,)","v":0},{"$f":"IF(Dati!E85=\"ED1\",Dati!D85,)","v":0},{"$f":"IF(Dati!E85=\"EE1\",Dati!D85,)","v":0}]
[{"$f":"Dati!C86","v":"00:00:00"},{"$f":"Dati!H86","v":"00:00:00"},{"$f":"IF(Dati!E86=\"EA1\",Dati!D86,)","v":0},{"$f":"IF(Dati!E86=\"EA2\",Dati!D86,)","v":0},{"$f":"IF(Dati!E86=\"EA3\",Dati!D86,)","v":0},{"$f":"IF(Dati!E86=\"EA4\",Dati!D86,)","v":0},{"$f":"IF(Dati!E86=\"EA5\",Dati!D86,)","v":0},{"$f":"IF(Dati!E86=\"EA6\",Dati!D86,)","v":0},{"$f":"IF(Dati!E86=\"EB1\",Dati!D86,)","v":0},{"$f":"IF(Dati!E86=\"EB2\",Dati!D86,)","v":0},{"$f":"IF(Dati!E86=\"EC1\",Dati!D86,)","v":0},{"$f":"IF(Dati!E86=\"ED1\",Dati!D86,)","v":0},{"$f":"IF(Dati!E86=\"EE1\",Dati!D86,)","v":0}]
[{"$f":"Dati!C87","v":"00:00:00"},{"$f":"Dati!H87","v":"00:00:00"},{"$f":"IF(Dati!E87=\"EA1\",Dati!D87,)","v":0},{"$f":"IF(Dati!E87=\"EA2\",Dati!D87,)","v":0},{"$f":"IF(Dati!E87=\"EA3\",Dati!D87,)","v":0},{"$f":"IF(Dati!E87=\"EA4\",Dati!D87,)","v":0},{"$f":"IF(Dati!E87=\"EA5\",Dati!D87,)","v":0},{"$f":"IF(Dati!E87=\"EA6\",Dati!D87,)","v":0},{"$f":"IF(Dati!E87=\"EB1\",Dati!D87,)","v":0},{"$f":"IF(Dati!E87=\"EB2\",Dati!D87,)","v":0},{"$f":"IF(Dati!E87=\"EC1\",Dati!D87,)","v":0},{"$f":"IF(Dati!E87=\"ED1\",Dati!D87,)","v":0},{"$f":"IF(Dati!E87=\"EE1\",Dati!D87,)","v":0}]
[{"$f":"Dati!C88","v":"00:00:00"},{"$f":"Dati!H88","v":"00:00:00"},{"$f":"IF(Dati!E88=\"EA1\",Dati!D88,)","v":0},{"$f":"IF(Dati!E88=\"EA2\",Dati!D88,)","v":0},{"$f":"IF(Dati!E88=\"EA3\",Dati!D88,)","v":0},{"$f":"IF(Dati!E88=\"EA4\",Dati!D88,)","v":0},{"$f":"IF(Dati!E88=\"EA5\",Dati!D88,)","v":0},{"$f":"IF(Dati!E88=\"EA6\",Dati!D88,)","v":0},{"$f":"IF(Dati!E88=\"EB1\",Dati!D88,)","v":0},{"$f":"IF(Dati!E88=\"EB2\",Dati!D88,)","v":0},{"$f":"IF(Dati!E88=\"EC1\",Dati!D88,)","v":0},{"$f":"IF(Dati!E88=\"ED1\",Dati!D88,)","v":0},{"$f":"IF(Dati!E88=\"EE1\",Dati!D88,)","v":0}]
[{"$f":"Dati!C89","v":"00:00:00"},{"$f":"Dati!H89","v":"00:00:00"},{"$f":"IF(Dati!E89=\"EA1\",Dati!D89,)","v":0},{"$f":"IF(Dati!E89=\"EA2\",Dati!D89,)","v":0},{"$f":"IF(Dati!E89=\"EA3\",Dati!D89,)","v":0},{"$f":"IF(Dati!E89=\"EA4\",Dati!D89,)","v":0},{"$f":"IF(Dati!E89=\"EA5\",Dati!D89,)","v":0},{"$f":"IF(Dati!E89=\"EA6\",Dati!D89,)","v":0},{"$f":"IF(Dati!E89=\"EB1\",Dati!D89,)","v":0},{"$f":"IF(Dati!E89=\"EB2\",Dati!D89,)","v":0},{"$f":"IF(Dati!E89=\"EC1\",Dati!D89,)","v":0},{"$f":"IF(Dati!E89=\"ED1\",Dati!D89,)","v":0},{"$f":"IF(Dati!E89=\"EE1\",Dati!D89,)","v":0}]
[{"$f":"Dati!C90","v":"00:00:00"},{"$f":"Dati!H90","v":"00:00:00"},{"$f":"IF(Dati!E90=\"EA1\",Dati!D90,)","v":0},{"$f":"IF(Dati!E90=\"EA2\",Dati!D90,)","v":0},{"$f":"IF(Dati!E90=\"EA3\",Dati!D90,)","v":0},{"$f":"IF(Dati!E90=\"EA4\",Dati!D90,)","v":0},{"$f":"IF(Dati!E90=\"EA5\",Dati!D90,)","v":0},{"$f":"IF(Dati!E90=\"EA6\",Dati!D90,)","v":0},{"$f":"IF(Dati!E90=\"EB1\",Dati!D90,)","v":0},{"$f":"IF(Dati!E90=\"EB2\",Dati!D90,)","v":0},{"$f":"IF(Dati!E90=\"EC1\",Dati!D90,)","v":0},{"$f":"IF(Dati!E90=\"ED1\",Dati!D90,)","v":0},{"$f":"IF(Dati!E90=\"EE1\",Dati!D90,)","v":0}]
[{"$f":"Dati!C91","v":"00:00:00"},{"$f":"Dati!H91","v":"00:00:00"},{"$f":"IF(Dati!E91=\"EA1\",Dati!D91,)","v":0},{"$f":"IF(Dati!E91=\"EA2\",Dati!D91,)","v":0},{"$f":"IF(Dati!E91=\"EA3\",Dati!D91,)","v":0},{"$f":"IF(Dati!E91=\"EA4\",Dati!D91,)","v":0},{"$f":"IF(Dati!E91=\"EA5\",Dati!D91,)","v":0},{"$f":"IF(Dati!E91=\"EA6\",Dati!D91,)","v":0},{"$f":"IF(Dati!E91=\"EB1\",Dati!D91,)","v":0},{"$f":"IF(Dati!E91=\"EB2\",Dati!D91,)","v":0},{"$f":"IF(Dati!E91=\"EC1\",Dati!D91,)","v":0},{"$f":"IF(Dati!E91=\"ED1\",Dati!D91,)","v":0},{"$f":"IF(Dati!E91=\"EE1\",Dati!D91,)","v":0}]
[{"$f":"Dati!C92","v":"00:00:00"},{"$f":"Dati!H92","v":"00:00:00"},{"$f":"IF(Dati!E92=\"EA1\",Dati!D92,)","v":0},{"$f":"IF(Dati!E92=\"EA2\",Dati!D92,)","v":0},{"$f":"IF(Dati!E92=\"EA3\",Dati!D92,)","v":0},{"$f":"IF(Dati!E92=\"EA4\",Dati!D92,)","v":0},{"$f":"IF(Dati!E92=\"EA5\",Dati!D92,)","v":0},{"$f":"IF(Dati!E92=\"EA6\",Dati!D92,)","v":0},{"$f":"IF(Dati!E92=\"EB1\",Dati!D92,)","v":0},{"$f":"IF(Dati!E92=\"EB2\",Dati!D92,)","v":0},{"$f":"IF(Dati!E92=\"EC1\",Dati!D92,)","v":0},{"$f":"IF(Dati!E92=\"ED1\",Dati!D92,)","v":0},{"$f":"IF(Dati!E92=\"EE1\",Dati!D92,)","v":0}]
[{"$f":"Dati!C93","v":"00:00:00"},{"$f":"Dati!H93","v":"00:00:00"},{"$f":"IF(Dati!E93=\"EA1\",Dati!D93,)","v":0},{"$f":"IF(Dati!E93=\"EA2\",Dati!D93,)","v":0},{"$f":"IF(Dati!E93=\"EA3\",Dati!D93,)","v":0},{"$f":"IF(Dati!E93=\"EA4\",Dati!D93,)","v":0},{"$f":"IF(Dati!E93=\"EA5\",Dati!D93,)","v":0},{"$f":"IF(Dati!E93=\"EA6\",Dati!D93,)","v":0},{"$f":"IF(Dati!E93=\"EB1\",Dati!D93,)","v":0},{"$f":"IF(Dati!E93=\"EB2\",Dati!D93,)","v":0},{"$f":"IF(Dati!E93=\"EC1\",Dati!D93,)","v":0},{"$f":"IF(Dati!E93=\"ED1\",Dati!D93,)","v":0},{"$f":"IF(Dati!E93=\"EE1\",Dati!D93,)","v":0}]
[{"$f":"Dati!C94","v":"00:00:00"},{"$f":"Dati!H94","v":"00:00:00"},{"$f":"IF(Dati!E94=\"EA1\",Dati!D94,)","v":0},{"$f":"IF(Dati!E94=\"EA2\",Dati!D94,)","v":0},{"$f":"IF(Dati!E94=\"EA3\",Dati!D94,)","v":0},{"$f":"IF(Dati!E94=\"EA4\",Dati!D94,)","v":0},{"$f":"IF(Dati!E94=\"EA5\",Dati!D94,)","v":0},{"$f":"IF(Dati!E94=\"EA6\",Dati!D94,)","v":0},{"$f":"IF(Dati!E94=\"EB1\",Dati!D94,)","v":0},{"$f":"IF(Dati!E94=\"EB2\",Dati!D94,)","v":0},{"$f":"IF(Dati!E94=\"EC1\",Dati!D94,)","v":0},{"$f":"IF(Dati!E94=\"ED1\",Dati!D94,)","v":0},{"$f":"IF(Dati!E94=\"EE1\",Dati!D94,)","v":0}]
[{"$f":"Dati!C95","v":"00:00:00"},{"$f":"Dati!H95","v":"00:00:00"},{"$f":"IF(Dati!E95=\"EA1\",Dati!D95,)","v":0},{"$f":"IF(Dati!E95=\"EA2\",Dati!D95,)","v":0},{"$f":"IF(Dati!E95=\"EA3\",Dati!D95,)","v":0},{"$f":"IF(Dati!E95=\"EA4\",Dati!D95,)","v":0},{"$f":"IF(Dati!E95=\"EA5\",Dati!D95,)","v":0},{"$f":"IF(Dati!E95=\"EA6\",Dati!D95,)","v":0},{"$f":"IF(Dati!E95=\"EB1\",Dati!D95,)","v":0},{"$f":"IF(Dati!E95=\"EB2\",Dati!D95,)","v":0},{"$f":"IF(Dati!E95=\"EC1\",Dati!D95,)","v":0},{"$f":"IF(Dati!E95=\"ED1\",Dati!D95,)","v":0},{"$f":"IF(Dati!E95=\"EE1\",Dati!D95,)","v":0}]
[{"$f":"Dati!C96","v":"00:00:00"},{"$f":"Dati!H96","v":"00:00:00"},{"$f":"IF(Dati!E96=\"EA1\",Dati!D96,)","v":0},{"$f":"IF(Dati!E96=\"EA2\",Dati!D96,)","v":0},{"$f":"IF(Dati!E96=\"EA3\",Dati!D96,)","v":0},{"$f":"IF(Dati!E96=\"EA4\",Dati!D96,)","v":0},{"$f":"IF(Dati!E96=\"EA5\",Dati!D96,)","v":0},{"$f":"IF(Dati!E96=\"EA6\",Dati!D96,)","v":0},{"$f":"IF(Dati!E96=\"EB1\",Dati!D96,)","v":0},{"$f":"IF(Dati!E96=\"EB2\",Dati!D96,)","v":0},{"$f":"IF(Dati!E96=\"EC1\",Dati!D96,)","v":0},{"$f":"IF(Dati!E96=\"ED1\",Dati!D96,)","v":0},{"$f":"IF(Dati!E96=\"EE1\",Dati!D96,)","v":0}]
[{"$f":"Dati!C97","v":"00:00:00"},{"$f":"Dati!H97","v":"00:00:00"},{"$f":"IF(Dati!E97=\"EA1\",Dati!D97,)","v":0},{"$f":"IF(Dati!E97=\"EA2\",Dati!D97,)","v":0},{"$f":"IF(Dati!E97=\"EA3\",Dati!D97,)","v":0},{"$f":"IF(Dati!E97=\"EA4\",Dati!D97,)","v":0},{"$f":"IF(Dati!E97=\"EA5\",Dati!D97,)","v":0},{"$f":"IF(Dati!E97=\"EA6\",Dati!D97,)","v":0},{"$f":"IF(Dati!E97=\"EB1\",Dati!D97,)","v":0},{"$f":"IF(Dati!E97=\"EB2\",Dati!D97,)","v":0},{"$f":"IF(Dati!E97=\"EC1\",Dati!D97,)","v":0},{"$f":"IF(Dati!E97=\"ED1\",Dati!D97,)","v":0},{"$f":"IF(Dati!E97=\"EE1\",Dati!D97,)","v":0}]
[{"$f":"Dati!C98","v":"00:00:00"},{"$f":"Dati!H98","v":"00:00:00"},{"$f":"IF(Dati!E98=\"EA1\",Dati!D98,)","v":0},{"$f":"IF(Dati!E98=\"EA2\",Dati!D98,)","v":0},{"$f":"IF(Dati!E98=\"EA3\",Dati!D98,)","v":0},{"$f":"IF(Dati!E98=\"EA4\",Dati!D98,)","v":0},{"$f":"IF(Dati!E98=\"EA5\",Dati!D98,)","v":0},{"$f":"IF(Dati!E98=\"EA6\",Dati!D98,)","v":0},{"$f":"IF(Dati!E98=\"EB1\",Dati!D98,)","v":0},{"$f":"IF(Dati!E98=\"EB2\",Dati!D98,)","v":0},{"$f":"IF(Dati!E98=\"EC1\",Dati!D98,)","v":0},{"$f":"IF(Dati!E98=\"ED1\",Dati!D98,)","v":0},{"$f":"IF(Dati!E98=\"EE1\",Dati!D98,)","v":0}]
[{"$f":"Dati!C99","v":"00:00:00"},{"$f":"Dati!H99","v":"00:00:00"},{"$f":"IF(Dati!E99=\"EA1\",Dati!D99,)","v":0},{"$f":"IF(Dati!E99=\"EA2\",Dati!D99,)","v":0},{"$f":"IF(Dati!E99=\"EA3\",Dati!D99,)","v":0},{"$f":"IF(Dati!E99=\"EA4\",Dati!D99,)","v":0},{"$f":"IF(Dati!E99=\"EA5\",Dati!D99,)","v":0},{"$f":"IF(Dati!E99=\"EA6\",Dati!D99,)","v":0},{"$f":"IF(Dati!E99=\"EB1\",Dati!D99,)","v":0},{"$f":"IF(Dati!E99=\"EB2\",Dati!D99,)","v":0},{"$f":"IF(Dati!E99=\"EC1\",Dati!D99,)","v":0},{"$f":"IF(Dati!E99=\"ED1\",Dati!D99,)","v":0},{"$f":"IF(Dati!E99=\"EE1\",Dati!D99,)","v":0}]
[{"$f":"Dati!C100","v":"00:00:00"},{"$f":"Dati!H100","v":"00:00:00"},{"$f":"IF(Dati!E100=\"EA1\",Dati!D100,)","v":0},{"$f":"IF(Dati!E100=\"EA2\",Dati!D100,)","v":0},{"$f":"IF(Dati!E100=\"EA3\",Dati!D100,)","v":0},{"$f":"IF(Dati!E100=\"EA4\",Dati!D100,)","v":0},{"$f":"IF(Dati!E100=\"EA5\",Dati!D100,)","v":0},{"$f":"IF(Dati!E100=\"EA6\",Dati!D100,)","v":0},{"$f":"IF(Dati!E100=\"EB1\",Dati!D100,)","v":0},{"$f":"IF(Dati!E100=\"EB2\",Dati!D100,)","v":0},{"$f":"IF(Dati!E100=\"EC1\",Dati!D100,)","v":0},{"$f":"IF(Dati!E100=\"ED1\",Dati!D100,)","v":0},{"$f":"IF(Dati!E100=\"EE1\",Dati!D100,)","v":0}]
[{"$f":"Dati!C101","v":"00:00:00"},{"$f":"Dati!H101","v":"00:00:00"},{"$f":"IF(Dati!E101=\"EA1\",Dati!D101,)","v":0},{"$f":"IF(Dati!E101=\"EA2\",Dati!D101,)","v":0},{"$f":"IF(Dati!E101=\"EA3\",Dati!D101,)","v":0},{"$f":"IF(Dati!E101=\"EA4\",Dati!D101,)","v":0},{"$f":"IF(Dati!E101=\"EA5\",Dati!D101,)","v":0},{"$f":"IF(Dati!E101=\"EA6\",Dati!D101,)","v":0},{"$f":"IF(Dati!E101=\"EB1\",Dati!D101,)","v":0},{"$f":"IF(Dati!E101=\"EB2\",Dati!D101,)","v":0},{"$f":"IF(Dati!E101=\"EC1\",Dati!D101,)","v":0},{"$f":"IF(Dati!E101=\"ED1\",Dati!D101,)","v":0},{"$f":"IF(Dati!E101=\"EE1\",Dati!D101,)","v":0}]
[{"$f":"Dati!C102","v":"00:00:00"},{"$f":"Dati!H102","v":"00:00:00"},{"$f":"IF(Dati!E102=\"EA1\",Dati!D102,)","v":0},{"$f":"IF(Dati!E102=\"EA2\",Dati!D102,)","v":0},{"$f":"IF(Dati!E102=\"EA3\",Dati!D102,)","v":0},{"$f":"IF(Dati!E102=\"EA4\",Dati!D102,)","v":0},{"$f":"IF(Dati!E102=\"EA5\",Dati!D102,)","v":0},{"$f":"IF(Dati!E102=\"EA6\",Dati!D102,)","v":0},{"$f":"IF(Dati!E102=\"EB1\",Dati!D102,)","v":0},{"$f":"IF(Dati!E102=\"EB2\",Dati!D102,)","v":0},{"$f":"IF(Dati!E102=\"EC1\",Dati!D102,)","v":0},{"$f":"IF(Dati!E102=\"ED1\",Dati!D102,)","v":0},{"$f":"IF(Dati!E102=\"EE1\",Dati!D102,)","v":0}]
[{"$f":"Dati!C103","v":"00:00:00"},{"$f":"Dati!H103","v":"00:00:00"},{"$f":"IF(Dati!E103=\"EA1\",Dati!D103,)","v":0},{"$f":"IF(Dati!E103=\"EA2\",Dati!D103,)","v":0},{"$f":"IF(Dati!E103=\"EA3\",Dati!D103,)","v":0},{"$f":"IF(Dati!E103=\"EA4\",Dati!D103,)","v":0},{"$f":"IF(Dati!E103=\"EA5\",Dati!D103,)","v":0},{"$f":"IF(Dati!E103=\"EA6\",Dati!D103,)","v":0},{"$f":"IF(Dati!E103=\"EB1\",Dati!D103,)","v":0},{"$f":"IF(Dati!E103=\"EB2\",Dati!D103,)","v":0},{"$f":"IF(Dati!E103=\"EC1\",Dati!D103,)","v":0},{"$f":"IF(Dati!E103=\"ED1\",Dati!D103,)","v":0},{"$f":"IF(Dati!E103=\"EE1\",Dati!D103,)","v":0}]
[{"$f":"Dati!C104","v":"00:00:00"},{"$f":"Dati!H104","v":"00:00:00"},{"$f":"IF(Dati!E104=\"EA1\",Dati!D104,)","v":0},{"$f":"IF(Dati!E104=\"EA2\",Dati!D104,)","v":0},{"$f":"IF(Dati!E104=\"EA3\",Dati!D104,)","v":0},{"$f":"IF(Dati!E104=\"EA4\",Dati!D104,)","v":0},{"$f":"IF(Dati!E104=\"EA5\",Dati!D104,)","v":0},{"$f":"IF(Dati!E104=\"EA6\",Dati!D104,)","v":0},{"$f":"IF(Dati!E104=\"EB1\",Dati!D104,)","v":0},{"$f":"IF(Dati!E104=\"EB2\",Dati!D104,)","v":0},{"$f":"IF(Dati!E104=\"EC1\",Dati!D104,)","v":0},{"$f":"IF(Dati!E104=\"ED1\",Dati!D104,)","v":0},{"$f":"IF(Dati!E104=\"EE1\",Dati!D104,)","v":0}]
[{"$f":"Dati!C105","v":"00:00:00"},{"$f":"Dati!H105","v":"00:00:00"},{"$f":"IF(Dati!E105=\"EA1\",Dati!D105,)","v":0},{"$f":"IF(Dati!E105=\"EA2\",Dati!D105,)","v":0},{"$f":"IF(Dati!E105=\"EA3\",Dati!D105,)","v":0},{"$f":"IF(Dati!E105=\"EA4\",Dati!D105,)","v":0},{"$f":"IF(Dati!E105=\"EA5\",Dati!D105,)","v":0},{"$f":"IF(Dati!E105=\"EA6\",Dati!D105,)","v":0},{"$f":"IF(Dati!E105=\"EB1\",Dati!D105,)","v":0},{"$f":"IF(Dati!E105=\"EB2\",Dati!D105,)","v":0},{"$f":"IF(Dati!E105=\"EC1\",Dati!D105,)","v":0},{"$f":"IF(Dati!E105=\"ED1\",Dati!D105,)","v":0},{"$f":"IF(Dati!E105=\"EE1\",Dati!D105,)","v":0}]
[{"$f":"Dati!C106","v":"00:00:00"},{"$f":"Dati!H106","v":"00:00:00"},{"$f":"IF(Dati!E106=\"EA1\",Dati!D106,)","v":0},{"$f":"IF(Dati!E106=\"EA2\",Dati!D106,)","v":0},{"$f":"IF(Dati!E106=\"EA3\",Dati!D106,)","v":0},{"$f":"IF(Dati!E106=\"EA4\",Dati!D106,)","v":0},{"$f":"IF(Dati!E106=\"EA5\",Dati!D106,)","v":0},{"$f":"IF(Dati!E106=\"EA6\",Dati!D106,)","v":0},{"$f":"IF(Dati!E106=\"EB1\",Dati!D106,)","v":0},{"$f":"IF(Dati!E106=\"EB2\",Dati!D106,)","v":0},{"$f":"IF(Dati!E106=\"EC1\",Dati!D106,)","v":0},{"$f":"IF(Dati!E106=\"ED1\",Dati!D106,)","v":0},{"$f":"IF(Dati!E106=\"EE1\",Dati!D106,)","v":0}]
[{"$f":"Dati!C107","v":"00:00:00"},{"$f":"Dati!H107","v":"00:00:00"},{"$f":"IF(Dati!E107=\"EA1\",Dati!D107,)","v":0},{"$f":"IF(Dati!E107=\"EA2\",Dati!D107,)","v":0},{"$f":"IF(Dati!E107=\"EA3\",Dati!D107,)","v":0},{"$f":"IF(Dati!E107=\"EA4\",Dati!D107,)","v":0},{"$f":"IF(Dati!E107=\"EA5\",Dati!D107,)","v":0},{"$f":"IF(Dati!E107=\"EA6\",Dati!D107,)","v":0},{"$f":"IF(Dati!E107=\"EB1\",Dati!D107,)","v":0},{"$f":"IF(Dati!E107=\"EB2\",Dati!D107,)","v":0},{"$f":"IF(Dati!E107=\"EC1\",Dati!D107,)","v":0},{"$f":"IF(Dati!E107=\"ED1\",Dati!D107,)","v":0},{"$f":"IF(Dati!E107=\"EE1\",Dati!D107,)","v":0}]
[{"$f":"Dati!C108","v":"00:00:00"},{"$f":"Dati!H108","v":"00:00:00"},{"$f":"IF(Dati!E108=\"EA1\",Dati!D108,)","v":0},{"$f":"IF(Dati!E108=\"EA2\",Dati!D108,)","v":0},{"$f":"IF(Dati!E108=\"EA3\",Dati!D108,)","v":0},{"$f":"IF(Dati!E108=\"EA4\",Dati!D108,)","v":0},{"$f":"IF(Dati!E108=\"EA5\",Dati!D108,)","v":0},{"$f":"IF(Dati!E108=\"EA6\",Dati!D108,)","v":0},{"$f":"IF(Dati!E108=\"EB1\",Dati!D108,)","v":0},{"$f":"IF(Dati!E108=\"EB2\",Dati!D108,)","v":0},{"$f":"IF(Dati!E108=\"EC1\",Dati!D108,)","v":0},{"$f":"IF(Dati!E108=\"ED1\",Dati!D108,)","v":0},{"$f":"IF(Dati!E108=\"EE1\",Dati!D108,)","v":0}]
[{"$f":"Dati!C109","v":"00:00:00"},{"$f":"Dati!H109","v":"00:00:00"},{"$f":"IF(Dati!E109=\"EA1\",Dati!D109,)","v":0},{"$f":"IF(Dati!E109=\"EA2\",Dati!D109,)","v":0},{"$f":"IF(Dati!E109=\"EA3\",Dati!D109,)","v":0},{"$f":"IF(Dati!E109=\"EA4\",Dati!D109,)","v":0},{"$f":"IF(Dati!E109=\"EA5\",Dati!D109,)","v":0},{"$f":"IF(Dati!E109=\"EA6\",Dati!D109,)","v":0},{"$f":"IF(Dati!E109=\"EB1\",Dati!D109,)","v":0},{"$f":"IF(Dati!E109=\"EB2\",Dati!D109,)","v":0},{"$f":"IF(Dati!E109=\"EC1\",Dati!D109,)","v":0},{"$f":"IF(Dati!E109=\"ED1\",Dati!D109,)","v":0},{"$f":"IF(Dati!E109=\"EE1\",Dati!D109,)","v":0}]
[{"$f":"Dati!C110","v":"00:00:00"},{"$f":"Dati!H110","v":"00:00:00"},{"$f":"IF(Dati!E110=\"EA1\",Dati!D110,)","v":0},{"$f":"IF(Dati!E110=\"EA2\",Dati!D110,)","v":0},{"$f":"IF(Dati!E110=\"EA3\",Dati!D110,)","v":0},{"$f":"IF(Dati!E110=\"EA4\",Dati!D110,)","v":0},{"$f":"IF(Dati!E110=\"EA5\",Dati!D110,)","v":0},{"$f":"IF(Dati!E110=\"EA6\",Dati!D110,)","v":0},{"$f":"IF(Dati!E110=\"EB1\",Dati!D110,)","v":0},{"$f":"IF(Dati!E110=\"EB2\",Dati!D110,)","v":0},{"$f":"IF(Dati!E110=\"EC1\",Dati!D110,)","v":0},{"$f":"IF(Dati!E110=\"ED1\",Dati!D110,)","v":0},{"$f":"IF(Dati!E110=\"EE1\",Dati!D110,)","v":0}]
[{"$f":"Dati!C111","v":"00:00:00"},{"$f":"Dati!H111","v":"00:00:00"},{"$f":"IF(Dati!E111=\"EA1\",Dati!D111,)","v":0},{"$f":"IF(Dati!E111=\"EA2\",Dati!D111,)","v":0},{"$f":"IF(Dati!E111=\"EA3\",Dati!D111,)","v":0},{"$f":"IF(Dati!E111=\"EA4\",Dati!D111,)","v":0},{"$f":"IF(Dati!E111=\"EA5\",Dati!D111,)","v":0},{"$f":"IF(Dati!E111=\"EA6\",Dati!D111,)","v":0},{"$f":"IF(Dati!E111=\"EB1\",Dati!D111,)","v":0},{"$f":"IF(Dati!E111=\"EB2\",Dati!D111,)","v":0},{"$f":"IF(Dati!E111=\"EC1\",Dati!D111,)","v":0},{"$f":"IF(Dati!E111=\"ED1\",Dati!D111,)","v":0},{"$f":"IF(Dati!E111=\"EE1\",Dati!D111,)","v":0}]
[{"$f":"Dati!C112","v":"00:00:00"},{"$f":"Dati!H112","v":"00:00:00"},{"$f":"IF(Dati!E112=\"EA1\",Dati!D112,)","v":0},{"$f":"IF(Dati!E112=\"EA2\",Dati!D112,)","v":0},{"$f":"IF(Dati!E112=\"EA3\",Dati!D112,)","v":0},{"$f":"IF(Dati!E112=\"EA4\",Dati!D112,)","v":0},{"$f":"IF(Dati!E112=\"EA5\",Dati!D112,)","v":0},{"$f":"IF(Dati!E112=\"EA6\",Dati!D112,)","v":0},{"$f":"IF(Dati!E112=\"EB1\",Dati!D112,)","v":0},{"$f":"IF(Dati!E112=\"EB2\",Dati!D112,)","v":0},{"$f":"IF(Dati!E112=\"EC1\",Dati!D112,)","v":0},{"$f":"IF(Dati!E112=\"ED1\",Dati!D112,)","v":0},{"$f":"IF(Dati!E112=\"EE1\",Dati!D112,)","v":0}]
[{"$f":"Dati!C113","v":"00:00:00"},{"$f":"Dati!H113","v":"00:00:00"},{"$f":"IF(Dati!E113=\"EA1\",Dati!D113,)","v":0},{"$f":"IF(Dati!E113=\"EA2\",Dati!D113,)","v":0},{"$f":"IF(Dati!E113=\"EA3\",Dati!D113,)","v":0},{"$f":"IF(Dati!E113=\"EA4\",Dati!D113,)","v":0},{"$f":"IF(Dati!E113=\"EA5\",Dati!D113,)","v":0},{"$f":"IF(Dati!E113=\"EA6\",Dati!D113,)","v":0},{"$f":"IF(Dati!E113=\"EB1\",Dati!D113,)","v":0},{"$f":"IF(Dati!E113=\"EB2\",Dati!D113,)","v":0},{"$f":"IF(Dati!E113=\"EC1\",Dati!D113,)","v":0},{"$f":"IF(Dati!E113=\"ED1\",Dati!D113,)","v":0},{"$f":"IF(Dati!E113=\"EE1\",Dati!D113,)","v":0}]
[{"$f":"Dati!C114","v":"00:00:00"},{"$f":"Dati!H114","v":"00:00:00"},{"$f":"IF(Dati!E114=\"EA1\",Dati!D114,)","v":0},{"$f":"IF(Dati!E114=\"EA2\",Dati!D114,)","v":0},{"$f":"IF(Dati!E114=\"EA3\",Dati!D114,)","v":0},{"$f":"IF(Dati!E114=\"EA4\",Dati!D114,)","v":0},{"$f":"IF(Dati!E114=\"EA5\",Dati!D114,)","v":0},{"$f":"IF(Dati!E114=\"EA6\",Dati!D114,)","v":0},{"$f":"IF(Dati!E114=\"EB1\",Dati!D114,)","v":0},{"$f":"IF(Dati!E114=\"EB2\",Dati!D114,)","v":0},{"$f":"IF(Dati!E114=\"EC1\",Dati!D114,)","v":0},{"$f":"IF(Dati!E114=\"ED1\",Dati!D114,)","v":0},{"$f":"IF(Dati!E114=\"EE1\",Dati!D114,)","v":0}]
[{"$f":"Dati!C115","v":"00:00:00"},{"$f":"Dati!H115","v":"00:00:00"},{"$f":"IF(Dati!E115=\"EA1\",Dati!D115,)","v":0},{"$f":"IF(Dati!E115=\"EA2\",Dati!D115,)","v":0},{"$f":"IF(Dati!E115=\"EA3\",Dati!D115,)","v":0},{"$f":"IF(Dati!E115=\"EA4\",Dati!D115,)","v":0},{"$f":"IF(Dati!E115=\"EA5\",Dati!D115,)","v":0},{"$f":"IF(Dati!E115=\"EA6\",Dati!D115,)","v":0},{"$f":"IF(Dati!E115=\"EB1\",Dati!D115,)","v":0},{"$f":"IF(Dati!E115=\"EB2\",Dati!D115,)","v":0},{"$f":"IF(Dati!E115=\"EC1\",Dati!D115,)","v":0},{"$f":"IF(Dati!E115=\"ED1\",Dati!D115,)","v":0},{"$f":"IF(Dati!E115=\"EE1\",Dati!D115,)","v":0}]
[{"$f":"Dati!C116","v":"00:00:00"},{"$f":"Dati!H116","v":"00:00:00"},{"$f":"IF(Dati!E116=\"EA1\",Dati!D116,)","v":0},{"$f":"IF(Dati!E116=\"EA2\",Dati!D116,)","v":0},{"$f":"IF(Dati!E116=\"EA3\",Dati!D116,)","v":0},{"$f":"IF(Dati!E116=\"EA4\",Dati!D116,)","v":0},{"$f":"IF(Dati!E116=\"EA5\",Dati!D116,)","v":0},{"$f":"IF(Dati!E116=\"EA6\",Dati!D116,)","v":0},{"$f":"IF(Dati!E116=\"EB1\",Dati!D116,)","v":0},{"$f":"IF(Dati!E116=\"EB2\",Dati!D116,)","v":0},{"$f":"IF(Dati!E116=\"EC1\",Dati!D116,)","v":0},{"$f":"IF(Dati!E116=\"ED1\",Dati!D116,)","v":0},{"$f":"IF(Dati!E116=\"EE1\",Dati!D116,)","v":0}]
[{"$f":"Dati!C117","v":"00:00:00"},{"$f":"Dati!H117","v":"00:00:00"},{"$f":"IF(Dati!E117=\"EA1\",Dati!D117,)","v":0},{"$f":"IF(Dati!E117=\"EA2\",Dati!D117,)","v":0},{"$f":"IF(Dati!E117=\"EA3\",Dati!D117,)","v":0},{"$f":"IF(Dati!E117=\"EA4\",Dati!D117,)","v":0},{"$f":"IF(Dati!E117=\"EA5\",Dati!D117,)","v":0},{"$f":"IF(Dati!E117=\"EA6\",Dati!D117,)","v":0},{"$f":"IF(Dati!E117=\"EB1\",Dati!D117,)","v":0},{"$f":"IF(Dati!E117=\"EB2\",Dati!D117,)","v":0},{"$f":"IF(Dati!E117=\"EC1\",Dati!D117,)","v":0},{"$f":"IF(Dati!E117=\"ED1\",Dati!D117,)","v":0},{"$f":"IF(Dati!E117=\"EE1\",Dati!D117,)","v":0}]
[{"$f":"Dati!C118","v":"00:00:00"},{"$f":"Dati!H118","v":"00:00:00"},{"$f":"IF(Dati!E118=\"EA1\",Dati!D118,)","v":0},{"$f":"IF(Dati!E118=\"EA2\",Dati!D118,)","v":0},{"$f":"IF(Dati!E118=\"EA3\",Dati!D118,)","v":0},{"$f":"IF(Dati!E118=\"EA4\",Dati!D118,)","v":0},{"$f":"IF(Dati!E118=\"EA5\",Dati!D118,)","v":0},{"$f":"IF(Dati!E118=\"EA6\",Dati!D118,)","v":0},{"$f":"IF(Dati!E118=\"EB1\",Dati!D118,)","v":0},{"$f":"IF(Dati!E118=\"EB2\",Dati!D118,)","v":0},{"$f":"IF(Dati!E118=\"EC1\",Dati!D118,)","v":0},{"$f":"IF(Dati!E118=\"ED1\",Dati!D118,)","v":0},{"$f":"IF(Dati!E118=\"EE1\",Dati!D118,)","v":0}]
[{"$f":"Dati!C119","v":"00:00:00"},{"$f":"Dati!H119","v":"00:00:00"},{"$f":"IF(Dati!E119=\"EA1\",Dati!D119,)","v":0},{"$f":"IF(Dati!E119=\"EA2\",Dati!D119,)","v":0},{"$f":"IF(Dati!E119=\"EA3\",Dati!D119,)","v":0},{"$f":"IF(Dati!E119=\"EA4\",Dati!D119,)","v":0},{"$f":"IF(Dati!E119=\"EA5\",Dati!D119,)","v":0},{"$f":"IF(Dati!E119=\"EA6\",Dati!D119,)","v":0},{"$f":"IF(Dati!E119=\"EB1\",Dati!D119,)","v":0},{"$f":"IF(Dati!E119=\"EB2\",Dati!D119,)","v":0},{"$f":"IF(Dati!E119=\"EC1\",Dati!D119,)","v":0},{"$f":"IF(Dati!E119=\"ED1\",Dati!D119,)","v":0},{"$f":"IF(Dati!E119=\"EE1\",Dati!D119,)","v":0}]
[{"$f":"Dati!C120","v":"00:00:00"},{"$f":"Dati!H120","v":"00:00:00"},{"$f":"IF(Dati!E120=\"EA1\",Dati!D120,)","v":0},{"$f":"IF(Dati!E120=\"EA2\",Dati!D120,)","v":0},{"$f":"IF(Dati!E120=\"EA3\",Dati!D120,)","v":0},{"$f":"IF(Dati!E120=\"EA4\",Dati!D120,)","v":0},{"$f":"IF(Dati!E120=\"EA5\",Dati!D120,)","v":0},{"$f":"IF(Dati!E120=\"EA6\",Dati!D120,)","v":0},{"$f":"IF(Dati!E120=\"EB1\",Dati!D120,)","v":0},{"$f":"IF(Dati!E120=\"EB2\",Dati!D120,)","v":0},{"$f":"IF(Dati!E120=\"EC1\",Dati!D120,)","v":0},{"$f":"IF(Dati!E120=\"ED1\",Dati!D120,)","v":0},{"$f":"IF(Dati!E120=\"EE1\",Dati!D120,)","v":0}]
[{"$f":"Dati!C121","v":"00:00:00"},{"$f":"Dati!H121","v":"00:00:00"},{"$f":"IF(Dati!E121=\"EA1\",Dati!D121,)","v":0},{"$f":"IF(Dati!E121=\"EA2\",Dati!D121,)","v":0},{"$f":"IF(Dati!E121=\"EA3\",Dati!D121,)","v":0},{"$f":"IF(Dati!E121=\"EA4\",Dati!D121,)","v":0},{"$f":"IF(Dati!E121=\"EA5\",Dati!D121,)","v":0},{"$f":"IF(Dati!E121=\"EA6\",Dati!D121,)","v":0},{"$f":"IF(Dati!E121=\"EB1\",Dati!D121,)","v":0},{"$f":"IF(Dati!E121=\"EB2\",Dati!D121,)","v":0},{"$f":"IF(Dati!E121=\"EC1\",Dati!D121,)","v":0},{"$f":"IF(Dati!E121=\"ED1\",Dati!D121,)","v":0},{"$f":"IF(Dati!E121=\"EE1\",Dati!D121,)","v":0}]
[{"$f":"Dati!C122","v":"00:00:00"},{"$f":"Dati!H122","v":"00:00:00"},{"$f":"IF(Dati!E122=\"EA1\",Dati!D122,)","v":0},{"$f":"IF(Dati!E122=\"EA2\",Dati!D122,)","v":0},{"$f":"IF(Dati!E122=\"EA3\",Dati!D122,)","v":0},{"$f":"IF(Dati!E122=\"EA4\",Dati!D122,)","v":0},{"$f":"IF(Dati!E122=\"EA5\",Dati!D122,)","v":0},{"$f":"IF(Dati!E122=\"EA6\",Dati!D122,)","v":0},{"$f":"IF(Dati!E122=\"EB1\",Dati!D122,)","v":0},{"$f":"IF(Dati!E122=\"EB2\",Dati!D122,)","v":0},{"$f":"IF(Dati!E122=\"EC1\",Dati!D122,)","v":0},{"$f":"IF(Dati!E122=\"ED1\",Dati!D122,)","v":0},{"$f":"IF(Dati!E122=\"EE1\",Dati!D122,)","v":0}]
[{"$f":"Dati!C123","v":"00:00:00"},{"$f":"Dati!H123","v":"00:00:00"},{"$f":"IF(Dati!E123=\"EA1\",Dati!D123,)","v":0},{"$f":"IF(Dati!E123=\"EA2\",Dati!D123,)","v":0},{"$f":"IF(Dati!E123=\"EA3\",Dati!D123,)","v":0},{"$f":"IF(Dati!E123=\"EA4\",Dati!D123,)","v":0},{"$f":"IF(Dati!E123=\"EA5\",Dati!D123,)","v":0},{"$f":"IF(Dati!E123=\"EA6\",Dati!D123,)","v":0},{"$f":"IF(Dati!E123=\"EB1\",Dati!D123,)","v":0},{"$f":"IF(Dati!E123=\"EB2\",Dati!D123,)","v":0},{"$f":"IF(Dati!E123=\"EC1\",Dati!D123,)","v":0},{"$f":"IF(Dati!E123=\"ED1\",Dati!D123,)","v":0},{"$f":"IF(Dati!E123=\"EE1\",Dati!D123,)","v":0}]
[{"$f":"Dati!C124","v":"00:00:00"},{"$f":"Dati!H124","v":"00:00:00"},{"$f":"IF(Dati!E124=\"EA1\",Dati!D124,)","v":0},{"$f":"IF(Dati!E124=\"EA2\",Dati!D124,)","v":0},{"$f":"IF(Dati!E124=\"EA3\",Dati!D124,)","v":0},{"$f":"IF(Dati!E124=\"EA4\",Dati!D124,)","v":0},{"$f":"IF(Dati!E124=\"EA5\",Dati!D124,)","v":0},{"$f":"IF(Dati!E124=\"EA6\",Dati!D124,)","v":0},{"$f":"IF(Dati!E124=\"EB1\",Dati!D124,)","v":0},{"$f":"IF(Dati!E124=\"EB2\",Dati!D124,)","v":0},{"$f":"IF(Dati!E124=\"EC1\",Dati!D124,)","v":0},{"$f":"IF(Dati!E124=\"ED1\",Dati!D124,)","v":0},{"$f":"IF(Dati!E124=\"EE1\",Dati!D124,)","v":0}]
[{"$f":"Dati!C125","v":"00:00:00"},{"$f":"Dati!H125","v":"00:00:00"},{"$f":"IF(Dati!E125=\"EA1\",Dati!D125,)","v":0},{"$f":"IF(Dati!E125=\"EA2\",Dati!D125,)","v":0},{"$f":"IF(Dati!E125=\"EA3\",Dati!D125,)","v":0},{"$f":"IF(Dati!E125=\"EA4\",Dati!D125,)","v":0},{"$f":"IF(Dati!E125=\"EA5\",Dati!D125,)","v":0},{"$f":"IF(Dati!E125=\"EA6\",Dati!D125,)","v":0},{"$f":"IF(Dati!E125=\"EB1\",Dati!D125,)","v":0},{"$f":"IF(Dati!E125=\"EB2\",Dati!D125,)","v":0},{"$f":"IF(Dati!E125=\"EC1\",Dati!D125,)","v":0},{"$f":"IF(Dati!E125=\"ED1\",Dati!D125,)","v":0},{"$f":"IF(Dati!E125=\"EE1\",Dati!D125,)","v":0}]
[{"$f":"Dati!C126","v":"00:00:00"},{"$f":"Dati!H126","v":"00:00:00"},{"$f":"IF(Dati!E126=\"EA1\",Dati!D126,)","v":0},{"$f":"IF(Dati!E126=\"EA2\",Dati!D126,)","v":0},{"$f":"IF(Dati!E126=\"EA3\",Dati!D126,)","v":0},{"$f":"IF(Dati!E126=\"EA4\",Dati!D126,)","v":0},{"$f":"IF(Dati!E126=\"EA5\",Dati!D126,)","v":0},{"$f":"IF(Dati!E126=\"EA6\",Dati!D126,)","v":0},{"$f":"IF(Dati!E126=\"EB1\",Dati!D126,)","v":0},{"$f":"IF(Dati!E126=\"EB2\",Dati!D126,)","v":0},{"$f":"IF(Dati!E126=\"EC1\",Dati!D126,)","v":0},{"$f":"IF(Dati!E126=\"ED1\",Dati!D126,)","v":0},{"$f":"IF(Dati!E126=\"EE1\",Dati!D126,)","v":0}]
[{"$f":"Dati!C127","v":"00:00:00"},{"$f":"Dati!H127","v":"00:00:00"},{"$f":"IF(Dati!E127=\"EA1\",Dati!D127,)","v":0},{"$f":"IF(Dati!E127=\"EA2\",Dati!D127,)","v":0},{"$f":"IF(Dati!E127=\"EA3\",Dati!D127,)","v":0},{"$f":"IF(Dati!E127=\"EA4\",Dati!D127,)","v":0},{"$f":"IF(Dati!E127=\"EA5\",Dati!D127,)","v":0},{"$f":"IF(Dati!E127=\"EA6\",Dati!D127,)","v":0},{"$f":"IF(Dati!E127=\"EB1\",Dati!D127,)","v":0},{"$f":"IF(Dati!E127=\"EB2\",Dati!D127,)","v":0},{"$f":"IF(Dati!E127=\"EC1\",Dati!D127,)","v":0},{"$f":"IF(Dati!E127=\"ED1\",Dati!D127,)","v":0},{"$f":"IF(Dati!E127=\"EE1\",Dati!D127,)","v":0}]
[{"$f":"Dati!C128","v":"00:00:00"},{"$f":"Dati!H128","v":"00:00:00"},{"$f":"IF(Dati!E128=\"EA1\",Dati!D128,)","v":0},{"$f":"IF(Dati!E128=\"EA2\",Dati!D128,)","v":0},{"$f":"IF(Dati!E128=\"EA3\",Dati!D128,)","v":0},{"$f":"IF(Dati!E128=\"EA4\",Dati!D128,)","v":0},{"$f":"IF(Dati!E128=\"EA5\",Dati!D128,)","v":0},{"$f":"IF(Dati!E128=\"EA6\",Dati!D128,)","v":0},{"$f":"IF(Dati!E128=\"EB1\",Dati!D128,)","v":0},{"$f":"IF(Dati!E128=\"EB2\",Dati!D128,)","v":0},{"$f":"IF(Dati!E128=\"EC1\",Dati!D128,)","v":0},{"$f":"IF(Dati!E128=\"ED1\",Dati!D128,)","v":0},{"$f":"IF(Dati!E128=\"EE1\",Dati!D128,)","v":0}]
[{"$f":"Dati!C129","v":"00:00:00"},{"$f":"Dati!H129","v":"00:00:00"},{"$f":"IF(Dati!E129=\"EA1\",Dati!D129,)","v":0},{"$f":"IF(Dati!E129=\"EA2\",Dati!D129,)","v":0},{"$f":"IF(Dati!E129=\"EA3\",Dati!D129,)","v":0},{"$f":"IF(Dati!E129=\"EA4\",Dati!D129,)","v":0},{"$f":"IF(Dati!E129=\"EA5\",Dati!D129,)","v":0},{"$f":"IF(Dati!E129=\"EA6\",Dati!D129,)","v":0},{"$f":"IF(Dati!E129=\"EB1\",Dati!D129,)","v":0},{"$f":"IF(Dati!E129=\"EB2\",Dati!D129,)","v":0},{"$f":"IF(Dati!E129=\"EC1\",Dati!D129,)","v":0},{"$f":"IF(Dati!E129=\"ED1\",Dati!D129,)","v":0},{"$f":"IF(Dati!E129=\"EE1\",Dati!D129,)","v":0}]
[{"$f":"Dati!C130","v":"00:00:00"},{"$f":"Dati!H130","v":"00:00:00"},{"$f":"IF(Dati!E130=\"EA1\",Dati!D130,)","v":0},{"$f":"IF(Dati!E130=\"EA2\",Dati!D130,)","v":0},{"$f":"IF(Dati!E130=\"EA3\",Dati!D130,)","v":0},{"$f":"IF(Dati!E130=\"EA4\",Dati!D130,)","v":0},{"$f":"IF(Dati!E130=\"EA5\",Dati!D130,)","v":0},{"$f":"IF(Dati!E130=\"EA6\",Dati!D130,)","v":0},{"$f":"IF(Dati!E130=\"EB1\",Dati!D130,)","v":0},{"$f":"IF(Dati!E130=\"EB2\",Dati!D130,)","v":0},{"$f":"IF(Dati!E130=\"EC1\",Dati!D130,)","v":0},{"$f":"IF(Dati!E130=\"ED1\",Dati!D130,)","v":0},{"$f":"IF(Dati!E130=\"EE1\",Dati!D130,)","v":0}]
[{"$f":"Dati!C131","v":"00:00:00"},{"$f":"Dati!H131","v":"00:00:00"},{"$f":"IF(Dati!E131=\"EA1\",Dati!D131,)","v":0},{"$f":"IF(Dati!E131=\"EA2\",Dati!D131,)","v":0},{"$f":"IF(Dati!E131=\"EA3\",Dati!D131,)","v":0},{"$f":"IF(Dati!E131=\"EA4\",Dati!D131,)","v":0},{"$f":"IF(Dati!E131=\"EA5\",Dati!D131,)","v":0},{"$f":"IF(Dati!E131=\"EA6\",Dati!D131,)","v":0},{"$f":"IF(Dati!E131=\"EB1\",Dati!D131,)","v":0},{"$f":"IF(Dati!E131=\"EB2\",Dati!D131,)","v":0},{"$f":"IF(Dati!E131=\"EC1\",Dati!D131,)","v":0},{"$f":"IF(Dati!E131=\"ED1\",Dati!D131,)","v":0},{"$f":"IF(Dati!E131=\"EE1\",Dati!D131,)","v":0}]
[{"$f":"Dati!C132","v":"00:00:00"},{"$f":"Dati!H132","v":"00:00:00"},{"$f":"IF(Dati!E132=\"EA1\",Dati!D132,)","v":0},{"$f":"IF(Dati!E132=\"EA2\",Dati!D132,)","v":0},{"$f":"IF(Dati!E132=\"EA3\",Dati!D132,)","v":0},{"$f":"IF(Dati!E132=\"EA4\",Dati!D132,)","v":0},{"$f":"IF(Dati!E132=\"EA5\",Dati!D132,)","v":0},{"$f":"IF(Dati!E132=\"EA6\",Dati!D132,)","v":0},{"$f":"IF(Dati!E132=\"EB1\",Dati!D132,)","v":0},{"$f":"IF(Dati!E132=\"EB2\",Dati!D132,)","v":0},{"$f":"IF(Dati!E132=\"EC1\",Dati!D132,)","v":0},{"$f":"IF(Dati!E132=\"ED1\",Dati!D132,)","v":0},{"$f":"IF(Dati!E132=\"EE1\",Dati!D132,)","v":0}]
[{"$f":"Dati!C133","v":"00:00:00"},{"$f":"Dati!H133","v":"00:00:00"},{"$f":"IF(Dati!E133=\"EA1\",Dati!D133,)","v":0},{"$f":"IF(Dati!E133=\"EA2\",Dati!D133,)","v":0},{"$f":"IF(Dati!E133=\"EA3\",Dati!D133,)","v":0},{"$f":"IF(Dati!E133=\"EA4\",Dati!D133,)","v":0},{"$f":"IF(Dati!E133=\"EA5\",Dati!D133,)","v":0},{"$f":"IF(Dati!E133=\"EA6\",Dati!D133,)","v":0},{"$f":"IF(Dati!E133=\"EB1\",Dati!D133,)","v":0},{"$f":"IF(Dati!E133=\"EB2\",Dati!D133,)","v":0},{"$f":"IF(Dati!E133=\"EC1\",Dati!D133,)","v":0},{"$f":"IF(Dati!E133=\"ED1\",Dati!D133,)","v":0},{"$f":"IF(Dati!E133=\"EE1\",Dati!D133,)","v":0}]
[{"$f":"Dati!C134","v":"00:00:00"},{"$f":"Dati!H134","v":"00:00:00"},{"$f":"IF(Dati!E134=\"EA1\",Dati!D134,)","v":0},{"$f":"IF(Dati!E134=\"EA2\",Dati!D134,)","v":0},{"$f":"IF(Dati!E134=\"EA3\",Dati!D134,)","v":0},{"$f":"IF(Dati!E134=\"EA4\",Dati!D134,)","v":0},{"$f":"IF(Dati!E134=\"EA5\",Dati!D134,)","v":0},{"$f":"IF(Dati!E134=\"EA6\",Dati!D134,)","v":0},{"$f":"IF(Dati!E134=\"EB1\",Dati!D134,)","v":0},{"$f":"IF(Dati!E134=\"EB2\",Dati!D134,)","v":0},{"$f":"IF(Dati!E134=\"EC1\",Dati!D134,)","v":0},{"$f":"IF(Dati!E134=\"ED1\",Dati!D134,)","v":0},{"$f":"IF(Dati!E134=\"EE1\",Dati!D134,)","v":0}]
[{"$f":"Dati!C135","v":"00:00:00"},{"$f":"Dati!H135","v":"00:00:00"},{"$f":"IF(Dati!E135=\"EA1\",Dati!D135,)","v":0},{"$f":"IF(Dati!E135=\"EA2\",Dati!D135,)","v":0},{"$f":"IF(Dati!E135=\"EA3\",Dati!D135,)","v":0},{"$f":"IF(Dati!E135=\"EA4\",Dati!D135,)","v":0},{"$f":"IF(Dati!E135=\"EA5\",Dati!D135,)","v":0},{"$f":"IF(Dati!E135=\"EA6\",Dati!D135,)","v":0},{"$f":"IF(Dati!E135=\"EB1\",Dati!D135,)","v":0},{"$f":"IF(Dati!E135=\"EB2\",Dati!D135,)","v":0},{"$f":"IF(Dati!E135=\"EC1\",Dati!D135,)","v":0},{"$f":"IF(Dati!E135=\"ED1\",Dati!D135,)","v":0},{"$f":"IF(Dati!E135=\"EE1\",Dati!D135,)","v":0}]
[{"$f":"Dati!C136","v":"00:00:00"},{"$f":"Dati!H136","v":"00:00:00"},{"$f":"IF(Dati!E136=\"EA1\",Dati!D136,)","v":0},{"$f":"IF(Dati!E136=\"EA2\",Dati!D136,)","v":0},{"$f":"IF(Dati!E136=\"EA3\",Dati!D136,)","v":0},{"$f":"IF(Dati!E136=\"EA4\",Dati!D136,)","v":0},{"$f":"IF(Dati!E136=\"EA5\",Dati!D136,)","v":0},{"$f":"IF(Dati!E136=\"EA6\",Dati!D136,)","v":0},{"$f":"IF(Dati!E136=\"EB1\",Dati!D136,)","v":0},{"$f":"IF(Dati!E136=\"EB2\",Dati!D136,)","v":0},{"$f":"IF(Dati!E136=\"EC1\",Dati!D136,)","v":0},{"$f":"IF(Dati!E136=\"ED1\",Dati!D136,)","v":0},{"$f":"IF(Dati!E136=\"EE1\",Dati!D136,)","v":0}]
[{"$f":"Dati!C137","v":"00:00:00"},{"$f":"Dati!H137","v":"00:00:00"},{"$f":"IF(Dati!E137=\"EA1\",Dati!D137,)","v":0},{"$f":"IF(Dati!E137=\"EA2\",Dati!D137,)","v":0},{"$f":"IF(Dati!E137=\"EA3\",Dati!D137,)","v":0},{"$f":"IF(Dati!E137=\"EA4\",Dati!D137,)","v":0},{"$f":"IF(Dati!E137=\"EA5\",Dati!D137,)","v":0},{"$f":"IF(Dati!E137=\"EA6\",Dati!D137,)","v":0},{"$f":"IF(Dati!E137=\"EB1\",Dati!D137,)","v":0},{"$f":"IF(Dati!E137=\"EB2\",Dati!D137,)","v":0},{"$f":"IF(Dati!E137=\"EC1\",Dati!D137,)","v":0},{"$f":"IF(Dati!E137=\"ED1\",Dati!D137,)","v":0},{"$f":"IF(Dati!E137=\"EE1\",Dati!D137,)","v":0}]
[{"$f":"Dati!C138","v":"00:00:00"},{"$f":"Dati!H138","v":"00:00:00"},{"$f":"IF(Dati!E138=\"EA1\",Dati!D138,)","v":0},{"$f":"IF(Dati!E138=\"EA2\",Dati!D138,)","v":0},{"$f":"IF(Dati!E138=\"EA3\",Dati!D138,)","v":0},{"$f":"IF(Dati!E138=\"EA4\",Dati!D138,)","v":0},{"$f":"IF(Dati!E138=\"EA5\",Dati!D138,)","v":0},{"$f":"IF(Dati!E138=\"EA6\",Dati!D138,)","v":0},{"$f":"IF(Dati!E138=\"EB1\",Dati!D138,)","v":0},{"$f":"IF(Dati!E138=\"EB2\",Dati!D138,)","v":0},{"$f":"IF(Dati!E138=\"EC1\",Dati!D138,)","v":0},{"$f":"IF(Dati!E138=\"ED1\",Dati!D138,)","v":0},{"$f":"IF(Dati!E138=\"EE1\",Dati!D138,)","v":0}]
[{"$f":"Dati!C139","v":"00:00:00"},{"$f":"Dati!H139","v":"00:00:00"},{"$f":"IF(Dati!E139=\"EA1\",Dati!D139,)","v":0},{"$f":"IF(Dati!E139=\"EA2\",Dati!D139,)","v":0},{"$f":"IF(Dati!E139=\"EA3\",Dati!D139,)","v":0},{"$f":"IF(Dati!E139=\"EA4\",Dati!D139,)","v":0},{"$f":"IF(Dati!E139=\"EA5\",Dati!D139,)","v":0},{"$f":"IF(Dati!E139=\"EA6\",Dati!D139,)","v":0},{"$f":"IF(Dati!E139=\"EB1\",Dati!D139,)","v":0},{"$f":"IF(Dati!E139=\"EB2\",Dati!D139,)","v":0},{"$f":"IF(Dati!E139=\"EC1\",Dati!D139,)","v":0},{"$f":"IF(Dati!E139=\"ED1\",Dati!D139,)","v":0},{"$f":"IF(Dati!E139=\"EE1\",Dati!D139,)","v":0}]
[{"$f":"Dati!C140","v":"00:00:00"},{"$f":"Dati!H140","v":"00:00:00"},{"$f":"IF(Dati!E140=\"EA1\",Dati!D140,)","v":0},{"$f":"IF(Dati!E140=\"EA2\",Dati!D140,)","v":0},{"$f":"IF(Dati!E140=\"EA3\",Dati!D140,)","v":0},{"$f":"IF(Dati!E140=\"EA4\",Dati!D140,)","v":0},{"$f":"IF(Dati!E140=\"EA5\",Dati!D140,)","v":0},{"$f":"IF(Dati!E140=\"EA6\",Dati!D140,)","v":0},{"$f":"IF(Dati!E140=\"EB1\",Dati!D140,)","v":0},{"$f":"IF(Dati!E140=\"EB2\",Dati!D140,)","v":0},{"$f":"IF(Dati!E140=\"EC1\",Dati!D140,)","v":0},{"$f":"IF(Dati!E140=\"ED1\",Dati!D140,)","v":0},{"$f":"IF(Dati!E140=\"EE1\",Dati!D140,)","v":0}]
[{"$f":"Dati!C141","v":"00:00:00"},{"$f":"Dati!H141","v":"00:00:00"},{"$f":"IF(Dati!E141=\"EA1\",Dati!D141,)","v":0},{"$f":"IF(Dati!E141=\"EA2\",Dati!D141,)","v":0},{"$f":"IF(Dati!E141=\"EA3\",Dati!D141,)","v":0},{"$f":"IF(Dati!E141=\"EA4\",Dati!D141,)","v":0},{"$f":"IF(Dati!E141=\"EA5\",Dati!D141,)","v":0},{"$f":"IF(Dati!E141=\"EA6\",Dati!D141,)","v":0},{"$f":"IF(Dati!E141=\"EB1\",Dati!D141,)","v":0},{"$f":"IF(Dati!E141=\"EB2\",Dati!D141,)","v":0},{"$f":"IF(Dati!E141=\"EC1\",Dati!D141,)","v":0},{"$f":"IF(Dati!E141=\"ED1\",Dati!D141,)","v":0},{"$f":"IF(Dati!E141=\"EE1\",Dati!D141,)","v":0}]
[{"$f":"Dati!C142","v":"00:00:00"},{"$f":"Dati!H142","v":"00:00:00"},{"$f":"IF(Dati!E142=\"EA1\",Dati!D142,)","v":0},{"$f":"IF(Dati!E142=\"EA2\",Dati!D142,)","v":0},{"$f":"IF(Dati!E142=\"EA3\",Dati!D142,)","v":0},{"$f":"IF(Dati!E142=\"EA4\",Dati!D142,)","v":0},{"$f":"IF(Dati!E142=\"EA5\",Dati!D142,)","v":0},{"$f":"IF(Dati!E142=\"EA6\",Dati!D142,)","v":0},{"$f":"IF(Dati!E142=\"EB1\",Dati!D142,)","v":0},{"$f":"IF(Dati!E142=\"EB2\",Dati!D142,)","v":0},{"$f":"IF(Dati!E142=\"EC1\",Dati!D142,)","v":0},{"$f":"IF(Dati!E142=\"ED1\",Dati!D142,)","v":0},{"$f":"IF(Dati!E142=\"EE1\",Dati!D142,)","v":0}]
[{"$f":"Dati!C143","v":"00:00:00"},{"$f":"Dati!H143","v":"00:00:00"},{"$f":"IF(Dati!E143=\"EA1\",Dati!D143,)","v":0},{"$f":"IF(Dati!E143=\"EA2\",Dati!D143,)","v":0},{"$f":"IF(Dati!E143=\"EA3\",Dati!D143,)","v":0},{"$f":"IF(Dati!E143=\"EA4\",Dati!D143,)","v":0},{"$f":"IF(Dati!E143=\"EA5\",Dati!D143,)","v":0},{"$f":"IF(Dati!E143=\"EA6\",Dati!D143,)","v":0},{"$f":"IF(Dati!E143=\"EB1\",Dati!D143,)","v":0},{"$f":"IF(Dati!E143=\"EB2\",Dati!D143,)","v":0},{"$f":"IF(Dati!E143=\"EC1\",Dati!D143,)","v":0},{"$f":"IF(Dati!E143=\"ED1\",Dati!D143,)","v":0},{"$f":"IF(Dati!E143=\"EE1\",Dati!D143,)","v":0}]
[{"$f":"Dati!C144","v":"00:00:00"},{"$f":"Dati!H144","v":"00:00:00"},{"$f":"IF(Dati!E144=\"EA1\",Dati!D144,)","v":0},{"$f":"IF(Dati!E144=\"EA2\",Dati!D144,)","v":0},{"$f":"IF(Dati!E144=\"EA3\",Dati!D144,)","v":0},{"$f":"IF(Dati!E144=\"EA4\",Dati!D144,)","v":0},{"$f":"IF(Dati!E144=\"EA5\",Dati!D144,)","v":0},{"$f":"IF(Dati!E144=\"EA6\",Dati!D144,)","v":0},{"$f":"IF(Dati!E144=\"EB1\",Dati!D144,)","v":0},{"$f":"IF(Dati!E144=\"EB2\",Dati!D144,)","v":0},{"$f":"IF(Dati!E144=\"EC1\",Dati!D144,)","v":0},{"$f":"IF(Dati!E144=\"ED1\",Dati!D144,)","v":0},{"$f":"IF(Dati!E144=\"EE1\",Dati!D144,)","v":0}]
[{"$f":"Dati!C145","v":"00:00:00"},{"$f":"Dati!H145","v":"00:00:00"},{"$f":"IF(Dati!E145=\"EA1\",Dati!D145,)","v":0},{"$f":"IF(Dati!E145=\"EA2\",Dati!D145,)","v":0},{"$f":"IF(Dati!E145=\"EA3\",Dati!D145,)","v":0},{"$f":"IF(Dati!E145=\"EA4\",Dati!D145,)","v":0},{"$f":"IF(Dati!E145=\"EA5\",Dati!D145,)","v":0},{"$f":"IF(Dati!E145=\"EA6\",Dati!D145,)","v":0},{"$f":"IF(Dati!E145=\"EB1\",Dati!D145,)","v":0},{"$f":"IF(Dati!E145=\"EB2\",Dati!D145,)","v":0},{"$f":"IF(Dati!E145=\"EC1\",Dati!D145,)","v":0},{"$f":"IF(Dati!E145=\"ED1\",Dati!D145,)","v":0},{"$f":"IF(Dati!E145=\"EE1\",Dati!D145,)","v":0}]
[{"$f":"Dati!C146","v":"00:00:00"},{"$f":"Dati!H146","v":"00:00:00"},{"$f":"IF(Dati!E146=\"EA1\",Dati!D146,)","v":0},{"$f":"IF(Dati!E146=\"EA2\",Dati!D146,)","v":0},{"$f":"IF(Dati!E146=\"EA3\",Dati!D146,)","v":0},{"$f":"IF(Dati!E146=\"EA4\",Dati!D146,)","v":0},{"$f":"IF(Dati!E146=\"EA5\",Dati!D146,)","v":0},{"$f":"IF(Dati!E146=\"EA6\",Dati!D146,)","v":0},{"$f":"IF(Dati!E146=\"EB1\",Dati!D146,)","v":0},{"$f":"IF(Dati!E146=\"EB2\",Dati!D146,)","v":0},{"$f":"IF(Dati!E146=\"EC1\",Dati!D146,)","v":0},{"$f":"IF(Dati!E146=\"ED1\",Dati!D146,)","v":0},{"$f":"IF(Dati!E146=\"EE1\",Dati!D146,)","v":0}]
[{"$f":"Dati!C147","v":"00:00:00"},{"$f":"Dati!H147","v":"00:00:00"},{"$f":"IF(Dati!E147=\"EA1\",Dati!D147,)","v":0},{"$f":"IF(Dati!E147=\"EA2\",Dati!D147,)","v":0},{"$f":"IF(Dati!E147=\"EA3\",Dati!D147,)","v":0},{"$f":"IF(Dati!E147=\"EA4\",Dati!D147,)","v":0},{"$f":"IF(Dati!E147=\"EA5\",Dati!D147,)","v":0},{"$f":"IF(Dati!E147=\"EA6\",Dati!D147,)","v":0},{"$f":"IF(Dati!E147=\"EB1\",Dati!D147,)","v":0},{"$f":"IF(Dati!E147=\"EB2\",Dati!D147,)","v":0},{"$f":"IF(Dati!E147=\"EC1\",Dati!D147,)","v":0},{"$f":"IF(Dati!E147=\"ED1\",Dati!D147,)","v":0},{"$f":"IF(Dati!E147=\"EE1\",Dati!D147,)","v":0}]
[{"$f":"Dati!C148","v":"00:00:00"},{"$f":"Dati!H148","v":"00:00:00"},{"$f":"IF(Dati!E148=\"EA1\",Dati!D148,)","v":0},{"$f":"IF(Dati!E148=\"EA2\",Dati!D148,)","v":0},{"$f":"IF(Dati!E148=\"EA3\",Dati!D148,)","v":0},{"$f":"IF(Dati!E148=\"EA4\",Dati!D148,)","v":0},{"$f":"IF(Dati!E148=\"EA5\",Dati!D148,)","v":0},{"$f":"IF(Dati!E148=\"EA6\",Dati!D148,)","v":0},{"$f":"IF(Dati!E148=\"EB1\",Dati!D148,)","v":0},{"$f":"IF(Dati!E148=\"EB2\",Dati!D148,)","v":0},{"$f":"IF(Dati!E148=\"EC1\",Dati!D148,)","v":0},{"$f":"IF(Dati!E148=\"ED1\",Dati!D148,)","v":0},{"$f":"IF(Dati!E148=\"EE1\",Dati!D148,)","v":0}]
[{"$f":"Dati!C149","v":"00:00:00"},{"$f":"Dati!H149","v":"00:00:00"},{"$f":"IF(Dati!E149=\"EA1\",Dati!D149,)","v":0},{"$f":"IF(Dati!E149=\"EA2\",Dati!D149,)","v":0},{"$f":"IF(Dati!E149=\"EA3\",Dati!D149,)","v":0},{"$f":"IF(Dati!E149=\"EA4\",Dati!D149,)","v":0},{"$f":"IF(Dati!E149=\"EA5\",Dati!D149,)","v":0},{"$f":"IF(Dati!E149=\"EA6\",Dati!D149,)","v":0},{"$f":"IF(Dati!E149=\"EB1\",Dati!D149,)","v":0},{"$f":"IF(Dati!E149=\"EB2\",Dati!D149,)","v":0},{"$f":"IF(Dati!E149=\"EC1\",Dati!D149,)","v":0},{"$f":"IF(Dati!E149=\"ED1\",Dati!D149,)","v":0},{"$f":"IF(Dati!E149=\"EE1\",Dati!D149,)","v":0}]
[{"$f":"Dati!C150","v":"00:00:00"},{"$f":"Dati!H150","v":"00:00:00"},{"$f":"IF(Dati!E150=\"EA1\",Dati!D150,)","v":0},{"$f":"IF(Dati!E150=\"EA2\",Dati!D150,)","v":0},{"$f":"IF(Dati!E150=\"EA3\",Dati!D150,)","v":0},{"$f":"IF(Dati!E150=\"EA4\",Dati!D150,)","v":0},{"$f":"IF(Dati!E150=\"EA5\",Dati!D150,)","v":0},{"$f":"IF(Dati!E150=\"EA6\",Dati!D150,)","v":0},{"$f":"IF(Dati!E150=\"EB1\",Dati!D150,)","v":0},{"$f":"IF(Dati!E150=\"EB2\",Dati!D150,)","v":0},{"$f":"IF(Dati!E150=\"EC1\",Dati!D150,)","v":0},{"$f":"IF(Dati!E150=\"ED1\",Dati!D150,)","v":0},{"$f":"IF(Dati!E150=\"EE1\",Dati!D150,)","v":0}]
[{"$f":"Dati!C151","v":"00:00:00"},{"$f":"Dati!H151","v":"00:00:00"},{"$f":"IF(Dati!E151=\"EA1\",Dati!D151,)","v":0},{"$f":"IF(Dati!E151=\"EA2\",Dati!D151,)","v":0},{"$f":"IF(Dati!E151=\"EA3\",Dati!D151,)","v":0},{"$f":"IF(Dati!E151=\"EA4\",Dati!D151,)","v":0},{"$f":"IF(Dati!E151=\"EA5\",Dati!D151,)","v":0},{"$f":"IF(Dati!E151=\"EA6\",Dati!D151,)","v":0},{"$f":"IF(Dati!E151=\"EB1\",Dati!D151,)","v":0},{"$f":"IF(Dati!E151=\"EB2\",Dati!D151,)","v":0},{"$f":"IF(Dati!E151=\"EC1\",Dati!D151,)","v":0},{"$f":"IF(Dati!E151=\"ED1\",Dati!D151,)","v":0},{"$f":"IF(Dati!E151=\"EE1\",Dati!D151,)","v":0}]
[{"$f":"Dati!C152","v":"00:00:00"},{"$f":"Dati!H152","v":"00:00:00"},{"$f":"IF(Dati!E152=\"EA1\",Dati!D152,)","v":0},{"$f":"IF(Dati!E152=\"EA2\",Dati!D152,)","v":0},{"$f":"IF(Dati!E152=\"EA3\",Dati!D152,)","v":0},{"$f":"IF(Dati!E152=\"EA4\",Dati!D152,)","v":0},{"$f":"IF(Dati!E152=\"EA5\",Dati!D152,)","v":0},{"$f":"IF(Dati!E152=\"EA6\",Dati!D152,)","v":0},{"$f":"IF(Dati!E152=\"EB1\",Dati!D152,)","v":0},{"$f":"IF(Dati!E152=\"EB2\",Dati!D152,)","v":0},{"$f":"IF(Dati!E152=\"EC1\",Dati!D152,)","v":0},{"$f":"IF(Dati!E152=\"ED1\",Dati!D152,)","v":0},{"$f":"IF(Dati!E152=\"EE1\",Dati!D152,)","v":0}]
[{"$f":"Dati!C153","v":"00:00:00"},{"$f":"Dati!H153","v":"00:00:00"},{"$f":"IF(Dati!E153=\"EA1\",Dati!D153,)","v":0},{"$f":"IF(Dati!E153=\"EA2\",Dati!D153,)","v":0},{"$f":"IF(Dati!E153=\"EA3\",Dati!D153,)","v":0},{"$f":"IF(Dati!E153=\"EA4\",Dati!D153,)","v":0},{"$f":"IF(Dati!E153=\"EA5\",Dati!D153,)","v":0},{"$f":"IF(Dati!E153=\"EA6\",Dati!D153,)","v":0},{"$f":"IF(Dati!E153=\"EB1\",Dati!D153,)","v":0},{"$f":"IF(Dati!E153=\"EB2\",Dati!D153,)","v":0},{"$f":"IF(Dati!E153=\"EC1\",Dati!D153,)","v":0},{"$f":"IF(Dati!E153=\"ED1\",Dati!D153,)","v":0},{"$f":"IF(Dati!E153=\"EE1\",Dati!D153,)","v":0}]
[{"$f":"Dati!C154","v":"00:00:00"},{"$f":"Dati!H154","v":"00:00:00"},{"$f":"IF(Dati!E154=\"EA1\",Dati!D154,)","v":0},{"$f":"IF(Dati!E154=\"EA2\",Dati!D154,)","v":0},{"$f":"IF(Dati!E154=\"EA3\",Dati!D154,)","v":0},{"$f":"IF(Dati!E154=\"EA4\",Dati!D154,)","v":0},{"$f":"IF(Dati!E154=\"EA5\",Dati!D154,)","v":0},{"$f":"IF(Dati!E154=\"EA6\",Dati!D154,)","v":0},{"$f":"IF(Dati!E154=\"EB1\",Dati!D154,)","v":0},{"$f":"IF(Dati!E154=\"EB2\",Dati!D154,)","v":0},{"$f":"IF(Dati!E154=\"EC1\",Dati!D154,)","v":0},{"$f":"IF(Dati!E154=\"ED1\",Dati!D154,)","v":0},{"$f":"IF(Dati!E154=\"EE1\",Dati!D154,)","v":0}]
[{"$f":"Dati!C155","v":"00:00:00"},{"$f":"Dati!H155","v":"00:00:00"},{"$f":"IF(Dati!E155=\"EA1\",Dati!D155,)","v":0},{"$f":"IF(Dati!E155=\"EA2\",Dati!D155,)","v":0},{"$f":"IF(Dati!E155=\"EA3\",Dati!D155,)","v":0},{"$f":"IF(Dati!E155=\"EA4\",Dati!D155,)","v":0},{"$f":"IF(Dati!E155=\"EA5\",Dati!D155,)","v":0},{"$f":"IF(Dati!E155=\"EA6\",Dati!D155,)","v":0},{"$f":"IF(Dati!E155=\"EB1\",Dati!D155,)","v":0},{"$f":"IF(Dati!E155=\"EB2\",Dati!D155,)","v":0},{"$f":"IF(Dati!E155=\"EC1\",Dati!D155,)","v":0},{"$f":"IF(Dati!E155=\"ED1\",Dati!D155,)","v":0},{"$f":"IF(Dati!E155=\"EE1\",Dati!D155,)","v":0}]
[{"$f":"Dati!C156","v":"00:00:00"},{"$f":"Dati!H156","v":"00:00:00"},{"$f":"IF(Dati!E156=\"EA1\",Dati!D156,)","v":0},{"$f":"IF(Dati!E156=\"EA2\",Dati!D156,)","v":0},{"$f":"IF(Dati!E156=\"EA3\",Dati!D156,)","v":0},{"$f":"IF(Dati!E156=\"EA4\",Dati!D156,)","v":0},{"$f":"IF(Dati!E156=\"EA5\",Dati!D156,)","v":0},{"$f":"IF(Dati!E156=\"EA6\",Dati!D156,)","v":0},{"$f":"IF(Dati!E156=\"EB1\",Dati!D156,)","v":0},{"$f":"IF(Dati!E156=\"EB2\",Dati!D156,)","v":0},{"$f":"IF(Dati!E156=\"EC1\",Dati!D156,)","v":0},{"$f":"IF(Dati!E156=\"ED1\",Dati!D156,)","v":0},{"$f":"IF(Dati!E156=\"EE1\",Dati!D156,)","v":0}]
[{"$f":"Dati!C157","v":"00:00:00"},{"$f":"Dati!H157","v":"00:00:00"},{"$f":"IF(Dati!E157=\"EA1\",Dati!D157,)","v":0},{"$f":"IF(Dati!E157=\"EA2\",Dati!D157,)","v":0},{"$f":"IF(Dati!E157=\"EA3\",Dati!D157,)","v":0},{"$f":"IF(Dati!E157=\"EA4\",Dati!D157,)","v":0},{"$f":"IF(Dati!E157=\"EA5\",Dati!D157,)","v":0},{"$f":"IF(Dati!E157=\"EA6\",Dati!D157,)","v":0},{"$f":"IF(Dati!E157=\"EB1\",Dati!D157,)","v":0},{"$f":"IF(Dati!E157=\"EB2\",Dati!D157,)","v":0},{"$f":"IF(Dati!E157=\"EC1\",Dati!D157,)","v":0},{"$f":"IF(Dati!E157=\"ED1\",Dati!D157,)","v":0},{"$f":"IF(Dati!E157=\"EE1\",Dati!D157,)","v":0}]
[{"$f":"Dati!C158","v":"00:00:00"},{"$f":"Dati!H158","v":"00:00:00"},{"$f":"IF(Dati!E158=\"EA1\",Dati!D158,)","v":0},{"$f":"IF(Dati!E158=\"EA2\",Dati!D158,)","v":0},{"$f":"IF(Dati!E158=\"EA3\",Dati!D158,)","v":0},{"$f":"IF(Dati!E158=\"EA4\",Dati!D158,)","v":0},{"$f":"IF(Dati!E158=\"EA5\",Dati!D158,)","v":0},{"$f":"IF(Dati!E158=\"EA6\",Dati!D158,)","v":0},{"$f":"IF(Dati!E158=\"EB1\",Dati!D158,)","v":0},{"$f":"IF(Dati!E158=\"EB2\",Dati!D158,)","v":0},{"$f":"IF(Dati!E158=\"EC1\",Dati!D158,)","v":0},{"$f":"IF(Dati!E158=\"ED1\",Dati!D158,)","v":0},{"$f":"IF(Dati!E158=\"EE1\",Dati!D158,)","v":0}]
[{"$f":"Dati!C159","v":"00:00:00"},{"$f":"Dati!H159","v":"00:00:00"},{"$f":"IF(Dati!E159=\"EA1\",Dati!D159,)","v":0},{"$f":"IF(Dati!E159=\"EA2\",Dati!D159,)","v":0},{"$f":"IF(Dati!E159=\"EA3\",Dati!D159,)","v":0},{"$f":"IF(Dati!E159=\"EA4\",Dati!D159,)","v":0},{"$f":"IF(Dati!E159=\"EA5\",Dati!D159,)","v":0},{"$f":"IF(Dati!E159=\"EA6\",Dati!D159,)","v":0},{"$f":"IF(Dati!E159=\"EB1\",Dati!D159,)","v":0},{"$f":"IF(Dati!E159=\"EB2\",Dati!D159,)","v":0},{"$f":"IF(Dati!E159=\"EC1\",Dati!D159,)","v":0},{"$f":"IF(Dati!E159=\"ED1\",Dati!D159,)","v":0},{"$f":"IF(Dati!E159=\"EE1\",Dati!D159,)","v":0}]
[{"$f":"Dati!C160","v":"00:00:00"},{"$f":"Dati!H160","v":"00:00:00"},{"$f":"IF(Dati!E160=\"EA1\",Dati!D160,)","v":0},{"$f":"IF(Dati!E160=\"EA2\",Dati!D160,)","v":0},{"$f":"IF(Dati!E160=\"EA3\",Dati!D160,)","v":0},{"$f":"IF(Dati!E160=\"EA4\",Dati!D160,)","v":0},{"$f":"IF(Dati!E160=\"EA5\",Dati!D160,)","v":0},{"$f":"IF(Dati!E160=\"EA6\",Dati!D160,)","v":0},{"$f":"IF(Dati!E160=\"EB1\",Dati!D160,)","v":0},{"$f":"IF(Dati!E160=\"EB2\",Dati!D160,)","v":0},{"$f":"IF(Dati!E160=\"EC1\",Dati!D160,)","v":0},{"$f":"IF(Dati!E160=\"ED1\",Dati!D160,)","v":0},{"$f":"IF(Dati!E160=\"EE1\",Dati!D160,)","v":0}]
[{"$f":"Dati!C161","v":"00:00:00"},{"$f":"Dati!H161","v":"00:00:00"},{"$f":"IF(Dati!E161=\"EA1\",Dati!D161,)","v":0},{"$f":"IF(Dati!E161=\"EA2\",Dati!D161,)","v":0},{"$f":"IF(Dati!E161=\"EA3\",Dati!D161,)","v":0},{"$f":"IF(Dati!E161=\"EA4\",Dati!D161,)","v":0},{"$f":"IF(Dati!E161=\"EA5\",Dati!D161,)","v":0},{"$f":"IF(Dati!E161=\"EA6\",Dati!D161,)","v":0},{"$f":"IF(Dati!E161=\"EB1\",Dati!D161,)","v":0},{"$f":"IF(Dati!E161=\"EB2\",Dati!D161,)","v":0},{"$f":"IF(Dati!E161=\"EC1\",Dati!D161,)","v":0},{"$f":"IF(Dati!E161=\"ED1\",Dati!D161,)","v":0},{"$f":"IF(Dati!E161=\"EE1\",Dati!D161,)","v":0}]
[{"$f":"Dati!C162","v":"00:00:00"},{"$f":"Dati!H162","v":"00:00:00"},{"$f":"IF(Dati!E162=\"EA1\",Dati!D162,)","v":0},{"$f":"IF(Dati!E162=\"EA2\",Dati!D162,)","v":0},{"$f":"IF(Dati!E162=\"EA3\",Dati!D162,)","v":0},{"$f":"IF(Dati!E162=\"EA4\",Dati!D162,)","v":0},{"$f":"IF(Dati!E162=\"EA5\",Dati!D162,)","v":0},{"$f":"IF(Dati!E162=\"EA6\",Dati!D162,)","v":0},{"$f":"IF(Dati!E162=\"EB1\",Dati!D162,)","v":0},{"$f":"IF(Dati!E162=\"EB2\",Dati!D162,)","v":0},{"$f":"IF(Dati!E162=\"EC1\",Dati!D162,)","v":0},{"$f":"IF(Dati!E162=\"ED1\",Dati!D162,)","v":0},{"$f":"IF(Dati!E162=\"EE1\",Dati!D162,)","v":0}]
[{"$f":"Dati!C163","v":"00:00:00"},{"$f":"Dati!H163","v":"00:00:00"},{"$f":"IF(Dati!E163=\"EA1\",Dati!D163,)","v":0},{"$f":"IF(Dati!E163=\"EA2\",Dati!D163,)","v":0},{"$f":"IF(Dati!E163=\"EA3\",Dati!D163,)","v":0},{"$f":"IF(Dati!E163=\"EA4\",Dati!D163,)","v":0},{"$f":"IF(Dati!E163=\"EA5\",Dati!D163,)","v":0},{"$f":"IF(Dati!E163=\"EA6\",Dati!D163,)","v":0},{"$f":"IF(Dati!E163=\"EB1\",Dati!D163,)","v":0},{"$f":"IF(Dati!E163=\"EB2\",Dati!D163,)","v":0},{"$f":"IF(Dati!E163=\"EC1\",Dati!D163,)","v":0},{"$f":"IF(Dati!E163=\"ED1\",Dati!D163,)","v":0},{"$f":"IF(Dati!E163=\"EE1\",Dati!D163,)","v":0}]
[{"$f":"Dati!C164","v":"00:00:00"},{"$f":"Dati!H164","v":"00:00:00"},{"$f":"IF(Dati!E164=\"EA1\",Dati!D164,)","v":0},{"$f":"IF(Dati!E164=\"EA2\",Dati!D164,)","v":0},{"$f":"IF(Dati!E164=\"EA3\",Dati!D164,)","v":0},{"$f":"IF(Dati!E164=\"EA4\",Dati!D164,)","v":0},{"$f":"IF(Dati!E164=\"EA5\",Dati!D164,)","v":0},{"$f":"IF(Dati!E164=\"EA6\",Dati!D164,)","v":0},{"$f":"IF(Dati!E164=\"EB1\",Dati!D164,)","v":0},{"$f":"IF(Dati!E164=\"EB2\",Dati!D164,)","v":0},{"$f":"IF(Dati!E164=\"EC1\",Dati!D164,)","v":0},{"$f":"IF(Dati!E164=\"ED1\",Dati!D164,)","v":0},{"$f":"IF(Dati!E164=\"EE1\",Dati!D164,)","v":0}]
[{"$f":"Dati!C165","v":"00:00:00"},{"$f":"Dati!H165","v":"00:00:00"},{"$f":"IF(Dati!E165=\"EA1\",Dati!D165,)","v":0},{"$f":"IF(Dati!E165=\"EA2\",Dati!D165,)","v":0},{"$f":"IF(Dati!E165=\"EA3\",Dati!D165,)","v":0},{"$f":"IF(Dati!E165=\"EA4\",Dati!D165,)","v":0},{"$f":"IF(Dati!E165=\"EA5\",Dati!D165,)","v":0},{"$f":"IF(Dati!E165=\"EA6\",Dati!D165,)","v":0},{"$f":"IF(Dati!E165=\"EB1\",Dati!D165,)","v":0},{"$f":"IF(Dati!E165=\"EB2\",Dati!D165,)","v":0},{"$f":"IF(Dati!E165=\"EC1\",Dati!D165,)","v":0},{"$f":"IF(Dati!E165=\"ED1\",Dati!D165,)","v":0},{"$f":"IF(Dati!E165=\"EE1\",Dati!D165,)","v":0}]
[{"$f":"Dati!C166","v":"00:00:00"},{"$f":"Dati!H166","v":"00:00:00"},{"$f":"IF(Dati!E166=\"EA1\",Dati!D166,)","v":0},{"$f":"IF(Dati!E166=\"EA2\",Dati!D166,)","v":0},{"$f":"IF(Dati!E166=\"EA3\",Dati!D166,)","v":0},{"$f":"IF(Dati!E166=\"EA4\",Dati!D166,)","v":0},{"$f":"IF(Dati!E166=\"EA5\",Dati!D166,)","v":0},{"$f":"IF(Dati!E166=\"EA6\",Dati!D166,)","v":0},{"$f":"IF(Dati!E166=\"EB1\",Dati!D166,)","v":0},{"$f":"IF(Dati!E166=\"EB2\",Dati!D166,)","v":0},{"$f":"IF(Dati!E166=\"EC1\",Dati!D166,)","v":0},{"$f":"IF(Dati!E166=\"ED1\",Dati!D166,)","v":0},{"$f":"IF(Dati!E166=\"EE1\",Dati!D166,)","v":0}]
[{"$f":"Dati!C167","v":"00:00:00"},{"$f":"Dati!H167","v":"00:00:00"},{"$f":"IF(Dati!E167=\"EA1\",Dati!D167,)","v":0},{"$f":"IF(Dati!E167=\"EA2\",Dati!D167,)","v":0},{"$f":"IF(Dati!E167=\"EA3\",Dati!D167,)","v":0},{"$f":"IF(Dati!E167=\"EA4\",Dati!D167,)","v":0},{"$f":"IF(Dati!E167=\"EA5\",Dati!D167,)","v":0},{"$f":"IF(Dati!E167=\"EA6\",Dati!D167,)","v":0},{"$f":"IF(Dati!E167=\"EB1\",Dati!D167,)","v":0},{"$f":"IF(Dati!E167=\"EB2\",Dati!D167,)","v":0},{"$f":"IF(Dati!E167=\"EC1\",Dati!D167,)","v":0},{"$f":"IF(Dati!E167=\"ED1\",Dati!D167,)","v":0},{"$f":"IF(Dati!E167=\"EE1\",Dati!D167,)","v":0}]
[{"$f":"Dati!C168","v":"00:00:00"},{"$f":"Dati!H168","v":"00:00:00"},{"$f":"IF(Dati!E168=\"EA1\",Dati!D168,)","v":0},{"$f":"IF(Dati!E168=\"EA2\",Dati!D168,)","v":0},{"$f":"IF(Dati!E168=\"EA3\",Dati!D168,)","v":0},{"$f":"IF(Dati!E168=\"EA4\",Dati!D168,)","v":0},{"$f":"IF(Dati!E168=\"EA5\",Dati!D168,)","v":0},{"$f":"IF(Dati!E168=\"EA6\",Dati!D168,)","v":0},{"$f":"IF(Dati!E168=\"EB1\",Dati!D168,)","v":0},{"$f":"IF(Dati!E168=\"EB2\",Dati!D168,)","v":0},{"$f":"IF(Dati!E168=\"EC1\",Dati!D168,)","v":0},{"$f":"IF(Dati!E168=\"ED1\",Dati!D168,)","v":0},{"$f":"IF(Dati!E168=\"EE1\",Dati!D168,)","v":0}]
[{"$f":"Dati!C169","v":"00:00:00"},{"$f":"Dati!H169","v":"00:00:00"},{"$f":"IF(Dati!E169=\"EA1\",Dati!D169,)","v":0},{"$f":"IF(Dati!E169=\"EA2\",Dati!D169,)","v":0},{"$f":"IF(Dati!E169=\"EA3\",Dati!D169,)","v":0},{"$f":"IF(Dati!E169=\"EA4\",Dati!D169,)","v":0},{"$f":"IF(Dati!E169=\"EA5\",Dati!D169,)","v":0},{"$f":"IF(Dati!E169=\"EA6\",Dati!D169,)","v":0},{"$f":"IF(Dati!E169=\"EB1\",Dati!D169,)","v":0},{"$f":"IF(Dati!E169=\"EB2\",Dati!D169,)","v":0},{"$f":"IF(Dati!E169=\"EC1\",Dati!D169,)","v":0},{"$f":"IF(Dati!E169=\"ED1\",Dati!D169,)","v":0},{"$f":"IF(Dati!E169=\"EE1\",Dati!D169,)","v":0}]
[{"$f":"Dati!C170","v":"00:00:00"},{"$f":"Dati!H170","v":"00:00:00"},{"$f":"IF(Dati!E170=\"EA1\",Dati!D170,)","v":0},{"$f":"IF(Dati!E170=\"EA2\",Dati!D170,)","v":0},{"$f":"IF(Dati!E170=\"EA3\",Dati!D170,)","v":0},{"$f":"IF(Dati!E170=\"EA4\",Dati!D170,)","v":0},{"$f":"IF(Dati!E170=\"EA5\",Dati!D170,)","v":0},{"$f":"IF(Dati!E170=\"EA6\",Dati!D170,)","v":0},{"$f":"IF(Dati!E170=\"EB1\",Dati!D170,)","v":0},{"$f":"IF(Dati!E170=\"EB2\",Dati!D170,)","v":0},{"$f":"IF(Dati!E170=\"EC1\",Dati!D170,)","v":0},{"$f":"IF(Dati!E170=\"ED1\",Dati!D170,)","v":0},{"$f":"IF(Dati!E170=\"EE1\",Dati!D170,)","v":0}]
[{"$f":"Dati!C171","v":"00:00:00"},{"$f":"Dati!H171","v":"00:00:00"},{"$f":"IF(Dati!E171=\"EA1\",Dati!D171,)","v":0},{"$f":"IF(Dati!E171=\"EA2\",Dati!D171,)","v":0},{"$f":"IF(Dati!E171=\"EA3\",Dati!D171,)","v":0},{"$f":"IF(Dati!E171=\"EA4\",Dati!D171,)","v":0},{"$f":"IF(Dati!E171=\"EA5\",Dati!D171,)","v":0},{"$f":"IF(Dati!E171=\"EA6\",Dati!D171,)","v":0},{"$f":"IF(Dati!E171=\"EB1\",Dati!D171,)","v":0},{"$f":"IF(Dati!E171=\"EB2\",Dati!D171,)","v":0},{"$f":"IF(Dati!E171=\"EC1\",Dati!D171,)","v":0},{"$f":"IF(Dati!E171=\"ED1\",Dati!D171,)","v":0},{"$f":"IF(Dati!E171=\"EE1\",Dati!D171,)","v":0}]
[{"$f":"Dati!C172","v":"00:00:00"},{"$f":"Dati!H172","v":"00:00:00"},{"$f":"IF(Dati!E172=\"EA1\",Dati!D172,)","v":0},{"$f":"IF(Dati!E172=\"EA2\",Dati!D172,)","v":0},{"$f":"IF(Dati!E172=\"EA3\",Dati!D172,)","v":0},{"$f":"IF(Dati!E172=\"EA4\",Dati!D172,)","v":0},{"$f":"IF(Dati!E172=\"EA5\",Dati!D172,)","v":0},{"$f":"IF(Dati!E172=\"EA6\",Dati!D172,)","v":0},{"$f":"IF(Dati!E172=\"EB1\",Dati!D172,)","v":0},{"$f":"IF(Dati!E172=\"EB2\",Dati!D172,)","v":0},{"$f":"IF(Dati!E172=\"EC1\",Dati!D172,)","v":0},{"$f":"IF(Dati!E172=\"ED1\",Dati!D172,)","v":0},{"$f":"IF(Dati!E172=\"EE1\",Dati!D172,)","v":0}]
[{"$f":"Dati!C173","v":"00:00:00"},{"$f":"Dati!H173","v":"00:00:00"},{"$f":"IF(Dati!E173=\"EA1\",Dati!D173,)","v":0},{"$f":"IF(Dati!E173=\"EA2\",Dati!D173,)","v":0},{"$f":"IF(Dati!E173=\"EA3\",Dati!D173,)","v":0},{"$f":"IF(Dati!E173=\"EA4\",Dati!D173,)","v":0},{"$f":"IF(Dati!E173=\"EA5\",Dati!D173,)","v":0},{"$f":"IF(Dati!E173=\"EA6\",Dati!D173,)","v":0},{"$f":"IF(Dati!E173=\"EB1\",Dati!D173,)","v":0},{"$f":"IF(Dati!E173=\"EB2\",Dati!D173,)","v":0},{"$f":"IF(Dati!E173=\"EC1\",Dati!D173,)","v":0},{"$f":"IF(Dati!E173=\"ED1\",Dati!D173,)","v":0},{"$f":"IF(Dati!E173=\"EE1\",Dati!D173,)","v":0}]
[{"$f":"Dati!C174","v":"00:00:00"},{"$f":"Dati!H174","v":"00:00:00"},{"$f":"IF(Dati!E174=\"EA1\",Dati!D174,)","v":0},{"$f":"IF(Dati!E174=\"EA2\",Dati!D174,)","v":0},{"$f":"IF(Dati!E174=\"EA3\",Dati!D174,)","v":0},{"$f":"IF(Dati!E174=\"EA4\",Dati!D174,)","v":0},{"$f":"IF(Dati!E174=\"EA5\",Dati!D174,)","v":0},{"$f":"IF(Dati!E174=\"EA6\",Dati!D174,)","v":0},{"$f":"IF(Dati!E174=\"EB1\",Dati!D174,)","v":0},{"$f":"IF(Dati!E174=\"EB2\",Dati!D174,)","v":0},{"$f":"IF(Dati!E174=\"EC1\",Dati!D174,)","v":0},{"$f":"IF(Dati!E174=\"ED1\",Dati!D174,)","v":0},{"$f":"IF(Dati!E174=\"EE1\",Dati!D174,)","v":0}]
[{"$f":"Dati!C175","v":"00:00:00"},{"$f":"Dati!H175","v":"00:00:00"},{"$f":"IF(Dati!E175=\"EA1\",Dati!D175,)","v":0},{"$f":"IF(Dati!E175=\"EA2\",Dati!D175,)","v":0},{"$f":"IF(Dati!E175=\"EA3\",Dati!D175,)","v":0},{"$f":"IF(Dati!E175=\"EA4\",Dati!D175,)","v":0},{"$f":"IF(Dati!E175=\"EA5\",Dati!D175,)","v":0},{"$f":"IF(Dati!E175=\"EA6\",Dati!D175,)","v":0},{"$f":"IF(Dati!E175=\"EB1\",Dati!D175,)","v":0},{"$f":"IF(Dati!E175=\"EB2\",Dati!D175,)","v":0},{"$f":"IF(Dati!E175=\"EC1\",Dati!D175,)","v":0},{"$f":"IF(Dati!E175=\"ED1\",Dati!D175,)","v":0},{"$f":"IF(Dati!E175=\"EE1\",Dati!D175,)","v":0}]
[{"$f":"Dati!C176","v":"00:00:00"},{"$f":"Dati!H176","v":"00:00:00"},{"$f":"IF(Dati!E176=\"EA1\",Dati!D176,)","v":0},{"$f":"IF(Dati!E176=\"EA2\",Dati!D176,)","v":0},{"$f":"IF(Dati!E176=\"EA3\",Dati!D176,)","v":0},{"$f":"IF(Dati!E176=\"EA4\",Dati!D176,)","v":0},{"$f":"IF(Dati!E176=\"EA5\",Dati!D176,)","v":0},{"$f":"IF(Dati!E176=\"EA6\",Dati!D176,)","v":0},{"$f":"IF(Dati!E176=\"EB1\",Dati!D176,)","v":0},{"$f":"IF(Dati!E176=\"EB2\",Dati!D176,)","v":0},{"$f":"IF(Dati!E176=\"EC1\",Dati!D176,)","v":0},{"$f":"IF(Dati!E176=\"ED1\",Dati!D176,)","v":0},{"$f":"IF(Dati!E176=\"EE1\",Dati!D176,)","v":0}]
[{"$f":"Dati!C177","v":"00:00:00"},{"$f":"Dati!H177","v":"00:00:00"},{"$f":"IF(Dati!E177=\"EA1\",Dati!D177,)","v":0},{"$f":"IF(Dati!E177=\"EA2\",Dati!D177,)","v":0},{"$f":"IF(Dati!E177=\"EA3\",Dati!D177,)","v":0},{"$f":"IF(Dati!E177=\"EA4\",Dati!D177,)","v":0},{"$f":"IF(Dati!E177=\"EA5\",Dati!D177,)","v":0},{"$f":"IF(Dati!E177=\"EA6\",Dati!D177,)","v":0},{"$f":"IF(Dati!E177=\"EB1\",Dati!D177,)","v":0},{"$f":"IF(Dati!E177=\"EB2\",Dati!D177,)","v":0},{"$f":"IF(Dati!E177=\"EC1\",Dati!D177,)","v":0},{"$f":"IF(Dati!E177=\"ED1\",Dati!D177,)","v":0},{"$f":"IF(Dati!E177=\"EE1\",Dati!D177,)","v":0}]
[{"$f":"Dati!C178","v":"00:00:00"},{"$f":"Dati!H178","v":"00:00:00"},{"$f":"IF(Dati!E178=\"EA1\",Dati!D178,)","v":0},{"$f":"IF(Dati!E178=\"EA2\",Dati!D178,)","v":0},{"$f":"IF(Dati!E178=\"EA3\",Dati!D178,)","v":0},{"$f":"IF(Dati!E178=\"EA4\",Dati!D178,)","v":0},{"$f":"IF(Dati!E178=\"EA5\",Dati!D178,)","v":0},{"$f":"IF(Dati!E178=\"EA6\",Dati!D178,)","v":0},{"$f":"IF(Dati!E178=\"EB1\",Dati!D178,)","v":0},{"$f":"IF(Dati!E178=\"EB2\",Dati!D178,)","v":0},{"$f":"IF(Dati!E178=\"EC1\",Dati!D178,)","v":0},{"$f":"IF(Dati!E178=\"ED1\",Dati!D178,)","v":0},{"$f":"IF(Dati!E178=\"EE1\",Dati!D178,)","v":0}]
[{"$f":"Dati!C179","v":"00:00:00"},{"$f":"Dati!H179","v":"00:00:00"},{"$f":"IF(Dati!E179=\"EA1\",Dati!D179,)","v":0},{"$f":"IF(Dati!E179=\"EA2\",Dati!D179,)","v":0},{"$f":"IF(Dati!E179=\"EA3\",Dati!D179,)","v":0},{"$f":"IF(Dati!E179=\"EA4\",Dati!D179,)","v":0},{"$f":"IF(Dati!E179=\"EA5\",Dati!D179,)","v":0},{"$f":"IF(Dati!E179=\"EA6\",Dati!D179,)","v":0},{"$f":"IF(Dati!E179=\"EB1\",Dati!D179,)","v":0},{"$f":"IF(Dati!E179=\"EB2\",Dati!D179,)","v":0},{"$f":"IF(Dati!E179=\"EC1\",Dati!D179,)","v":0},{"$f":"IF(Dati!E179=\"ED1\",Dati!D179,)","v":0},{"$f":"IF(Dati!E179=\"EE1\",Dati!D179,)","v":0}]
[{"$f":"Dati!C180","v":"00:00:00"},{"$f":"Dati!H180","v":"00:00:00"},{"$f":"IF(Dati!E180=\"EA1\",Dati!D180,)","v":0},{"$f":"IF(Dati!E180=\"EA2\",Dati!D180,)","v":0},{"$f":"IF(Dati!E180=\"EA3\",Dati!D180,)","v":0},{"$f":"IF(Dati!E180=\"EA4\",Dati!D180,)","v":0},{"$f":"IF(Dati!E180=\"EA5\",Dati!D180,)","v":0},{"$f":"IF(Dati!E180=\"EA6\",Dati!D180,)","v":0},{"$f":"IF(Dati!E180=\"EB1\",Dati!D180,)","v":0},{"$f":"IF(Dati!E180=\"EB2\",Dati!D180,)","v":0},{"$f":"IF(Dati!E180=\"EC1\",Dati!D180,)","v":0},{"$f":"IF(Dati!E180=\"ED1\",Dati!D180,)","v":0},{"$f":"IF(Dati!E180=\"EE1\",Dati!D180,)","v":0}]
[{"$f":"Dati!C181","v":"00:00:00"},{"$f":"Dati!H181","v":"00:00:00"},{"$f":"IF(Dati!E181=\"EA1\",Dati!D181,)","v":0},{"$f":"IF(Dati!E181=\"EA2\",Dati!D181,)","v":0},{"$f":"IF(Dati!E181=\"EA3\",Dati!D181,)","v":0},{"$f":"IF(Dati!E181=\"EA4\",Dati!D181,)","v":0},{"$f":"IF(Dati!E181=\"EA5\",Dati!D181,)","v":0},{"$f":"IF(Dati!E181=\"EA6\",Dati!D181,)","v":0},{"$f":"IF(Dati!E181=\"EB1\",Dati!D181,)","v":0},{"$f":"IF(Dati!E181=\"EB2\",Dati!D181,)","v":0},{"$f":"IF(Dati!E181=\"EC1\",Dati!D181,)","v":0},{"$f":"IF(Dati!E181=\"ED1\",Dati!D181,)","v":0},{"$f":"IF(Dati!E181=\"EE1\",Dati!D181,)","v":0}]
[{"$f":"Dati!C182","v":"00:00:00"},{"$f":"Dati!H182","v":"00:00:00"},{"$f":"IF(Dati!E182=\"EA1\",Dati!D182,)","v":0},{"$f":"IF(Dati!E182=\"EA2\",Dati!D182,)","v":0},{"$f":"IF(Dati!E182=\"EA3\",Dati!D182,)","v":0},{"$f":"IF(Dati!E182=\"EA4\",Dati!D182,)","v":0},{"$f":"IF(Dati!E182=\"EA5\",Dati!D182,)","v":0},{"$f":"IF(Dati!E182=\"EA6\",Dati!D182,)","v":0},{"$f":"IF(Dati!E182=\"EB1\",Dati!D182,)","v":0},{"$f":"IF(Dati!E182=\"EB2\",Dati!D182,)","v":0},{"$f":"IF(Dati!E182=\"EC1\",Dati!D182,)","v":0},{"$f":"IF(Dati!E182=\"ED1\",Dati!D182,)","v":0},{"$f":"IF(Dati!E182=\"EE1\",Dati!D182,)","v":0}]
[{"$f":"Dati!C183","v":"00:00:00"},{"$f":"Dati!H183","v":"00:00:00"},{"$f":"IF(Dati!E183=\"EA1\",Dati!D183,)","v":0},{"$f":"IF(Dati!E183=\"EA2\",Dati!D183,)","v":0},{"$f":"IF(Dati!E183=\"EA3\",Dati!D183,)","v":0},{"$f":"IF(Dati!E183=\"EA4\",Dati!D183,)","v":0},{"$f":"IF(Dati!E183=\"EA5\",Dati!D183,)","v":0},{"$f":"IF(Dati!E183=\"EA6\",Dati!D183,)","v":0},{"$f":"IF(Dati!E183=\"EB1\",Dati!D183,)","v":0},{"$f":"IF(Dati!E183=\"EB2\",Dati!D183,)","v":0},{"$f":"IF(Dati!E183=\"EC1\",Dati!D183,)","v":0},{"$f":"IF(Dati!E183=\"ED1\",Dati!D183,)","v":0},{"$f":"IF(Dati!E183=\"EE1\",Dati!D183,)","v":0}]
[{"$f":"Dati!C184","v":"00:00:00"},{"$f":"Dati!H184","v":"00:00:00"},{"$f":"IF(Dati!E184=\"EA1\",Dati!D184,)","v":0},{"$f":"IF(Dati!E184=\"EA2\",Dati!D184,)","v":0},{"$f":"IF(Dati!E184=\"EA3\",Dati!D184,)","v":0},{"$f":"IF(Dati!E184=\"EA4\",Dati!D184,)","v":0},{"$f":"IF(Dati!E184=\"EA5\",Dati!D184,)","v":0},{"$f":"IF(Dati!E184=\"EA6\",Dati!D184,)","v":0},{"$f":"IF(Dati!E184=\"EB1\",Dati!D184,)","v":0},{"$f":"IF(Dati!E184=\"EB2\",Dati!D184,)","v":0},{"$f":"IF(Dati!E184=\"EC1\",Dati!D184,)","v":0},{"$f":"IF(Dati!E184=\"ED1\",Dati!D184,)","v":0},{"$f":"IF(Dati!E184=\"EE1\",Dati!D184,)","v":0}]
[{"$f":"Dati!C185","v":"00:00:00"},{"$f":"Dati!H185","v":"00:00:00"},{"$f":"IF(Dati!E185=\"EA1\",Dati!D185,)","v":0},{"$f":"IF(Dati!E185=\"EA2\",Dati!D185,)","v":0},{"$f":"IF(Dati!E185=\"EA3\",Dati!D185,)","v":0},{"$f":"IF(Dati!E185=\"EA4\",Dati!D185,)","v":0},{"$f":"IF(Dati!E185=\"EA5\",Dati!D185,)","v":0},{"$f":"IF(Dati!E185=\"EA6\",Dati!D185,)","v":0},{"$f":"IF(Dati!E185=\"EB1\",Dati!D185,)","v":0},{"$f":"IF(Dati!E185=\"EB2\",Dati!D185,)","v":0},{"$f":"IF(Dati!E185=\"EC1\",Dati!D185,)","v":0},{"$f":"IF(Dati!E185=\"ED1\",Dati!D185,)","v":0},{"$f":"IF(Dati!E185=\"EE1\",Dati!D185,)","v":0}]
[{"$f":"Dati!C186","v":"00:00:00"},{"$f":"Dati!H186","v":"00:00:00"},{"$f":"IF(Dati!E186=\"EA1\",Dati!D186,)","v":0},{"$f":"IF(Dati!E186=\"EA2\",Dati!D186,)","v":0},{"$f":"IF(Dati!E186=\"EA3\",Dati!D186,)","v":0},{"$f":"IF(Dati!E186=\"EA4\",Dati!D186,)","v":0},{"$f":"IF(Dati!E186=\"EA5\",Dati!D186,)","v":0},{"$f":"IF(Dati!E186=\"EA6\",Dati!D186,)","v":0},{"$f":"IF(Dati!E186=\"EB1\",Dati!D186,)","v":0},{"$f":"IF(Dati!E186=\"EB2\",Dati!D186,)","v":0},{"$f":"IF(Dati!E186=\"EC1\",Dati!D186,)","v":0},{"$f":"IF(Dati!E186=\"ED1\",Dati!D186,)","v":0},{"$f":"IF(Dati!E186=\"EE1\",Dati!D186,)","v":0}]
[{"$f":"Dati!C187","v":"00:00:00"},{"$f":"Dati!H187","v":"00:00:00"},{"$f":"IF(Dati!E187=\"EA1\",Dati!D187,)","v":0},{"$f":"IF(Dati!E187=\"EA2\",Dati!D187,)","v":0},{"$f":"IF(Dati!E187=\"EA3\",Dati!D187,)","v":0},{"$f":"IF(Dati!E187=\"EA4\",Dati!D187,)","v":0},{"$f":"IF(Dati!E187=\"EA5\",Dati!D187,)","v":0},{"$f":"IF(Dati!E187=\"EA6\",Dati!D187,)","v":0},{"$f":"IF(Dati!E187=\"EB1\",Dati!D187,)","v":0},{"$f":"IF(Dati!E187=\"EB2\",Dati!D187,)","v":0},{"$f":"IF(Dati!E187=\"EC1\",Dati!D187,)","v":0},{"$f":"IF(Dati!E187=\"ED1\",Dati!D187,)","v":0},{"$f":"IF(Dati!E187=\"EE1\",Dati!D187,)","v":0}]
[{"$f":"Dati!C188","v":"00:00:00"},{"$f":"Dati!H188","v":"00:00:00"},{"$f":"IF(Dati!E188=\"EA1\",Dati!D188,)","v":0},{"$f":"IF(Dati!E188=\"EA2\",Dati!D188,)","v":0},{"$f":"IF(Dati!E188=\"EA3\",Dati!D188,)","v":0},{"$f":"IF(Dati!E188=\"EA4\",Dati!D188,)","v":0},{"$f":"IF(Dati!E188=\"EA5\",Dati!D188,)","v":0},{"$f":"IF(Dati!E188=\"EA6\",Dati!D188,)","v":0},{"$f":"IF(Dati!E188=\"EB1\",Dati!D188,)","v":0},{"$f":"IF(Dati!E188=\"EB2\",Dati!D188,)","v":0},{"$f":"IF(Dati!E188=\"EC1\",Dati!D188,)","v":0},{"$f":"IF(Dati!E188=\"ED1\",Dati!D188,)","v":0},{"$f":"IF(Dati!E188=\"EE1\",Dati!D188,)","v":0}]
[{"$f":"Dati!C189","v":"00:00:00"},{"$f":"Dati!H189","v":"00:00:00"},{"$f":"IF(Dati!E189=\"EA1\",Dati!D189,)","v":0},{"$f":"IF(Dati!E189=\"EA2\",Dati!D189,)","v":0},{"$f":"IF(Dati!E189=\"EA3\",Dati!D189,)","v":0},{"$f":"IF(Dati!E189=\"EA4\",Dati!D189,)","v":0},{"$f":"IF(Dati!E189=\"EA5\",Dati!D189,)","v":0},{"$f":"IF(Dati!E189=\"EA6\",Dati!D189,)","v":0},{"$f":"IF(Dati!E189=\"EB1\",Dati!D189,)","v":0},{"$f":"IF(Dati!E189=\"EB2\",Dati!D189,)","v":0},{"$f":"IF(Dati!E189=\"EC1\",Dati!D189,)","v":0},{"$f":"IF(Dati!E189=\"ED1\",Dati!D189,)","v":0},{"$f":"IF(Dati!E189=\"EE1\",Dati!D189,)","v":0}]
[{"$f":"Dati!C190","v":"00:00:00"},{"$f":"Dati!H190","v":"00:00:00"},{"$f":"IF(Dati!E190=\"EA1\",Dati!D190,)","v":0},{"$f":"IF(Dati!E190=\"EA2\",Dati!D190,)","v":0},{"$f":"IF(Dati!E190=\"EA3\",Dati!D190,)","v":0},{"$f":"IF(Dati!E190=\"EA4\",Dati!D190,)","v":0},{"$f":"IF(Dati!E190=\"EA5\",Dati!D190,)","v":0},{"$f":"IF(Dati!E190=\"EA6\",Dati!D190,)","v":0},{"$f":"IF(Dati!E190=\"EB1\",Dati!D190,)","v":0},{"$f":"IF(Dati!E190=\"EB2\",Dati!D190,)","v":0},{"$f":"IF(Dati!E190=\"EC1\",Dati!D190,)","v":0},{"$f":"IF(Dati!E190=\"ED1\",Dati!D190,)","v":0},{"$f":"IF(Dati!E190=\"EE1\",Dati!D190,)","v":0}]
[{"$f":"Dati!C191","v":"00:00:00"},{"$f":"Dati!H191","v":"00:00:00"},{"$f":"IF(Dati!E191=\"EA1\",Dati!D191,)","v":0},{"$f":"IF(Dati!E191=\"EA2\",Dati!D191,)","v":0},{"$f":"IF(Dati!E191=\"EA3\",Dati!D191,)","v":0},{"$f":"IF(Dati!E191=\"EA4\",Dati!D191,)","v":0},{"$f":"IF(Dati!E191=\"EA5\",Dati!D191,)","v":0},{"$f":"IF(Dati!E191=\"EA6\",Dati!D191,)","v":0},{"$f":"IF(Dati!E191=\"EB1\",Dati!D191,)","v":0},{"$f":"IF(Dati!E191=\"EB2\",Dati!D191,)","v":0},{"$f":"IF(Dati!E191=\"EC1\",Dati!D191,)","v":0},{"$f":"IF(Dati!E191=\"ED1\",Dati!D191,)","v":0},{"$f":"IF(Dati!E191=\"EE1\",Dati!D191,)","v":0}]
[{"$f":"Dati!C192","v":"00:00:00"},{"$f":"Dati!H192","v":"00:00:00"},{"$f":"IF(Dati!E192=\"EA1\",Dati!D192,)","v":0},{"$f":"IF(Dati!E192=\"EA2\",Dati!D192,)","v":0},{"$f":"IF(Dati!E192=\"EA3\",Dati!D192,)","v":0},{"$f":"IF(Dati!E192=\"EA4\",Dati!D192,)","v":0},{"$f":"IF(Dati!E192=\"EA5\",Dati!D192,)","v":0},{"$f":"IF(Dati!E192=\"EA6\",Dati!D192,)","v":0},{"$f":"IF(Dati!E192=\"EB1\",Dati!D192,)","v":0},{"$f":"IF(Dati!E192=\"EB2\",Dati!D192,)","v":0},{"$f":"IF(Dati!E192=\"EC1\",Dati!D192,)","v":0},{"$f":"IF(Dati!E192=\"ED1\",Dati!D192,)","v":0},{"$f":"IF(Dati!E192=\"EE1\",Dati!D192,)","v":0}]
[{"$f":"Dati!C193","v":"00:00:00"},{"$f":"Dati!H193","v":"00:00:00"},{"$f":"IF(Dati!E193=\"EA1\",Dati!D193,)","v":0},{"$f":"IF(Dati!E193=\"EA2\",Dati!D193,)","v":0},{"$f":"IF(Dati!E193=\"EA3\",Dati!D193,)","v":0},{"$f":"IF(Dati!E193=\"EA4\",Dati!D193,)","v":0},{"$f":"IF(Dati!E193=\"EA5\",Dati!D193,)","v":0},{"$f":"IF(Dati!E193=\"EA6\",Dati!D193,)","v":0},{"$f":"IF(Dati!E193=\"EB1\",Dati!D193,)","v":0},{"$f":"IF(Dati!E193=\"EB2\",Dati!D193,)","v":0},{"$f":"IF(Dati!E193=\"EC1\",Dati!D193,)","v":0},{"$f":"IF(Dati!E193=\"ED1\",Dati!D193,)","v":0},{"$f":"IF(Dati!E193=\"EE1\",Dati!D193,)","v":0}]
[{"$f":"Dati!C194","v":"00:00:00"},{"$f":"Dati!H194","v":"00:00:00"},{"$f":"IF(Dati!E194=\"EA1\",Dati!D194,)","v":0},{"$f":"IF(Dati!E194=\"EA2\",Dati!D194,)","v":0},{"$f":"IF(Dati!E194=\"EA3\",Dati!D194,)","v":0},{"$f":"IF(Dati!E194=\"EA4\",Dati!D194,)","v":0},{"$f":"IF(Dati!E194=\"EA5\",Dati!D194,)","v":0},{"$f":"IF(Dati!E194=\"EA6\",Dati!D194,)","v":0},{"$f":"IF(Dati!E194=\"EB1\",Dati!D194,)","v":0},{"$f":"IF(Dati!E194=\"EB2\",Dati!D194,)","v":0},{"$f":"IF(Dati!E194=\"EC1\",Dati!D194,)","v":0},{"$f":"IF(Dati!E194=\"ED1\",Dati!D194,)","v":0},{"$f":"IF(Dati!E194=\"EE1\",Dati!D194,)","v":0}]
[{"$f":"Dati!C195","v":"00:00:00"},{"$f":"Dati!H195","v":"00:00:00"},{"$f":"IF(Dati!E195=\"EA1\",Dati!D195,)","v":0},{"$f":"IF(Dati!E195=\"EA2\",Dati!D195,)","v":0},{"$f":"IF(Dati!E195=\"EA3\",Dati!D195,)","v":0},{"$f":"IF(Dati!E195=\"EA4\",Dati!D195,)","v":0},{"$f":"IF(Dati!E195=\"EA5\",Dati!D195,)","v":0},{"$f":"IF(Dati!E195=\"EA6\",Dati!D195,)","v":0},{"$f":"IF(Dati!E195=\"EB1\",Dati!D195,)","v":0},{"$f":"IF(Dati!E195=\"EB2\",Dati!D195,)","v":0},{"$f":"IF(Dati!E195=\"EC1\",Dati!D195,)","v":0},{"$f":"IF(Dati!E195=\"ED1\",Dati!D195,)","v":0},{"$f":"IF(Dati!E195=\"EE1\",Dati!D195,)","v":0}]
[{"$f":"Dati!C196","v":"00:00:00"},{"$f":"Dati!H196","v":"00:00:00"},{"$f":"IF(Dati!E196=\"EA1\",Dati!D196,)","v":0},{"$f":"IF(Dati!E196=\"EA2\",Dati!D196,)","v":0},{"$f":"IF(Dati!E196=\"EA3\",Dati!D196,)","v":0},{"$f":"IF(Dati!E196=\"EA4\",Dati!D196,)","v":0},{"$f":"IF(Dati!E196=\"EA5\",Dati!D196,)","v":0},{"$f":"IF(Dati!E196=\"EA6\",Dati!D196,)","v":0},{"$f":"IF(Dati!E196=\"EB1\",Dati!D196,)","v":0},{"$f":"IF(Dati!E196=\"EB2\",Dati!D196,)","v":0},{"$f":"IF(Dati!E196=\"EC1\",Dati!D196,)","v":0},{"$f":"IF(Dati!E196=\"ED1\",Dati!D196,)","v":0},{"$f":"IF(Dati!E196=\"EE1\",Dati!D196,)","v":0}]
[{"$f":"Dati!C197","v":"00:00:00"},{"$f":"Dati!H197","v":"00:00:00"},{"$f":"IF(Dati!E197=\"EA1\",Dati!D197,)","v":0},{"$f":"IF(Dati!E197=\"EA2\",Dati!D197,)","v":0},{"$f":"IF(Dati!E197=\"EA3\",Dati!D197,)","v":0},{"$f":"IF(Dati!E197=\"EA4\",Dati!D197,)","v":0},{"$f":"IF(Dati!E197=\"EA5\",Dati!D197,)","v":0},{"$f":"IF(Dati!E197=\"EA6\",Dati!D197,)","v":0},{"$f":"IF(Dati!E197=\"EB1\",Dati!D197,)","v":0},{"$f":"IF(Dati!E197=\"EB2\",Dati!D197,)","v":0},{"$f":"IF(Dati!E197=\"EC1\",Dati!D197,)","v":0},{"$f":"IF(Dati!E197=\"ED1\",Dati!D197,)","v":0},{"$f":"IF(Dati!E197=\"EE1\",Dati!D197,)","v":0}]
[{"$f":"Dati!C198","v":"00:00:00"},{"$f":"Dati!H198","v":"00:00:00"},{"$f":"IF(Dati!E198=\"EA1\",Dati!D198,)","v":0},{"$f":"IF(Dati!E198=\"EA2\",Dati!D198,)","v":0},{"$f":"IF(Dati!E198=\"EA3\",Dati!D198,)","v":0},{"$f":"IF(Dati!E198=\"EA4\",Dati!D198,)","v":0},{"$f":"IF(Dati!E198=\"EA5\",Dati!D198,)","v":0},{"$f":"IF(Dati!E198=\"EA6\",Dati!D198,)","v":0},{"$f":"IF(Dati!E198=\"EB1\",Dati!D198,)","v":0},{"$f":"IF(Dati!E198=\"EB2\",Dati!D198,)","v":0},{"$f":"IF(Dati!E198=\"EC1\",Dati!D198,)","v":0},{"$f":"IF(Dati!E198=\"ED1\",Dati!D198,)","v":0},{"$f":"IF(Dati!E198=\"EE1\",Dati!D198,)","v":0}]
[{"$f":"Dati!C199","v":"00:00:00"},{"$f":"Dati!H199","v":"00:00:00"},{"$f":"IF(Dati!E199=\"EA1\",Dati!D199,)","v":0},{"$f":"IF(Dati!E199=\"EA2\",Dati!D199,)","v":0},{"$f":"IF(Dati!E199=\"EA3\",Dati!D199,)","v":0},{"$f":"IF(Dati!E199=\"EA4\",Dati!D199,)","v":0},{"$f":"IF(Dati!E199=\"EA5\",Dati!D199,)","v":0},{"$f":"IF(Dati!E199=\"EA6\",Dati!D199,)","v":0},{"$f":"IF(Dati!E199=\"EB1\",Dati!D199,)","v":0},{"$f":"IF(Dati!E199=\"EB2\",Dati!D199,)","v":0},{"$f":"IF(Dati!E199=\"EC1\",Dati!D199,)","v":0},{"$f":"IF(Dati!E199=\"ED1\",Dati!D199,)","v":0},{"$f":"IF(Dati!E199=\"EE1\",Dati!D199,)","v":0}]
[{"$f":"Dati!C200","v":"00:00:00"},{"$f":"Dati!H200","v":"00:00:00"},{"$f":"IF(Dati!E200=\"EA1\",Dati!D200,)","v":0},{"$f":"IF(Dati!E200=\"EA2\",Dati!D200,)","v":0},{"$f":"IF(Dati!E200=\"EA3\",Dati!D200,)","v":0},{"$f":"IF(Dati!E200=\"EA4\",Dati!D200,)","v":0},{"$f":"IF(Dati!E200=\"EA5\",Dati!D200,)","v":0},{"$f":"IF(Dati!E200=\"EA6\",Dati!D200,)","v":0},{"$f":"IF(Dati!E200=\"EB1\",Dati!D200,)","v":0},{"$f":"IF(Dati!E200=\"EB2\",Dati!D200,)","v":0},{"$f":"IF(Dati!E200=\"EC1\",Dati!D200,)","v":0},{"$f":"IF(Dati!E200=\"ED1\",Dati!D200,)","v":0},{"$f":"IF(Dati!E200=\"EE1\",Dati!D200,)","v":0}]
[{"$f":"Dati!C201","v":"00:00:00"},{"$f":"Dati!H201","v":"00:00:00"},{"$f":"IF(Dati!E201=\"EA1\",Dati!D201,)","v":0},{"$f":"IF(Dati!E201=\"EA2\",Dati!D201,)","v":0},{"$f":"IF(Dati!E201=\"EA3\",Dati!D201,)","v":0},{"$f":"IF(Dati!E201=\"EA4\",Dati!D201,)","v":0},{"$f":"IF(Dati!E201=\"EA5\",Dati!D201,)","v":0},{"$f":"IF(Dati!E201=\"EA6\",Dati!D201,)","v":0},{"$f":"IF(Dati!E201=\"EB1\",Dati!D201,)","v":0},{"$f":"IF(Dati!E201=\"EB2\",Dati!D201,)","v":0},{"$f":"IF(Dati!E201=\"EC1\",Dati!D201,)","v":0},{"$f":"IF(Dati!E201=\"ED1\",Dati!D201,)","v":0},{"$f":"IF(Dati!E201=\"EE1\",Dati!D201,)","v":0}]
[{"$f":"Dati!C202","v":"00:00:00"},{"$f":"Dati!H202","v":"00:00:00"},{"$f":"IF(Dati!E202=\"EA1\",Dati!D202,)","v":0},{"$f":"IF(Dati!E202=\"EA2\",Dati!D202,)","v":0},{"$f":"IF(Dati!E202=\"EA3\",Dati!D202,)","v":0},{"$f":"IF(Dati!E202=\"EA4\",Dati!D202,)","v":0},{"$f":"IF(Dati!E202=\"EA5\",Dati!D202,)","v":0},{"$f":"IF(Dati!E202=\"EA6\",Dati!D202,)","v":0},{"$f":"IF(Dati!E202=\"EB1\",Dati!D202,)","v":0},{"$f":"IF(Dati!E202=\"EB2\",Dati!D202,)","v":0},{"$f":"IF(Dati!E202=\"EC1\",Dati!D202,)","v":0},{"$f":"IF(Dati!E202=\"ED1\",Dati!D202,)","v":0},{"$f":"IF(Dati!E202=\"EE1\",Dati!D202,)","v":0}]
[{"$f":"Dati!C203","v":"00:00:00"},{"$f":"Dati!H203","v":"00:00:00"},{"$f":"IF(Dati!E203=\"EA1\",Dati!D203,)","v":0},{"$f":"IF(Dati!E203=\"EA2\",Dati!D203,)","v":0},{"$f":"IF(Dati!E203=\"EA3\",Dati!D203,)","v":0},{"$f":"IF(Dati!E203=\"EA4\",Dati!D203,)","v":0},{"$f":"IF(Dati!E203=\"EA5\",Dati!D203,)","v":0},{"$f":"IF(Dati!E203=\"EA6\",Dati!D203,)","v":0},{"$f":"IF(Dati!E203=\"EB1\",Dati!D203,)","v":0},{"$f":"IF(Dati!E203=\"EB2\",Dati!D203,)","v":0},{"$f":"IF(Dati!E203=\"EC1\",Dati!D203,)","v":0},{"$f":"IF(Dati!E203=\"ED1\",Dati!D203,)","v":0},{"$f":"IF(Dati!E203=\"EE1\",Dati!D203,)","v":0}]
[{"$f":"Dati!C204","v":"00:00:00"},{"$f":"Dati!H204","v":"00:00:00"},{"$f":"IF(Dati!E204=\"EA1\",Dati!D204,)","v":0},{"$f":"IF(Dati!E204=\"EA2\",Dati!D204,)","v":0},{"$f":"IF(Dati!E204=\"EA3\",Dati!D204,)","v":0},{"$f":"IF(Dati!E204=\"EA4\",Dati!D204,)","v":0},{"$f":"IF(Dati!E204=\"EA5\",Dati!D204,)","v":0},{"$f":"IF(Dati!E204=\"EA6\",Dati!D204,)","v":0},{"$f":"IF(Dati!E204=\"EB1\",Dati!D204,)","v":0},{"$f":"IF(Dati!E204=\"EB2\",Dati!D204,)","v":0},{"$f":"IF(Dati!E204=\"EC1\",Dati!D204,)","v":0},{"$f":"IF(Dati!E204=\"ED1\",Dati!D204,)","v":0},{"$f":"IF(Dati!E204=\"EE1\",Dati!D204,)","v":0}]
[{"$f":"Dati!C205","v":"00:00:00"},{"$f":"Dati!H205","v":"00:00:00"},{"$f":"IF(Dati!E205=\"EA1\",Dati!D205,)","v":0},{"$f":"IF(Dati!E205=\"EA2\",Dati!D205,)","v":0},{"$f":"IF(Dati!E205=\"EA3\",Dati!D205,)","v":0},{"$f":"IF(Dati!E205=\"EA4\",Dati!D205,)","v":0},{"$f":"IF(Dati!E205=\"EA5\",Dati!D205,)","v":0},{"$f":"IF(Dati!E205=\"EA6\",Dati!D205,)","v":0},{"$f":"IF(Dati!E205=\"EB1\",Dati!D205,)","v":0},{"$f":"IF(Dati!E205=\"EB2\",Dati!D205,)","v":0},{"$f":"IF(Dati!E205=\"EC1\",Dati!D205,)","v":0},{"$f":"IF(Dati!E205=\"ED1\",Dati!D205,)","v":0},{"$f":"IF(Dati!E205=\"EE1\",Dati!D205,)","v":0}]
[{"$f":"Dati!C206","v":"00:00:00"},{"$f":"Dati!H206","v":"00:00:00"},{"$f":"IF(Dati!E206=\"EA1\",Dati!D206,)","v":0},{"$f":"IF(Dati!E206=\"EA2\",Dati!D206,)","v":0},{"$f":"IF(Dati!E206=\"EA3\",Dati!D206,)","v":0},{"$f":"IF(Dati!E206=\"EA4\",Dati!D206,)","v":0},{"$f":"IF(Dati!E206=\"EA5\",Dati!D206,)","v":0},{"$f":"IF(Dati!E206=\"EA6\",Dati!D206,)","v":0},{"$f":"IF(Dati!E206=\"EB1\",Dati!D206,)","v":0},{"$f":"IF(Dati!E206=\"EB2\",Dati!D206,)","v":0},{"$f":"IF(Dati!E206=\"EC1\",Dati!D206,)","v":0},{"$f":"IF(Dati!E206=\"ED1\",Dati!D206,)","v":0},{"$f":"IF(Dati!E206=\"EE1\",Dati!D206,)","v":0}]
[{"$f":"Dati!C207","v":"00:00:00"},{"$f":"Dati!H207","v":"00:00:00"},{"$f":"IF(Dati!E207=\"EA1\",Dati!D207,)","v":0},{"$f":"IF(Dati!E207=\"EA2\",Dati!D207,)","v":0},{"$f":"IF(Dati!E207=\"EA3\",Dati!D207,)","v":0},{"$f":"IF(Dati!E207=\"EA4\",Dati!D207,)","v":0},{"$f":"IF(Dati!E207=\"EA5\",Dati!D207,)","v":0},{"$f":"IF(Dati!E207=\"EA6\",Dati!D207,)","v":0},{"$f":"IF(Dati!E207=\"EB1\",Dati!D207,)","v":0},{"$f":"IF(Dati!E207=\"EB2\",Dati!D207,)","v":0},{"$f":"IF(Dati!E207=\"EC1\",Dati!D207,)","v":0},{"$f":"IF(Dati!E207=\"ED1\",Dati!D207,)","v":0},{"$f":"IF(Dati!E207=\"EE1\",Dati!D207,)","v":0}]
[{"$f":"Dati!C208","v":"00:00:00"},{"$f":"Dati!H208","v":"00:00:00"},{"$f":"IF(Dati!E208=\"EA1\",Dati!D208,)","v":0},{"$f":"IF(Dati!E208=\"EA2\",Dati!D208,)","v":0},{"$f":"IF(Dati!E208=\"EA3\",Dati!D208,)","v":0},{"$f":"IF(Dati!E208=\"EA4\",Dati!D208,)","v":0},{"$f":"IF(Dati!E208=\"EA5\",Dati!D208,)","v":0},{"$f":"IF(Dati!E208=\"EA6\",Dati!D208,)","v":0},{"$f":"IF(Dati!E208=\"EB1\",Dati!D208,)","v":0},{"$f":"IF(Dati!E208=\"EB2\",Dati!D208,)","v":0},{"$f":"IF(Dati!E208=\"EC1\",Dati!D208,)","v":0},{"$f":"IF(Dati!E208=\"ED1\",Dati!D208,)","v":0},{"$f":"IF(Dati!E208=\"EE1\",Dati!D208,)","v":0}]
[{"$f":"Dati!C209","v":"00:00:00"},{"$f":"Dati!H209","v":"00:00:00"},{"$f":"IF(Dati!E209=\"EA1\",Dati!D209,)","v":0},{"$f":"IF(Dati!E209=\"EA2\",Dati!D209,)","v":0},{"$f":"IF(Dati!E209=\"EA3\",Dati!D209,)","v":0},{"$f":"IF(Dati!E209=\"EA4\",Dati!D209,)","v":0},{"$f":"IF(Dati!E209=\"EA5\",Dati!D209,)","v":0},{"$f":"IF(Dati!E209=\"EA6\",Dati!D209,)","v":0},{"$f":"IF(Dati!E209=\"EB1\",Dati!D209,)","v":0},{"$f":"IF(Dati!E209=\"EB2\",Dati!D209,)","v":0},{"$f":"IF(Dati!E209=\"EC1\",Dati!D209,)","v":0},{"$f":"IF(Dati!E209=\"ED1\",Dati!D209,)","v":0},{"$f":"IF(Dati!E209=\"EE1\",Dati!D209,)","v":0}]
[{"$f":"Dati!C210","v":"00:00:00"},{"$f":"Dati!H210","v":"00:00:00"},{"$f":"IF(Dati!E210=\"EA1\",Dati!D210,)","v":0},{"$f":"IF(Dati!E210=\"EA2\",Dati!D210,)","v":0},{"$f":"IF(Dati!E210=\"EA3\",Dati!D210,)","v":0},{"$f":"IF(Dati!E210=\"EA4\",Dati!D210,)","v":0},{"$f":"IF(Dati!E210=\"EA5\",Dati!D210,)","v":0},{"$f":"IF(Dati!E210=\"EA6\",Dati!D210,)","v":0},{"$f":"IF(Dati!E210=\"EB1\",Dati!D210,)","v":0},{"$f":"IF(Dati!E210=\"EB2\",Dati!D210,)","v":0},{"$f":"IF(Dati!E210=\"EC1\",Dati!D210,)","v":0},{"$f":"IF(Dati!E210=\"ED1\",Dati!D210,)","v":0},{"$f":"IF(Dati!E210=\"EE1\",Dati!D210,)","v":0}]
[{"$f":"Dati!C211","v":"00:00:00"},{"$f":"Dati!H211","v":"00:00:00"},{"$f":"IF(Dati!E211=\"EA1\",Dati!D211,)","v":0},{"$f":"IF(Dati!E211=\"EA2\",Dati!D211,)","v":0},{"$f":"IF(Dati!E211=\"EA3\",Dati!D211,)","v":0},{"$f":"IF(Dati!E211=\"EA4\",Dati!D211,)","v":0},{"$f":"IF(Dati!E211=\"EA5\",Dati!D211,)","v":0},{"$f":"IF(Dati!E211=\"EA6\",Dati!D211,)","v":0},{"$f":"IF(Dati!E211=\"EB1\",Dati!D211,)","v":0},{"$f":"IF(Dati!E211=\"EB2\",Dati!D211,)","v":0},{"$f":"IF(Dati!E211=\"EC1\",Dati!D211,)","v":0},{"$f":"IF(Dati!E211=\"ED1\",Dati!D211,)","v":0},{"$f":"IF(Dati!E211=\"EE1\",Dati!D211,)","v":0}]
[{"$f":"Dati!C212","v":"00:00:00"},{"$f":"Dati!H212","v":"00:00:00"},{"$f":"IF(Dati!E212=\"EA1\",Dati!D212,)","v":0},{"$f":"IF(Dati!E212=\"EA2\",Dati!D212,)","v":0},{"$f":"IF(Dati!E212=\"EA3\",Dati!D212,)","v":0},{"$f":"IF(Dati!E212=\"EA4\",Dati!D212,)","v":0},{"$f":"IF(Dati!E212=\"EA5\",Dati!D212,)","v":0},{"$f":"IF(Dati!E212=\"EA6\",Dati!D212,)","v":0},{"$f":"IF(Dati!E212=\"EB1\",Dati!D212,)","v":0},{"$f":"IF(Dati!E212=\"EB2\",Dati!D212,)","v":0},{"$f":"IF(Dati!E212=\"EC1\",Dati!D212,)","v":0},{"$f":"IF(Dati!E212=\"ED1\",Dati!D212,)","v":0},{"$f":"IF(Dati!E212=\"EE1\",Dati!D212,)","v":0}]
[{"$f":"Dati!C213","v":"00:00:00"},{"$f":"Dati!H213","v":"00:00:00"},{"$f":"IF(Dati!E213=\"EA1\",Dati!D213,)","v":0},{"$f":"IF(Dati!E213=\"EA2\",Dati!D213,)","v":0},{"$f":"IF(Dati!E213=\"EA3\",Dati!D213,)","v":0},{"$f":"IF(Dati!E213=\"EA4\",Dati!D213,)","v":0},{"$f":"IF(Dati!E213=\"EA5\",Dati!D213,)","v":0},{"$f":"IF(Dati!E213=\"EA6\",Dati!D213,)","v":0},{"$f":"IF(Dati!E213=\"EB1\",Dati!D213,)","v":0},{"$f":"IF(Dati!E213=\"EB2\",Dati!D213,)","v":0},{"$f":"IF(Dati!E213=\"EC1\",Dati!D213,)","v":0},{"$f":"IF(Dati!E213=\"ED1\",Dati!D213,)","v":0},{"$f":"IF(Dati!E213=\"EE1\",Dati!D213,)","v":0}]
[{"$f":"Dati!C214","v":"00:00:00"},{"$f":"Dati!H214","v":"00:00:00"},{"$f":"IF(Dati!E214=\"EA1\",Dati!D214,)","v":0},{"$f":"IF(Dati!E214=\"EA2\",Dati!D214,)","v":0},{"$f":"IF(Dati!E214=\"EA3\",Dati!D214,)","v":0},{"$f":"IF(Dati!E214=\"EA4\",Dati!D214,)","v":0},{"$f":"IF(Dati!E214=\"EA5\",Dati!D214,)","v":0},{"$f":"IF(Dati!E214=\"EA6\",Dati!D214,)","v":0},{"$f":"IF(Dati!E214=\"EB1\",Dati!D214,)","v":0},{"$f":"IF(Dati!E214=\"EB2\",Dati!D214,)","v":0},{"$f":"IF(Dati!E214=\"EC1\",Dati!D214,)","v":0},{"$f":"IF(Dati!E214=\"ED1\",Dati!D214,)","v":0},{"$f":"IF(Dati!E214=\"EE1\",Dati!D214,)","v":0}]
[{"$f":"Dati!C215","v":"00:00:00"},{"$f":"Dati!H215","v":"00:00:00"},{"$f":"IF(Dati!E215=\"EA1\",Dati!D215,)","v":0},{"$f":"IF(Dati!E215=\"EA2\",Dati!D215,)","v":0},{"$f":"IF(Dati!E215=\"EA3\",Dati!D215,)","v":0},{"$f":"IF(Dati!E215=\"EA4\",Dati!D215,)","v":0},{"$f":"IF(Dati!E215=\"EA5\",Dati!D215,)","v":0},{"$f":"IF(Dati!E215=\"EA6\",Dati!D215,)","v":0},{"$f":"IF(Dati!E215=\"EB1\",Dati!D215,)","v":0},{"$f":"IF(Dati!E215=\"EB2\",Dati!D215,)","v":0},{"$f":"IF(Dati!E215=\"EC1\",Dati!D215,)","v":0},{"$f":"IF(Dati!E215=\"ED1\",Dati!D215,)","v":0},{"$f":"IF(Dati!E215=\"EE1\",Dati!D215,)","v":0}]
[{"$f":"Dati!C216","v":"00:00:00"},{"$f":"Dati!H216","v":"00:00:00"},{"$f":"IF(Dati!E216=\"EA1\",Dati!D216,)","v":0},{"$f":"IF(Dati!E216=\"EA2\",Dati!D216,)","v":0},{"$f":"IF(Dati!E216=\"EA3\",Dati!D216,)","v":0},{"$f":"IF(Dati!E216=\"EA4\",Dati!D216,)","v":0},{"$f":"IF(Dati!E216=\"EA5\",Dati!D216,)","v":0},{"$f":"IF(Dati!E216=\"EA6\",Dati!D216,)","v":0},{"$f":"IF(Dati!E216=\"EB1\",Dati!D216,)","v":0},{"$f":"IF(Dati!E216=\"EB2\",Dati!D216,)","v":0},{"$f":"IF(Dati!E216=\"EC1\",Dati!D216,)","v":0},{"$f":"IF(Dati!E216=\"ED1\",Dati!D216,)","v":0},{"$f":"IF(Dati!E216=\"EE1\",Dati!D216,)","v":0}]
[{"$f":"Dati!C217","v":"00:00:00"},{"$f":"Dati!H217","v":"00:00:00"},{"$f":"IF(Dati!E217=\"EA1\",Dati!D217,)","v":0},{"$f":"IF(Dati!E217=\"EA2\",Dati!D217,)","v":0},{"$f":"IF(Dati!E217=\"EA3\",Dati!D217,)","v":0},{"$f":"IF(Dati!E217=\"EA4\",Dati!D217,)","v":0},{"$f":"IF(Dati!E217=\"EA5\",Dati!D217,)","v":0},{"$f":"IF(Dati!E217=\"EA6\",Dati!D217,)","v":0},{"$f":"IF(Dati!E217=\"EB1\",Dati!D217,)","v":0},{"$f":"IF(Dati!E217=\"EB2\",Dati!D217,)","v":0},{"$f":"IF(Dati!E217=\"EC1\",Dati!D217,)","v":0},{"$f":"IF(Dati!E217=\"ED1\",Dati!D217,)","v":0},{"$f":"IF(Dati!E217=\"EE1\",Dati!D217,)","v":0}]
[{"$f":"Dati!C218","v":"00:00:00"},{"$f":"Dati!H218","v":"00:00:00"},{"$f":"IF(Dati!E218=\"EA1\",Dati!D218,)","v":0},{"$f":"IF(Dati!E218=\"EA2\",Dati!D218,)","v":0},{"$f":"IF(Dati!E218=\"EA3\",Dati!D218,)","v":0},{"$f":"IF(Dati!E218=\"EA4\",Dati!D218,)","v":0},{"$f":"IF(Dati!E218=\"EA5\",Dati!D218,)","v":0},{"$f":"IF(Dati!E218=\"EA6\",Dati!D218,)","v":0},{"$f":"IF(Dati!E218=\"EB1\",Dati!D218,)","v":0},{"$f":"IF(Dati!E218=\"EB2\",Dati!D218,)","v":0},{"$f":"IF(Dati!E218=\"EC1\",Dati!D218,)","v":0},{"$f":"IF(Dati!E218=\"ED1\",Dati!D218,)","v":0},{"$f":"IF(Dati!E218=\"EE1\",Dati!D218,)","v":0}]
[{"$f":"Dati!C219","v":"00:00:00"},{"$f":"Dati!H219","v":"00:00:00"},{"$f":"IF(Dati!E219=\"EA1\",Dati!D219,)","v":0},{"$f":"IF(Dati!E219=\"EA2\",Dati!D219,)","v":0},{"$f":"IF(Dati!E219=\"EA3\",Dati!D219,)","v":0},{"$f":"IF(Dati!E219=\"EA4\",Dati!D219,)","v":0},{"$f":"IF(Dati!E219=\"EA5\",Dati!D219,)","v":0},{"$f":"IF(Dati!E219=\"EA6\",Dati!D219,)","v":0},{"$f":"IF(Dati!E219=\"EB1\",Dati!D219,)","v":0},{"$f":"IF(Dati!E219=\"EB2\",Dati!D219,)","v":0},{"$f":"IF(Dati!E219=\"EC1\",Dati!D219,)","v":0},{"$f":"IF(Dati!E219=\"ED1\",Dati!D219,)","v":0},{"$f":"IF(Dati!E219=\"EE1\",Dati!D219,)","v":0}]
[{"$f":"Dati!C220","v":"00:00:00"},{"$f":"Dati!H220","v":"00:00:00"},{"$f":"IF(Dati!E220=\"EA1\",Dati!D220,)","v":0},{"$f":"IF(Dati!E220=\"EA2\",Dati!D220,)","v":0},{"$f":"IF(Dati!E220=\"EA3\",Dati!D220,)","v":0},{"$f":"IF(Dati!E220=\"EA4\",Dati!D220,)","v":0},{"$f":"IF(Dati!E220=\"EA5\",Dati!D220,)","v":0},{"$f":"IF(Dati!E220=\"EA6\",Dati!D220,)","v":0},{"$f":"IF(Dati!E220=\"EB1\",Dati!D220,)","v":0},{"$f":"IF(Dati!E220=\"EB2\",Dati!D220,)","v":0},{"$f":"IF(Dati!E220=\"EC1\",Dati!D220,)","v":0},{"$f":"IF(Dati!E220=\"ED1\",Dati!D220,)","v":0},{"$f":"IF(Dati!E220=\"EE1\",Dati!D220,)","v":0}]
[{"$f":"Dati!C221","v":"00:00:00"},{"$f":"Dati!H221","v":"00:00:00"},{"$f":"IF(Dati!E221=\"EA1\",Dati!D221,)","v":0},{"$f":"IF(Dati!E221=\"EA2\",Dati!D221,)","v":0},{"$f":"IF(Dati!E221=\"EA3\",Dati!D221,)","v":0},{"$f":"IF(Dati!E221=\"EA4\",Dati!D221,)","v":0},{"$f":"IF(Dati!E221=\"EA5\",Dati!D221,)","v":0},{"$f":"IF(Dati!E221=\"EA6\",Dati!D221,)","v":0},{"$f":"IF(Dati!E221=\"EB1\",Dati!D221,)","v":0},{"$f":"IF(Dati!E221=\"EB2\",Dati!D221,)","v":0},{"$f":"IF(Dati!E221=\"EC1\",Dati!D221,)","v":0},{"$f":"IF(Dati!E221=\"ED1\",Dati!D221,)","v":0},{"$f":"IF(Dati!E221=\"EE1\",Dati!D221,)","v":0}]
[{"$f":"Dati!C222","v":"00:00:00"},{"$f":"Dati!H222","v":"00:00:00"},{"$f":"IF(Dati!E222=\"EA1\",Dati!D222,)","v":0},{"$f":"IF(Dati!E222=\"EA2\",Dati!D222,)","v":0},{"$f":"IF(Dati!E222=\"EA3\",Dati!D222,)","v":0},{"$f":"IF(Dati!E222=\"EA4\",Dati!D222,)","v":0},{"$f":"IF(Dati!E222=\"EA5\",Dati!D222,)","v":0},{"$f":"IF(Dati!E222=\"EA6\",Dati!D222,)","v":0},{"$f":"IF(Dati!E222=\"EB1\",Dati!D222,)","v":0},{"$f":"IF(Dati!E222=\"EB2\",Dati!D222,)","v":0},{"$f":"IF(Dati!E222=\"EC1\",Dati!D222,)","v":0},{"$f":"IF(Dati!E222=\"ED1\",Dati!D222,)","v":0},{"$f":"IF(Dati!E222=\"EE1\",Dati!D222,)","v":0}]
[{"$f":"Dati!C223","v":"00:00:00"},{"$f":"Dati!H223","v":"00:00:00"},{"$f":"IF(Dati!E223=\"EA1\",Dati!D223,)","v":0},{"$f":"IF(Dati!E223=\"EA2\",Dati!D223,)","v":0},{"$f":"IF(Dati!E223=\"EA3\",Dati!D223,)","v":0},{"$f":"IF(Dati!E223=\"EA4\",Dati!D223,)","v":0},{"$f":"IF(Dati!E223=\"EA5\",Dati!D223,)","v":0},{"$f":"IF(Dati!E223=\"EA6\",Dati!D223,)","v":0},{"$f":"IF(Dati!E223=\"EB1\",Dati!D223,)","v":0},{"$f":"IF(Dati!E223=\"EB2\",Dati!D223,)","v":0},{"$f":"IF(Dati!E223=\"EC1\",Dati!D223,)","v":0},{"$f":"IF(Dati!E223=\"ED1\",Dati!D223,)","v":0},{"$f":"IF(Dati!E223=\"EE1\",Dati!D223,)","v":0}]
[{"$f":"Dati!C224","v":"00:00:00"},{"$f":"Dati!H224","v":"00:00:00"},{"$f":"IF(Dati!E224=\"EA1\",Dati!D224,)","v":0},{"$f":"IF(Dati!E224=\"EA2\",Dati!D224,)","v":0},{"$f":"IF(Dati!E224=\"EA3\",Dati!D224,)","v":0},{"$f":"IF(Dati!E224=\"EA4\",Dati!D224,)","v":0},{"$f":"IF(Dati!E224=\"EA5\",Dati!D224,)","v":0},{"$f":"IF(Dati!E224=\"EA6\",Dati!D224,)","v":0},{"$f":"IF(Dati!E224=\"EB1\",Dati!D224,)","v":0},{"$f":"IF(Dati!E224=\"EB2\",Dati!D224,)","v":0},{"$f":"IF(Dati!E224=\"EC1\",Dati!D224,)","v":0},{"$f":"IF(Dati!E224=\"ED1\",Dati!D224,)","v":0},{"$f":"IF(Dati!E224=\"EE1\",Dati!D224,)","v":0}]
[{"$f":"Dati!C225","v":"00:00:00"},{"$f":"Dati!H225","v":"00:00:00"},{"$f":"IF(Dati!E225=\"EA1\",Dati!D225,)","v":0},{"$f":"IF(Dati!E225=\"EA2\",Dati!D225,)","v":0},{"$f":"IF(Dati!E225=\"EA3\",Dati!D225,)","v":0},{"$f":"IF(Dati!E225=\"EA4\",Dati!D225,)","v":0},{"$f":"IF(Dati!E225=\"EA5\",Dati!D225,)","v":0},{"$f":"IF(Dati!E225=\"EA6\",Dati!D225,)","v":0},{"$f":"IF(Dati!E225=\"EB1\",Dati!D225,)","v":0},{"$f":"IF(Dati!E225=\"EB2\",Dati!D225,)","v":0},{"$f":"IF(Dati!E225=\"EC1\",Dati!D225,)","v":0},{"$f":"IF(Dati!E225=\"ED1\",Dati!D225,)","v":0},{"$f":"IF(Dati!E225=\"EE1\",Dati!D225,)","v":0}]
[{"$f":"Dati!C226","v":"00:00:00"},{"$f":"Dati!H226","v":"00:00:00"},{"$f":"IF(Dati!E226=\"EA1\",Dati!D226,)","v":0},{"$f":"IF(Dati!E226=\"EA2\",Dati!D226,)","v":0},{"$f":"IF(Dati!E226=\"EA3\",Dati!D226,)","v":0},{"$f":"IF(Dati!E226=\"EA4\",Dati!D226,)","v":0},{"$f":"IF(Dati!E226=\"EA5\",Dati!D226,)","v":0},{"$f":"IF(Dati!E226=\"EA6\",Dati!D226,)","v":0},{"$f":"IF(Dati!E226=\"EB1\",Dati!D226,)","v":0},{"$f":"IF(Dati!E226=\"EB2\",Dati!D226,)","v":0},{"$f":"IF(Dati!E226=\"EC1\",Dati!D226,)","v":0},{"$f":"IF(Dati!E226=\"ED1\",Dati!D226,)","v":0},{"$f":"IF(Dati!E226=\"EE1\",Dati!D226,)","v":0}]
[{"$f":"Dati!C227","v":"00:00:00"},{"$f":"Dati!H227","v":"00:00:00"},{"$f":"IF(Dati!E227=\"EA1\",Dati!D227,)","v":0},{"$f":"IF(Dati!E227=\"EA2\",Dati!D227,)","v":0},{"$f":"IF(Dati!E227=\"EA3\",Dati!D227,)","v":0},{"$f":"IF(Dati!E227=\"EA4\",Dati!D227,)","v":0},{"$f":"IF(Dati!E227=\"EA5\",Dati!D227,)","v":0},{"$f":"IF(Dati!E227=\"EA6\",Dati!D227,)","v":0},{"$f":"IF(Dati!E227=\"EB1\",Dati!D227,)","v":0},{"$f":"IF(Dati!E227=\"EB2\",Dati!D227,)","v":0},{"$f":"IF(Dati!E227=\"EC1\",Dati!D227,)","v":0},{"$f":"IF(Dati!E227=\"ED1\",Dati!D227,)","v":0},{"$f":"IF(Dati!E227=\"EE1\",Dati!D227,)","v":0}]
[{"$f":"Dati!C228","v":"00:00:00"},{"$f":"Dati!H228","v":"00:00:00"},{"$f":"IF(Dati!E228=\"EA1\",Dati!D228,)","v":0},{"$f":"IF(Dati!E228=\"EA2\",Dati!D228,)","v":0},{"$f":"IF(Dati!E228=\"EA3\",Dati!D228,)","v":0},{"$f":"IF(Dati!E228=\"EA4\",Dati!D228,)","v":0},{"$f":"IF(Dati!E228=\"EA5\",Dati!D228,)","v":0},{"$f":"IF(Dati!E228=\"EA6\",Dati!D228,)","v":0},{"$f":"IF(Dati!E228=\"EB1\",Dati!D228,)","v":0},{"$f":"IF(Dati!E228=\"EB2\",Dati!D228,)","v":0},{"$f":"IF(Dati!E228=\"EC1\",Dati!D228,)","v":0},{"$f":"IF(Dati!E228=\"ED1\",Dati!D228,)","v":0},{"$f":"IF(Dati!E228=\"EE1\",Dati!D228,)","v":0}]
[{"$f":"Dati!C229","v":"00:00:00"},{"$f":"Dati!H229","v":"00:00:00"},{"$f":"IF(Dati!E229=\"EA1\",Dati!D229,)","v":0},{"$f":"IF(Dati!E229=\"EA2\",Dati!D229,)","v":0},{"$f":"IF(Dati!E229=\"EA3\",Dati!D229,)","v":0},{"$f":"IF(Dati!E229=\"EA4\",Dati!D229,)","v":0},{"$f":"IF(Dati!E229=\"EA5\",Dati!D229,)","v":0},{"$f":"IF(Dati!E229=\"EA6\",Dati!D229,)","v":0},{"$f":"IF(Dati!E229=\"EB1\",Dati!D229,)","v":0},{"$f":"IF(Dati!E229=\"EB2\",Dati!D229,)","v":0},{"$f":"IF(Dati!E229=\"EC1\",Dati!D229,)","v":0},{"$f":"IF(Dati!E229=\"ED1\",Dati!D229,)","v":0},{"$f":"IF(Dati!E229=\"EE1\",Dati!D229,)","v":0}]
[{"$f":"Dati!C230","v":"00:00:00"},{"$f":"Dati!H230","v":"00:00:00"},{"$f":"IF(Dati!E230=\"EA1\",Dati!D230,)","v":0},{"$f":"IF(Dati!E230=\"EA2\",Dati!D230,)","v":0},{"$f":"IF(Dati!E230=\"EA3\",Dati!D230,)","v":0},{"$f":"IF(Dati!E230=\"EA4\",Dati!D230,)","v":0},{"$f":"IF(Dati!E230=\"EA5\",Dati!D230,)","v":0},{"$f":"IF(Dati!E230=\"EA6\",Dati!D230,)","v":0},{"$f":"IF(Dati!E230=\"EB1\",Dati!D230,)","v":0},{"$f":"IF(Dati!E230=\"EB2\",Dati!D230,)","v":0},{"$f":"IF(Dati!E230=\"EC1\",Dati!D230,)","v":0},{"$f":"IF(Dati!E230=\"ED1\",Dati!D230,)","v":0},{"$f":"IF(Dati!E230=\"EE1\",Dati!D230,)","v":0}]
[{"$f":"Dati!C231","v":"00:00:00"},{"$f":"Dati!H231","v":"00:00:00"},{"$f":"IF(Dati!E231=\"EA1\",Dati!D231,)","v":0},{"$f":"IF(Dati!E231=\"EA2\",Dati!D231,)","v":0},{"$f":"IF(Dati!E231=\"EA3\",Dati!D231,)","v":0},{"$f":"IF(Dati!E231=\"EA4\",Dati!D231,)","v":0},{"$f":"IF(Dati!E231=\"EA5\",Dati!D231,)","v":0},{"$f":"IF(Dati!E231=\"EA6\",Dati!D231,)","v":0},{"$f":"IF(Dati!E231=\"EB1\",Dati!D231,)","v":0},{"$f":"IF(Dati!E231=\"EB2\",Dati!D231,)","v":0},{"$f":"IF(Dati!E231=\"EC1\",Dati!D231,)","v":0},{"$f":"IF(Dati!E231=\"ED1\",Dati!D231,)","v":0},{"$f":"IF(Dati!E231=\"EE1\",Dati!D231,)","v":0}]
[{"$f":"Dati!C232","v":"00:00:00"},{"$f":"Dati!H232","v":"00:00:00"},{"$f":"IF(Dati!E232=\"EA1\",Dati!D232,)","v":0},{"$f":"IF(Dati!E232=\"EA2\",Dati!D232,)","v":0},{"$f":"IF(Dati!E232=\"EA3\",Dati!D232,)","v":0},{"$f":"IF(Dati!E232=\"EA4\",Dati!D232,)","v":0},{"$f":"IF(Dati!E232=\"EA5\",Dati!D232,)","v":0},{"$f":"IF(Dati!E232=\"EA6\",Dati!D232,)","v":0},{"$f":"IF(Dati!E232=\"EB1\",Dati!D232,)","v":0},{"$f":"IF(Dati!E232=\"EB2\",Dati!D232,)","v":0},{"$f":"IF(Dati!E232=\"EC1\",Dati!D232,)","v":0},{"$f":"IF(Dati!E232=\"ED1\",Dati!D232,)","v":0},{"$f":"IF(Dati!E232=\"EE1\",Dati!D232,)","v":0}]
[{"$f":"Dati!C233","v":"00:00:00"},{"$f":"Dati!H233","v":"00:00:00"},{"$f":"IF(Dati!E233=\"EA1\",Dati!D233,)","v":0},{"$f":"IF(Dati!E233=\"EA2\",Dati!D233,)","v":0},{"$f":"IF(Dati!E233=\"EA3\",Dati!D233,)","v":0},{"$f":"IF(Dati!E233=\"EA4\",Dati!D233,)","v":0},{"$f":"IF(Dati!E233=\"EA5\",Dati!D233,)","v":0},{"$f":"IF(Dati!E233=\"EA6\",Dati!D233,)","v":0},{"$f":"IF(Dati!E233=\"EB1\",Dati!D233,)","v":0},{"$f":"IF(Dati!E233=\"EB2\",Dati!D233,)","v":0},{"$f":"IF(Dati!E233=\"EC1\",Dati!D233,)","v":0},{"$f":"IF(Dati!E233=\"ED1\",Dati!D233,)","v":0},{"$f":"IF(Dati!E233=\"EE1\",Dati!D233,)","v":0}]
[{"$f":"Dati!C234","v":"00:00:00"},{"$f":"Dati!H234","v":"00:00:00"},{"$f":"IF(Dati!E234=\"EA1\",Dati!D234,)","v":0},{"$f":"IF(Dati!E234=\"EA2\",Dati!D234,)","v":0},{"$f":"IF(Dati!E234=\"EA3\",Dati!D234,)","v":0},{"$f":"IF(Dati!E234=\"EA4\",Dati!D234,)","v":0},{"$f":"IF(Dati!E234=\"EA5\",Dati!D234,)","v":0},{"$f":"IF(Dati!E234=\"EA6\",Dati!D234,)","v":0},{"$f":"IF(Dati!E234=\"EB1\",Dati!D234,)","v":0},{"$f":"IF(Dati!E234=\"EB2\",Dati!D234,)","v":0},{"$f":"IF(Dati!E234=\"EC1\",Dati!D234,)","v":0},{"$f":"IF(Dati!E234=\"ED1\",Dati!D234,)","v":0},{"$f":"IF(Dati!E234=\"EE1\",Dati!D234,)","v":0}]
[{"$f":"Dati!C235","v":"00:00:00"},{"$f":"Dati!H235","v":"00:00:00"},{"$f":"IF(Dati!E235=\"EA1\",Dati!D235,)","v":0},{"$f":"IF(Dati!E235=\"EA2\",Dati!D235,)","v":0},{"$f":"IF(Dati!E235=\"EA3\",Dati!D235,)","v":0},{"$f":"IF(Dati!E235=\"EA4\",Dati!D235,)","v":0},{"$f":"IF(Dati!E235=\"EA5\",Dati!D235,)","v":0},{"$f":"IF(Dati!E235=\"EA6\",Dati!D235,)","v":0},{"$f":"IF(Dati!E235=\"EB1\",Dati!D235,)","v":0},{"$f":"IF(Dati!E235=\"EB2\",Dati!D235,)","v":0},{"$f":"IF(Dati!E235=\"EC1\",Dati!D235,)","v":0},{"$f":"IF(Dati!E235=\"ED1\",Dati!D235,)","v":0},{"$f":"IF(Dati!E235=\"EE1\",Dati!D235,)","v":0}]
[{"$f":"Dati!C236","v":"00:00:00"},{"$f":"Dati!H236","v":"00:00:00"},{"$f":"IF(Dati!E236=\"EA1\",Dati!D236,)","v":0},{"$f":"IF(Dati!E236=\"EA2\",Dati!D236,)","v":0},{"$f":"IF(Dati!E236=\"EA3\",Dati!D236,)","v":0},{"$f":"IF(Dati!E236=\"EA4\",Dati!D236,)","v":0},{"$f":"IF(Dati!E236=\"EA5\",Dati!D236,)","v":0},{"$f":"IF(Dati!E236=\"EA6\",Dati!D236,)","v":0},{"$f":"IF(Dati!E236=\"EB1\",Dati!D236,)","v":0},{"$f":"IF(Dati!E236=\"EB2\",Dati!D236,)","v":0},{"$f":"IF(Dati!E236=\"EC1\",Dati!D236,)","v":0},{"$f":"IF(Dati!E236=\"ED1\",Dati!D236,)","v":0},{"$f":"IF(Dati!E236=\"EE1\",Dati!D236,)","v":0}]
[{"$f":"Dati!C237","v":"00:00:00"},{"$f":"Dati!H237","v":"00:00:00"},{"$f":"IF(Dati!E237=\"EA1\",Dati!D237,)","v":0},{"$f":"IF(Dati!E237=\"EA2\",Dati!D237,)","v":0},{"$f":"IF(Dati!E237=\"EA3\",Dati!D237,)","v":0},{"$f":"IF(Dati!E237=\"EA4\",Dati!D237,)","v":0},{"$f":"IF(Dati!E237=\"EA5\",Dati!D237,)","v":0},{"$f":"IF(Dati!E237=\"EA6\",Dati!D237,)","v":0},{"$f":"IF(Dati!E237=\"EB1\",Dati!D237,)","v":0},{"$f":"IF(Dati!E237=\"EB2\",Dati!D237,)","v":0},{"$f":"IF(Dati!E237=\"EC1\",Dati!D237,)","v":0},{"$f":"IF(Dati!E237=\"ED1\",Dati!D237,)","v":0},{"$f":"IF(Dati!E237=\"EE1\",Dati!D237,)","v":0}]
[{"$f":"Dati!C238","v":"00:00:00"},{"$f":"Dati!H238","v":"00:00:00"},{"$f":"IF(Dati!E238=\"EA1\",Dati!D238,)","v":0},{"$f":"IF(Dati!E238=\"EA2\",Dati!D238,)","v":0},{"$f":"IF(Dati!E238=\"EA3\",Dati!D238,)","v":0},{"$f":"IF(Dati!E238=\"EA4\",Dati!D238,)","v":0},{"$f":"IF(Dati!E238=\"EA5\",Dati!D238,)","v":0},{"$f":"IF(Dati!E238=\"EA6\",Dati!D238,)","v":0},{"$f":"IF(Dati!E238=\"EB1\",Dati!D238,)","v":0},{"$f":"IF(Dati!E238=\"EB2\",Dati!D238,)","v":0},{"$f":"IF(Dati!E238=\"EC1\",Dati!D238,)","v":0},{"$f":"IF(Dati!E238=\"ED1\",Dati!D238,)","v":0},{"$f":"IF(Dati!E238=\"EE1\",Dati!D238,)","v":0}]
[{"$f":"Dati!C239","v":"00:00:00"},{"$f":"Dati!H239","v":"00:00:00"},{"$f":"IF(Dati!E239=\"EA1\",Dati!D239,)","v":0},{"$f":"IF(Dati!E239=\"EA2\",Dati!D239,)","v":0},{"$f":"IF(Dati!E239=\"EA3\",Dati!D239,)","v":0},{"$f":"IF(Dati!E239=\"EA4\",Dati!D239,)","v":0},{"$f":"IF(Dati!E239=\"EA5\",Dati!D239,)","v":0},{"$f":"IF(Dati!E239=\"EA6\",Dati!D239,)","v":0},{"$f":"IF(Dati!E239=\"EB1\",Dati!D239,)","v":0},{"$f":"IF(Dati!E239=\"EB2\",Dati!D239,)","v":0},{"$f":"IF(Dati!E239=\"EC1\",Dati!D239,)","v":0},{"$f":"IF(Dati!E239=\"ED1\",Dati!D239,)","v":0},{"$f":"IF(Dati!E239=\"EE1\",Dati!D239,)","v":0}]
[{"$f":"Dati!C240","v":"00:00:00"},{"$f":"Dati!H240","v":"00:00:00"},{"$f":"IF(Dati!E240=\"EA1\",Dati!D240,)","v":0},{"$f":"IF(Dati!E240=\"EA2\",Dati!D240,)","v":0},{"$f":"IF(Dati!E240=\"EA3\",Dati!D240,)","v":0},{"$f":"IF(Dati!E240=\"EA4\",Dati!D240,)","v":0},{"$f":"IF(Dati!E240=\"EA5\",Dati!D240,)","v":0},{"$f":"IF(Dati!E240=\"EA6\",Dati!D240,)","v":0},{"$f":"IF(Dati!E240=\"EB1\",Dati!D240,)","v":0},{"$f":"IF(Dati!E240=\"EB2\",Dati!D240,)","v":0},{"$f":"IF(Dati!E240=\"EC1\",Dati!D240,)","v":0},{"$f":"IF(Dati!E240=\"ED1\",Dati!D240,)","v":0},{"$f":"IF(Dati!E240=\"EE1\",Dati!D240,)","v":0}]
[{"$f":"Dati!C241","v":"00:00:00"},{"$f":"Dati!H241","v":"00:00:00"},{"$f":"IF(Dati!E241=\"EA1\",Dati!D241,)","v":0},{"$f":"IF(Dati!E241=\"EA2\",Dati!D241,)","v":0},{"$f":"IF(Dati!E241=\"EA3\",Dati!D241,)","v":0},{"$f":"IF(Dati!E241=\"EA4\",Dati!D241,)","v":0},{"$f":"IF(Dati!E241=\"EA5\",Dati!D241,)","v":0},{"$f":"IF(Dati!E241=\"EA6\",Dati!D241,)","v":0},{"$f":"IF(Dati!E241=\"EB1\",Dati!D241,)","v":0},{"$f":"IF(Dati!E241=\"EB2\",Dati!D241,)","v":0},{"$f":"IF(Dati!E241=\"EC1\",Dati!D241,)","v":0},{"$f":"IF(Dati!E241=\"ED1\",Dati!D241,)","v":0},{"$f":"IF(Dati!E241=\"EE1\",Dati!D241,)","v":0}]
[{"$f":"Dati!C242","v":"00:00:00"},{"$f":"Dati!H242","v":"00:00:00"},{"$f":"IF(Dati!E242=\"EA1\",Dati!D242,)","v":0},{"$f":"IF(Dati!E242=\"EA2\",Dati!D242,)","v":0},{"$f":"IF(Dati!E242=\"EA3\",Dati!D242,)","v":0},{"$f":"IF(Dati!E242=\"EA4\",Dati!D242,)","v":0},{"$f":"IF(Dati!E242=\"EA5\",Dati!D242,)","v":0},{"$f":"IF(Dati!E242=\"EA6\",Dati!D242,)","v":0},{"$f":"IF(Dati!E242=\"EB1\",Dati!D242,)","v":0},{"$f":"IF(Dati!E242=\"EB2\",Dati!D242,)","v":0},{"$f":"IF(Dati!E242=\"EC1\",Dati!D242,)","v":0},{"$f":"IF(Dati!E242=\"ED1\",Dati!D242,)","v":0},{"$f":"IF(Dati!E242=\"EE1\",Dati!D242,)","v":0}]
[{"$f":"Dati!C243","v":"00:00:00"},{"$f":"Dati!H243","v":"00:00:00"},{"$f":"IF(Dati!E243=\"EA1\",Dati!D243,)","v":0},{"$f":"IF(Dati!E243=\"EA2\",Dati!D243,)","v":0},{"$f":"IF(Dati!E243=\"EA3\",Dati!D243,)","v":0},{"$f":"IF(Dati!E243=\"EA4\",Dati!D243,)","v":0},{"$f":"IF(Dati!E243=\"EA5\",Dati!D243,)","v":0},{"$f":"IF(Dati!E243=\"EA6\",Dati!D243,)","v":0},{"$f":"IF(Dati!E243=\"EB1\",Dati!D243,)","v":0},{"$f":"IF(Dati!E243=\"EB2\",Dati!D243,)","v":0},{"$f":"IF(Dati!E243=\"EC1\",Dati!D243,)","v":0},{"$f":"IF(Dati!E243=\"ED1\",Dati!D243,)","v":0},{"$f":"IF(Dati!E243=\"EE1\",Dati!D243,)","v":0}]
[{"$f":"Dati!C244","v":"00:00:00"},{"$f":"Dati!H244","v":"00:00:00"},{"$f":"IF(Dati!E244=\"EA1\",Dati!D244,)","v":0},{"$f":"IF(Dati!E244=\"EA2\",Dati!D244,)","v":0},{"$f":"IF(Dati!E244=\"EA3\",Dati!D244,)","v":0},{"$f":"IF(Dati!E244=\"EA4\",Dati!D244,)","v":0},{"$f":"IF(Dati!E244=\"EA5\",Dati!D244,)","v":0},{"$f":"IF(Dati!E244=\"EA6\",Dati!D244,)","v":0},{"$f":"IF(Dati!E244=\"EB1\",Dati!D244,)","v":0},{"$f":"IF(Dati!E244=\"EB2\",Dati!D244,)","v":0},{"$f":"IF(Dati!E244=\"EC1\",Dati!D244,)","v":0},{"$f":"IF(Dati!E244=\"ED1\",Dati!D244,)","v":0},{"$f":"IF(Dati!E244=\"EE1\",Dati!D244,)","v":0}]
[{"$f":"Dati!C245","v":"00:00:00"},{"$f":"Dati!H245","v":"00:00:00"},{"$f":"IF(Dati!E245=\"EA1\",Dati!D245,)","v":0},{"$f":"IF(Dati!E245=\"EA2\",Dati!D245,)","v":0},{"$f":"IF(Dati!E245=\"EA3\",Dati!D245,)","v":0},{"$f":"IF(Dati!E245=\"EA4\",Dati!D245,)","v":0},{"$f":"IF(Dati!E245=\"EA5\",Dati!D245,)","v":0},{"$f":"IF(Dati!E245=\"EA6\",Dati!D245,)","v":0},{"$f":"IF(Dati!E245=\"EB1\",Dati!D245,)","v":0},{"$f":"IF(Dati!E245=\"EB2\",Dati!D245,)","v":0},{"$f":"IF(Dati!E245=\"EC1\",Dati!D245,)","v":0},{"$f":"IF(Dati!E245=\"ED1\",Dati!D245,)","v":0},{"$f":"IF(Dati!E245=\"EE1\",Dati!D245,)","v":0}]
[{"$f":"Dati!C246","v":"00:00:00"},{"$f":"Dati!H246","v":"00:00:00"},{"$f":"IF(Dati!E246=\"EA1\",Dati!D246,)","v":0},{"$f":"IF(Dati!E246=\"EA2\",Dati!D246,)","v":0},{"$f":"IF(Dati!E246=\"EA3\",Dati!D246,)","v":0},{"$f":"IF(Dati!E246=\"EA4\",Dati!D246,)","v":0},{"$f":"IF(Dati!E246=\"EA5\",Dati!D246,)","v":0},{"$f":"IF(Dati!E246=\"EA6\",Dati!D246,)","v":0},{"$f":"IF(Dati!E246=\"EB1\",Dati!D246,)","v":0},{"$f":"IF(Dati!E246=\"EB2\",Dati!D246,)","v":0},{"$f":"IF(Dati!E246=\"EC1\",Dati!D246,)","v":0},{"$f":"IF(Dati!E246=\"ED1\",Dati!D246,)","v":0},{"$f":"IF(Dati!E246=\"EE1\",Dati!D246,)","v":0}]
[{"$f":"Dati!C247","v":"00:00:00"},{"$f":"Dati!H247","v":"00:00:00"},{"$f":"IF(Dati!E247=\"EA1\",Dati!D247,)","v":0},{"$f":"IF(Dati!E247=\"EA2\",Dati!D247,)","v":0},{"$f":"IF(Dati!E247=\"EA3\",Dati!D247,)","v":0},{"$f":"IF(Dati!E247=\"EA4\",Dati!D247,)","v":0},{"$f":"IF(Dati!E247=\"EA5\",Dati!D247,)","v":0},{"$f":"IF(Dati!E247=\"EA6\",Dati!D247,)","v":0},{"$f":"IF(Dati!E247=\"EB1\",Dati!D247,)","v":0},{"$f":"IF(Dati!E247=\"EB2\",Dati!D247,)","v":0},{"$f":"IF(Dati!E247=\"EC1\",Dati!D247,)","v":0},{"$f":"IF(Dati!E247=\"ED1\",Dati!D247,)","v":0},{"$f":"IF(Dati!E247=\"EE1\",Dati!D247,)","v":0}]
[{"$f":"Dati!C248","v":"00:00:00"},{"$f":"Dati!H248","v":"00:00:00"},{"$f":"IF(Dati!E248=\"EA1\",Dati!D248,)","v":0},{"$f":"IF(Dati!E248=\"EA2\",Dati!D248,)","v":0},{"$f":"IF(Dati!E248=\"EA3\",Dati!D248,)","v":0},{"$f":"IF(Dati!E248=\"EA4\",Dati!D248,)","v":0},{"$f":"IF(Dati!E248=\"EA5\",Dati!D248,)","v":0},{"$f":"IF(Dati!E248=\"EA6\",Dati!D248,)","v":0},{"$f":"IF(Dati!E248=\"EB1\",Dati!D248,)","v":0},{"$f":"IF(Dati!E248=\"EB2\",Dati!D248,)","v":0},{"$f":"IF(Dati!E248=\"EC1\",Dati!D248,)","v":0},{"$f":"IF(Dati!E248=\"ED1\",Dati!D248,)","v":0},{"$f":"IF(Dati!E248=\"EE1\",Dati!D248,)","v":0}]
[{"$f":"Dati!C249","v":"00:00:00"},{"$f":"Dati!H249","v":"00:00:00"},{"$f":"IF(Dati!E249=\"EA1\",Dati!D249,)","v":0},{"$f":"IF(Dati!E249=\"EA2\",Dati!D249,)","v":0},{"$f":"IF(Dati!E249=\"EA3\",Dati!D249,)","v":0},{"$f":"IF(Dati!E249=\"EA4\",Dati!D249,)","v":0},{"$f":"IF(Dati!E249=\"EA5\",Dati!D249,)","v":0},{"$f":"IF(Dati!E249=\"EA6\",Dati!D249,)","v":0},{"$f":"IF(Dati!E249=\"EB1\",Dati!D249,)","v":0},{"$f":"IF(Dati!E249=\"EB2\",Dati!D249,)","v":0},{"$f":"IF(Dati!E249=\"EC1\",Dati!D249,)","v":0},{"$f":"IF(Dati!E249=\"ED1\",Dati!D249,)","v":0},{"$f":"IF(Dati!E249=\"EE1\",Dati!D249,)","v":0}]
[{"$f":"Dati!C250","v":"00:00:00"},{"$f":"Dati!H250","v":"00:00:00"},{"$f":"IF(Dati!E250=\"EA1\",Dati!D250,)","v":0},{"$f":"IF(Dati!E250=\"EA2\",Dati!D250,)","v":0},{"$f":"IF(Dati!E250=\"EA3\",Dati!D250,)","v":0},{"$f":"IF(Dati!E250=\"EA4\",Dati!D250,)","v":0},{"$f":"IF(Dati!E250=\"EA5\",Dati!D250,)","v":0},{"$f":"IF(Dati!E250=\"EA6\",Dati!D250,)","v":0},{"$f":"IF(Dati!E250=\"EB1\",Dati!D250,)","v":0},{"$f":"IF(Dati!E250=\"EB2\",Dati!D250,)","v":0},{"$f":"IF(Dati!E250=\"EC1\",Dati!D250,)","v":0},{"$f":"IF(Dati!E250=\"ED1\",Dati!D250,)","v":0},{"$f":"IF(Dati!E250=\"EE1\",Dati!D250,)","v":0}]
[{"$f":"Dati!C251","v":"00:00:00"},{"$f":"Dati!H251","v":"00:00:00"},{"$f":"IF(Dati!E251=\"EA1\",Dati!D251,)","v":0},{"$f":"IF(Dati!E251=\"EA2\",Dati!D251,)","v":0},{"$f":"IF(Dati!E251=\"EA3\",Dati!D251,)","v":0},{"$f":"IF(Dati!E251=\"EA4\",Dati!D251,)","v":0},{"$f":"IF(Dati!E251=\"EA5\",Dati!D251,)","v":0},{"$f":"IF(Dati!E251=\"EA6\",Dati!D251,)","v":0},{"$f":"IF(Dati!E251=\"EB1\",Dati!D251,)","v":0},{"$f":"IF(Dati!E251=\"EB2\",Dati!D251,)","v":0},{"$f":"IF(Dati!E251=\"EC1\",Dati!D251,)","v":0},{"$f":"IF(Dati!E251=\"ED1\",Dati!D251,)","v":0},{"$f":"IF(Dati!E251=\"EE1\",Dati!D251,)","v":0}]
[{"$f":"Dati!C252","v":"00:00:00"},{"$f":"Dati!H252","v":"00:00:00"},{"$f":"IF(Dati!E252=\"EA1\",Dati!D252,)","v":0},{"$f":"IF(Dati!E252=\"EA2\",Dati!D252,)","v":0},{"$f":"IF(Dati!E252=\"EA3\",Dati!D252,)","v":0},{"$f":"IF(Dati!E252=\"EA4\",Dati!D252,)","v":0},{"$f":"IF(Dati!E252=\"EA5\",Dati!D252,)","v":0},{"$f":"IF(Dati!E252=\"EA6\",Dati!D252,)","v":0},{"$f":"IF(Dati!E252=\"EB1\",Dati!D252,)","v":0},{"$f":"IF(Dati!E252=\"EB2\",Dati!D252,)","v":0},{"$f":"IF(Dati!E252=\"EC1\",Dati!D252,)","v":0},{"$f":"IF(Dati!E252=\"ED1\",Dati!D252,)","v":0},{"$f":"IF(Dati!E252=\"EE1\",Dati!D252,)","v":0}]
[{"$f":"Dati!C253","v":"00:00:00"},{"$f":"Dati!H253","v":"00:00:00"},{"$f":"IF(Dati!E253=\"EA1\",Dati!D253,)","v":0},{"$f":"IF(Dati!E253=\"EA2\",Dati!D253,)","v":0},{"$f":"IF(Dati!E253=\"EA3\",Dati!D253,)","v":0},{"$f":"IF(Dati!E253=\"EA4\",Dati!D253,)","v":0},{"$f":"IF(Dati!E253=\"EA5\",Dati!D253,)","v":0},{"$f":"IF(Dati!E253=\"EA6\",Dati!D253,)","v":0},{"$f":"IF(Dati!E253=\"EB1\",Dati!D253,)","v":0},{"$f":"IF(Dati!E253=\"EB2\",Dati!D253,)","v":0},{"$f":"IF(Dati!E253=\"EC1\",Dati!D253,)","v":0},{"$f":"IF(Dati!E253=\"ED1\",Dati!D253,)","v":0},{"$f":"IF(Dati!E253=\"EE1\",Dati!D253,)","v":0}]
[{"$f":"Dati!C254","v":"00:00:00"},{"$f":"Dati!H254","v":"00:00:00"},{"$f":"IF(Dati!E254=\"EA1\",Dati!D254,)","v":0},{"$f":"IF(Dati!E254=\"EA2\",Dati!D254,)","v":0},{"$f":"IF(Dati!E254=\"EA3\",Dati!D254,)","v":0},{"$f":"IF(Dati!E254=\"EA4\",Dati!D254,)","v":0},{"$f":"IF(Dati!E254=\"EA5\",Dati!D254,)","v":0},{"$f":"IF(Dati!E254=\"EA6\",Dati!D254,)","v":0},{"$f":"IF(Dati!E254=\"EB1\",Dati!D254,)","v":0},{"$f":"IF(Dati!E254=\"EB2\",Dati!D254,)","v":0},{"$f":"IF(Dati!E254=\"EC1\",Dati!D254,)","v":0},{"$f":"IF(Dati!E254=\"ED1\",Dati!D254,)","v":0},{"$f":"IF(Dati!E254=\"EE1\",Dati!D254,)","v":0}]
[{"$f":"Dati!C255","v":"00:00:00"},{"$f":"Dati!H255","v":"00:00:00"},{"$f":"IF(Dati!E255=\"EA1\",Dati!D255,)","v":0},{"$f":"IF(Dati!E255=\"EA2\",Dati!D255,)","v":0},{"$f":"IF(Dati!E255=\"EA3\",Dati!D255,)","v":0},{"$f":"IF(Dati!E255=\"EA4\",Dati!D255,)","v":0},{"$f":"IF(Dati!E255=\"EA5\",Dati!D255,)","v":0},{"$f":"IF(Dati!E255=\"EA6\",Dati!D255,)","v":0},{"$f":"IF(Dati!E255=\"EB1\",Dati!D255,)","v":0},{"$f":"IF(Dati!E255=\"EB2\",Dati!D255,)","v":0},{"$f":"IF(Dati!E255=\"EC1\",Dati!D255,)","v":0},{"$f":"IF(Dati!E255=\"ED1\",Dati!D255,)","v":0},{"$f":"IF(Dati!E255=\"EE1\",Dati!D255,)","v":0}]
[{"$f":"Dati!C256","v":"00:00:00"},{"$f":"Dati!H256","v":"00:00:00"},{"$f":"IF(Dati!E256=\"EA1\",Dati!D256,)","v":0},{"$f":"IF(Dati!E256=\"EA2\",Dati!D256,)","v":0},{"$f":"IF(Dati!E256=\"EA3\",Dati!D256,)","v":0},{"$f":"IF(Dati!E256=\"EA4\",Dati!D256,)","v":0},{"$f":"IF(Dati!E256=\"EA5\",Dati!D256,)","v":0},{"$f":"IF(Dati!E256=\"EA6\",Dati!D256,)","v":0},{"$f":"IF(Dati!E256=\"EB1\",Dati!D256,)","v":0},{"$f":"IF(Dati!E256=\"EB2\",Dati!D256,)","v":0},{"$f":"IF(Dati!E256=\"EC1\",Dati!D256,)","v":0},{"$f":"IF(Dati!E256=\"ED1\",Dati!D256,)","v":0},{"$f":"IF(Dati!E256=\"EE1\",Dati!D256,)","v":0}]
[{"$f":"Dati!C257","v":"00:00:00"},{"$f":"Dati!H257","v":"00:00:00"},{"$f":"IF(Dati!E257=\"EA1\",Dati!D257,)","v":0},{"$f":"IF(Dati!E257=\"EA2\",Dati!D257,)","v":0},{"$f":"IF(Dati!E257=\"EA3\",Dati!D257,)","v":0},{"$f":"IF(Dati!E257=\"EA4\",Dati!D257,)","v":0},{"$f":"IF(Dati!E257=\"EA5\",Dati!D257,)","v":0},{"$f":"IF(Dati!E257=\"EA6\",Dati!D257,)","v":0},{"$f":"IF(Dati!E257=\"EB1\",Dati!D257,)","v":0},{"$f":"IF(Dati!E257=\"EB2\",Dati!D257,)","v":0},{"$f":"IF(Dati!E257=\"EC1\",Dati!D257,)","v":0},{"$f":"IF(Dati!E257=\"ED1\",Dati!D257,)","v":0},{"$f":"IF(Dati!E257=\"EE1\",Dati!D257,)","v":0}]
[{"$f":"Dati!C258","v":"00:00:00"},{"$f":"Dati!H258","v":"00:00:00"},{"$f":"IF(Dati!E258=\"EA1\",Dati!D258,)","v":0},{"$f":"IF(Dati!E258=\"EA2\",Dati!D258,)","v":0},{"$f":"IF(Dati!E258=\"EA3\",Dati!D258,)","v":0},{"$f":"IF(Dati!E258=\"EA4\",Dati!D258,)","v":0},{"$f":"IF(Dati!E258=\"EA5\",Dati!D258,)","v":0},{"$f":"IF(Dati!E258=\"EA6\",Dati!D258,)","v":0},{"$f":"IF(Dati!E258=\"EB1\",Dati!D258,)","v":0},{"$f":"IF(Dati!E258=\"EB2\",Dati!D258,)","v":0},{"$f":"IF(Dati!E258=\"EC1\",Dati!D258,)","v":0},{"$f":"IF(Dati!E258=\"ED1\",Dati!D258,)","v":0},{"$f":"IF(Dati!E258=\"EE1\",Dati!D258,)","v":0}]
[{"$f":"Dati!C259","v":"00:00:00"},{"$f":"Dati!H259","v":"00:00:00"},{"$f":"IF(Dati!E259=\"EA1\",Dati!D259,)","v":0},{"$f":"IF(Dati!E259=\"EA2\",Dati!D259,)","v":0},{"$f":"IF(Dati!E259=\"EA3\",Dati!D259,)","v":0},{"$f":"IF(Dati!E259=\"EA4\",Dati!D259,)","v":0},{"$f":"IF(Dati!E259=\"EA5\",Dati!D259,)","v":0},{"$f":"IF(Dati!E259=\"EA6\",Dati!D259,)","v":0},{"$f":"IF(Dati!E259=\"EB1\",Dati!D259,)","v":0},{"$f":"IF(Dati!E259=\"EB2\",Dati!D259,)","v":0},{"$f":"IF(Dati!E259=\"EC1\",Dati!D259,)","v":0},{"$f":"IF(Dati!E259=\"ED1\",Dati!D259,)","v":0},{"$f":"IF(Dati!E259=\"EE1\",Dati!D259,)","v":0}]
[{"$f":"Dati!C260","v":"00:00:00"},{"$f":"Dati!H260","v":"00:00:00"},{"$f":"IF(Dati!E260=\"EA1\",Dati!D260,)","v":0},{"$f":"IF(Dati!E260=\"EA2\",Dati!D260,)","v":0},{"$f":"IF(Dati!E260=\"EA3\",Dati!D260,)","v":0},{"$f":"IF(Dati!E260=\"EA4\",Dati!D260,)","v":0},{"$f":"IF(Dati!E260=\"EA5\",Dati!D260,)","v":0},{"$f":"IF(Dati!E260=\"EA6\",Dati!D260,)","v":0},{"$f":"IF(Dati!E260=\"EB1\",Dati!D260,)","v":0},{"$f":"IF(Dati!E260=\"EB2\",Dati!D260,)","v":0},{"$f":"IF(Dati!E260=\"EC1\",Dati!D260,)","v":0},{"$f":"IF(Dati!E260=\"ED1\",Dati!D260,)","v":0},{"$f":"IF(Dati!E260=\"EE1\",Dati!D260,)","v":0}]
[{"$f":"Dati!C261","v":"00:00:00"},{"$f":"Dati!H261","v":"00:00:00"},{"$f":"IF(Dati!E261=\"EA1\",Dati!D261,)","v":0},{"$f":"IF(Dati!E261=\"EA2\",Dati!D261,)","v":0},{"$f":"IF(Dati!E261=\"EA3\",Dati!D261,)","v":0},{"$f":"IF(Dati!E261=\"EA4\",Dati!D261,)","v":0},{"$f":"IF(Dati!E261=\"EA5\",Dati!D261,)","v":0},{"$f":"IF(Dati!E261=\"EA6\",Dati!D261,)","v":0},{"$f":"IF(Dati!E261=\"EB1\",Dati!D261,)","v":0},{"$f":"IF(Dati!E261=\"EB2\",Dati!D261,)","v":0},{"$f":"IF(Dati!E261=\"EC1\",Dati!D261,)","v":0},{"$f":"IF(Dati!E261=\"ED1\",Dati!D261,)","v":0},{"$f":"IF(Dati!E261=\"EE1\",Dati!D261,)","v":0}]
[{"$f":"Dati!C262","v":"00:00:00"},{"$f":"Dati!H262","v":"00:00:00"},{"$f":"IF(Dati!E262=\"EA1\",Dati!D262,)","v":0},{"$f":"IF(Dati!E262=\"EA2\",Dati!D262,)","v":0},{"$f":"IF(Dati!E262=\"EA3\",Dati!D262,)","v":0},{"$f":"IF(Dati!E262=\"EA4\",Dati!D262,)","v":0},{"$f":"IF(Dati!E262=\"EA5\",Dati!D262,)","v":0},{"$f":"IF(Dati!E262=\"EA6\",Dati!D262,)","v":0},{"$f":"IF(Dati!E262=\"EB1\",Dati!D262,)","v":0},{"$f":"IF(Dati!E262=\"EB2\",Dati!D262,)","v":0},{"$f":"IF(Dati!E262=\"EC1\",Dati!D262,)","v":0},{"$f":"IF(Dati!E262=\"ED1\",Dati!D262,)","v":0},{"$f":"IF(Dati!E262=\"EE1\",Dati!D262,)","v":0}]
[{"$f":"Dati!C263","v":"00:00:00"},{"$f":"Dati!H263","v":"00:00:00"},{"$f":"IF(Dati!E263=\"EA1\",Dati!D263,)","v":0},{"$f":"IF(Dati!E263=\"EA2\",Dati!D263,)","v":0},{"$f":"IF(Dati!E263=\"EA3\",Dati!D263,)","v":0},{"$f":"IF(Dati!E263=\"EA4\",Dati!D263,)","v":0},{"$f":"IF(Dati!E263=\"EA5\",Dati!D263,)","v":0},{"$f":"IF(Dati!E263=\"EA6\",Dati!D263,)","v":0},{"$f":"IF(Dati!E263=\"EB1\",Dati!D263,)","v":0},{"$f":"IF(Dati!E263=\"EB2\",Dati!D263,)","v":0},{"$f":"IF(Dati!E263=\"EC1\",Dati!D263,)","v":0},{"$f":"IF(Dati!E263=\"ED1\",Dati!D263,)","v":0},{"$f":"IF(Dati!E263=\"EE1\",Dati!D263,)","v":0}]
[{"$f":"Dati!C264","v":"00:00:00"},{"$f":"Dati!H264","v":"00:00:00"},{"$f":"IF(Dati!E264=\"EA1\",Dati!D264,)","v":0},{"$f":"IF(Dati!E264=\"EA2\",Dati!D264,)","v":0},{"$f":"IF(Dati!E264=\"EA3\",Dati!D264,)","v":0},{"$f":"IF(Dati!E264=\"EA4\",Dati!D264,)","v":0},{"$f":"IF(Dati!E264=\"EA5\",Dati!D264,)","v":0},{"$f":"IF(Dati!E264=\"EA6\",Dati!D264,)","v":0},{"$f":"IF(Dati!E264=\"EB1\",Dati!D264,)","v":0},{"$f":"IF(Dati!E264=\"EB2\",Dati!D264,)","v":0},{"$f":"IF(Dati!E264=\"EC1\",Dati!D264,)","v":0},{"$f":"IF(Dati!E264=\"ED1\",Dati!D264,)","v":0},{"$f":"IF(Dati!E264=\"EE1\",Dati!D264,)","v":0}]
[{"$f":"Dati!C265","v":"00:00:00"},{"$f":"Dati!H265","v":"00:00:00"},{"$f":"IF(Dati!E265=\"EA1\",Dati!D265,)","v":0},{"$f":"IF(Dati!E265=\"EA2\",Dati!D265,)","v":0},{"$f":"IF(Dati!E265=\"EA3\",Dati!D265,)","v":0},{"$f":"IF(Dati!E265=\"EA4\",Dati!D265,)","v":0},{"$f":"IF(Dati!E265=\"EA5\",Dati!D265,)","v":0},{"$f":"IF(Dati!E265=\"EA6\",Dati!D265,)","v":0},{"$f":"IF(Dati!E265=\"EB1\",Dati!D265,)","v":0},{"$f":"IF(Dati!E265=\"EB2\",Dati!D265,)","v":0},{"$f":"IF(Dati!E265=\"EC1\",Dati!D265,)","v":0},{"$f":"IF(Dati!E265=\"ED1\",Dati!D265,)","v":0},{"$f":"IF(Dati!E265=\"EE1\",Dati!D265,)","v":0}]
[{"$f":"Dati!C266","v":"00:00:00"},{"$f":"Dati!H266","v":"00:00:00"},{"$f":"IF(Dati!E266=\"EA1\",Dati!D266,)","v":0},{"$f":"IF(Dati!E266=\"EA2\",Dati!D266,)","v":0},{"$f":"IF(Dati!E266=\"EA3\",Dati!D266,)","v":0},{"$f":"IF(Dati!E266=\"EA4\",Dati!D266,)","v":0},{"$f":"IF(Dati!E266=\"EA5\",Dati!D266,)","v":0},{"$f":"IF(Dati!E266=\"EA6\",Dati!D266,)","v":0},{"$f":"IF(Dati!E266=\"EB1\",Dati!D266,)","v":0},{"$f":"IF(Dati!E266=\"EB2\",Dati!D266,)","v":0},{"$f":"IF(Dati!E266=\"EC1\",Dati!D266,)","v":0},{"$f":"IF(Dati!E266=\"ED1\",Dati!D266,)","v":0},{"$f":"IF(Dati!E266=\"EE1\",Dati!D266,)","v":0}]
[{"$f":"Dati!C267","v":"00:00:00"},{"$f":"Dati!H267","v":"00:00:00"},{"$f":"IF(Dati!E267=\"EA1\",Dati!D267,)","v":0},{"$f":"IF(Dati!E267=\"EA2\",Dati!D267,)","v":0},{"$f":"IF(Dati!E267=\"EA3\",Dati!D267,)","v":0},{"$f":"IF(Dati!E267=\"EA4\",Dati!D267,)","v":0},{"$f":"IF(Dati!E267=\"EA5\",Dati!D267,)","v":0},{"$f":"IF(Dati!E267=\"EA6\",Dati!D267,)","v":0},{"$f":"IF(Dati!E267=\"EB1\",Dati!D267,)","v":0},{"$f":"IF(Dati!E267=\"EB2\",Dati!D267,)","v":0},{"$f":"IF(Dati!E267=\"EC1\",Dati!D267,)","v":0},{"$f":"IF(Dati!E267=\"ED1\",Dati!D267,)","v":0},{"$f":"IF(Dati!E267=\"EE1\",Dati!D267,)","v":0}]
[{"$f":"Dati!C268","v":"00:00:00"},{"$f":"Dati!H268","v":"00:00:00"},{"$f":"IF(Dati!E268=\"EA1\",Dati!D268,)","v":0},{"$f":"IF(Dati!E268=\"EA2\",Dati!D268,)","v":0},{"$f":"IF(Dati!E268=\"EA3\",Dati!D268,)","v":0},{"$f":"IF(Dati!E268=\"EA4\",Dati!D268,)","v":0},{"$f":"IF(Dati!E268=\"EA5\",Dati!D268,)","v":0},{"$f":"IF(Dati!E268=\"EA6\",Dati!D268,)","v":0},{"$f":"IF(Dati!E268=\"EB1\",Dati!D268,)","v":0},{"$f":"IF(Dati!E268=\"EB2\",Dati!D268,)","v":0},{"$f":"IF(Dati!E268=\"EC1\",Dati!D268,)","v":0},{"$f":"IF(Dati!E268=\"ED1\",Dati!D268,)","v":0},{"$f":"IF(Dati!E268=\"EE1\",Dati!D268,)","v":0}]
[{"$f":"Dati!C269","v":"00:00:00"},{"$f":"Dati!H269","v":"00:00:00"},{"$f":"IF(Dati!E269=\"EA1\",Dati!D269,)","v":0},{"$f":"IF(Dati!E269=\"EA2\",Dati!D269,)","v":0},{"$f":"IF(Dati!E269=\"EA3\",Dati!D269,)","v":0},{"$f":"IF(Dati!E269=\"EA4\",Dati!D269,)","v":0},{"$f":"IF(Dati!E269=\"EA5\",Dati!D269,)","v":0},{"$f":"IF(Dati!E269=\"EA6\",Dati!D269,)","v":0},{"$f":"IF(Dati!E269=\"EB1\",Dati!D269,)","v":0},{"$f":"IF(Dati!E269=\"EB2\",Dati!D269,)","v":0},{"$f":"IF(Dati!E269=\"EC1\",Dati!D269,)","v":0},{"$f":"IF(Dati!E269=\"ED1\",Dati!D269,)","v":0},{"$f":"IF(Dati!E269=\"EE1\",Dati!D269,)","v":0}]
[{"$f":"Dati!C270","v":"00:00:00"},{"$f":"Dati!H270","v":"00:00:00"},{"$f":"IF(Dati!E270=\"EA1\",Dati!D270,)","v":0},{"$f":"IF(Dati!E270=\"EA2\",Dati!D270,)","v":0},{"$f":"IF(Dati!E270=\"EA3\",Dati!D270,)","v":0},{"$f":"IF(Dati!E270=\"EA4\",Dati!D270,)","v":0},{"$f":"IF(Dati!E270=\"EA5\",Dati!D270,)","v":0},{"$f":"IF(Dati!E270=\"EA6\",Dati!D270,)","v":0},{"$f":"IF(Dati!E270=\"EB1\",Dati!D270,)","v":0},{"$f":"IF(Dati!E270=\"EB2\",Dati!D270,)","v":0},{"$f":"IF(Dati!E270=\"EC1\",Dati!D270,)","v":0},{"$f":"IF(Dati!E270=\"ED1\",Dati!D270,)","v":0},{"$f":"IF(Dati!E270=\"EE1\",Dati!D270,)","v":0}]
[{"$f":"Dati!C271","v":"00:00:00"},{"$f":"Dati!H271","v":"00:00:00"},{"$f":"IF(Dati!E271=\"EA1\",Dati!D271,)","v":0},{"$f":"IF(Dati!E271=\"EA2\",Dati!D271,)","v":0},{"$f":"IF(Dati!E271=\"EA3\",Dati!D271,)","v":0},{"$f":"IF(Dati!E271=\"EA4\",Dati!D271,)","v":0},{"$f":"IF(Dati!E271=\"EA5\",Dati!D271,)","v":0},{"$f":"IF(Dati!E271=\"EA6\",Dati!D271,)","v":0},{"$f":"IF(Dati!E271=\"EB1\",Dati!D271,)","v":0},{"$f":"IF(Dati!E271=\"EB2\",Dati!D271,)","v":0},{"$f":"IF(Dati!E271=\"EC1\",Dati!D271,)","v":0},{"$f":"IF(Dati!E271=\"ED1\",Dati!D271,)","v":0},{"$f":"IF(Dati!E271=\"EE1\",Dati!D271,)","v":0}]
[{"$f":"Dati!C272","v":"00:00:00"},{"$f":"Dati!H272","v":"00:00:00"},{"$f":"IF(Dati!E272=\"EA1\",Dati!D272,)","v":0},{"$f":"IF(Dati!E272=\"EA2\",Dati!D272,)","v":0},{"$f":"IF(Dati!E272=\"EA3\",Dati!D272,)","v":0},{"$f":"IF(Dati!E272=\"EA4\",Dati!D272,)","v":0},{"$f":"IF(Dati!E272=\"EA5\",Dati!D272,)","v":0},{"$f":"IF(Dati!E272=\"EA6\",Dati!D272,)","v":0},{"$f":"IF(Dati!E272=\"EB1\",Dati!D272,)","v":0},{"$f":"IF(Dati!E272=\"EB2\",Dati!D272,)","v":0},{"$f":"IF(Dati!E272=\"EC1\",Dati!D272,)","v":0},{"$f":"IF(Dati!E272=\"ED1\",Dati!D272,)","v":0},{"$f":"IF(Dati!E272=\"EE1\",Dati!D272,)","v":0}]
[{"$f":"Dati!C273","v":"00:00:00"},{"$f":"Dati!H273","v":"00:00:00"},{"$f":"IF(Dati!E273=\"EA1\",Dati!D273,)","v":0},{"$f":"IF(Dati!E273=\"EA2\",Dati!D273,)","v":0},{"$f":"IF(Dati!E273=\"EA3\",Dati!D273,)","v":0},{"$f":"IF(Dati!E273=\"EA4\",Dati!D273,)","v":0},{"$f":"IF(Dati!E273=\"EA5\",Dati!D273,)","v":0},{"$f":"IF(Dati!E273=\"EA6\",Dati!D273,)","v":0},{"$f":"IF(Dati!E273=\"EB1\",Dati!D273,)","v":0},{"$f":"IF(Dati!E273=\"EB2\",Dati!D273,)","v":0},{"$f":"IF(Dati!E273=\"EC1\",Dati!D273,)","v":0},{"$f":"IF(Dati!E273=\"ED1\",Dati!D273,)","v":0},{"$f":"IF(Dati!E273=\"EE1\",Dati!D273,)","v":0}]
[{"$f":"Dati!C274","v":"00:00:00"},{"$f":"Dati!H274","v":"00:00:00"},{"$f":"IF(Dati!E274=\"EA1\",Dati!D274,)","v":0},{"$f":"IF(Dati!E274=\"EA2\",Dati!D274,)","v":0},{"$f":"IF(Dati!E274=\"EA3\",Dati!D274,)","v":0},{"$f":"IF(Dati!E274=\"EA4\",Dati!D274,)","v":0},{"$f":"IF(Dati!E274=\"EA5\",Dati!D274,)","v":0},{"$f":"IF(Dati!E274=\"EA6\",Dati!D274,)","v":0},{"$f":"IF(Dati!E274=\"EB1\",Dati!D274,)","v":0},{"$f":"IF(Dati!E274=\"EB2\",Dati!D274,)","v":0},{"$f":"IF(Dati!E274=\"EC1\",Dati!D274,)","v":0},{"$f":"IF(Dati!E274=\"ED1\",Dati!D274,)","v":0},{"$f":"IF(Dati!E274=\"EE1\",Dati!D274,)","v":0}]
[{"$f":"Dati!C275","v":"00:00:00"},{"$f":"Dati!H275","v":"00:00:00"},{"$f":"IF(Dati!E275=\"EA1\",Dati!D275,)","v":0},{"$f":"IF(Dati!E275=\"EA2\",Dati!D275,)","v":0},{"$f":"IF(Dati!E275=\"EA3\",Dati!D275,)","v":0},{"$f":"IF(Dati!E275=\"EA4\",Dati!D275,)","v":0},{"$f":"IF(Dati!E275=\"EA5\",Dati!D275,)","v":0},{"$f":"IF(Dati!E275=\"EA6\",Dati!D275,)","v":0},{"$f":"IF(Dati!E275=\"EB1\",Dati!D275,)","v":0},{"$f":"IF(Dati!E275=\"EB2\",Dati!D275,)","v":0},{"$f":"IF(Dati!E275=\"EC1\",Dati!D275,)","v":0},{"$f":"IF(Dati!E275=\"ED1\",Dati!D275,)","v":0},{"$f":"IF(Dati!E275=\"EE1\",Dati!D275,)","v":0}]
[{"$f":"Dati!C276","v":"00:00:00"},{"$f":"Dati!H276","v":"00:00:00"},{"$f":"IF(Dati!E276=\"EA1\",Dati!D276,)","v":0},{"$f":"IF(Dati!E276=\"EA2\",Dati!D276,)","v":0},{"$f":"IF(Dati!E276=\"EA3\",Dati!D276,)","v":0},{"$f":"IF(Dati!E276=\"EA4\",Dati!D276,)","v":0},{"$f":"IF(Dati!E276=\"EA5\",Dati!D276,)","v":0},{"$f":"IF(Dati!E276=\"EA6\",Dati!D276,)","v":0},{"$f":"IF(Dati!E276=\"EB1\",Dati!D276,)","v":0},{"$f":"IF(Dati!E276=\"EB2\",Dati!D276,)","v":0},{"$f":"IF(Dati!E276=\"EC1\",Dati!D276,)","v":0},{"$f":"IF(Dati!E276=\"ED1\",Dati!D276,)","v":0},{"$f":"IF(Dati!E276=\"EE1\",Dati!D276,)","v":0}]
[{"$f":"Dati!C277","v":"00:00:00"},{"$f":"Dati!H277","v":"00:00:00"},{"$f":"IF(Dati!E277=\"EA1\",Dati!D277,)","v":0},{"$f":"IF(Dati!E277=\"EA2\",Dati!D277,)","v":0},{"$f":"IF(Dati!E277=\"EA3\",Dati!D277,)","v":0},{"$f":"IF(Dati!E277=\"EA4\",Dati!D277,)","v":0},{"$f":"IF(Dati!E277=\"EA5\",Dati!D277,)","v":0},{"$f":"IF(Dati!E277=\"EA6\",Dati!D277,)","v":0},{"$f":"IF(Dati!E277=\"EB1\",Dati!D277,)","v":0},{"$f":"IF(Dati!E277=\"EB2\",Dati!D277,)","v":0},{"$f":"IF(Dati!E277=\"EC1\",Dati!D277,)","v":0},{"$f":"IF(Dati!E277=\"ED1\",Dati!D277,)","v":0},{"$f":"IF(Dati!E277=\"EE1\",Dati!D277,)","v":0}]
[{"$f":"Dati!C278","v":"00:00:00"},{"$f":"Dati!H278","v":"00:00:00"},{"$f":"IF(Dati!E278=\"EA1\",Dati!D278,)","v":0},{"$f":"IF(Dati!E278=\"EA2\",Dati!D278,)","v":0},{"$f":"IF(Dati!E278=\"EA3\",Dati!D278,)","v":0},{"$f":"IF(Dati!E278=\"EA4\",Dati!D278,)","v":0},{"$f":"IF(Dati!E278=\"EA5\",Dati!D278,)","v":0},{"$f":"IF(Dati!E278=\"EA6\",Dati!D278,)","v":0},{"$f":"IF(Dati!E278=\"EB1\",Dati!D278,)","v":0},{"$f":"IF(Dati!E278=\"EB2\",Dati!D278,)","v":0},{"$f":"IF(Dati!E278=\"EC1\",Dati!D278,)","v":0},{"$f":"IF(Dati!E278=\"ED1\",Dati!D278,)","v":0},{"$f":"IF(Dati!E278=\"EE1\",Dati!D278,)","v":0}]
[{"$f":"Dati!C268","v":"00:00:00"},{"$f":"Dati!H268","v":"00:00:00"},{"$f":"IF(Dati!E268=\"EA1\",Dati!D268,)","v":0},{"$f":"IF(Dati!E268=\"EA2\",Dati!D268,)","v":0},{"$f":"IF(Dati!E268=\"EA3\",Dati!D268,)","v":0},{"$f":"IF(Dati!E268=\"EA4\",Dati!D268,)","v":0},{"$f":"IF(Dati!E268=\"EA5\",Dati!D268,)","v":0},{"$f":"IF(Dati!E268=\"EA6\",Dati!D268,)","v":0},{"$f":"IF(Dati!E268=\"EB1\",Dati!D268,)","v":0},{"$f":"IF(Dati!E268=\"EB2\",Dati!D268,)","v":0},{"$f":"IF(Dati!E268=\"EC1\",Dati!D268,)","v":0},{"$f":"IF(Dati!E268=\"ED1\",Dati!D268,)","v":0},{"$f":"IF(Dati!E268=\"EE1\",Dati!D268,)","v":0}]
[{"$f":"Dati!C269","v":"00:00:00"},{"$f":"Dati!H269","v":"00:00:00"},{"$f":"IF(Dati!E269=\"EA1\",Dati!D269,)","v":0},{"$f":"IF(Dati!E269=\"EA2\",Dati!D269,)","v":0},{"$f":"IF(Dati!E269=\"EA3\",Dati!D269,)","v":0},{"$f":"IF(Dati!E269=\"EA4\",Dati!D269,)","v":0},{"$f":"IF(Dati!E269=\"EA5\",Dati!D269,)","v":0},{"$f":"IF(Dati!E269=\"EA6\",Dati!D269,)","v":0},{"$f":"IF(Dati!E269=\"EB1\",Dati!D269,)","v":0},{"$f":"IF(Dati!E269=\"EB2\",Dati!D269,)","v":0},{"$f":"IF(Dati!E269=\"EC1\",Dati!D269,)","v":0},{"$f":"IF(Dati!E269=\"ED1\",Dati!D269,)","v":0},{"$f":"IF(Dati!E269=\"EE1\",Dati!D269,)","v":0}]
[{"$f":"Dati!C270","v":"00:00:00"},{"$f":"Dati!H270","v":"00:00:00"},{"$f":"IF(Dati!E270=\"EA1\",Dati!D270,)","v":0},{"$f":"IF(Dati!E270=\"EA2\",Dati!D270,)","v":0},{"$f":"IF(Dati!E270=\"EA3\",Dati!D270,)","v":0},{"$f":"IF(Dati!E270=\"EA4\",Dati!D270,)","v":0},{"$f":"IF(Dati!E270=\"EA5\",Dati!D270,)","v":0},{"$f":"IF(Dati!E270=\"EA6\",Dati!D270,)","v":0},{"$f":"IF(Dati!E270=\"EB1\",Dati!D270,)","v":0},{"$f":"IF(Dati!E270=\"EB2\",Dati!D270,)","v":0},{"$f":"IF(Dati!E270=\"EC1\",Dati!D270,)","v":0},{"$f":"IF(Dati!E270=\"ED1\",Dati!D270,)","v":0},{"$f":"IF(Dati!E270=\"EE1\",Dati!D270,)","v":0}]
[{"$f":"Dati!C271","v":"00:00:00"},{"$f":"Dati!H271","v":"00:00:00"},{"$f":"IF(Dati!E271=\"EA1\",Dati!D271,)","v":0},{"$f":"IF(Dati!E271=\"EA2\",Dati!D271,)","v":0},{"$f":"IF(Dati!E271=\"EA3\",Dati!D271,)","v":0},{"$f":"IF(Dati!E271=\"EA4\",Dati!D271,)","v":0},{"$f":"IF(Dati!E271=\"EA5\",Dati!D271,)","v":0},{"$f":"IF(Dati!E271=\"EA6\",Dati!D271,)","v":0},{"$f":"IF(Dati!E271=\"EB1\",Dati!D271,)","v":0},{"$f":"IF(Dati!E271=\"EB2\",Dati!D271,)","v":0},{"$f":"IF(Dati!E271=\"EC1\",Dati!D271,)","v":0},{"$f":"IF(Dati!E271=\"ED1\",Dati!D271,)","v":0},{"$f":"IF(Dati!E271=\"EE1\",Dati!D271,)","v":0}]
[{"$f":"Dati!C272","v":"00:00:00"},{"$f":"Dati!H272","v":"00:00:00"},{"$f":"IF(Dati!E272=\"EA1\",Dati!D272,)","v":0},{"$f":"IF(Dati!E272=\"EA2\",Dati!D272,)","v":0},{"$f":"IF(Dati!E272=\"EA3\",Dati!D272,)","v":0},{"$f":"IF(Dati!E272=\"EA4\",Dati!D272,)","v":0},{"$f":"IF(Dati!E272=\"EA5\",Dati!D272,)","v":0},{"$f":"IF(Dati!E272=\"EA6\",Dati!D272,)","v":0},{"$f":"IF(Dati!E272=\"EB1\",Dati!D272,)","v":0},{"$f":"IF(Dati!E272=\"EB2\",Dati!D272,)","v":0},{"$f":"IF(Dati!E272=\"EC1\",Dati!D272,)","v":0},{"$f":"IF(Dati!E272=\"ED1\",Dati!D272,)","v":0},{"$f":"IF(Dati!E272=\"EE1\",Dati!D272,)","v":0}]
[{"$f":"Dati!C273","v":"00:00:00"},{"$f":"Dati!H273","v":"00:00:00"},{"$f":"IF(Dati!E273=\"EA1\",Dati!D273,)","v":0},{"$f":"IF(Dati!E273=\"EA2\",Dati!D273,)","v":0},{"$f":"IF(Dati!E273=\"EA3\",Dati!D273,)","v":0},{"$f":"IF(Dati!E273=\"EA4\",Dati!D273,)","v":0},{"$f":"IF(Dati!E273=\"EA5\",Dati!D273,)","v":0},{"$f":"IF(Dati!E273=\"EA6\",Dati!D273,)","v":0},{"$f":"IF(Dati!E273=\"EB1\",Dati!D273,)","v":0},{"$f":"IF(Dati!E273=\"EB2\",Dati!D273,)","v":0},{"$f":"IF(Dati!E273=\"EC1\",Dati!D273,)","v":0},{"$f":"IF(Dati!E273=\"ED1\",Dati!D273,)","v":0},{"$f":"IF(Dati!E273=\"EE1\",Dati!D273,)","v":0}]
[{"$f":"Dati!C274","v":"00:00:00"},{"$f":"Dati!H274","v":"00:00:00"},{"$f":"IF(Dati!E274=\"EA1\",Dati!D274,)","v":0},{"$f":"IF(Dati!E274=\"EA2\",Dati!D274,)","v":0},{"$f":"IF(Dati!E274=\"EA3\",Dati!D274,)","v":0},{"$f":"IF(Dati!E274=\"EA4\",Dati!D274,)","v":0},{"$f":"IF(Dati!E274=\"EA5\",Dati!D274,)","v":0},{"$f":"IF(Dati!E274=\"EA6\",Dati!D274,)","v":0},{"$f":"IF(Dati!E274=\"EB1\",Dati!D274,)","v":0},{"$f":"IF(Dati!E274=\"EB2\",Dati!D274,)","v":0},{"$f":"IF(Dati!E274=\"EC1\",Dati!D274,)","v":0},{"$f":"IF(Dati!E274=\"ED1\",Dati!D274,)","v":0},{"$f":"IF(Dati!E274=\"EE1\",Dati!D274,)","v":0}]
[{"$f":"Dati!C275","v":"00:00:00"},{"$f":"Dati!H275","v":"00:00:00"},{"$f":"IF(Dati!E275=\"EA1\",Dati!D275,)","v":0},{"$f":"IF(Dati!E275=\"EA2\",Dati!D275,)","v":0},{"$f":"IF(Dati!E275=\"EA3\",Dati!D275,)","v":0},{"$f":"IF(Dati!E275=\"EA4\",Dati!D275,)","v":0},{"$f":"IF(Dati!E275=\"EA5\",Dati!D275,)","v":0},{"$f":"IF(Dati!E275=\"EA6\",Dati!D275,)","v":0},{"$f":"IF(Dati!E275=\"EB1\",Dati!D275,)","v":0},{"$f":"IF(Dati!E275=\"EB2\",Dati!D275,)","v":0},{"$f":"IF(Dati!E275=\"EC1\",Dati!D275,)","v":0},{"$f":"IF(Dati!E275=\"ED1\",Dati!D275,)","v":0},{"$f":"IF(Dati!E275=\"EE1\",Dati!D275,)","v":0}]
[{"$f":"Dati!C276","v":"00:00:00"},{"$f":"Dati!H276","v":"00:00:00"},{"$f":"IF(Dati!E276=\"EA1\",Dati!D276,)","v":0},{"$f":"IF(Dati!E276=\"EA2\",Dati!D276,)","v":0},{"$f":"IF(Dati!E276=\"EA3\",Dati!D276,)","v":0},{"$f":"IF(Dati!E276=\"EA4\",Dati!D276,)","v":0},{"$f":"IF(Dati!E276=\"EA5\",Dati!D276,)","v":0},{"$f":"IF(Dati!E276=\"EA6\",Dati!D276,)","v":0},{"$f":"IF(Dati!E276=\"EB1\",Dati!D276,)","v":0},{"$f":"IF(Dati!E276=\"EB2\",Dati!D276,)","v":0},{"$f":"IF(Dati!E276=\"EC1\",Dati!D276,)","v":0},{"$f":"IF(Dati!E276=\"ED1\",Dati!D276,)","v":0},{"$f":"IF(Dati!E276=\"EE1\",Dati!D276,)","v":0}]
[{"$f":"Dati!C277","v":"00:00:00"},{"$f":"Dati!H277","v":"00:00:00"},{"$f":"IF(Dati!E277=\"EA1\",Dati!D277,)","v":0},{"$f":"IF(Dati!E277=\"EA2\",Dati!D277,)","v":0},{"$f":"IF(Dati!E277=\"EA3\",Dati!D277,)","v":0},{"$f":"IF(Dati!E277=\"EA4\",Dati!D277,)","v":0},{"$f":"IF(Dati!E277=\"EA5\",Dati!D277,)","v":0},{"$f":"IF(Dati!E277=\"EA6\",Dati!D277,)","v":0},{"$f":"IF(Dati!E277=\"EB1\",Dati!D277,)","v":0},{"$f":"IF(Dati!E277=\"EB2\",Dati!D277,)","v":0},{"$f":"IF(Dati!E277=\"EC1\",Dati!D277,)","v":0},{"$f":"IF(Dati!E277=\"ED1\",Dati!D277,)","v":0},{"$f":"IF(Dati!E277=\"EE1\",Dati!D277,)","v":0}]
[{"$f":"Dati!C278","v":"00:00:00"},{"$f":"Dati!H278","v":"00:00:00"},{"$f":"IF(Dati!E278=\"EA1\",Dati!D278,)","v":0},{"$f":"IF(Dati!E278=\"EA2\",Dati!D278,)","v":0},{"$f":"IF(Dati!E278=\"EA3\",Dati!D278,)","v":0},{"$f":"IF(Dati!E278=\"EA4\",Dati!D278,)","v":0},{"$f":"IF(Dati!E278=\"EA5\",Dati!D278,)","v":0},{"$f":"IF(Dati!E278=\"EA6\",Dati!D278,)","v":0},{"$f":"IF(Dati!E278=\"EB1\",Dati!D278,)","v":0},{"$f":"IF(Dati!E278=\"EB2\",Dati!D278,)","v":0},{"$f":"IF(Dati!E278=\"EC1\",Dati!D278,)","v":0},{"$f":"IF(Dati!E278=\"ED1\",Dati!D278,)","v":0},{"$f":"IF(Dati!E278=\"EE1\",Dati!D278,)","v":0}]
[{"$f":"Dati!C279","v":"00:00:00"},{"$f":"Dati!H279","v":"00:00:00"},{"$f":"IF(Dati!E279=\"EA1\",Dati!D279,)","v":0},{"$f":"IF(Dati!E279=\"EA2\",Dati!D279,)","v":0},{"$f":"IF(Dati!E279=\"EA3\",Dati!D279,)","v":0},{"$f":"IF(Dati!E279=\"EA4\",Dati!D279,)","v":0},{"$f":"IF(Dati!E279=\"EA5\",Dati!D279,)","v":0},{"$f":"IF(Dati!E279=\"EA6\",Dati!D279,)","v":0},{"$f":"IF(Dati!E279=\"EB1\",Dati!D279,)","v":0},{"$f":"IF(Dati!E279=\"EB2\",Dati!D279,)","v":0},{"$f":"IF(Dati!E279=\"EC1\",Dati!D279,)","v":0},{"$f":"IF(Dati!E279=\"ED1\",Dati!D279,)","v":0},{"$f":"IF(Dati!E279=\"EE1\",Dati!D279,)","v":0}]
[{"$f":"Dati!C280","v":"00:00:00"},{"$f":"Dati!H280","v":"00:00:00"},{"$f":"IF(Dati!E280=\"EA1\",Dati!D280,)","v":0},{"$f":"IF(Dati!E280=\"EA2\",Dati!D280,)","v":0},{"$f":"IF(Dati!E280=\"EA3\",Dati!D280,)","v":0},{"$f":"IF(Dati!E280=\"EA4\",Dati!D280,)","v":0},{"$f":"IF(Dati!E280=\"EA5\",Dati!D280,)","v":0},{"$f":"IF(Dati!E280=\"EA6\",Dati!D280,)","v":0},{"$f":"IF(Dati!E280=\"EB1\",Dati!D280,)","v":0},{"$f":"IF(Dati!E280=\"EB2\",Dati!D280,)","v":0},{"$f":"IF(Dati!E280=\"EC1\",Dati!D280,)","v":0},{"$f":"IF(Dati!E280=\"ED1\",Dati!D280,)","v":0},{"$f":"IF(Dati!E280=\"EE1\",Dati!D280,)","v":0}]
[{"$f":"Dati!C281","v":"00:00:00"},{"$f":"Dati!H281","v":"00:00:00"},{"$f":"IF(Dati!E281=\"EA1\",Dati!D281,)","v":0},{"$f":"IF(Dati!E281=\"EA2\",Dati!D281,)","v":0},{"$f":"IF(Dati!E281=\"EA3\",Dati!D281,)","v":0},{"$f":"IF(Dati!E281=\"EA4\",Dati!D281,)","v":0},{"$f":"IF(Dati!E281=\"EA5\",Dati!D281,)","v":0},{"$f":"IF(Dati!E281=\"EA6\",Dati!D281,)","v":0},{"$f":"IF(Dati!E281=\"EB1\",Dati!D281,)","v":0},{"$f":"IF(Dati!E281=\"EB2\",Dati!D281,)","v":0},{"$f":"IF(Dati!E281=\"EC1\",Dati!D281,)","v":0},{"$f":"IF(Dati!E281=\"ED1\",Dati!D281,)","v":0},{"$f":"IF(Dati!E281=\"EE1\",Dati!D281,)","v":0}]
[{"$f":"Dati!C282","v":"00:00:00"},{"$f":"Dati!H282","v":"00:00:00"},{"$f":"IF(Dati!E282=\"EA1\",Dati!D282,)","v":0},{"$f":"IF(Dati!E282=\"EA2\",Dati!D282,)","v":0},{"$f":"IF(Dati!E282=\"EA3\",Dati!D282,)","v":0},{"$f":"IF(Dati!E282=\"EA4\",Dati!D282,)","v":0},{"$f":"IF(Dati!E282=\"EA5\",Dati!D282,)","v":0},{"$f":"IF(Dati!E282=\"EA6\",Dati!D282,)","v":0},{"$f":"IF(Dati!E282=\"EB1\",Dati!D282,)","v":0},{"$f":"IF(Dati!E282=\"EB2\",Dati!D282,)","v":0},{"$f":"IF(Dati!E282=\"EC1\",Dati!D282,)","v":0},{"$f":"IF(Dati!E282=\"ED1\",Dati!D282,)","v":0},{"$f":"IF(Dati!E282=\"EE1\",Dati!D282,)","v":0}]
[{"$f":"Dati!C283","v":"00:00:00"},{"$f":"Dati!H283","v":"00:00:00"},{"$f":"IF(Dati!E283=\"EA1\",Dati!D283,)","v":0},{"$f":"IF(Dati!E283=\"EA2\",Dati!D283,)","v":0},{"$f":"IF(Dati!E283=\"EA3\",Dati!D283,)","v":0},{"$f":"IF(Dati!E283=\"EA4\",Dati!D283,)","v":0},{"$f":"IF(Dati!E283=\"EA5\",Dati!D283,)","v":0},{"$f":"IF(Dati!E283=\"EA6\",Dati!D283,)","v":0},{"$f":"IF(Dati!E283=\"EB1\",Dati!D283,)","v":0},{"$f":"IF(Dati!E283=\"EB2\",Dati!D283,)","v":0},{"$f":"IF(Dati!E283=\"EC1\",Dati!D283,)","v":0},{"$f":"IF(Dati!E283=\"ED1\",Dati!D283,)","v":0},{"$f":"IF(Dati!E283=\"EE1\",Dati!D283,)","v":0}]
[{"$f":"Dati!C284","v":"00:00:00"},{"$f":"Dati!H284","v":"00:00:00"},{"$f":"IF(Dati!E284=\"EA1\",Dati!D284,)","v":0},{"$f":"IF(Dati!E284=\"EA2\",Dati!D284,)","v":0},{"$f":"IF(Dati!E284=\"EA3\",Dati!D284,)","v":0},{"$f":"IF(Dati!E284=\"EA4\",Dati!D284,)","v":0},{"$f":"IF(Dati!E284=\"EA5\",Dati!D284,)","v":0},{"$f":"IF(Dati!E284=\"EA6\",Dati!D284,)","v":0},{"$f":"IF(Dati!E284=\"EB1\",Dati!D284,)","v":0},{"$f":"IF(Dati!E284=\"EB2\",Dati!D284,)","v":0},{"$f":"IF(Dati!E284=\"EC1\",Dati!D284,)","v":0},{"$f":"IF(Dati!E284=\"ED1\",Dati!D284,)","v":0},{"$f":"IF(Dati!E284=\"EE1\",Dati!D284,)","v":0}]
[{"$f":"Dati!C285","v":"00:00:00"},{"$f":"Dati!H285","v":"00:00:00"},{"$f":"IF(Dati!E285=\"EA1\",Dati!D285,)","v":0},{"$f":"IF(Dati!E285=\"EA2\",Dati!D285,)","v":0},{"$f":"IF(Dati!E285=\"EA3\",Dati!D285,)","v":0},{"$f":"IF(Dati!E285=\"EA4\",Dati!D285,)","v":0},{"$f":"IF(Dati!E285=\"EA5\",Dati!D285,)","v":0},{"$f":"IF(Dati!E285=\"EA6\",Dati!D285,)","v":0},{"$f":"IF(Dati!E285=\"EB1\",Dati!D285,)","v":0},{"$f":"IF(Dati!E285=\"EB2\",Dati!D285,)","v":0},{"$f":"IF(Dati!E285=\"EC1\",Dati!D285,)","v":0},{"$f":"IF(Dati!E285=\"ED1\",Dati!D285,)","v":0},{"$f":"IF(Dati!E285=\"EE1\",Dati!D285,)","v":0}]
[{"$f":"Dati!C286","v":"00:00:00"},{"$f":"Dati!H286","v":"00:00:00"},{"$f":"IF(Dati!E286=\"EA1\",Dati!D286,)","v":0},{"$f":"IF(Dati!E286=\"EA2\",Dati!D286,)","v":0},{"$f":"IF(Dati!E286=\"EA3\",Dati!D286,)","v":0},{"$f":"IF(Dati!E286=\"EA4\",Dati!D286,)","v":0},{"$f":"IF(Dati!E286=\"EA5\",Dati!D286,)","v":0},{"$f":"IF(Dati!E286=\"EA6\",Dati!D286,)","v":0},{"$f":"IF(Dati!E286=\"EB1\",Dati!D286,)","v":0},{"$f":"IF(Dati!E286=\"EB2\",Dati!D286,)","v":0},{"$f":"IF(Dati!E286=\"EC1\",Dati!D286,)","v":0},{"$f":"IF(Dati!E286=\"ED1\",Dati!D286,)","v":0},{"$f":"IF(Dati!E286=\"EE1\",Dati!D286,)","v":0}]
[{"$f":"Dati!C287","v":"00:00:00"},{"$f":"Dati!H287","v":"00:00:00"},{"$f":"IF(Dati!E287=\"EA1\",Dati!D287,)","v":0},{"$f":"IF(Dati!E287=\"EA2\",Dati!D287,)","v":0},{"$f":"IF(Dati!E287=\"EA3\",Dati!D287,)","v":0},{"$f":"IF(Dati!E287=\"EA4\",Dati!D287,)","v":0},{"$f":"IF(Dati!E287=\"EA5\",Dati!D287,)","v":0},{"$f":"IF(Dati!E287=\"EA6\",Dati!D287,)","v":0},{"$f":"IF(Dati!E287=\"EB1\",Dati!D287,)","v":0},{"$f":"IF(Dati!E287=\"EB2\",Dati!D287,)","v":0},{"$f":"IF(Dati!E287=\"EC1\",Dati!D287,)","v":0},{"$f":"IF(Dati!E287=\"ED1\",Dati!D287,)","v":0},{"$f":"IF(Dati!E287=\"EE1\",Dati!D287,)","v":0}]
[{"$f":"Dati!C288","v":"00:00:00"},{"$f":"Dati!H288","v":"00:00:00"},{"$f":"IF(Dati!E288=\"EA1\",Dati!D288,)","v":0},{"$f":"IF(Dati!E288=\"EA2\",Dati!D288,)","v":0},{"$f":"IF(Dati!E288=\"EA3\",Dati!D288,)","v":0},{"$f":"IF(Dati!E288=\"EA4\",Dati!D288,)","v":0},{"$f":"IF(Dati!E288=\"EA5\",Dati!D288,)","v":0},{"$f":"IF(Dati!E288=\"EA6\",Dati!D288,)","v":0},{"$f":"IF(Dati!E288=\"EB1\",Dati!D288,)","v":0},{"$f":"IF(Dati!E288=\"EB2\",Dati!D288,)","v":0},{"$f":"IF(Dati!E288=\"EC1\",Dati!D288,)","v":0},{"$f":"IF(Dati!E288=\"ED1\",Dati!D288,)","v":0},{"$f":"IF(Dati!E288=\"EE1\",Dati!D288,)","v":0}]
[{"$f":"Dati!C289","v":"00:00:00"},{"$f":"Dati!H289","v":"00:00:00"},{"$f":"IF(Dati!E289=\"EA1\",Dati!D289,)","v":0},{"$f":"IF(Dati!E289=\"EA2\",Dati!D289,)","v":0},{"$f":"IF(Dati!E289=\"EA3\",Dati!D289,)","v":0},{"$f":"IF(Dati!E289=\"EA4\",Dati!D289,)","v":0},{"$f":"IF(Dati!E289=\"EA5\",Dati!D289,)","v":0},{"$f":"IF(Dati!E289=\"EA6\",Dati!D289,)","v":0},{"$f":"IF(Dati!E289=\"EB1\",Dati!D289,)","v":0},{"$f":"IF(Dati!E289=\"EB2\",Dati!D289,)","v":0},{"$f":"IF(Dati!E289=\"EC1\",Dati!D289,)","v":0},{"$f":"IF(Dati!E289=\"ED1\",Dati!D289,)","v":0},{"$f":"IF(Dati!E289=\"EE1\",Dati!D289,)","v":0}]
[{"$f":"Dati!C290","v":"00:00:00"},{"$f":"Dati!H290","v":"00:00:00"},{"$f":"IF(Dati!E290=\"EA1\",Dati!D290,)","v":0},{"$f":"IF(Dati!E290=\"EA2\",Dati!D290,)","v":0},{"$f":"IF(Dati!E290=\"EA3\",Dati!D290,)","v":0},{"$f":"IF(Dati!E290=\"EA4\",Dati!D290,)","v":0},{"$f":"IF(Dati!E290=\"EA5\",Dati!D290,)","v":0},{"$f":"IF(Dati!E290=\"EA6\",Dati!D290,)","v":0},{"$f":"IF(Dati!E290=\"EB1\",Dati!D290,)","v":0},{"$f":"IF(Dati!E290=\"EB2\",Dati!D290,)","v":0},{"$f":"IF(Dati!E290=\"EC1\",Dati!D290,)","v":0},{"$f":"IF(Dati!E290=\"ED1\",Dati!D290,)","v":0},{"$f":"IF(Dati!E290=\"EE1\",Dati!D290,)","v":0}]
[{"$f":"Dati!C291","v":"00:00:00"},{"$f":"Dati!H291","v":"00:00:00"},{"$f":"IF(Dati!E291=\"EA1\",Dati!D291,)","v":0},{"$f":"IF(Dati!E291=\"EA2\",Dati!D291,)","v":0},{"$f":"IF(Dati!E291=\"EA3\",Dati!D291,)","v":0},{"$f":"IF(Dati!E291=\"EA4\",Dati!D291,)","v":0},{"$f":"IF(Dati!E291=\"EA5\",Dati!D291,)","v":0},{"$f":"IF(Dati!E291=\"EA6\",Dati!D291,)","v":0},{"$f":"IF(Dati!E291=\"EB1\",Dati!D291,)","v":0},{"$f":"IF(Dati!E291=\"EB2\",Dati!D291,)","v":0},{"$f":"IF(Dati!E291=\"EC1\",Dati!D291,)","v":0},{"$f":"IF(Dati!E291=\"ED1\",Dati!D291,)","v":0},{"$f":"IF(Dati!E291=\"EE1\",Dati!D291,)","v":0}]
[{"$f":"Dati!C292","v":"00:00:00"},{"$f":"Dati!H292","v":"00:00:00"},{"$f":"IF(Dati!E292=\"EA1\",Dati!D292,)","v":0},{"$f":"IF(Dati!E292=\"EA2\",Dati!D292,)","v":0},{"$f":"IF(Dati!E292=\"EA3\",Dati!D292,)","v":0},{"$f":"IF(Dati!E292=\"EA4\",Dati!D292,)","v":0},{"$f":"IF(Dati!E292=\"EA5\",Dati!D292,)","v":0},{"$f":"IF(Dati!E292=\"EA6\",Dati!D292,)","v":0},{"$f":"IF(Dati!E292=\"EB1\",Dati!D292,)","v":0},{"$f":"IF(Dati!E292=\"EB2\",Dati!D292,)","v":0},{"$f":"IF(Dati!E292=\"EC1\",Dati!D292,)","v":0},{"$f":"IF(Dati!E292=\"ED1\",Dati!D292,)","v":0},{"$f":"IF(Dati!E292=\"EE1\",Dati!D292,)","v":0}]
[{"$f":"Dati!C293","v":"00:00:00"},{"$f":"Dati!H293","v":"00:00:00"},{"$f":"IF(Dati!E293=\"EA1\",Dati!D293,)","v":0},{"$f":"IF(Dati!E293=\"EA2\",Dati!D293,)","v":0},{"$f":"IF(Dati!E293=\"EA3\",Dati!D293,)","v":0},{"$f":"IF(Dati!E293=\"EA4\",Dati!D293,)","v":0},{"$f":"IF(Dati!E293=\"EA5\",Dati!D293,)","v":0},{"$f":"IF(Dati!E293=\"EA6\",Dati!D293,)","v":0},{"$f":"IF(Dati!E293=\"EB1\",Dati!D293,)","v":0},{"$f":"IF(Dati!E293=\"EB2\",Dati!D293,)","v":0},{"$f":"IF(Dati!E293=\"EC1\",Dati!D293,)","v":0},{"$f":"IF(Dati!E293=\"ED1\",Dati!D293,)","v":0},{"$f":"IF(Dati!E293=\"EE1\",Dati!D293,)","v":0}]
[{"$f":"Dati!C294","v":"00:00:00"},{"$f":"Dati!H294","v":"00:00:00"},{"$f":"IF(Dati!E294=\"EA1\",Dati!D294,)","v":0},{"$f":"IF(Dati!E294=\"EA2\",Dati!D294,)","v":0},{"$f":"IF(Dati!E294=\"EA3\",Dati!D294,)","v":0},{"$f":"IF(Dati!E294=\"EA4\",Dati!D294,)","v":0},{"$f":"IF(Dati!E294=\"EA5\",Dati!D294,)","v":0},{"$f":"IF(Dati!E294=\"EA6\",Dati!D294,)","v":0},{"$f":"IF(Dati!E294=\"EB1\",Dati!D294,)","v":0},{"$f":"IF(Dati!E294=\"EB2\",Dati!D294,)","v":0},{"$f":"IF(Dati!E294=\"EC1\",Dati!D294,)","v":0},{"$f":"IF(Dati!E294=\"ED1\",Dati!D294,)","v":0},{"$f":"IF(Dati!E294=\"EE1\",Dati!D294,)","v":0}]
[{"$f":"Dati!C295","v":"00:00:00"},{"$f":"Dati!H295","v":"00:00:00"},{"$f":"IF(Dati!E295=\"EA1\",Dati!D295,)","v":0},{"$f":"IF(Dati!E295=\"EA2\",Dati!D295,)","v":0},{"$f":"IF(Dati!E295=\"EA3\",Dati!D295,)","v":0},{"$f":"IF(Dati!E295=\"EA4\",Dati!D295,)","v":0},{"$f":"IF(Dati!E295=\"EA5\",Dati!D295,)","v":0},{"$f":"IF(Dati!E295=\"EA6\",Dati!D295,)","v":0},{"$f":"IF(Dati!E295=\"EB1\",Dati!D295,)","v":0},{"$f":"IF(Dati!E295=\"EB2\",Dati!D295,)","v":0},{"$f":"IF(Dati!E295=\"EC1\",Dati!D295,)","v":0},{"$f":"IF(Dati!E295=\"ED1\",Dati!D295,)","v":0},{"$f":"IF(Dati!E295=\"EE1\",Dati!D295,)","v":0}]
[{"$f":"Dati!C296","v":"00:00:00"},{"$f":"Dati!H296","v":"00:00:00"},{"$f":"IF(Dati!E296=\"EA1\",Dati!D296,)","v":0},{"$f":"IF(Dati!E296=\"EA2\",Dati!D296,)","v":0},{"$f":"IF(Dati!E296=\"EA3\",Dati!D296,)","v":0},{"$f":"IF(Dati!E296=\"EA4\",Dati!D296,)","v":0},{"$f":"IF(Dati!E296=\"EA5\",Dati!D296,)","v":0},{"$f":"IF(Dati!E296=\"EA6\",Dati!D296,)","v":0},{"$f":"IF(Dati!E296=\"EB1\",Dati!D296,)","v":0},{"$f":"IF(Dati!E296=\"EB2\",Dati!D296,)","v":0},{"$f":"IF(Dati!E296=\"EC1\",Dati!D296,)","v":0},{"$f":"IF(Dati!E296=\"ED1\",Dati!D296,)","v":0},{"$f":"IF(Dati!E296=\"EE1\",Dati!D296,)","v":0}]
[{"$f":"Dati!C297","v":"00:00:00"},{"$f":"Dati!H297","v":"00:00:00"},{"$f":"IF(Dati!E297=\"EA1\",Dati!D297,)","v":0},{"$f":"IF(Dati!E297=\"EA2\",Dati!D297,)","v":0},{"$f":"IF(Dati!E297=\"EA3\",Dati!D297,)","v":0},{"$f":"IF(Dati!E297=\"EA4\",Dati!D297,)","v":0},{"$f":"IF(Dati!E297=\"EA5\",Dati!D297,)","v":0},{"$f":"IF(Dati!E297=\"EA6\",Dati!D297,)","v":0},{"$f":"IF(Dati!E297=\"EB1\",Dati!D297,)","v":0},{"$f":"IF(Dati!E297=\"EB2\",Dati!D297,)","v":0},{"$f":"IF(Dati!E297=\"EC1\",Dati!D297,)","v":0},{"$f":"IF(Dati!E297=\"ED1\",Dati!D297,)","v":0},{"$f":"IF(Dati!E297=\"EE1\",Dati!D297,)","v":0}]
[{"$f":"Dati!C298","v":"00:00:00"},{"$f":"Dati!H298","v":"00:00:00"},{"$f":"IF(Dati!E298=\"EA1\",Dati!D298,)","v":0},{"$f":"IF(Dati!E298=\"EA2\",Dati!D298,)","v":0},{"$f":"IF(Dati!E298=\"EA3\",Dati!D298,)","v":0},{"$f":"IF(Dati!E298=\"EA4\",Dati!D298,)","v":0},{"$f":"IF(Dati!E298=\"EA5\",Dati!D298,)","v":0},{"$f":"IF(Dati!E298=\"EA6\",Dati!D298,)","v":0},{"$f":"IF(Dati!E298=\"EB1\",Dati!D298,)","v":0},{"$f":"IF(Dati!E298=\"EB2\",Dati!D298,)","v":0},{"$f":"IF(Dati!E298=\"EC1\",Dati!D298,)","v":0},{"$f":"IF(Dati!E298=\"ED1\",Dati!D298,)","v":0},{"$f":"IF(Dati!E298=\"EE1\",Dati!D298,)","v":0}]
[{"$f":"Dati!C299","v":"00:00:00"},{"$f":"Dati!H299","v":"00:00:00"},{"$f":"IF(Dati!E299=\"EA1\",Dati!D299,)","v":0},{"$f":"IF(Dati!E299=\"EA2\",Dati!D299,)","v":0},{"$f":"IF(Dati!E299=\"EA3\",Dati!D299,)","v":0},{"$f":"IF(Dati!E299=\"EA4\",Dati!D299,)","v":0},{"$f":"IF(Dati!E299=\"EA5\",Dati!D299,)","v":0},{"$f":"IF(Dati!E299=\"EA6\",Dati!D299,)","v":0},{"$f":"IF(Dati!E299=\"EB1\",Dati!D299,)","v":0},{"$f":"IF(Dati!E299=\"EB2\",Dati!D299,)","v":0},{"$f":"IF(Dati!E299=\"EC1\",Dati!D299,)","v":0},{"$f":"IF(Dati!E299=\"ED1\",Dati!D299,)","v":0},{"$f":"IF(Dati!E299=\"EE1\",Dati!D299,)","v":0}]
[{"$f":"Dati!C300","v":"00:00:00"},{"$f":"Dati!H300","v":"00:00:00"},{"$f":"IF(Dati!E300=\"EA1\",Dati!D300,)","v":0},{"$f":"IF(Dati!E300=\"EA2\",Dati!D300,)","v":0},{"$f":"IF(Dati!E300=\"EA3\",Dati!D300,)","v":0},{"$f":"IF(Dati!E300=\"EA4\",Dati!D300,)","v":0},{"$f":"IF(Dati!E300=\"EA5\",Dati!D300,)","v":0},{"$f":"IF(Dati!E300=\"EA6\",Dati!D300,)","v":0},{"$f":"IF(Dati!E300=\"EB1\",Dati!D300,)","v":0},{"$f":"IF(Dati!E300=\"EB2\",Dati!D300,)","v":0},{"$f":"IF(Dati!E300=\"EC1\",Dati!D300,)","v":0},{"$f":"IF(Dati!E300=\"ED1\",Dati!D300,)","v":0},{"$f":"IF(Dati!E300=\"EE1\",Dati!D300,)","v":0}]
[{"$f":"Dati!C301","v":"00:00:00"},{"$f":"Dati!H301","v":"00:00:00"},{"$f":"IF(Dati!E301=\"EA1\",Dati!D301,)","v":0},{"$f":"IF(Dati!E301=\"EA2\",Dati!D301,)","v":0},{"$f":"IF(Dati!E301=\"EA3\",Dati!D301,)","v":0},{"$f":"IF(Dati!E301=\"EA4\",Dati!D301,)","v":0},{"$f":"IF(Dati!E301=\"EA5\",Dati!D301,)","v":0},{"$f":"IF(Dati!E301=\"EA6\",Dati!D301,)","v":0},{"$f":"IF(Dati!E301=\"EB1\",Dati!D301,)","v":0},{"$f":"IF(Dati!E301=\"EB2\",Dati!D301,)","v":0},{"$f":"IF(Dati!E301=\"EC1\",Dati!D301,)","v":0},{"$f":"IF(Dati!E301=\"ED1\",Dati!D301,)","v":0},{"$f":"IF(Dati!E301=\"EE1\",Dati!D301,)","v":0}]
[{"$f":"Dati!C302","v":"00:00:00"},{"$f":"Dati!H302","v":"00:00:00"},{"$f":"IF(Dati!E302=\"EA1\",Dati!D302,)","v":0},{"$f":"IF(Dati!E302=\"EA2\",Dati!D302,)","v":0},{"$f":"IF(Dati!E302=\"EA3\",Dati!D302,)","v":0},{"$f":"IF(Dati!E302=\"EA4\",Dati!D302,)","v":0},{"$f":"IF(Dati!E302=\"EA5\",Dati!D302,)","v":0},{"$f":"IF(Dati!E302=\"EA6\",Dati!D302,)","v":0},{"$f":"IF(Dati!E302=\"EB1\",Dati!D302,)","v":0},{"$f":"IF(Dati!E302=\"EB2\",Dati!D302,)","v":0},{"$f":"IF(Dati!E302=\"EC1\",Dati!D302,)","v":0},{"$f":"IF(Dati!E302=\"ED1\",Dati!D302,)","v":0},{"$f":"IF(Dati!E302=\"EE1\",Dati!D302,)","v":0}]
[{"$f":"Dati!C303","v":"00:00:00"},{"$f":"Dati!H303","v":"00:00:00"},{"$f":"IF(Dati!E303=\"EA1\",Dati!D303,)","v":0},{"$f":"IF(Dati!E303=\"EA2\",Dati!D303,)","v":0},{"$f":"IF(Dati!E303=\"EA3\",Dati!D303,)","v":0},{"$f":"IF(Dati!E303=\"EA4\",Dati!D303,)","v":0},{"$f":"IF(Dati!E303=\"EA5\",Dati!D303,)","v":0},{"$f":"IF(Dati!E303=\"EA6\",Dati!D303,)","v":0},{"$f":"IF(Dati!E303=\"EB1\",Dati!D303,)","v":0},{"$f":"IF(Dati!E303=\"EB2\",Dati!D303,)","v":0},{"$f":"IF(Dati!E303=\"EC1\",Dati!D303,)","v":0},{"$f":"IF(Dati!E303=\"ED1\",Dati!D303,)","v":0},{"$f":"IF(Dati!E303=\"EE1\",Dati!D303,)","v":0}]
[{"$f":"Dati!C304","v":"00:00:00"},{"$f":"Dati!H304","v":"00:00:00"},{"$f":"IF(Dati!E304=\"EA1\",Dati!D304,)","v":0},{"$f":"IF(Dati!E304=\"EA2\",Dati!D304,)","v":0},{"$f":"IF(Dati!E304=\"EA3\",Dati!D304,)","v":0},{"$f":"IF(Dati!E304=\"EA4\",Dati!D304,)","v":0},{"$f":"IF(Dati!E304=\"EA5\",Dati!D304,)","v":0},{"$f":"IF(Dati!E304=\"EA6\",Dati!D304,)","v":0},{"$f":"IF(Dati!E304=\"EB1\",Dati!D304,)","v":0},{"$f":"IF(Dati!E304=\"EB2\",Dati!D304,)","v":0},{"$f":"IF(Dati!E304=\"EC1\",Dati!D304,)","v":0},{"$f":"IF(Dati!E304=\"ED1\",Dati!D304,)","v":0},{"$f":"IF(Dati!E304=\"EE1\",Dati!D304,)","v":0}]
[{"$f":"Dati!C305","v":"00:00:00"},{"$f":"Dati!H305","v":"00:00:00"},{"$f":"IF(Dati!E305=\"EA1\",Dati!D305,)","v":0},{"$f":"IF(Dati!E305=\"EA2\",Dati!D305,)","v":0},{"$f":"IF(Dati!E305=\"EA3\",Dati!D305,)","v":0},{"$f":"IF(Dati!E305=\"EA4\",Dati!D305,)","v":0},{"$f":"IF(Dati!E305=\"EA5\",Dati!D305,)","v":0},{"$f":"IF(Dati!E305=\"EA6\",Dati!D305,)","v":0},{"$f":"IF(Dati!E305=\"EB1\",Dati!D305,)","v":0},{"$f":"IF(Dati!E305=\"EB2\",Dati!D305,)","v":0},{"$f":"IF(Dati!E305=\"EC1\",Dati!D305,)","v":0},{"$f":"IF(Dati!E305=\"ED1\",Dati!D305,)","v":0},{"$f":"IF(Dati!E305=\"EE1\",Dati!D305,)","v":0}]
[{"$f":"Dati!C306","v":"00:00:00"},{"$f":"Dati!H306","v":"00:00:00"},{"$f":"IF(Dati!E306=\"EA1\",Dati!D306,)","v":0},{"$f":"IF(Dati!E306=\"EA2\",Dati!D306,)","v":0},{"$f":"IF(Dati!E306=\"EA3\",Dati!D306,)","v":0},{"$f":"IF(Dati!E306=\"EA4\",Dati!D306,)","v":0},{"$f":"IF(Dati!E306=\"EA5\",Dati!D306,)","v":0},{"$f":"IF(Dati!E306=\"EA6\",Dati!D306,)","v":0},{"$f":"IF(Dati!E306=\"EB1\",Dati!D306,)","v":0},{"$f":"IF(Dati!E306=\"EB2\",Dati!D306,)","v":0},{"$f":"IF(Dati!E306=\"EC1\",Dati!D306,)","v":0},{"$f":"IF(Dati!E306=\"ED1\",Dati!D306,)","v":0},{"$f":"IF(Dati!E306=\"EE1\",Dati!D306,)","v":0}]
[{"$f":"Dati!C307","v":"00:00:00"},{"$f":"Dati!H307","v":"00:00:00"},{"$f":"IF(Dati!E307=\"EA1\",Dati!D307,)","v":0},{"$f":"IF(Dati!E307=\"EA2\",Dati!D307,)","v":0},{"$f":"IF(Dati!E307=\"EA3\",Dati!D307,)","v":0},{"$f":"IF(Dati!E307=\"EA4\",Dati!D307,)","v":0},{"$f":"IF(Dati!E307=\"EA5\",Dati!D307,)","v":0},{"$f":"IF(Dati!E307=\"EA6\",Dati!D307,)","v":0},{"$f":"IF(Dati!E307=\"EB1\",Dati!D307,)","v":0},{"$f":"IF(Dati!E307=\"EB2\",Dati!D307,)","v":0},{"$f":"IF(Dati!E307=\"EC1\",Dati!D307,)","v":0},{"$f":"IF(Dati!E307=\"ED1\",Dati!D307,)","v":0},{"$f":"IF(Dati!E307=\"EE1\",Dati!D307,)","v":0}]
[{"$f":"Dati!C308","v":"00:00:00"},{"$f":"Dati!H308","v":"00:00:00"},{"$f":"IF(Dati!E308=\"EA1\",Dati!D308,)","v":0},{"$f":"IF(Dati!E308=\"EA2\",Dati!D308,)","v":0},{"$f":"IF(Dati!E308=\"EA3\",Dati!D308,)","v":0},{"$f":"IF(Dati!E308=\"EA4\",Dati!D308,)","v":0},{"$f":"IF(Dati!E308=\"EA5\",Dati!D308,)","v":0},{"$f":"IF(Dati!E308=\"EA6\",Dati!D308,)","v":0},{"$f":"IF(Dati!E308=\"EB1\",Dati!D308,)","v":0},{"$f":"IF(Dati!E308=\"EB2\",Dati!D308,)","v":0},{"$f":"IF(Dati!E308=\"EC1\",Dati!D308,)","v":0},{"$f":"IF(Dati!E308=\"ED1\",Dati!D308,)","v":0},{"$f":"IF(Dati!E308=\"EE1\",Dati!D308,)","v":0}]
[{"$f":"Dati!C309","v":"00:00:00"},{"$f":"Dati!H309","v":"00:00:00"},{"$f":"IF(Dati!E309=\"EA1\",Dati!D309,)","v":0},{"$f":"IF(Dati!E309=\"EA2\",Dati!D309,)","v":0},{"$f":"IF(Dati!E309=\"EA3\",Dati!D309,)","v":0},{"$f":"IF(Dati!E309=\"EA4\",Dati!D309,)","v":0},{"$f":"IF(Dati!E309=\"EA5\",Dati!D309,)","v":0},{"$f":"IF(Dati!E309=\"EA6\",Dati!D309,)","v":0},{"$f":"IF(Dati!E309=\"EB1\",Dati!D309,)","v":0},{"$f":"IF(Dati!E309=\"EB2\",Dati!D309,)","v":0},{"$f":"IF(Dati!E309=\"EC1\",Dati!D309,)","v":0},{"$f":"IF(Dati!E309=\"ED1\",Dati!D309,)","v":0},{"$f":"IF(Dati!E309=\"EE1\",Dati!D309,)","v":0}]
[{"$f":"Dati!C310","v":"00:00:00"},{"$f":"Dati!H310","v":"00:00:00"},{"$f":"IF(Dati!E310=\"EA1\",Dati!D310,)","v":0},{"$f":"IF(Dati!E310=\"EA2\",Dati!D310,)","v":0},{"$f":"IF(Dati!E310=\"EA3\",Dati!D310,)","v":0},{"$f":"IF(Dati!E310=\"EA4\",Dati!D310,)","v":0},{"$f":"IF(Dati!E310=\"EA5\",Dati!D310,)","v":0},{"$f":"IF(Dati!E310=\"EA6\",Dati!D310,)","v":0},{"$f":"IF(Dati!E310=\"EB1\",Dati!D310,)","v":0},{"$f":"IF(Dati!E310=\"EB2\",Dati!D310,)","v":0},{"$f":"IF(Dati!E310=\"EC1\",Dati!D310,)","v":0},{"$f":"IF(Dati!E310=\"ED1\",Dati!D310,)","v":0},{"$f":"IF(Dati!E310=\"EE1\",Dati!D310,)","v":0}]
[{"$f":"Dati!C311","v":"00:00:00"},{"$f":"Dati!H311","v":"00:00:00"},{"$f":"IF(Dati!E311=\"EA1\",Dati!D311,)","v":0},{"$f":"IF(Dati!E311=\"EA2\",Dati!D311,)","v":0},{"$f":"IF(Dati!E311=\"EA3\",Dati!D311,)","v":0},{"$f":"IF(Dati!E311=\"EA4\",Dati!D311,)","v":0},{"$f":"IF(Dati!E311=\"EA5\",Dati!D311,)","v":0},{"$f":"IF(Dati!E311=\"EA6\",Dati!D311,)","v":0},{"$f":"IF(Dati!E311=\"EB1\",Dati!D311,)","v":0},{"$f":"IF(Dati!E311=\"EB2\",Dati!D311,)","v":0},{"$f":"IF(Dati!E311=\"EC1\",Dati!D311,)","v":0},{"$f":"IF(Dati!E311=\"ED1\",Dati!D311,)","v":0},{"$f":"IF(Dati!E311=\"EE1\",Dati!D311,)","v":0}]
[{"$f":"Dati!C312","v":"00:00:00"},{"$f":"Dati!H312","v":"00:00:00"},{"$f":"IF(Dati!E312=\"EA1\",Dati!D312,)","v":0},{"$f":"IF(Dati!E312=\"EA2\",Dati!D312,)","v":0},{"$f":"IF(Dati!E312=\"EA3\",Dati!D312,)","v":0},{"$f":"IF(Dati!E312=\"EA4\",Dati!D312,)","v":0},{"$f":"IF(Dati!E312=\"EA5\",Dati!D312,)","v":0},{"$f":"IF(Dati!E312=\"EA6\",Dati!D312,)","v":0},{"$f":"IF(Dati!E312=\"EB1\",Dati!D312,)","v":0},{"$f":"IF(Dati!E312=\"EB2\",Dati!D312,)","v":0},{"$f":"IF(Dati!E312=\"EC1\",Dati!D312,)","v":0},{"$f":"IF(Dati!E312=\"ED1\",Dati!D312,)","v":0},{"$f":"IF(Dati!E312=\"EE1\",Dati!D312,)","v":0}]
[{"$f":"Dati!C313","v":"00:00:00"},{"$f":"Dati!H313","v":"00:00:00"},{"$f":"IF(Dati!E313=\"EA1\",Dati!D313,)","v":0},{"$f":"IF(Dati!E313=\"EA2\",Dati!D313,)","v":0},{"$f":"IF(Dati!E313=\"EA3\",Dati!D313,)","v":0},{"$f":"IF(Dati!E313=\"EA4\",Dati!D313,)","v":0},{"$f":"IF(Dati!E313=\"EA5\",Dati!D313,)","v":0},{"$f":"IF(Dati!E313=\"EA6\",Dati!D313,)","v":0},{"$f":"IF(Dati!E313=\"EB1\",Dati!D313,)","v":0},{"$f":"IF(Dati!E313=\"EB2\",Dati!D313,)","v":0},{"$f":"IF(Dati!E313=\"EC1\",Dati!D313,)","v":0},{"$f":"IF(Dati!E313=\"ED1\",Dati!D313,)","v":0},{"$f":"IF(Dati!E313=\"EE1\",Dati!D313,)","v":0}]
[{"$f":"Dati!C314","v":"00:00:00"},{"$f":"Dati!H314","v":"00:00:00"},{"$f":"IF(Dati!E314=\"EA1\",Dati!D314,)","v":0},{"$f":"IF(Dati!E314=\"EA2\",Dati!D314,)","v":0},{"$f":"IF(Dati!E314=\"EA3\",Dati!D314,)","v":0},{"$f":"IF(Dati!E314=\"EA4\",Dati!D314,)","v":0},{"$f":"IF(Dati!E314=\"EA5\",Dati!D314,)","v":0},{"$f":"IF(Dati!E314=\"EA6\",Dati!D314,)","v":0},{"$f":"IF(Dati!E314=\"EB1\",Dati!D314,)","v":0},{"$f":"IF(Dati!E314=\"EB2\",Dati!D314,)","v":0},{"$f":"IF(Dati!E314=\"EC1\",Dati!D314,)","v":0},{"$f":"IF(Dati!E314=\"ED1\",Dati!D314,)","v":0},{"$f":"IF(Dati!E314=\"EE1\",Dati!D314,)","v":0}]
[{"$f":"Dati!C315","v":"00:00:00"},{"$f":"Dati!H315","v":"00:00:00"},{"$f":"IF(Dati!E315=\"EA1\",Dati!D315,)","v":0},{"$f":"IF(Dati!E315=\"EA2\",Dati!D315,)","v":0},{"$f":"IF(Dati!E315=\"EA3\",Dati!D315,)","v":0},{"$f":"IF(Dati!E315=\"EA4\",Dati!D315,)","v":0},{"$f":"IF(Dati!E315=\"EA5\",Dati!D315,)","v":0},{"$f":"IF(Dati!E315=\"EA6\",Dati!D315,)","v":0},{"$f":"IF(Dati!E315=\"EB1\",Dati!D315,)","v":0},{"$f":"IF(Dati!E315=\"EB2\",Dati!D315,)","v":0},{"$f":"IF(Dati!E315=\"EC1\",Dati!D315,)","v":0},{"$f":"IF(Dati!E315=\"ED1\",Dati!D315,)","v":0},{"$f":"IF(Dati!E315=\"EE1\",Dati!D315,)","v":0}]
[{"$f":"Dati!C316","v":"00:00:00"},{"$f":"Dati!H316","v":"00:00:00"},{"$f":"IF(Dati!E316=\"EA1\",Dati!D316,)","v":0},{"$f":"IF(Dati!E316=\"EA2\",Dati!D316,)","v":0},{"$f":"IF(Dati!E316=\"EA3\",Dati!D316,)","v":0},{"$f":"IF(Dati!E316=\"EA4\",Dati!D316,)","v":0},{"$f":"IF(Dati!E316=\"EA5\",Dati!D316,)","v":0},{"$f":"IF(Dati!E316=\"EA6\",Dati!D316,)","v":0},{"$f":"IF(Dati!E316=\"EB1\",Dati!D316,)","v":0},{"$f":"IF(Dati!E316=\"EB2\",Dati!D316,)","v":0},{"$f":"IF(Dati!E316=\"EC1\",Dati!D316,)","v":0},{"$f":"IF(Dati!E316=\"ED1\",Dati!D316,)","v":0},{"$f":"IF(Dati!E316=\"EE1\",Dati!D316,)","v":0}]
[{"$f":"Dati!C317","v":"00:00:00"},{"$f":"Dati!H317","v":"00:00:00"},{"$f":"IF(Dati!E317=\"EA1\",Dati!D317,)","v":0},{"$f":"IF(Dati!E317=\"EA2\",Dati!D317,)","v":0},{"$f":"IF(Dati!E317=\"EA3\",Dati!D317,)","v":0},{"$f":"IF(Dati!E317=\"EA4\",Dati!D317,)","v":0},{"$f":"IF(Dati!E317=\"EA5\",Dati!D317,)","v":0},{"$f":"IF(Dati!E317=\"EA6\",Dati!D317,)","v":0},{"$f":"IF(Dati!E317=\"EB1\",Dati!D317,)","v":0},{"$f":"IF(Dati!E317=\"EB2\",Dati!D317,)","v":0},{"$f":"IF(Dati!E317=\"EC1\",Dati!D317,)","v":0},{"$f":"IF(Dati!E317=\"ED1\",Dati!D317,)","v":0},{"$f":"IF(Dati!E317=\"EE1\",Dati!D317,)","v":0}]
[{"$f":"Dati!C318","v":"00:00:00"},{"$f":"Dati!H318","v":"00:00:00"},{"$f":"IF(Dati!E318=\"EA1\",Dati!D318,)","v":0},{"$f":"IF(Dati!E318=\"EA2\",Dati!D318,)","v":0},{"$f":"IF(Dati!E318=\"EA3\",Dati!D318,)","v":0},{"$f":"IF(Dati!E318=\"EA4\",Dati!D318,)","v":0},{"$f":"IF(Dati!E318=\"EA5\",Dati!D318,)","v":0},{"$f":"IF(Dati!E318=\"EA6\",Dati!D318,)","v":0},{"$f":"IF(Dati!E318=\"EB1\",Dati!D318,)","v":0},{"$f":"IF(Dati!E318=\"EB2\",Dati!D318,)","v":0},{"$f":"IF(Dati!E318=\"EC1\",Dati!D318,)","v":0},{"$f":"IF(Dati!E318=\"ED1\",Dati!D318,)","v":0},{"$f":"IF(Dati!E318=\"EE1\",Dati!D318,)","v":0}]
[{"$f":"Dati!C319","v":"00:00:00"},{"$f":"Dati!H319","v":"00:00:00"},{"$f":"IF(Dati!E319=\"EA1\",Dati!D319,)","v":0},{"$f":"IF(Dati!E319=\"EA2\",Dati!D319,)","v":0},{"$f":"IF(Dati!E319=\"EA3\",Dati!D319,)","v":0},{"$f":"IF(Dati!E319=\"EA4\",Dati!D319,)","v":0},{"$f":"IF(Dati!E319=\"EA5\",Dati!D319,)","v":0},{"$f":"IF(Dati!E319=\"EA6\",Dati!D319,)","v":0},{"$f":"IF(Dati!E319=\"EB1\",Dati!D319,)","v":0},{"$f":"IF(Dati!E319=\"EB2\",Dati!D319,)","v":0},{"$f":"IF(Dati!E319=\"EC1\",Dati!D319,)","v":0},{"$f":"IF(Dati!E319=\"ED1\",Dati!D319,)","v":0},{"$f":"IF(Dati!E319=\"EE1\",Dati!D319,)","v":0}]
[{"$f":"Dati!C320","v":"00:00:00"},{"$f":"Dati!H320","v":"00:00:00"},{"$f":"IF(Dati!E320=\"EA1\",Dati!D320,)","v":0},{"$f":"IF(Dati!E320=\"EA2\",Dati!D320,)","v":0},{"$f":"IF(Dati!E320=\"EA3\",Dati!D320,)","v":0},{"$f":"IF(Dati!E320=\"EA4\",Dati!D320,)","v":0},{"$f":"IF(Dati!E320=\"EA5\",Dati!D320,)","v":0},{"$f":"IF(Dati!E320=\"EA6\",Dati!D320,)","v":0},{"$f":"IF(Dati!E320=\"EB1\",Dati!D320,)","v":0},{"$f":"IF(Dati!E320=\"EB2\",Dati!D320,)","v":0},{"$f":"IF(Dati!E320=\"EC1\",Dati!D320,)","v":0},{"$f":"IF(Dati!E320=\"ED1\",Dati!D320,)","v":0},{"$f":"IF(Dati!E320=\"EE1\",Dati!D320,)","v":0}]
[{"$f":"Dati!C321","v":"00:00:00"},{"$f":"Dati!H321","v":"00:00:00"},{"$f":"IF(Dati!E321=\"EA1\",Dati!D321,)","v":0},{"$f":"IF(Dati!E321=\"EA2\",Dati!D321,)","v":0},{"$f":"IF(Dati!E321=\"EA3\",Dati!D321,)","v":0},{"$f":"IF(Dati!E321=\"EA4\",Dati!D321,)","v":0},{"$f":"IF(Dati!E321=\"EA5\",Dati!D321,)","v":0},{"$f":"IF(Dati!E321=\"EA6\",Dati!D321,)","v":0},{"$f":"IF(Dati!E321=\"EB1\",Dati!D321,)","v":0},{"$f":"IF(Dati!E321=\"EB2\",Dati!D321,)","v":0},{"$f":"IF(Dati!E321=\"EC1\",Dati!D321,)","v":0},{"$f":"IF(Dati!E321=\"ED1\",Dati!D321,)","v":0},{"$f":"IF(Dati!E321=\"EE1\",Dati!D321,)","v":0}]
[{"$f":"Dati!C322","v":"00:00:00"},{"$f":"Dati!H322","v":"00:00:00"},{"$f":"IF(Dati!E322=\"EA1\",Dati!D322,)","v":0},{"$f":"IF(Dati!E322=\"EA2\",Dati!D322,)","v":0},{"$f":"IF(Dati!E322=\"EA3\",Dati!D322,)","v":0},{"$f":"IF(Dati!E322=\"EA4\",Dati!D322,)","v":0},{"$f":"IF(Dati!E322=\"EA5\",Dati!D322,)","v":0},{"$f":"IF(Dati!E322=\"EA6\",Dati!D322,)","v":0},{"$f":"IF(Dati!E322=\"EB1\",Dati!D322,)","v":0},{"$f":"IF(Dati!E322=\"EB2\",Dati!D322,)","v":0},{"$f":"IF(Dati!E322=\"EC1\",Dati!D322,)","v":0},{"$f":"IF(Dati!E322=\"ED1\",Dati!D322,)","v":0},{"$f":"IF(Dati!E322=\"EE1\",Dati!D322,)","v":0}]
[{"$f":"Dati!C323","v":"00:00:00"},{"$f":"Dati!H323","v":"00:00:00"},{"$f":"IF(Dati!E323=\"EA1\",Dati!D323,)","v":0},{"$f":"IF(Dati!E323=\"EA2\",Dati!D323,)","v":0},{"$f":"IF(Dati!E323=\"EA3\",Dati!D323,)","v":0},{"$f":"IF(Dati!E323=\"EA4\",Dati!D323,)","v":0},{"$f":"IF(Dati!E323=\"EA5\",Dati!D323,)","v":0},{"$f":"IF(Dati!E323=\"EA6\",Dati!D323,)","v":0},{"$f":"IF(Dati!E323=\"EB1\",Dati!D323,)","v":0},{"$f":"IF(Dati!E323=\"EB2\",Dati!D323,)","v":0},{"$f":"IF(Dati!E323=\"EC1\",Dati!D323,)","v":0},{"$f":"IF(Dati!E323=\"ED1\",Dati!D323,)","v":0},{"$f":"IF(Dati!E323=\"EE1\",Dati!D323,)","v":0}]
[{"$f":"Dati!C324","v":"00:00:00"},{"$f":"Dati!H324","v":"00:00:00"},{"$f":"IF(Dati!E324=\"EA1\",Dati!D324,)","v":0},{"$f":"IF(Dati!E324=\"EA2\",Dati!D324,)","v":0},{"$f":"IF(Dati!E324=\"EA3\",Dati!D324,)","v":0},{"$f":"IF(Dati!E324=\"EA4\",Dati!D324,)","v":0},{"$f":"IF(Dati!E324=\"EA5\",Dati!D324,)","v":0},{"$f":"IF(Dati!E324=\"EA6\",Dati!D324,)","v":0},{"$f":"IF(Dati!E324=\"EB1\",Dati!D324,)","v":0},{"$f":"IF(Dati!E324=\"EB2\",Dati!D324,)","v":0},{"$f":"IF(Dati!E324=\"EC1\",Dati!D324,)","v":0},{"$f":"IF(Dati!E324=\"ED1\",Dati!D324,)","v":0},{"$f":"IF(Dati!E324=\"EE1\",Dati!D324,)","v":0}]
[{"$f":"Dati!C325","v":"00:00:00"},{"$f":"Dati!H325","v":"00:00:00"},{"$f":"IF(Dati!E325=\"EA1\",Dati!D325,)","v":0},{"$f":"IF(Dati!E325=\"EA2\",Dati!D325,)","v":0},{"$f":"IF(Dati!E325=\"EA3\",Dati!D325,)","v":0},{"$f":"IF(Dati!E325=\"EA4\",Dati!D325,)","v":0},{"$f":"IF(Dati!E325=\"EA5\",Dati!D325,)","v":0},{"$f":"IF(Dati!E325=\"EA6\",Dati!D325,)","v":0},{"$f":"IF(Dati!E325=\"EB1\",Dati!D325,)","v":0},{"$f":"IF(Dati!E325=\"EB2\",Dati!D325,)","v":0},{"$f":"IF(Dati!E325=\"EC1\",Dati!D325,)","v":0},{"$f":"IF(Dati!E325=\"ED1\",Dati!D325,)","v":0},{"$f":"IF(Dati!E325=\"EE1\",Dati!D325,)","v":0}]
[{"$f":"Dati!C326","v":"00:00:00"},{"$f":"Dati!H326","v":"00:00:00"},{"$f":"IF(Dati!E326=\"EA1\",Dati!D326,)","v":0},{"$f":"IF(Dati!E326=\"EA2\",Dati!D326,)","v":0},{"$f":"IF(Dati!E326=\"EA3\",Dati!D326,)","v":0},{"$f":"IF(Dati!E326=\"EA4\",Dati!D326,)","v":0},{"$f":"IF(Dati!E326=\"EA5\",Dati!D326,)","v":0},{"$f":"IF(Dati!E326=\"EA6\",Dati!D326,)","v":0},{"$f":"IF(Dati!E326=\"EB1\",Dati!D326,)","v":0},{"$f":"IF(Dati!E326=\"EB2\",Dati!D326,)","v":0},{"$f":"IF(Dati!E326=\"EC1\",Dati!D326,)","v":0},{"$f":"IF(Dati!E326=\"ED1\",Dati!D326,)","v":0},{"$f":"IF(Dati!E326=\"EE1\",Dati!D326,)","v":0}]
[{"$f":"Dati!C327","v":"00:00:00"},{"$f":"Dati!H327","v":"00:00:00"},{"$f":"IF(Dati!E327=\"EA1\",Dati!D327,)","v":0},{"$f":"IF(Dati!E327=\"EA2\",Dati!D327,)","v":0},{"$f":"IF(Dati!E327=\"EA3\",Dati!D327,)","v":0},{"$f":"IF(Dati!E327=\"EA4\",Dati!D327,)","v":0},{"$f":"IF(Dati!E327=\"EA5\",Dati!D327,)","v":0},{"$f":"IF(Dati!E327=\"EA6\",Dati!D327,)","v":0},{"$f":"IF(Dati!E327=\"EB1\",Dati!D327,)","v":0},{"$f":"IF(Dati!E327=\"EB2\",Dati!D327,)","v":0},{"$f":"IF(Dati!E327=\"EC1\",Dati!D327,)","v":0},{"$f":"IF(Dati!E327=\"ED1\",Dati!D327,)","v":0},{"$f":"IF(Dati!E327=\"EE1\",Dati!D327,)","v":0}]
[{"$f":"Dati!C328","v":"00:00:00"},{"$f":"Dati!H328","v":"00:00:00"},{"$f":"IF(Dati!E328=\"EA1\",Dati!D328,)","v":0},{"$f":"IF(Dati!E328=\"EA2\",Dati!D328,)","v":0},{"$f":"IF(Dati!E328=\"EA3\",Dati!D328,)","v":0},{"$f":"IF(Dati!E328=\"EA4\",Dati!D328,)","v":0},{"$f":"IF(Dati!E328=\"EA5\",Dati!D328,)","v":0},{"$f":"IF(Dati!E328=\"EA6\",Dati!D328,)","v":0},{"$f":"IF(Dati!E328=\"EB1\",Dati!D328,)","v":0},{"$f":"IF(Dati!E328=\"EB2\",Dati!D328,)","v":0},{"$f":"IF(Dati!E328=\"EC1\",Dati!D328,)","v":0},{"$f":"IF(Dati!E328=\"ED1\",Dati!D328,)","v":0},{"$f":"IF(Dati!E328=\"EE1\",Dati!D328,)","v":0}]
[{"$f":"Dati!C329","v":"00:00:00"},{"$f":"Dati!H329","v":"00:00:00"},{"$f":"IF(Dati!E329=\"EA1\",Dati!D329,)","v":0},{"$f":"IF(Dati!E329=\"EA2\",Dati!D329,)","v":0},{"$f":"IF(Dati!E329=\"EA3\",Dati!D329,)","v":0},{"$f":"IF(Dati!E329=\"EA4\",Dati!D329,)","v":0},{"$f":"IF(Dati!E329=\"EA5\",Dati!D329,)","v":0},{"$f":"IF(Dati!E329=\"EA6\",Dati!D329,)","v":0},{"$f":"IF(Dati!E329=\"EB1\",Dati!D329,)","v":0},{"$f":"IF(Dati!E329=\"EB2\",Dati!D329,)","v":0},{"$f":"IF(Dati!E329=\"EC1\",Dati!D329,)","v":0},{"$f":"IF(Dati!E329=\"ED1\",Dati!D329,)","v":0},{"$f":"IF(Dati!E329=\"EE1\",Dati!D329,)","v":0}]
[{"$f":"Dati!C330","v":"00:00:00"},{"$f":"Dati!H330","v":"00:00:00"},{"$f":"IF(Dati!E330=\"EA1\",Dati!D330,)","v":0},{"$f":"IF(Dati!E330=\"EA2\",Dati!D330,)","v":0},{"$f":"IF(Dati!E330=\"EA3\",Dati!D330,)","v":0},{"$f":"IF(Dati!E330=\"EA4\",Dati!D330,)","v":0},{"$f":"IF(Dati!E330=\"EA5\",Dati!D330,)","v":0},{"$f":"IF(Dati!E330=\"EA6\",Dati!D330,)","v":0},{"$f":"IF(Dati!E330=\"EB1\",Dati!D330,)","v":0},{"$f":"IF(Dati!E330=\"EB2\",Dati!D330,)","v":0},{"$f":"IF(Dati!E330=\"EC1\",Dati!D330,)","v":0},{"$f":"IF(Dati!E330=\"ED1\",Dati!D330,)","v":0},{"$f":"IF(Dati!E330=\"EE1\",Dati!D330,)","v":0}]
[{"$f":"Dati!C331","v":"00:00:00"},{"$f":"Dati!H331","v":"00:00:00"},{"$f":"IF(Dati!E331=\"EA1\",Dati!D331,)","v":0},{"$f":"IF(Dati!E331=\"EA2\",Dati!D331,)","v":0},{"$f":"IF(Dati!E331=\"EA3\",Dati!D331,)","v":0},{"$f":"IF(Dati!E331=\"EA4\",Dati!D331,)","v":0},{"$f":"IF(Dati!E331=\"EA5\",Dati!D331,)","v":0},{"$f":"IF(Dati!E331=\"EA6\",Dati!D331,)","v":0},{"$f":"IF(Dati!E331=\"EB1\",Dati!D331,)","v":0},{"$f":"IF(Dati!E331=\"EB2\",Dati!D331,)","v":0},{"$f":"IF(Dati!E331=\"EC1\",Dati!D331,)","v":0},{"$f":"IF(Dati!E331=\"ED1\",Dati!D331,)","v":0},{"$f":"IF(Dati!E331=\"EE1\",Dati!D331,)","v":0}]
[{"$f":"Dati!C332","v":"00:00:00"},{"$f":"Dati!H332","v":"00:00:00"},{"$f":"IF(Dati!E332=\"EA1\",Dati!D332,)","v":0},{"$f":"IF(Dati!E332=\"EA2\",Dati!D332,)","v":0},{"$f":"IF(Dati!E332=\"EA3\",Dati!D332,)","v":0},{"$f":"IF(Dati!E332=\"EA4\",Dati!D332,)","v":0},{"$f":"IF(Dati!E332=\"EA5\",Dati!D332,)","v":0},{"$f":"IF(Dati!E332=\"EA6\",Dati!D332,)","v":0},{"$f":"IF(Dati!E332=\"EB1\",Dati!D332,)","v":0},{"$f":"IF(Dati!E332=\"EB2\",Dati!D332,)","v":0},{"$f":"IF(Dati!E332=\"EC1\",Dati!D332,)","v":0},{"$f":"IF(Dati!E332=\"ED1\",Dati!D332,)","v":0},{"$f":"IF(Dati!E332=\"EE1\",Dati!D332,)","v":0}]
[{"$f":"Dati!C333","v":"00:00:00"},{"$f":"Dati!H333","v":"00:00:00"},{"$f":"IF(Dati!E333=\"EA1\",Dati!D333,)","v":0},{"$f":"IF(Dati!E333=\"EA2\",Dati!D333,)","v":0},{"$f":"IF(Dati!E333=\"EA3\",Dati!D333,)","v":0},{"$f":"IF(Dati!E333=\"EA4\",Dati!D333,)","v":0},{"$f":"IF(Dati!E333=\"EA5\",Dati!D333,)","v":0},{"$f":"IF(Dati!E333=\"EA6\",Dati!D333,)","v":0},{"$f":"IF(Dati!E333=\"EB1\",Dati!D333,)","v":0},{"$f":"IF(Dati!E333=\"EB2\",Dati!D333,)","v":0},{"$f":"IF(Dati!E333=\"EC1\",Dati!D333,)","v":0},{"$f":"IF(Dati!E333=\"ED1\",Dati!D333,)","v":0},{"$f":"IF(Dati!E333=\"EE1\",Dati!D333,)","v":0}]
[{"$f":"Dati!C334","v":"00:00:00"},{"$f":"Dati!H334","v":"00:00:00"},{"$f":"IF(Dati!E334=\"EA1\",Dati!D334,)","v":0},{"$f":"IF(Dati!E334=\"EA2\",Dati!D334,)","v":0},{"$f":"IF(Dati!E334=\"EA3\",Dati!D334,)","v":0},{"$f":"IF(Dati!E334=\"EA4\",Dati!D334,)","v":0},{"$f":"IF(Dati!E334=\"EA5\",Dati!D334,)","v":0},{"$f":"IF(Dati!E334=\"EA6\",Dati!D334,)","v":0},{"$f":"IF(Dati!E334=\"EB1\",Dati!D334,)","v":0},{"$f":"IF(Dati!E334=\"EB2\",Dati!D334,)","v":0},{"$f":"IF(Dati!E334=\"EC1\",Dati!D334,)","v":0},{"$f":"IF(Dati!E334=\"ED1\",Dati!D334,)","v":0},{"$f":"IF(Dati!E334=\"EE1\",Dati!D334,)","v":0}]
[{"$f":"Dati!C335","v":"00:00:00"},{"$f":"Dati!H335","v":"00:00:00"},{"$f":"IF(Dati!E335=\"EA1\",Dati!D335,)","v":0},{"$f":"IF(Dati!E335=\"EA2\",Dati!D335,)","v":0},{"$f":"IF(Dati!E335=\"EA3\",Dati!D335,)","v":0},{"$f":"IF(Dati!E335=\"EA4\",Dati!D335,)","v":0},{"$f":"IF(Dati!E335=\"EA5\",Dati!D335,)","v":0},{"$f":"IF(Dati!E335=\"EA6\",Dati!D335,)","v":0},{"$f":"IF(Dati!E335=\"EB1\",Dati!D335,)","v":0},{"$f":"IF(Dati!E335=\"EB2\",Dati!D335,)","v":0},{"$f":"IF(Dati!E335=\"EC1\",Dati!D335,)","v":0},{"$f":"IF(Dati!E335=\"ED1\",Dati!D335,)","v":0},{"$f":"IF(Dati!E335=\"EE1\",Dati!D335,)","v":0}]
[{"$f":"Dati!C336","v":"00:00:00"},{"$f":"Dati!H336","v":"00:00:00"},{"$f":"IF(Dati!E336=\"EA1\",Dati!D336,)","v":0},{"$f":"IF(Dati!E336=\"EA2\",Dati!D336,)","v":0},{"$f":"IF(Dati!E336=\"EA3\",Dati!D336,)","v":0},{"$f":"IF(Dati!E336=\"EA4\",Dati!D336,)","v":0},{"$f":"IF(Dati!E336=\"EA5\",Dati!D336,)","v":0},{"$f":"IF(Dati!E336=\"EA6\",Dati!D336,)","v":0},{"$f":"IF(Dati!E336=\"EB1\",Dati!D336,)","v":0},{"$f":"IF(Dati!E336=\"EB2\",Dati!D336,)","v":0},{"$f":"IF(Dati!E336=\"EC1\",Dati!D336,)","v":0},{"$f":"IF(Dati!E336=\"ED1\",Dati!D336,)","v":0},{"$f":"IF(Dati!E336=\"EE1\",Dati!D336,)","v":0}]
[{"$f":"Dati!C337","v":"00:00:00"},{"$f":"Dati!H337","v":"00:00:00"},{"$f":"IF(Dati!E337=\"EA1\",Dati!D337,)","v":0},{"$f":"IF(Dati!E337=\"EA2\",Dati!D337,)","v":0},{"$f":"IF(Dati!E337=\"EA3\",Dati!D337,)","v":0},{"$f":"IF(Dati!E337=\"EA4\",Dati!D337,)","v":0},{"$f":"IF(Dati!E337=\"EA5\",Dati!D337,)","v":0},{"$f":"IF(Dati!E337=\"EA6\",Dati!D337,)","v":0},{"$f":"IF(Dati!E337=\"EB1\",Dati!D337,)","v":0},{"$f":"IF(Dati!E337=\"EB2\",Dati!D337,)","v":0},{"$f":"IF(Dati!E337=\"EC1\",Dati!D337,)","v":0},{"$f":"IF(Dati!E337=\"ED1\",Dati!D337,)","v":0},{"$f":"IF(Dati!E337=\"EE1\",Dati!D337,)","v":0}]
[{"$f":"Dati!C338","v":"00:00:00"},{"$f":"Dati!H338","v":"00:00:00"},{"$f":"IF(Dati!E338=\"EA1\",Dati!D338,)","v":0},{"$f":"IF(Dati!E338=\"EA2\",Dati!D338,)","v":0},{"$f":"IF(Dati!E338=\"EA3\",Dati!D338,)","v":0},{"$f":"IF(Dati!E338=\"EA4\",Dati!D338,)","v":0},{"$f":"IF(Dati!E338=\"EA5\",Dati!D338,)","v":0},{"$f":"IF(Dati!E338=\"EA6\",Dati!D338,)","v":0},{"$f":"IF(Dati!E338=\"EB1\",Dati!D338,)","v":0},{"$f":"IF(Dati!E338=\"EB2\",Dati!D338,)","v":0},{"$f":"IF(Dati!E338=\"EC1\",Dati!D338,)","v":0},{"$f":"IF(Dati!E338=\"ED1\",Dati!D338,)","v":0},{"$f":"IF(Dati!E338=\"EE1\",Dati!D338,)","v":0}]
[{"$f":"Dati!C339","v":"00:00:00"},{"$f":"Dati!H339","v":"00:00:00"},{"$f":"IF(Dati!E339=\"EA1\",Dati!D339,)","v":0},{"$f":"IF(Dati!E339=\"EA2\",Dati!D339,)","v":0},{"$f":"IF(Dati!E339=\"EA3\",Dati!D339,)","v":0},{"$f":"IF(Dati!E339=\"EA4\",Dati!D339,)","v":0},{"$f":"IF(Dati!E339=\"EA5\",Dati!D339,)","v":0},{"$f":"IF(Dati!E339=\"EA6\",Dati!D339,)","v":0},{"$f":"IF(Dati!E339=\"EB1\",Dati!D339,)","v":0},{"$f":"IF(Dati!E339=\"EB2\",Dati!D339,)","v":0},{"$f":"IF(Dati!E339=\"EC1\",Dati!D339,)","v":0},{"$f":"IF(Dati!E339=\"ED1\",Dati!D339,)","v":0},{"$f":"IF(Dati!E339=\"EE1\",Dati!D339,)","v":0}]
[{"$f":"Dati!C340","v":"00:00:00"},{"$f":"Dati!H340","v":"00:00:00"},{"$f":"IF(Dati!E340=\"EA1\",Dati!D340,)","v":0},{"$f":"IF(Dati!E340=\"EA2\",Dati!D340,)","v":0},{"$f":"IF(Dati!E340=\"EA3\",Dati!D340,)","v":0},{"$f":"IF(Dati!E340=\"EA4\",Dati!D340,)","v":0},{"$f":"IF(Dati!E340=\"EA5\",Dati!D340,)","v":0},{"$f":"IF(Dati!E340=\"EA6\",Dati!D340,)","v":0},{"$f":"IF(Dati!E340=\"EB1\",Dati!D340,)","v":0},{"$f":"IF(Dati!E340=\"EB2\",Dati!D340,)","v":0},{"$f":"IF(Dati!E340=\"EC1\",Dati!D340,)","v":0},{"$f":"IF(Dati!E340=\"ED1\",Dati!D340,)","v":0},{"$f":"IF(Dati!E340=\"EE1\",Dati!D340,)","v":0}]
[{"$f":"Dati!C341","v":"00:00:00"},{"$f":"Dati!H341","v":"00:00:00"},{"$f":"IF(Dati!E341=\"EA1\",Dati!D341,)","v":0},{"$f":"IF(Dati!E341=\"EA2\",Dati!D341,)","v":0},{"$f":"IF(Dati!E341=\"EA3\",Dati!D341,)","v":0},{"$f":"IF(Dati!E341=\"EA4\",Dati!D341,)","v":0},{"$f":"IF(Dati!E341=\"EA5\",Dati!D341,)","v":0},{"$f":"IF(Dati!E341=\"EA6\",Dati!D341,)","v":0},{"$f":"IF(Dati!E341=\"EB1\",Dati!D341,)","v":0},{"$f":"IF(Dati!E341=\"EB2\",Dati!D341,)","v":0},{"$f":"IF(Dati!E341=\"EC1\",Dati!D341,)","v":0},{"$f":"IF(Dati!E341=\"ED1\",Dati!D341,)","v":0},{"$f":"IF(Dati!E341=\"EE1\",Dati!D341,)","v":0}]
[{"$f":"Dati!C342","v":"00:00:00"},{"$f":"Dati!H342","v":"00:00:00"},{"$f":"IF(Dati!E342=\"EA1\",Dati!D342,)","v":0},{"$f":"IF(Dati!E342=\"EA2\",Dati!D342,)","v":0},{"$f":"IF(Dati!E342=\"EA3\",Dati!D342,)","v":0},{"$f":"IF(Dati!E342=\"EA4\",Dati!D342,)","v":0},{"$f":"IF(Dati!E342=\"EA5\",Dati!D342,)","v":0},{"$f":"IF(Dati!E342=\"EA6\",Dati!D342,)","v":0},{"$f":"IF(Dati!E342=\"EB1\",Dati!D342,)","v":0},{"$f":"IF(Dati!E342=\"EB2\",Dati!D342,)","v":0},{"$f":"IF(Dati!E342=\"EC1\",Dati!D342,)","v":0},{"$f":"IF(Dati!E342=\"ED1\",Dati!D342,)","v":0},{"$f":"IF(Dati!E342=\"EE1\",Dati!D342,)","v":0}]
[{"$f":"Dati!C343","v":"00:00:00"},{"$f":"Dati!H343","v":"00:00:00"},{"$f":"IF(Dati!E343=\"EA1\",Dati!D343,)","v":0},{"$f":"IF(Dati!E343=\"EA2\",Dati!D343,)","v":0},{"$f":"IF(Dati!E343=\"EA3\",Dati!D343,)","v":0},{"$f":"IF(Dati!E343=\"EA4\",Dati!D343,)","v":0},{"$f":"IF(Dati!E343=\"EA5\",Dati!D343,)","v":0},{"$f":"IF(Dati!E343=\"EA6\",Dati!D343,)","v":0},{"$f":"IF(Dati!E343=\"EB1\",Dati!D343,)","v":0},{"$f":"IF(Dati!E343=\"EB2\",Dati!D343,)","v":0},{"$f":"IF(Dati!E343=\"EC1\",Dati!D343,)","v":0},{"$f":"IF(Dati!E343=\"ED1\",Dati!D343,)","v":0},{"$f":"IF(Dati!E343=\"EE1\",Dati!D343,)","v":0}]
[{"$f":"Dati!C344","v":"00:00:00"},{"$f":"Dati!H344","v":"00:00:00"},{"$f":"IF(Dati!E344=\"EA1\",Dati!D344,)","v":0},{"$f":"IF(Dati!E344=\"EA2\",Dati!D344,)","v":0},{"$f":"IF(Dati!E344=\"EA3\",Dati!D344,)","v":0},{"$f":"IF(Dati!E344=\"EA4\",Dati!D344,)","v":0},{"$f":"IF(Dati!E344=\"EA5\",Dati!D344,)","v":0},{"$f":"IF(Dati!E344=\"EA6\",Dati!D344,)","v":0},{"$f":"IF(Dati!E344=\"EB1\",Dati!D344,)","v":0},{"$f":"IF(Dati!E344=\"EB2\",Dati!D344,)","v":0},{"$f":"IF(Dati!E344=\"EC1\",Dati!D344,)","v":0},{"$f":"IF(Dati!E344=\"ED1\",Dati!D344,)","v":0},{"$f":"IF(Dati!E344=\"EE1\",Dati!D344,)","v":0}]
[{"$f":"Dati!C345","v":"00:00:00"},{"$f":"Dati!H345","v":"00:00:00"},{"$f":"IF(Dati!E345=\"EA1\",Dati!D345,)","v":0},{"$f":"IF(Dati!E345=\"EA2\",Dati!D345,)","v":0},{"$f":"IF(Dati!E345=\"EA3\",Dati!D345,)","v":0},{"$f":"IF(Dati!E345=\"EA4\",Dati!D345,)","v":0},{"$f":"IF(Dati!E345=\"EA5\",Dati!D345,)","v":0},{"$f":"IF(Dati!E345=\"EA6\",Dati!D345,)","v":0},{"$f":"IF(Dati!E345=\"EB1\",Dati!D345,)","v":0},{"$f":"IF(Dati!E345=\"EB2\",Dati!D345,)","v":0},{"$f":"IF(Dati!E345=\"EC1\",Dati!D345,)","v":0},{"$f":"IF(Dati!E345=\"ED1\",Dati!D345,)","v":0},{"$f":"IF(Dati!E345=\"EE1\",Dati!D345,)","v":0}]
[{"$f":"Dati!C346","v":"00:00:00"},{"$f":"Dati!H346","v":"00:00:00"},{"$f":"IF(Dati!E346=\"EA1\",Dati!D346,)","v":0},{"$f":"IF(Dati!E346=\"EA2\",Dati!D346,)","v":0},{"$f":"IF(Dati!E346=\"EA3\",Dati!D346,)","v":0},{"$f":"IF(Dati!E346=\"EA4\",Dati!D346,)","v":0},{"$f":"IF(Dati!E346=\"EA5\",Dati!D346,)","v":0},{"$f":"IF(Dati!E346=\"EA6\",Dati!D346,)","v":0},{"$f":"IF(Dati!E346=\"EB1\",Dati!D346,)","v":0},{"$f":"IF(Dati!E346=\"EB2\",Dati!D346,)","v":0},{"$f":"IF(Dati!E346=\"EC1\",Dati!D346,)","v":0},{"$f":"IF(Dati!E346=\"ED1\",Dati!D346,)","v":0},{"$f":"IF(Dati!E346=\"EE1\",Dati!D346,)","v":0}]
[{"$f":"Dati!C347","v":"00:00:00"},{"$f":"Dati!H347","v":"00:00:00"},{"$f":"IF(Dati!E347=\"EA1\",Dati!D347,)","v":0},{"$f":"IF(Dati!E347=\"EA2\",Dati!D347,)","v":0},{"$f":"IF(Dati!E347=\"EA3\",Dati!D347,)","v":0},{"$f":"IF(Dati!E347=\"EA4\",Dati!D347,)","v":0},{"$f":"IF(Dati!E347=\"EA5\",Dati!D347,)","v":0},{"$f":"IF(Dati!E347=\"EA6\",Dati!D347,)","v":0},{"$f":"IF(Dati!E347=\"EB1\",Dati!D347,)","v":0},{"$f":"IF(Dati!E347=\"EB2\",Dati!D347,)","v":0},{"$f":"IF(Dati!E347=\"EC1\",Dati!D347,)","v":0},{"$f":"IF(Dati!E347=\"ED1\",Dati!D347,)","v":0},{"$f":"IF(Dati!E347=\"EE1\",Dati!D347,)","v":0}]
[{"$f":"Dati!C348","v":"00:00:00"},{"$f":"Dati!H348","v":"00:00:00"},{"$f":"IF(Dati!E348=\"EA1\",Dati!D348,)","v":0},{"$f":"IF(Dati!E348=\"EA2\",Dati!D348,)","v":0},{"$f":"IF(Dati!E348=\"EA3\",Dati!D348,)","v":0},{"$f":"IF(Dati!E348=\"EA4\",Dati!D348,)","v":0},{"$f":"IF(Dati!E348=\"EA5\",Dati!D348,)","v":0},{"$f":"IF(Dati!E348=\"EA6\",Dati!D348,)","v":0},{"$f":"IF(Dati!E348=\"EB1\",Dati!D348,)","v":0},{"$f":"IF(Dati!E348=\"EB2\",Dati!D348,)","v":0},{"$f":"IF(Dati!E348=\"EC1\",Dati!D348,)","v":0},{"$f":"IF(Dati!E348=\"ED1\",Dati!D348,)","v":0},{"$f":"IF(Dati!E348=\"EE1\",Dati!D348,)","v":0}]
[{"$f":"Dati!C349","v":"00:00:00"},{"$f":"Dati!H349","v":"00:00:00"},{"$f":"IF(Dati!E349=\"EA1\",Dati!D349,)","v":0},{"$f":"IF(Dati!E349=\"EA2\",Dati!D349,)","v":0},{"$f":"IF(Dati!E349=\"EA3\",Dati!D349,)","v":0},{"$f":"IF(Dati!E349=\"EA4\",Dati!D349,)","v":0},{"$f":"IF(Dati!E349=\"EA5\",Dati!D349,)","v":0},{"$f":"IF(Dati!E349=\"EA6\",Dati!D349,)","v":0},{"$f":"IF(Dati!E349=\"EB1\",Dati!D349,)","v":0},{"$f":"IF(Dati!E349=\"EB2\",Dati!D349,)","v":0},{"$f":"IF(Dati!E349=\"EC1\",Dati!D349,)","v":0},{"$f":"IF(Dati!E349=\"ED1\",Dati!D349,)","v":0},{"$f":"IF(Dati!E349=\"EE1\",Dati!D349,)","v":0}]
[{"$f":"Dati!C350","v":"00:00:00"},{"$f":"Dati!H350","v":"00:00:00"},{"$f":"IF(Dati!E350=\"EA1\",Dati!D350,)","v":0},{"$f":"IF(Dati!E350=\"EA2\",Dati!D350,)","v":0},{"$f":"IF(Dati!E350=\"EA3\",Dati!D350,)","v":0},{"$f":"IF(Dati!E350=\"EA4\",Dati!D350,)","v":0},{"$f":"IF(Dati!E350=\"EA5\",Dati!D350,)","v":0},{"$f":"IF(Dati!E350=\"EA6\",Dati!D350,)","v":0},{"$f":"IF(Dati!E350=\"EB1\",Dati!D350,)","v":0},{"$f":"IF(Dati!E350=\"EB2\",Dati!D350,)","v":0},{"$f":"IF(Dati!E350=\"EC1\",Dati!D350,)","v":0},{"$f":"IF(Dati!E350=\"ED1\",Dati!D350,)","v":0},{"$f":"IF(Dati!E350=\"EE1\",Dati!D350,)","v":0}]
[{"$f":"Dati!C351","v":"00:00:00"},{"$f":"Dati!H351","v":"00:00:00"},{"$f":"IF(Dati!E351=\"EA1\",Dati!D351,)","v":0},{"$f":"IF(Dati!E351=\"EA2\",Dati!D351,)","v":0},{"$f":"IF(Dati!E351=\"EA3\",Dati!D351,)","v":0},{"$f":"IF(Dati!E351=\"EA4\",Dati!D351,)","v":0},{"$f":"IF(Dati!E351=\"EA5\",Dati!D351,)","v":0},{"$f":"IF(Dati!E351=\"EA6\",Dati!D351,)","v":0},{"$f":"IF(Dati!E351=\"EB1\",Dati!D351,)","v":0},{"$f":"IF(Dati!E351=\"EB2\",Dati!D351,)","v":0},{"$f":"IF(Dati!E351=\"EC1\",Dati!D351,)","v":0},{"$f":"IF(Dati!E351=\"ED1\",Dati!D351,)","v":0},{"$f":"IF(Dati!E351=\"EE1\",Dati!D351,)","v":0}]
[{"$f":"Dati!C352","v":"00:00:00"},{"$f":"Dati!H352","v":"00:00:00"},{"$f":"IF(Dati!E352=\"EA1\",Dati!D352,)","v":0},{"$f":"IF(Dati!E352=\"EA2\",Dati!D352,)","v":0},{"$f":"IF(Dati!E352=\"EA3\",Dati!D352,)","v":0},{"$f":"IF(Dati!E352=\"EA4\",Dati!D352,)","v":0},{"$f":"IF(Dati!E352=\"EA5\",Dati!D352,)","v":0},{"$f":"IF(Dati!E352=\"EA6\",Dati!D352,)","v":0},{"$f":"IF(Dati!E352=\"EB1\",Dati!D352,)","v":0},{"$f":"IF(Dati!E352=\"EB2\",Dati!D352,)","v":0},{"$f":"IF(Dati!E352=\"EC1\",Dati!D352,)","v":0},{"$f":"IF(Dati!E352=\"ED1\",Dati!D352,)","v":0},{"$f":"IF(Dati!E352=\"EE1\",Dati!D352,)","v":0}]
[{"$f":"Dati!C353","v":"00:00:00"},{"$f":"Dati!H353","v":"00:00:00"},{"$f":"IF(Dati!E353=\"EA1\",Dati!D353,)","v":0},{"$f":"IF(Dati!E353=\"EA2\",Dati!D353,)","v":0},{"$f":"IF(Dati!E353=\"EA3\",Dati!D353,)","v":0},{"$f":"IF(Dati!E353=\"EA4\",Dati!D353,)","v":0},{"$f":"IF(Dati!E353=\"EA5\",Dati!D353,)","v":0},{"$f":"IF(Dati!E353=\"EA6\",Dati!D353,)","v":0},{"$f":"IF(Dati!E353=\"EB1\",Dati!D353,)","v":0},{"$f":"IF(Dati!E353=\"EB2\",Dati!D353,)","v":0},{"$f":"IF(Dati!E353=\"EC1\",Dati!D353,)","v":0},{"$f":"IF(Dati!E353=\"ED1\",Dati!D353,)","v":0},{"$f":"IF(Dati!E353=\"EE1\",Dati!D353,)","v":0}]
[{"$f":"Dati!C354","v":"00:00:00"},{"$f":"Dati!H354","v":"00:00:00"},{"$f":"IF(Dati!E354=\"EA1\",Dati!D354,)","v":0},{"$f":"IF(Dati!E354=\"EA2\",Dati!D354,)","v":0},{"$f":"IF(Dati!E354=\"EA3\",Dati!D354,)","v":0},{"$f":"IF(Dati!E354=\"EA4\",Dati!D354,)","v":0},{"$f":"IF(Dati!E354=\"EA5\",Dati!D354,)","v":0},{"$f":"IF(Dati!E354=\"EA6\",Dati!D354,)","v":0},{"$f":"IF(Dati!E354=\"EB1\",Dati!D354,)","v":0},{"$f":"IF(Dati!E354=\"EB2\",Dati!D354,)","v":0},{"$f":"IF(Dati!E354=\"EC1\",Dati!D354,)","v":0},{"$f":"IF(Dati!E354=\"ED1\",Dati!D354,)","v":0},{"$f":"IF(Dati!E354=\"EE1\",Dati!D354,)","v":0}]
[{"$f":"Dati!C355","v":"00:00:00"},{"$f":"Dati!H355","v":"00:00:00"},{"$f":"IF(Dati!E355=\"EA1\",Dati!D355,)","v":0},{"$f":"IF(Dati!E355=\"EA2\",Dati!D355,)","v":0},{"$f":"IF(Dati!E355=\"EA3\",Dati!D355,)","v":0},{"$f":"IF(Dati!E355=\"EA4\",Dati!D355,)","v":0},{"$f":"IF(Dati!E355=\"EA5\",Dati!D355,)","v":0},{"$f":"IF(Dati!E355=\"EA6\",Dati!D355,)","v":0},{"$f":"IF(Dati!E355=\"EB1\",Dati!D355,)","v":0},{"$f":"IF(Dati!E355=\"EB2\",Dati!D355,)","v":0},{"$f":"IF(Dati!E355=\"EC1\",Dati!D355,)","v":0},{"$f":"IF(Dati!E355=\"ED1\",Dati!D355,)","v":0},{"$f":"IF(Dati!E355=\"EE1\",Dati!D355,)","v":0}]
[{"$f":"Dati!C356","v":"00:00:00"},{"$f":"Dati!H356","v":"00:00:00"},{"$f":"IF(Dati!E356=\"EA1\",Dati!D356,)","v":0},{"$f":"IF(Dati!E356=\"EA2\",Dati!D356,)","v":0},{"$f":"IF(Dati!E356=\"EA3\",Dati!D356,)","v":0},{"$f":"IF(Dati!E356=\"EA4\",Dati!D356,)","v":0},{"$f":"IF(Dati!E356=\"EA5\",Dati!D356,)","v":0},{"$f":"IF(Dati!E356=\"EA6\",Dati!D356,)","v":0},{"$f":"IF(Dati!E356=\"EB1\",Dati!D356,)","v":0},{"$f":"IF(Dati!E356=\"EB2\",Dati!D356,)","v":0},{"$f":"IF(Dati!E356=\"EC1\",Dati!D356,)","v":0},{"$f":"IF(Dati!E356=\"ED1\",Dati!D356,)","v":0},{"$f":"IF(Dati!E356=\"EE1\",Dati!D356,)","v":0}]
[{"$f":"Dati!C357","v":"00:00:00"},{"$f":"Dati!H357","v":"00:00:00"},{"$f":"IF(Dati!E357=\"EA1\",Dati!D357,)","v":0},{"$f":"IF(Dati!E357=\"EA2\",Dati!D357,)","v":0},{"$f":"IF(Dati!E357=\"EA3\",Dati!D357,)","v":0},{"$f":"IF(Dati!E357=\"EA4\",Dati!D357,)","v":0},{"$f":"IF(Dati!E357=\"EA5\",Dati!D357,)","v":0},{"$f":"IF(Dati!E357=\"EA6\",Dati!D357,)","v":0},{"$f":"IF(Dati!E357=\"EB1\",Dati!D357,)","v":0},{"$f":"IF(Dati!E357=\"EB2\",Dati!D357,)","v":0},{"$f":"IF(Dati!E357=\"EC1\",Dati!D357,)","v":0},{"$f":"IF(Dati!E357=\"ED1\",Dati!D357,)","v":0},{"$f":"IF(Dati!E357=\"EE1\",Dati!D357,)","v":0}]
[{"$f":"Dati!C358","v":"00:00:00"},{"$f":"Dati!H358","v":"00:00:00"},{"$f":"IF(Dati!E358=\"EA1\",Dati!D358,)","v":0},{"$f":"IF(Dati!E358=\"EA2\",Dati!D358,)","v":0},{"$f":"IF(Dati!E358=\"EA3\",Dati!D358,)","v":0},{"$f":"IF(Dati!E358=\"EA4\",Dati!D358,)","v":0},{"$f":"IF(Dati!E358=\"EA5\",Dati!D358,)","v":0},{"$f":"IF(Dati!E358=\"EA6\",Dati!D358,)","v":0},{"$f":"IF(Dati!E358=\"EB1\",Dati!D358,)","v":0},{"$f":"IF(Dati!E358=\"EB2\",Dati!D358,)","v":0},{"$f":"IF(Dati!E358=\"EC1\",Dati!D358,)","v":0},{"$f":"IF(Dati!E358=\"ED1\",Dati!D358,)","v":0},{"$f":"IF(Dati!E358=\"EE1\",Dati!D358,)","v":0}]
[{"$f":"Dati!C359","v":"00:00:00"},{"$f":"Dati!H359","v":"00:00:00"},{"$f":"IF(Dati!E359=\"EA1\",Dati!D359,)","v":0},{"$f":"IF(Dati!E359=\"EA2\",Dati!D359,)","v":0},{"$f":"IF(Dati!E359=\"EA3\",Dati!D359,)","v":0},{"$f":"IF(Dati!E359=\"EA4\",Dati!D359,)","v":0},{"$f":"IF(Dati!E359=\"EA5\",Dati!D359,)","v":0},{"$f":"IF(Dati!E359=\"EA6\",Dati!D359,)","v":0},{"$f":"IF(Dati!E359=\"EB1\",Dati!D359,)","v":0},{"$f":"IF(Dati!E359=\"EB2\",Dati!D359,)","v":0},{"$f":"IF(Dati!E359=\"EC1\",Dati!D359,)","v":0},{"$f":"IF(Dati!E359=\"ED1\",Dati!D359,)","v":0},{"$f":"IF(Dati!E359=\"EE1\",Dati!D359,)","v":0}]
[{"$f":"Dati!C360","v":"00:00:00"},{"$f":"Dati!H360","v":"00:00:00"},{"$f":"IF(Dati!E360=\"EA1\",Dati!D360,)","v":0},{"$f":"IF(Dati!E360=\"EA2\",Dati!D360,)","v":0},{"$f":"IF(Dati!E360=\"EA3\",Dati!D360,)","v":0},{"$f":"IF(Dati!E360=\"EA4\",Dati!D360,)","v":0},{"$f":"IF(Dati!E360=\"EA5\",Dati!D360,)","v":0},{"$f":"IF(Dati!E360=\"EA6\",Dati!D360,)","v":0},{"$f":"IF(Dati!E360=\"EB1\",Dati!D360,)","v":0},{"$f":"IF(Dati!E360=\"EB2\",Dati!D360,)","v":0},{"$f":"IF(Dati!E360=\"EC1\",Dati!D360,)","v":0},{"$f":"IF(Dati!E360=\"ED1\",Dati!D360,)","v":0},{"$f":"IF(Dati!E360=\"EE1\",Dati!D360,)","v":0}]
[{"$f":"Dati!C361","v":"00:00:00"},{"$f":"Dati!H361","v":"00:00:00"},{"$f":"IF(Dati!E361=\"EA1\",Dati!D361,)","v":0},{"$f":"IF(Dati!E361=\"EA2\",Dati!D361,)","v":0},{"$f":"IF(Dati!E361=\"EA3\",Dati!D361,)","v":0},{"$f":"IF(Dati!E361=\"EA4\",Dati!D361,)","v":0},{"$f":"IF(Dati!E361=\"EA5\",Dati!D361,)","v":0},{"$f":"IF(Dati!E361=\"EA6\",Dati!D361,)","v":0},{"$f":"IF(Dati!E361=\"EB1\",Dati!D361,)","v":0},{"$f":"IF(Dati!E361=\"EB2\",Dati!D361,)","v":0},{"$f":"IF(Dati!E361=\"EC1\",Dati!D361,)","v":0},{"$f":"IF(Dati!E361=\"ED1\",Dati!D361,)","v":0},{"$f":"IF(Dati!E361=\"EE1\",Dati!D361,)","v":0}]
[{"$f":"Dati!C362","v":"00:00:00"},{"$f":"Dati!H362","v":"00:00:00"},{"$f":"IF(Dati!E362=\"EA1\",Dati!D362,)","v":0},{"$f":"IF(Dati!E362=\"EA2\",Dati!D362,)","v":0},{"$f":"IF(Dati!E362=\"EA3\",Dati!D362,)","v":0},{"$f":"IF(Dati!E362=\"EA4\",Dati!D362,)","v":0},{"$f":"IF(Dati!E362=\"EA5\",Dati!D362,)","v":0},{"$f":"IF(Dati!E362=\"EA6\",Dati!D362,)","v":0},{"$f":"IF(Dati!E362=\"EB1\",Dati!D362,)","v":0},{"$f":"IF(Dati!E362=\"EB2\",Dati!D362,)","v":0},{"$f":"IF(Dati!E362=\"EC1\",Dati!D362,)","v":0},{"$f":"IF(Dati!E362=\"ED1\",Dati!D362,)","v":0},{"$f":"IF(Dati!E362=\"EE1\",Dati!D362,)","v":0}]
[{"$f":"Dati!C363","v":"00:00:00"},{"$f":"Dati!H363","v":"00:00:00"},{"$f":"IF(Dati!E363=\"EA1\",Dati!D363,)","v":0},{"$f":"IF(Dati!E363=\"EA2\",Dati!D363,)","v":0},{"$f":"IF(Dati!E363=\"EA3\",Dati!D363,)","v":0},{"$f":"IF(Dati!E363=\"EA4\",Dati!D363,)","v":0},{"$f":"IF(Dati!E363=\"EA5\",Dati!D363,)","v":0},{"$f":"IF(Dati!E363=\"EA6\",Dati!D363,)","v":0},{"$f":"IF(Dati!E363=\"EB1\",Dati!D363,)","v":0},{"$f":"IF(Dati!E363=\"EB2\",Dati!D363,)","v":0},{"$f":"IF(Dati!E363=\"EC1\",Dati!D363,)","v":0},{"$f":"IF(Dati!E363=\"ED1\",Dati!D363,)","v":0},{"$f":"IF(Dati!E363=\"EE1\",Dati!D363,)","v":0}]
[{"$f":"Dati!C364","v":"00:00:00"},{"$f":"Dati!H364","v":"00:00:00"},{"$f":"IF(Dati!E364=\"EA1\",Dati!D364,)","v":0},{"$f":"IF(Dati!E364=\"EA2\",Dati!D364,)","v":0},{"$f":"IF(Dati!E364=\"EA3\",Dati!D364,)","v":0},{"$f":"IF(Dati!E364=\"EA4\",Dati!D364,)","v":0},{"$f":"IF(Dati!E364=\"EA5\",Dati!D364,)","v":0},{"$f":"IF(Dati!E364=\"EA6\",Dati!D364,)","v":0},{"$f":"IF(Dati!E364=\"EB1\",Dati!D364,)","v":0},{"$f":"IF(Dati!E364=\"EB2\",Dati!D364,)","v":0},{"$f":"IF(Dati!E364=\"EC1\",Dati!D364,)","v":0},{"$f":"IF(Dati!E364=\"ED1\",Dati!D364,)","v":0},{"$f":"IF(Dati!E364=\"EE1\",Dati!D364,)","v":0}]
[{"$f":"Dati!C365","v":"00:00:00"},{"$f":"Dati!H365","v":"00:00:00"},{"$f":"IF(Dati!E365=\"EA1\",Dati!D365,)","v":0},{"$f":"IF(Dati!E365=\"EA2\",Dati!D365,)","v":0},{"$f":"IF(Dati!E365=\"EA3\",Dati!D365,)","v":0},{"$f":"IF(Dati!E365=\"EA4\",Dati!D365,)","v":0},{"$f":"IF(Dati!E365=\"EA5\",Dati!D365,)","v":0},{"$f":"IF(Dati!E365=\"EA6\",Dati!D365,)","v":0},{"$f":"IF(Dati!E365=\"EB1\",Dati!D365,)","v":0},{"$f":"IF(Dati!E365=\"EB2\",Dati!D365,)","v":0},{"$f":"IF(Dati!E365=\"EC1\",Dati!D365,)","v":0},{"$f":"IF(Dati!E365=\"ED1\",Dati!D365,)","v":0},{"$f":"IF(Dati!E365=\"EE1\",Dati!D365,)","v":0}]
[{"$f":"Dati!C366","v":"00:00:00"},{"$f":"Dati!H366","v":"00:00:00"},{"$f":"IF(Dati!E366=\"EA1\",Dati!D366,)","v":0},{"$f":"IF(Dati!E366=\"EA2\",Dati!D366,)","v":0},{"$f":"IF(Dati!E366=\"EA3\",Dati!D366,)","v":0},{"$f":"IF(Dati!E366=\"EA4\",Dati!D366,)","v":0},{"$f":"IF(Dati!E366=\"EA5\",Dati!D366,)","v":0},{"$f":"IF(Dati!E366=\"EA6\",Dati!D366,)","v":0},{"$f":"IF(Dati!E366=\"EB1\",Dati!D366,)","v":0},{"$f":"IF(Dati!E366=\"EB2\",Dati!D366,)","v":0},{"$f":"IF(Dati!E366=\"EC1\",Dati!D366,)","v":0},{"$f":"IF(Dati!E366=\"ED1\",Dati!D366,)","v":0},{"$f":"IF(Dati!E366=\"EE1\",Dati!D366,)","v":0}]
[{"$f":"Dati!C367","v":"00:00:00"},{"$f":"Dati!H367","v":"00:00:00"},{"$f":"IF(Dati!E367=\"EA1\",Dati!D367,)","v":0},{"$f":"IF(Dati!E367=\"EA2\",Dati!D367,)","v":0},{"$f":"IF(Dati!E367=\"EA3\",Dati!D367,)","v":0},{"$f":"IF(Dati!E367=\"EA4\",Dati!D367,)","v":0},{"$f":"IF(Dati!E367=\"EA5\",Dati!D367,)","v":0},{"$f":"IF(Dati!E367=\"EA6\",Dati!D367,)","v":0},{"$f":"IF(Dati!E367=\"EB1\",Dati!D367,)","v":0},{"$f":"IF(Dati!E367=\"EB2\",Dati!D367,)","v":0},{"$f":"IF(Dati!E367=\"EC1\",Dati!D367,)","v":0},{"$f":"IF(Dati!E367=\"ED1\",Dati!D367,)","v":0},{"$f":"IF(Dati!E367=\"EE1\",Dati!D367,)","v":0}]
[{"$f":"Dati!C368","v":"00:00:00"},{"$f":"Dati!H368","v":"00:00:00"},{"$f":"IF(Dati!E368=\"EA1\",Dati!D368,)","v":0},{"$f":"IF(Dati!E368=\"EA2\",Dati!D368,)","v":0},{"$f":"IF(Dati!E368=\"EA3\",Dati!D368,)","v":0},{"$f":"IF(Dati!E368=\"EA4\",Dati!D368,)","v":0},{"$f":"IF(Dati!E368=\"EA5\",Dati!D368,)","v":0},{"$f":"IF(Dati!E368=\"EA6\",Dati!D368,)","v":0},{"$f":"IF(Dati!E368=\"EB1\",Dati!D368,)","v":0},{"$f":"IF(Dati!E368=\"EB2\",Dati!D368,)","v":0},{"$f":"IF(Dati!E368=\"EC1\",Dati!D368,)","v":0},{"$f":"IF(Dati!E368=\"ED1\",Dati!D368,)","v":0},{"$f":"IF(Dati!E368=\"EE1\",Dati!D368,)","v":0}]
[{"$f":"Dati!C369","v":"00:00:00"},{"$f":"Dati!H369","v":"00:00:00"},{"$f":"IF(Dati!E369=\"EA1\",Dati!D369,)","v":0},{"$f":"IF(Dati!E369=\"EA2\",Dati!D369,)","v":0},{"$f":"IF(Dati!E369=\"EA3\",Dati!D369,)","v":0},{"$f":"IF(Dati!E369=\"EA4\",Dati!D369,)","v":0},{"$f":"IF(Dati!E369=\"EA5\",Dati!D369,)","v":0},{"$f":"IF(Dati!E369=\"EA6\",Dati!D369,)","v":0},{"$f":"IF(Dati!E369=\"EB1\",Dati!D369,)","v":0},{"$f":"IF(Dati!E369=\"EB2\",Dati!D369,)","v":0},{"$f":"IF(Dati!E369=\"EC1\",Dati!D369,)","v":0},{"$f":"IF(Dati!E369=\"ED1\",Dati!D369,)","v":0},{"$f":"IF(Dati!E369=\"EE1\",Dati!D369,)","v":0}]
[{"$f":"Dati!C370","v":"00:00:00"},{"$f":"Dati!H370","v":"00:00:00"},{"$f":"IF(Dati!E370=\"EA1\",Dati!D370,)","v":0},{"$f":"IF(Dati!E370=\"EA2\",Dati!D370,)","v":0},{"$f":"IF(Dati!E370=\"EA3\",Dati!D370,)","v":0},{"$f":"IF(Dati!E370=\"EA4\",Dati!D370,)","v":0},{"$f":"IF(Dati!E370=\"EA5\",Dati!D370,)","v":0},{"$f":"IF(Dati!E370=\"EA6\",Dati!D370,)","v":0},{"$f":"IF(Dati!E370=\"EB1\",Dati!D370,)","v":0},{"$f":"IF(Dati!E370=\"EB2\",Dati!D370,)","v":0},{"$f":"IF(Dati!E370=\"EC1\",Dati!D370,)","v":0},{"$f":"IF(Dati!E370=\"ED1\",Dati!D370,)","v":0},{"$f":"IF(Dati!E370=\"EE1\",Dati!D370,)","v":0}]
[{"$f":"Dati!C371","v":"00:00:00"},{"$f":"Dati!H371","v":"00:00:00"},{"$f":"IF(Dati!E371=\"EA1\",Dati!D371,)","v":0},{"$f":"IF(Dati!E371=\"EA2\",Dati!D371,)","v":0},{"$f":"IF(Dati!E371=\"EA3\",Dati!D371,)","v":0},{"$f":"IF(Dati!E371=\"EA4\",Dati!D371,)","v":0},{"$f":"IF(Dati!E371=\"EA5\",Dati!D371,)","v":0},{"$f":"IF(Dati!E371=\"EA6\",Dati!D371,)","v":0},{"$f":"IF(Dati!E371=\"EB1\",Dati!D371,)","v":0},{"$f":"IF(Dati!E371=\"EB2\",Dati!D371,)","v":0},{"$f":"IF(Dati!E371=\"EC1\",Dati!D371,)","v":0},{"$f":"IF(Dati!E371=\"ED1\",Dati!D371,)","v":0},{"$f":"IF(Dati!E371=\"EE1\",Dati!D371,)","v":0}]
[{"$f":"Dati!C372","v":"00:00:00"},{"$f":"Dati!H372","v":"00:00:00"},{"$f":"IF(Dati!E372=\"EA1\",Dati!D372,)","v":0},{"$f":"IF(Dati!E372=\"EA2\",Dati!D372,)","v":0},{"$f":"IF(Dati!E372=\"EA3\",Dati!D372,)","v":0},{"$f":"IF(Dati!E372=\"EA4\",Dati!D372,)","v":0},{"$f":"IF(Dati!E372=\"EA5\",Dati!D372,)","v":0},{"$f":"IF(Dati!E372=\"EA6\",Dati!D372,)","v":0},{"$f":"IF(Dati!E372=\"EB1\",Dati!D372,)","v":0},{"$f":"IF(Dati!E372=\"EB2\",Dati!D372,)","v":0},{"$f":"IF(Dati!E372=\"EC1\",Dati!D372,)","v":0},{"$f":"IF(Dati!E372=\"ED1\",Dati!D372,)","v":0},{"$f":"IF(Dati!E372=\"EE1\",Dati!D372,)","v":0}]
[{"$f":"Dati!C373","v":"00:00:00"},{"$f":"Dati!H373","v":"00:00:00"},{"$f":"IF(Dati!E373=\"EA1\",Dati!D373,)","v":0},{"$f":"IF(Dati!E373=\"EA2\",Dati!D373,)","v":0},{"$f":"IF(Dati!E373=\"EA3\",Dati!D373,)","v":0},{"$f":"IF(Dati!E373=\"EA4\",Dati!D373,)","v":0},{"$f":"IF(Dati!E373=\"EA5\",Dati!D373,)","v":0},{"$f":"IF(Dati!E373=\"EA6\",Dati!D373,)","v":0},{"$f":"IF(Dati!E373=\"EB1\",Dati!D373,)","v":0},{"$f":"IF(Dati!E373=\"EB2\",Dati!D373,)","v":0},{"$f":"IF(Dati!E373=\"EC1\",Dati!D373,)","v":0},{"$f":"IF(Dati!E373=\"ED1\",Dati!D373,)","v":0},{"$f":"IF(Dati!E373=\"EE1\",Dati!D373,)","v":0}]
[{"$f":"Dati!C374","v":"00:00:00"},{"$f":"Dati!H374","v":"00:00:00"},{"$f":"IF(Dati!E374=\"EA1\",Dati!D374,)","v":0},{"$f":"IF(Dati!E374=\"EA2\",Dati!D374,)","v":0},{"$f":"IF(Dati!E374=\"EA3\",Dati!D374,)","v":0},{"$f":"IF(Dati!E374=\"EA4\",Dati!D374,)","v":0},{"$f":"IF(Dati!E374=\"EA5\",Dati!D374,)","v":0},{"$f":"IF(Dati!E374=\"EA6\",Dati!D374,)","v":0},{"$f":"IF(Dati!E374=\"EB1\",Dati!D374,)","v":0},{"$f":"IF(Dati!E374=\"EB2\",Dati!D374,)","v":0},{"$f":"IF(Dati!E374=\"EC1\",Dati!D374,)","v":0},{"$f":"IF(Dati!E374=\"ED1\",Dati!D374,)","v":0},{"$f":"IF(Dati!E374=\"EE1\",Dati!D374,)","v":0}]
[{"$f":"Dati!C375","v":"00:00:00"},{"$f":"Dati!H375","v":"00:00:00"},{"$f":"IF(Dati!E375=\"EA1\",Dati!D375,)","v":0},{"$f":"IF(Dati!E375=\"EA2\",Dati!D375,)","v":0},{"$f":"IF(Dati!E375=\"EA3\",Dati!D375,)","v":0},{"$f":"IF(Dati!E375=\"EA4\",Dati!D375,)","v":0},{"$f":"IF(Dati!E375=\"EA5\",Dati!D375,)","v":0},{"$f":"IF(Dati!E375=\"EA6\",Dati!D375,)","v":0},{"$f":"IF(Dati!E375=\"EB1\",Dati!D375,)","v":0},{"$f":"IF(Dati!E375=\"EB2\",Dati!D375,)","v":0},{"$f":"IF(Dati!E375=\"EC1\",Dati!D375,)","v":0},{"$f":"IF(Dati!E375=\"ED1\",Dati!D375,)","v":0},{"$f":"IF(Dati!E375=\"EE1\",Dati!D375,)","v":0}]
[{"$f":"Dati!C376","v":"00:00:00"},{"$f":"Dati!H376","v":"00:00:00"},{"$f":"IF(Dati!E376=\"EA1\",Dati!D376,)","v":0},{"$f":"IF(Dati!E376=\"EA2\",Dati!D376,)","v":0},{"$f":"IF(Dati!E376=\"EA3\",Dati!D376,)","v":0},{"$f":"IF(Dati!E376=\"EA4\",Dati!D376,)","v":0},{"$f":"IF(Dati!E376=\"EA5\",Dati!D376,)","v":0},{"$f":"IF(Dati!E376=\"EA6\",Dati!D376,)","v":0},{"$f":"IF(Dati!E376=\"EB1\",Dati!D376,)","v":0},{"$f":"IF(Dati!E376=\"EB2\",Dati!D376,)","v":0},{"$f":"IF(Dati!E376=\"EC1\",Dati!D376,)","v":0},{"$f":"IF(Dati!E376=\"ED1\",Dati!D376,)","v":0},{"$f":"IF(Dati!E376=\"EE1\",Dati!D376,)","v":0}]
[{"$f":"Dati!C377","v":"00:00:00"},{"$f":"Dati!H377","v":"00:00:00"},{"$f":"IF(Dati!E377=\"EA1\",Dati!D377,)","v":0},{"$f":"IF(Dati!E377=\"EA2\",Dati!D377,)","v":0},{"$f":"IF(Dati!E377=\"EA3\",Dati!D377,)","v":0},{"$f":"IF(Dati!E377=\"EA4\",Dati!D377,)","v":0},{"$f":"IF(Dati!E377=\"EA5\",Dati!D377,)","v":0},{"$f":"IF(Dati!E377=\"EA6\",Dati!D377,)","v":0},{"$f":"IF(Dati!E377=\"EB1\",Dati!D377,)","v":0},{"$f":"IF(Dati!E377=\"EB2\",Dati!D377,)","v":0},{"$f":"IF(Dati!E377=\"EC1\",Dati!D377,)","v":0},{"$f":"IF(Dati!E377=\"ED1\",Dati!D377,)","v":0},{"$f":"IF(Dati!E377=\"EE1\",Dati!D377,)","v":0}]
[{"$f":"Dati!C378","v":"00:00:00"},{"$f":"Dati!H378","v":"00:00:00"},{"$f":"IF(Dati!E378=\"EA1\",Dati!D378,)","v":0},{"$f":"IF(Dati!E378=\"EA2\",Dati!D378,)","v":0},{"$f":"IF(Dati!E378=\"EA3\",Dati!D378,)","v":0},{"$f":"IF(Dati!E378=\"EA4\",Dati!D378,)","v":0},{"$f":"IF(Dati!E378=\"EA5\",Dati!D378,)","v":0},{"$f":"IF(Dati!E378=\"EA6\",Dati!D378,)","v":0},{"$f":"IF(Dati!E378=\"EB1\",Dati!D378,)","v":0},{"$f":"IF(Dati!E378=\"EB2\",Dati!D378,)","v":0},{"$f":"IF(Dati!E378=\"EC1\",Dati!D378,)","v":0},{"$f":"IF(Dati!E378=\"ED1\",Dati!D378,)","v":0},{"$f":"IF(Dati!E378=\"EE1\",Dati!D378,)","v":0}]
[{"$f":"Dati!C379","v":"00:00:00"},{"$f":"Dati!H379","v":"00:00:00"},{"$f":"IF(Dati!E379=\"EA1\",Dati!D379,)","v":0},{"$f":"IF(Dati!E379=\"EA2\",Dati!D379,)","v":0},{"$f":"IF(Dati!E379=\"EA3\",Dati!D379,)","v":0},{"$f":"IF(Dati!E379=\"EA4\",Dati!D379,)","v":0},{"$f":"IF(Dati!E379=\"EA5\",Dati!D379,)","v":0},{"$f":"IF(Dati!E379=\"EA6\",Dati!D379,)","v":0},{"$f":"IF(Dati!E379=\"EB1\",Dati!D379,)","v":0},{"$f":"IF(Dati!E379=\"EB2\",Dati!D379,)","v":0},{"$f":"IF(Dati!E379=\"EC1\",Dati!D379,)","v":0},{"$f":"IF(Dati!E379=\"ED1\",Dati!D379,)","v":0},{"$f":"IF(Dati!E379=\"EE1\",Dati!D379,)","v":0}]
[{"$f":"Dati!C380","v":"00:00:00"},{"$f":"Dati!H380","v":"00:00:00"},{"$f":"IF(Dati!E380=\"EA1\",Dati!D380,)","v":0},{"$f":"IF(Dati!E380=\"EA2\",Dati!D380,)","v":0},{"$f":"IF(Dati!E380=\"EA3\",Dati!D380,)","v":0},{"$f":"IF(Dati!E380=\"EA4\",Dati!D380,)","v":0},{"$f":"IF(Dati!E380=\"EA5\",Dati!D380,)","v":0},{"$f":"IF(Dati!E380=\"EA6\",Dati!D380,)","v":0},{"$f":"IF(Dati!E380=\"EB1\",Dati!D380,)","v":0},{"$f":"IF(Dati!E380=\"EB2\",Dati!D380,)","v":0},{"$f":"IF(Dati!E380=\"EC1\",Dati!D380,)","v":0},{"$f":"IF(Dati!E380=\"ED1\",Dati!D380,)","v":0},{"$f":"IF(Dati!E380=\"EE1\",Dati!D380,)","v":0}]
[{"$f":"Dati!C381","v":"00:00:00"},{"$f":"Dati!H381","v":"00:00:00"},{"$f":"IF(Dati!E381=\"EA1\",Dati!D381,)","v":0},{"$f":"IF(Dati!E381=\"EA2\",Dati!D381,)","v":0},{"$f":"IF(Dati!E381=\"EA3\",Dati!D381,)","v":0},{"$f":"IF(Dati!E381=\"EA4\",Dati!D381,)","v":0},{"$f":"IF(Dati!E381=\"EA5\",Dati!D381,)","v":0},{"$f":"IF(Dati!E381=\"EA6\",Dati!D381,)","v":0},{"$f":"IF(Dati!E381=\"EB1\",Dati!D381,)","v":0},{"$f":"IF(Dati!E381=\"EB2\",Dati!D381,)","v":0},{"$f":"IF(Dati!E381=\"EC1\",Dati!D381,)","v":0},{"$f":"IF(Dati!E381=\"ED1\",Dati!D381,)","v":0},{"$f":"IF(Dati!E381=\"EE1\",Dati!D381,)","v":0}]
[{"$f":"Dati!C382","v":"00:00:00"},{"$f":"Dati!H382","v":"00:00:00"},{"$f":"IF(Dati!E382=\"EA1\",Dati!D382,)","v":0},{"$f":"IF(Dati!E382=\"EA2\",Dati!D382,)","v":0},{"$f":"IF(Dati!E382=\"EA3\",Dati!D382,)","v":0},{"$f":"IF(Dati!E382=\"EA4\",Dati!D382,)","v":0},{"$f":"IF(Dati!E382=\"EA5\",Dati!D382,)","v":0},{"$f":"IF(Dati!E382=\"EA6\",Dati!D382,)","v":0},{"$f":"IF(Dati!E382=\"EB1\",Dati!D382,)","v":0},{"$f":"IF(Dati!E382=\"EB2\",Dati!D382,)","v":0},{"$f":"IF(Dati!E382=\"EC1\",Dati!D382,)","v":0},{"$f":"IF(Dati!E382=\"ED1\",Dati!D382,)","v":0},{"$f":"IF(Dati!E382=\"EE1\",Dati!D382,)","v":0}]
[{"$f":"Dati!C383","v":"00:00:00"},{"$f":"Dati!H383","v":"00:00:00"},{"$f":"IF(Dati!E383=\"EA1\",Dati!D383,)","v":0},{"$f":"IF(Dati!E383=\"EA2\",Dati!D383,)","v":0},{"$f":"IF(Dati!E383=\"EA3\",Dati!D383,)","v":0},{"$f":"IF(Dati!E383=\"EA4\",Dati!D383,)","v":0},{"$f":"IF(Dati!E383=\"EA5\",Dati!D383,)","v":0},{"$f":"IF(Dati!E383=\"EA6\",Dati!D383,)","v":0},{"$f":"IF(Dati!E383=\"EB1\",Dati!D383,)","v":0},{"$f":"IF(Dati!E383=\"EB2\",Dati!D383,)","v":0},{"$f":"IF(Dati!E383=\"EC1\",Dati!D383,)","v":0},{"$f":"IF(Dati!E383=\"ED1\",Dati!D383,)","v":0},{"$f":"IF(Dati!E383=\"EE1\",Dati!D383,)","v":0}]
[{"$f":"Dati!C384","v":"00:00:00"},{"$f":"Dati!H384","v":"00:00:00"},{"$f":"IF(Dati!E384=\"EA1\",Dati!D384,)","v":0},{"$f":"IF(Dati!E384=\"EA2\",Dati!D384,)","v":0},{"$f":"IF(Dati!E384=\"EA3\",Dati!D384,)","v":0},{"$f":"IF(Dati!E384=\"EA4\",Dati!D384,)","v":0},{"$f":"IF(Dati!E384=\"EA5\",Dati!D384,)","v":0},{"$f":"IF(Dati!E384=\"EA6\",Dati!D384,)","v":0},{"$f":"IF(Dati!E384=\"EB1\",Dati!D384,)","v":0},{"$f":"IF(Dati!E384=\"EB2\",Dati!D384,)","v":0},{"$f":"IF(Dati!E384=\"EC1\",Dati!D384,)","v":0},{"$f":"IF(Dati!E384=\"ED1\",Dati!D384,)","v":0},{"$f":"IF(Dati!E384=\"EE1\",Dati!D384,)","v":0}]
[{"$f":"Dati!C385","v":"00:00:00"},{"$f":"Dati!H385","v":"00:00:00"},{"$f":"IF(Dati!E385=\"EA1\",Dati!D385,)","v":0},{"$f":"IF(Dati!E385=\"EA2\",Dati!D385,)","v":0},{"$f":"IF(Dati!E385=\"EA3\",Dati!D385,)","v":0},{"$f":"IF(Dati!E385=\"EA4\",Dati!D385,)","v":0},{"$f":"IF(Dati!E385=\"EA5\",Dati!D385,)","v":0},{"$f":"IF(Dati!E385=\"EA6\",Dati!D385,)","v":0},{"$f":"IF(Dati!E385=\"EB1\",Dati!D385,)","v":0},{"$f":"IF(Dati!E385=\"EB2\",Dati!D385,)","v":0},{"$f":"IF(Dati!E385=\"EC1\",Dati!D385,)","v":0},{"$f":"IF(Dati!E385=\"ED1\",Dati!D385,)","v":0},{"$f":"IF(Dati!E385=\"EE1\",Dati!D385,)","v":0}]
[{"$f":"Dati!C386","v":"00:00:00"},{"$f":"Dati!H386","v":"00:00:00"},{"$f":"IF(Dati!E386=\"EA1\",Dati!D386,)","v":0},{"$f":"IF(Dati!E386=\"EA2\",Dati!D386,)","v":0},{"$f":"IF(Dati!E386=\"EA3\",Dati!D386,)","v":0},{"$f":"IF(Dati!E386=\"EA4\",Dati!D386,)","v":0},{"$f":"IF(Dati!E386=\"EA5\",Dati!D386,)","v":0},{"$f":"IF(Dati!E386=\"EA6\",Dati!D386,)","v":0},{"$f":"IF(Dati!E386=\"EB1\",Dati!D386,)","v":0},{"$f":"IF(Dati!E386=\"EB2\",Dati!D386,)","v":0},{"$f":"IF(Dati!E386=\"EC1\",Dati!D386,)","v":0},{"$f":"IF(Dati!E386=\"ED1\",Dati!D386,)","v":0},{"$f":"IF(Dati!E386=\"EE1\",Dati!D386,)","v":0}]
[{"$f":"Dati!C387","v":"00:00:00"},{"$f":"Dati!H387","v":"00:00:00"},{"$f":"IF(Dati!E387=\"EA1\",Dati!D387,)","v":0},{"$f":"IF(Dati!E387=\"EA2\",Dati!D387,)","v":0},{"$f":"IF(Dati!E387=\"EA3\",Dati!D387,)","v":0},{"$f":"IF(Dati!E387=\"EA4\",Dati!D387,)","v":0},{"$f":"IF(Dati!E387=\"EA5\",Dati!D387,)","v":0},{"$f":"IF(Dati!E387=\"EA6\",Dati!D387,)","v":0},{"$f":"IF(Dati!E387=\"EB1\",Dati!D387,)","v":0},{"$f":"IF(Dati!E387=\"EB2\",Dati!D387,)","v":0},{"$f":"IF(Dati!E387=\"EC1\",Dati!D387,)","v":0},{"$f":"IF(Dati!E387=\"ED1\",Dati!D387,)","v":0},{"$f":"IF(Dati!E387=\"EE1\",Dati!D387,)","v":0}]
[{"$f":"Dati!C388","v":"00:00:00"},{"$f":"Dati!H388","v":"00:00:00"},{"$f":"IF(Dati!E388=\"EA1\",Dati!D388,)","v":0},{"$f":"IF(Dati!E388=\"EA2\",Dati!D388,)","v":0},{"$f":"IF(Dati!E388=\"EA3\",Dati!D388,)","v":0},{"$f":"IF(Dati!E388=\"EA4\",Dati!D388,)","v":0},{"$f":"IF(Dati!E388=\"EA5\",Dati!D388,)","v":0},{"$f":"IF(Dati!E388=\"EA6\",Dati!D388,)","v":0},{"$f":"IF(Dati!E388=\"EB1\",Dati!D388,)","v":0},{"$f":"IF(Dati!E388=\"EB2\",Dati!D388,)","v":0},{"$f":"IF(Dati!E388=\"EC1\",Dati!D388,)","v":0},{"$f":"IF(Dati!E388=\"ED1\",Dati!D388,)","v":0},{"$f":"IF(Dati!E388=\"EE1\",Dati!D388,)","v":0}]
[{"$f":"Dati!C389","v":"00:00:00"},{"$f":"Dati!H389","v":"00:00:00"},{"$f":"IF(Dati!E389=\"EA1\",Dati!D389,)","v":0},{"$f":"IF(Dati!E389=\"EA2\",Dati!D389,)","v":0},{"$f":"IF(Dati!E389=\"EA3\",Dati!D389,)","v":0},{"$f":"IF(Dati!E389=\"EA4\",Dati!D389,)","v":0},{"$f":"IF(Dati!E389=\"EA5\",Dati!D389,)","v":0},{"$f":"IF(Dati!E389=\"EA6\",Dati!D389,)","v":0},{"$f":"IF(Dati!E389=\"EB1\",Dati!D389,)","v":0},{"$f":"IF(Dati!E389=\"EB2\",Dati!D389,)","v":0},{"$f":"IF(Dati!E389=\"EC1\",Dati!D389,)","v":0},{"$f":"IF(Dati!E389=\"ED1\",Dati!D389,)","v":0},{"$f":"IF(Dati!E389=\"EE1\",Dati!D389,)","v":0}]
[{"$f":"Dati!C390","v":"00:00:00"},{"$f":"Dati!H390","v":"00:00:00"},{"$f":"IF(Dati!E390=\"EA1\",Dati!D390,)","v":0},{"$f":"IF(Dati!E390=\"EA2\",Dati!D390,)","v":0},{"$f":"IF(Dati!E390=\"EA3\",Dati!D390,)","v":0},{"$f":"IF(Dati!E390=\"EA4\",Dati!D390,)","v":0},{"$f":"IF(Dati!E390=\"EA5\",Dati!D390,)","v":0},{"$f":"IF(Dati!E390=\"EA6\",Dati!D390,)","v":0},{"$f":"IF(Dati!E390=\"EB1\",Dati!D390,)","v":0},{"$f":"IF(Dati!E390=\"EB2\",Dati!D390,)","v":0},{"$f":"IF(Dati!E390=\"EC1\",Dati!D390,)","v":0},{"$f":"IF(Dati!E390=\"ED1\",Dati!D390,)","v":0},{"$f":"IF(Dati!E390=\"EE1\",Dati!D390,)","v":0}]
[{"$f":"Dati!C391","v":"00:00:00"},{"$f":"Dati!H391","v":"00:00:00"},{"$f":"IF(Dati!E391=\"EA1\",Dati!D391,)","v":0},{"$f":"IF(Dati!E391=\"EA2\",Dati!D391,)","v":0},{"$f":"IF(Dati!E391=\"EA3\",Dati!D391,)","v":0},{"$f":"IF(Dati!E391=\"EA4\",Dati!D391,)","v":0},{"$f":"IF(Dati!E391=\"EA5\",Dati!D391,)","v":0},{"$f":"IF(Dati!E391=\"EA6\",Dati!D391,)","v":0},{"$f":"IF(Dati!E391=\"EB1\",Dati!D391,)","v":0},{"$f":"IF(Dati!E391=\"EB2\",Dati!D391,)","v":0},{"$f":"IF(Dati!E391=\"EC1\",Dati!D391,)","v":0},{"$f":"IF(Dati!E391=\"ED1\",Dati!D391,)","v":0},{"$f":"IF(Dati!E391=\"EE1\",Dati!D391,)","v":0}]
[{"$f":"Dati!C392","v":"00:00:00"},{"$f":"Dati!H392","v":"00:00:00"},{"$f":"IF(Dati!E392=\"EA1\",Dati!D392,)","v":0},{"$f":"IF(Dati!E392=\"EA2\",Dati!D392,)","v":0},{"$f":"IF(Dati!E392=\"EA3\",Dati!D392,)","v":0},{"$f":"IF(Dati!E392=\"EA4\",Dati!D392,)","v":0},{"$f":"IF(Dati!E392=\"EA5\",Dati!D392,)","v":0},{"$f":"IF(Dati!E392=\"EA6\",Dati!D392,)","v":0},{"$f":"IF(Dati!E392=\"EB1\",Dati!D392,)","v":0},{"$f":"IF(Dati!E392=\"EB2\",Dati!D392,)","v":0},{"$f":"IF(Dati!E392=\"EC1\",Dati!D392,)","v":0},{"$f":"IF(Dati!E392=\"ED1\",Dati!D392,)","v":0},{"$f":"IF(Dati!E392=\"EE1\",Dati!D392,)","v":0}]
[{"$f":"Dati!C393","v":"00:00:00"},{"$f":"Dati!H393","v":"00:00:00"},{"$f":"IF(Dati!E393=\"EA1\",Dati!D393,)","v":0},{"$f":"IF(Dati!E393=\"EA2\",Dati!D393,)","v":0},{"$f":"IF(Dati!E393=\"EA3\",Dati!D393,)","v":0},{"$f":"IF(Dati!E393=\"EA4\",Dati!D393,)","v":0},{"$f":"IF(Dati!E393=\"EA5\",Dati!D393,)","v":0},{"$f":"IF(Dati!E393=\"EA6\",Dati!D393,)","v":0},{"$f":"IF(Dati!E393=\"EB1\",Dati!D393,)","v":0},{"$f":"IF(Dati!E393=\"EB2\",Dati!D393,)","v":0},{"$f":"IF(Dati!E393=\"EC1\",Dati!D393,)","v":0},{"$f":"IF(Dati!E393=\"ED1\",Dati!D393,)","v":0},{"$f":"IF(Dati!E393=\"EE1\",Dati!D393,)","v":0}]
[{"$f":"Dati!C394","v":"00:00:00"},{"$f":"Dati!H394","v":"00:00:00"},{"$f":"IF(Dati!E394=\"EA1\",Dati!D394,)","v":0},{"$f":"IF(Dati!E394=\"EA2\",Dati!D394,)","v":0},{"$f":"IF(Dati!E394=\"EA3\",Dati!D394,)","v":0},{"$f":"IF(Dati!E394=\"EA4\",Dati!D394,)","v":0},{"$f":"IF(Dati!E394=\"EA5\",Dati!D394,)","v":0},{"$f":"IF(Dati!E394=\"EA6\",Dati!D394,)","v":0},{"$f":"IF(Dati!E394=\"EB1\",Dati!D394,)","v":0},{"$f":"IF(Dati!E394=\"EB2\",Dati!D394,)","v":0},{"$f":"IF(Dati!E394=\"EC1\",Dati!D394,)","v":0},{"$f":"IF(Dati!E394=\"ED1\",Dati!D394,)","v":0},{"$f":"IF(Dati!E394=\"EE1\",Dati!D394,)","v":0}]
[{"$f":"Dati!C395","v":"00:00:00"},{"$f":"Dati!H395","v":"00:00:00"},{"$f":"IF(Dati!E395=\"EA1\",Dati!D395,)","v":0},{"$f":"IF(Dati!E395=\"EA2\",Dati!D395,)","v":0},{"$f":"IF(Dati!E395=\"EA3\",Dati!D395,)","v":0},{"$f":"IF(Dati!E395=\"EA4\",Dati!D395,)","v":0},{"$f":"IF(Dati!E395=\"EA5\",Dati!D395,)","v":0},{"$f":"IF(Dati!E395=\"EA6\",Dati!D395,)","v":0},{"$f":"IF(Dati!E395=\"EB1\",Dati!D395,)","v":0},{"$f":"IF(Dati!E395=\"EB2\",Dati!D395,)","v":0},{"$f":"IF(Dati!E395=\"EC1\",Dati!D395,)","v":0},{"$f":"IF(Dati!E395=\"ED1\",Dati!D395,)","v":0},{"$f":"IF(Dati!E395=\"EE1\",Dati!D395,)","v":0}]
[{"$f":"Dati!C396","v":"00:00:00"},{"$f":"Dati!H396","v":"00:00:00"},{"$f":"IF(Dati!E396=\"EA1\",Dati!D396,)","v":0},{"$f":"IF(Dati!E396=\"EA2\",Dati!D396,)","v":0},{"$f":"IF(Dati!E396=\"EA3\",Dati!D396,)","v":0},{"$f":"IF(Dati!E396=\"EA4\",Dati!D396,)","v":0},{"$f":"IF(Dati!E396=\"EA5\",Dati!D396,)","v":0},{"$f":"IF(Dati!E396=\"EA6\",Dati!D396,)","v":0},{"$f":"IF(Dati!E396=\"EB1\",Dati!D396,)","v":0},{"$f":"IF(Dati!E396=\"EB2\",Dati!D396,)","v":0},{"$f":"IF(Dati!E396=\"EC1\",Dati!D396,)","v":0},{"$f":"IF(Dati!E396=\"ED1\",Dati!D396,)","v":0},{"$f":"IF(Dati!E396=\"EE1\",Dati!D396,)","v":0}]
[{"$f":"Dati!C397","v":"00:00:00"},{"$f":"Dati!H397","v":"00:00:00"},{"$f":"IF(Dati!E397=\"EA1\",Dati!D397,)","v":0},{"$f":"IF(Dati!E397=\"EA2\",Dati!D397,)","v":0},{"$f":"IF(Dati!E397=\"EA3\",Dati!D397,)","v":0},{"$f":"IF(Dati!E397=\"EA4\",Dati!D397,)","v":0},{"$f":"IF(Dati!E397=\"EA5\",Dati!D397,)","v":0},{"$f":"IF(Dati!E397=\"EA6\",Dati!D397,)","v":0},{"$f":"IF(Dati!E397=\"EB1\",Dati!D397,)","v":0},{"$f":"IF(Dati!E397=\"EB2\",Dati!D397,)","v":0},{"$f":"IF(Dati!E397=\"EC1\",Dati!D397,)","v":0},{"$f":"IF(Dati!E397=\"ED1\",Dati!D397,)","v":0},{"$f":"IF(Dati!E397=\"EE1\",Dati!D397,)","v":0}]
[{"$f":"Dati!C398","v":"00:00:00"},{"$f":"Dati!H398","v":"00:00:00"},{"$f":"IF(Dati!E398=\"EA1\",Dati!D398,)","v":0},{"$f":"IF(Dati!E398=\"EA2\",Dati!D398,)","v":0},{"$f":"IF(Dati!E398=\"EA3\",Dati!D398,)","v":0},{"$f":"IF(Dati!E398=\"EA4\",Dati!D398,)","v":0},{"$f":"IF(Dati!E398=\"EA5\",Dati!D398,)","v":0},{"$f":"IF(Dati!E398=\"EA6\",Dati!D398,)","v":0},{"$f":"IF(Dati!E398=\"EB1\",Dati!D398,)","v":0},{"$f":"IF(Dati!E398=\"EB2\",Dati!D398,)","v":0},{"$f":"IF(Dati!E398=\"EC1\",Dati!D398,)","v":0},{"$f":"IF(Dati!E398=\"ED1\",Dati!D398,)","v":0},{"$f":"IF(Dati!E398=\"EE1\",Dati!D398,)","v":0}]
[{"$f":"Dati!C399","v":"00:00:00"},{"$f":"Dati!H399","v":"00:00:00"},{"$f":"IF(Dati!E399=\"EA1\",Dati!D399,)","v":0},{"$f":"IF(Dati!E399=\"EA2\",Dati!D399,)","v":0},{"$f":"IF(Dati!E399=\"EA3\",Dati!D399,)","v":0},{"$f":"IF(Dati!E399=\"EA4\",Dati!D399,)","v":0},{"$f":"IF(Dati!E399=\"EA5\",Dati!D399,)","v":0},{"$f":"IF(Dati!E399=\"EA6\",Dati!D399,)","v":0},{"$f":"IF(Dati!E399=\"EB1\",Dati!D399,)","v":0},{"$f":"IF(Dati!E399=\"EB2\",Dati!D399,)","v":0},{"$f":"IF(Dati!E399=\"EC1\",Dati!D399,)","v":0},{"$f":"IF(Dati!E399=\"ED1\",Dati!D399,)","v":0},{"$f":"IF(Dati!E399=\"EE1\",Dati!D399,)","v":0}]
[{"$f":"Dati!C400","v":"00:00:00"},{"$f":"Dati!H400","v":"00:00:00"},{"$f":"IF(Dati!E400=\"EA1\",Dati!D400,)","v":0},{"$f":"IF(Dati!E400=\"EA2\",Dati!D400,)","v":0},{"$f":"IF(Dati!E400=\"EA3\",Dati!D400,)","v":0},{"$f":"IF(Dati!E400=\"EA4\",Dati!D400,)","v":0},{"$f":"IF(Dati!E400=\"EA5\",Dati!D400,)","v":0},{"$f":"IF(Dati!E400=\"EA6\",Dati!D400,)","v":0},{"$f":"IF(Dati!E400=\"EB1\",Dati!D400,)","v":0},{"$f":"IF(Dati!E400=\"EB2\",Dati!D400,)","v":0},{"$f":"IF(Dati!E400=\"EC1\",Dati!D400,)","v":0},{"$f":"IF(Dati!E400=\"ED1\",Dati!D400,)","v":0},{"$f":"IF(Dati!E400=\"EE1\",Dati!D400,)","v":0}]
[{"$f":"Dati!C401","v":"00:00:00"},{"$f":"Dati!H401","v":"00:00:00"},{"$f":"IF(Dati!E401=\"EA1\",Dati!D401,)","v":0},{"$f":"IF(Dati!E401=\"EA2\",Dati!D401,)","v":0},{"$f":"IF(Dati!E401=\"EA3\",Dati!D401,)","v":0},{"$f":"IF(Dati!E401=\"EA4\",Dati!D401,)","v":0},{"$f":"IF(Dati!E401=\"EA5\",Dati!D401,)","v":0},{"$f":"IF(Dati!E401=\"EA6\",Dati!D401,)","v":0},{"$f":"IF(Dati!E401=\"EB1\",Dati!D401,)","v":0},{"$f":"IF(Dati!E401=\"EB2\",Dati!D401,)","v":0},{"$f":"IF(Dati!E401=\"EC1\",Dati!D401,)","v":0},{"$f":"IF(Dati!E401=\"ED1\",Dati!D401,)","v":0},{"$f":"IF(Dati!E401=\"EE1\",Dati!D401,)","v":0}]
[{"$f":"Dati!C402","v":"00:00:00"},{"$f":"Dati!H402","v":"00:00:00"},{"$f":"IF(Dati!E402=\"EA1\",Dati!D402,)","v":0},{"$f":"IF(Dati!E402=\"EA2\",Dati!D402,)","v":0},{"$f":"IF(Dati!E402=\"EA3\",Dati!D402,)","v":0},{"$f":"IF(Dati!E402=\"EA4\",Dati!D402,)","v":0},{"$f":"IF(Dati!E402=\"EA5\",Dati!D402,)","v":0},{"$f":"IF(Dati!E402=\"EA6\",Dati!D402,)","v":0},{"$f":"IF(Dati!E402=\"EB1\",Dati!D402,)","v":0},{"$f":"IF(Dati!E402=\"EB2\",Dati!D402,)","v":0},{"$f":"IF(Dati!E402=\"EC1\",Dati!D402,)","v":0},{"$f":"IF(Dati!E402=\"ED1\",Dati!D402,)","v":0},{"$f":"IF(Dati!E402=\"EE1\",Dati!D402,)","v":0}]
[{"$f":"Dati!C403","v":"00:00:00"},{"$f":"Dati!H403","v":"00:00:00"},{"$f":"IF(Dati!E403=\"EA1\",Dati!D403,)","v":0},{"$f":"IF(Dati!E403=\"EA2\",Dati!D403,)","v":0},{"$f":"IF(Dati!E403=\"EA3\",Dati!D403,)","v":0},{"$f":"IF(Dati!E403=\"EA4\",Dati!D403,)","v":0},{"$f":"IF(Dati!E403=\"EA5\",Dati!D403,)","v":0},{"$f":"IF(Dati!E403=\"EA6\",Dati!D403,)","v":0},{"$f":"IF(Dati!E403=\"EB1\",Dati!D403,)","v":0},{"$f":"IF(Dati!E403=\"EB2\",Dati!D403,)","v":0},{"$f":"IF(Dati!E403=\"EC1\",Dati!D403,)","v":0},{"$f":"IF(Dati!E403=\"ED1\",Dati!D403,)","v":0},{"$f":"IF(Dati!E403=\"EE1\",Dati!D403,)","v":0}]
[{"$f":"Dati!C404","v":"00:00:00"},{"$f":"Dati!H404","v":"00:00:00"},{"$f":"IF(Dati!E404=\"EA1\",Dati!D404,)","v":0},{"$f":"IF(Dati!E404=\"EA2\",Dati!D404,)","v":0},{"$f":"IF(Dati!E404=\"EA3\",Dati!D404,)","v":0},{"$f":"IF(Dati!E404=\"EA4\",Dati!D404,)","v":0},{"$f":"IF(Dati!E404=\"EA5\",Dati!D404,)","v":0},{"$f":"IF(Dati!E404=\"EA6\",Dati!D404,)","v":0},{"$f":"IF(Dati!E404=\"EB1\",Dati!D404,)","v":0},{"$f":"IF(Dati!E404=\"EB2\",Dati!D404,)","v":0},{"$f":"IF(Dati!E404=\"EC1\",Dati!D404,)","v":0},{"$f":"IF(Dati!E404=\"ED1\",Dati!D404,)","v":0},{"$f":"IF(Dati!E404=\"EE1\",Dati!D404,)","v":0}]
[{"$f":"Dati!C405","v":"00:00:00"},{"$f":"Dati!H405","v":"00:00:00"},{"$f":"IF(Dati!E405=\"EA1\",Dati!D405,)","v":0},{"$f":"IF(Dati!E405=\"EA2\",Dati!D405,)","v":0},{"$f":"IF(Dati!E405=\"EA3\",Dati!D405,)","v":0},{"$f":"IF(Dati!E405=\"EA4\",Dati!D405,)","v":0},{"$f":"IF(Dati!E405=\"EA5\",Dati!D405,)","v":0},{"$f":"IF(Dati!E405=\"EA6\",Dati!D405,)","v":0},{"$f":"IF(Dati!E405=\"EB1\",Dati!D405,)","v":0},{"$f":"IF(Dati!E405=\"EB2\",Dati!D405,)","v":0},{"$f":"IF(Dati!E405=\"EC1\",Dati!D405,)","v":0},{"$f":"IF(Dati!E405=\"ED1\",Dati!D405,)","v":0},{"$f":"IF(Dati!E405=\"EE1\",Dati!D405,)","v":0}]
[{"$f":"Dati!C406","v":"00:00:00"},{"$f":"Dati!H406","v":"00:00:00"},{"$f":"IF(Dati!E406=\"EA1\",Dati!D406,)","v":0},{"$f":"IF(Dati!E406=\"EA2\",Dati!D406,)","v":0},{"$f":"IF(Dati!E406=\"EA3\",Dati!D406,)","v":0},{"$f":"IF(Dati!E406=\"EA4\",Dati!D406,)","v":0},{"$f":"IF(Dati!E406=\"EA5\",Dati!D406,)","v":0},{"$f":"IF(Dati!E406=\"EA6\",Dati!D406,)","v":0},{"$f":"IF(Dati!E406=\"EB1\",Dati!D406,)","v":0},{"$f":"IF(Dati!E406=\"EB2\",Dati!D406,)","v":0},{"$f":"IF(Dati!E406=\"EC1\",Dati!D406,)","v":0},{"$f":"IF(Dati!E406=\"ED1\",Dati!D406,)","v":0},{"$f":"IF(Dati!E406=\"EE1\",Dati!D406,)","v":0}]
[{"$f":"Dati!C407","v":"00:00:00"},{"$f":"Dati!H407","v":"00:00:00"},{"$f":"IF(Dati!E407=\"EA1\",Dati!D407,)","v":0},{"$f":"IF(Dati!E407=\"EA2\",Dati!D407,)","v":0},{"$f":"IF(Dati!E407=\"EA3\",Dati!D407,)","v":0},{"$f":"IF(Dati!E407=\"EA4\",Dati!D407,)","v":0},{"$f":"IF(Dati!E407=\"EA5\",Dati!D407,)","v":0},{"$f":"IF(Dati!E407=\"EA6\",Dati!D407,)","v":0},{"$f":"IF(Dati!E407=\"EB1\",Dati!D407,)","v":0},{"$f":"IF(Dati!E407=\"EB2\",Dati!D407,)","v":0},{"$f":"IF(Dati!E407=\"EC1\",Dati!D407,)","v":0},{"$f":"IF(Dati!E407=\"ED1\",Dati!D407,)","v":0},{"$f":"IF(Dati!E407=\"EE1\",Dati!D407,)","v":0}]
[{"$f":"Dati!C408","v":"00:00:00"},{"$f":"Dati!H408","v":"00:00:00"},{"$f":"IF(Dati!E408=\"EA1\",Dati!D408,)","v":0},{"$f":"IF(Dati!E408=\"EA2\",Dati!D408,)","v":0},{"$f":"IF(Dati!E408=\"EA3\",Dati!D408,)","v":0},{"$f":"IF(Dati!E408=\"EA4\",Dati!D408,)","v":0},{"$f":"IF(Dati!E408=\"EA5\",Dati!D408,)","v":0},{"$f":"IF(Dati!E408=\"EA6\",Dati!D408,)","v":0},{"$f":"IF(Dati!E408=\"EB1\",Dati!D408,)","v":0},{"$f":"IF(Dati!E408=\"EB2\",Dati!D408,)","v":0},{"$f":"IF(Dati!E408=\"EC1\",Dati!D408,)","v":0},{"$f":"IF(Dati!E408=\"ED1\",Dati!D408,)","v":0},{"$f":"IF(Dati!E408=\"EE1\",Dati!D408,)","v":0}]
[{"$f":"Dati!C409","v":"00:00:00"},{"$f":"Dati!H409","v":"00:00:00"},{"$f":"IF(Dati!E409=\"EA1\",Dati!D409,)","v":0},{"$f":"IF(Dati!E409=\"EA2\",Dati!D409,)","v":0},{"$f":"IF(Dati!E409=\"EA3\",Dati!D409,)","v":0},{"$f":"IF(Dati!E409=\"EA4\",Dati!D409,)","v":0},{"$f":"IF(Dati!E409=\"EA5\",Dati!D409,)","v":0},{"$f":"IF(Dati!E409=\"EA6\",Dati!D409,)","v":0},{"$f":"IF(Dati!E409=\"EB1\",Dati!D409,)","v":0},{"$f":"IF(Dati!E409=\"EB2\",Dati!D409,)","v":0},{"$f":"IF(Dati!E409=\"EC1\",Dati!D409,)","v":0},{"$f":"IF(Dati!E409=\"ED1\",Dati!D409,)","v":0},{"$f":"IF(Dati!E409=\"EE1\",Dati!D409,)","v":0}]
[{"$f":"Dati!C410","v":"00:00:00"},{"$f":"Dati!H410","v":"00:00:00"},{"$f":"IF(Dati!E410=\"EA1\",Dati!D410,)","v":0},{"$f":"IF(Dati!E410=\"EA2\",Dati!D410,)","v":0},{"$f":"IF(Dati!E410=\"EA3\",Dati!D410,)","v":0},{"$f":"IF(Dati!E410=\"EA4\",Dati!D410,)","v":0},{"$f":"IF(Dati!E410=\"EA5\",Dati!D410,)","v":0},{"$f":"IF(Dati!E410=\"EA6\",Dati!D410,)","v":0},{"$f":"IF(Dati!E410=\"EB1\",Dati!D410,)","v":0},{"$f":"IF(Dati!E410=\"EB2\",Dati!D410,)","v":0},{"$f":"IF(Dati!E410=\"EC1\",Dati!D410,)","v":0},{"$f":"IF(Dati!E410=\"ED1\",Dati!D410,)","v":0},{"$f":"IF(Dati!E410=\"EE1\",Dati!D410,)","v":0}]
[{"$f":"Dati!C411","v":"00:00:00"},{"$f":"Dati!H411","v":"00:00:00"},{"$f":"IF(Dati!E411=\"EA1\",Dati!D411,)","v":0},{"$f":"IF(Dati!E411=\"EA2\",Dati!D411,)","v":0},{"$f":"IF(Dati!E411=\"EA3\",Dati!D411,)","v":0},{"$f":"IF(Dati!E411=\"EA4\",Dati!D411,)","v":0},{"$f":"IF(Dati!E411=\"EA5\",Dati!D411,)","v":0},{"$f":"IF(Dati!E411=\"EA6\",Dati!D411,)","v":0},{"$f":"IF(Dati!E411=\"EB1\",Dati!D411,)","v":0},{"$f":"IF(Dati!E411=\"EB2\",Dati!D411,)","v":0},{"$f":"IF(Dati!E411=\"EC1\",Dati!D411,)","v":0},{"$f":"IF(Dati!E411=\"ED1\",Dati!D411,)","v":0},{"$f":"IF(Dati!E411=\"EE1\",Dati!D411,)","v":0}]
[{"$f":"Dati!C412","v":"00:00:00"},{"$f":"Dati!H412","v":"00:00:00"},{"$f":"IF(Dati!E412=\"EA1\",Dati!D412,)","v":0},{"$f":"IF(Dati!E412=\"EA2\",Dati!D412,)","v":0},{"$f":"IF(Dati!E412=\"EA3\",Dati!D412,)","v":0},{"$f":"IF(Dati!E412=\"EA4\",Dati!D412,)","v":0},{"$f":"IF(Dati!E412=\"EA5\",Dati!D412,)","v":0},{"$f":"IF(Dati!E412=\"EA6\",Dati!D412,)","v":0},{"$f":"IF(Dati!E412=\"EB1\",Dati!D412,)","v":0},{"$f":"IF(Dati!E412=\"EB2\",Dati!D412,)","v":0},{"$f":"IF(Dati!E412=\"EC1\",Dati!D412,)","v":0},{"$f":"IF(Dati!E412=\"ED1\",Dati!D412,)","v":0},{"$f":"IF(Dati!E412=\"EE1\",Dati!D412,)","v":0}]
[{"$f":"Dati!C413","v":"00:00:00"},{"$f":"Dati!H413","v":"00:00:00"},{"$f":"IF(Dati!E413=\"EA1\",Dati!D413,)","v":0},{"$f":"IF(Dati!E413=\"EA2\",Dati!D413,)","v":0},{"$f":"IF(Dati!E413=\"EA3\",Dati!D413,)","v":0},{"$f":"IF(Dati!E413=\"EA4\",Dati!D413,)","v":0},{"$f":"IF(Dati!E413=\"EA5\",Dati!D413,)","v":0},{"$f":"IF(Dati!E413=\"EA6\",Dati!D413,)","v":0},{"$f":"IF(Dati!E413=\"EB1\",Dati!D413,)","v":0},{"$f":"IF(Dati!E413=\"EB2\",Dati!D413,)","v":0},{"$f":"IF(Dati!E413=\"EC1\",Dati!D413,)","v":0},{"$f":"IF(Dati!E413=\"ED1\",Dati!D413,)","v":0},{"$f":"IF(Dati!E413=\"EE1\",Dati!D413,)","v":0}]
[{"$f":"Dati!C414","v":"00:00:00"},{"$f":"Dati!H414","v":"00:00:00"},{"$f":"IF(Dati!E414=\"EA1\",Dati!D414,)","v":0},{"$f":"IF(Dati!E414=\"EA2\",Dati!D414,)","v":0},{"$f":"IF(Dati!E414=\"EA3\",Dati!D414,)","v":0},{"$f":"IF(Dati!E414=\"EA4\",Dati!D414,)","v":0},{"$f":"IF(Dati!E414=\"EA5\",Dati!D414,)","v":0},{"$f":"IF(Dati!E414=\"EA6\",Dati!D414,)","v":0},{"$f":"IF(Dati!E414=\"EB1\",Dati!D414,)","v":0},{"$f":"IF(Dati!E414=\"EB2\",Dati!D414,)","v":0},{"$f":"IF(Dati!E414=\"EC1\",Dati!D414,)","v":0},{"$f":"IF(Dati!E414=\"ED1\",Dati!D414,)","v":0},{"$f":"IF(Dati!E414=\"EE1\",Dati!D414,)","v":0}]
[{"$f":"Dati!C415","v":"00:00:00"},{"$f":"Dati!H415","v":"00:00:00"},{"$f":"IF(Dati!E415=\"EA1\",Dati!D415,)","v":0},{"$f":"IF(Dati!E415=\"EA2\",Dati!D415,)","v":0},{"$f":"IF(Dati!E415=\"EA3\",Dati!D415,)","v":0},{"$f":"IF(Dati!E415=\"EA4\",Dati!D415,)","v":0},{"$f":"IF(Dati!E415=\"EA5\",Dati!D415,)","v":0},{"$f":"IF(Dati!E415=\"EA6\",Dati!D415,)","v":0},{"$f":"IF(Dati!E415=\"EB1\",Dati!D415,)","v":0},{"$f":"IF(Dati!E415=\"EB2\",Dati!D415,)","v":0},{"$f":"IF(Dati!E415=\"EC1\",Dati!D415,)","v":0},{"$f":"IF(Dati!E415=\"ED1\",Dati!D415,)","v":0},{"$f":"IF(Dati!E415=\"EE1\",Dati!D415,)","v":0}]
[{"$f":"Dati!C416","v":"00:00:00"},{"$f":"Dati!H416","v":"00:00:00"},{"$f":"IF(Dati!E416=\"EA1\",Dati!D416,)","v":0},{"$f":"IF(Dati!E416=\"EA2\",Dati!D416,)","v":0},{"$f":"IF(Dati!E416=\"EA3\",Dati!D416,)","v":0},{"$f":"IF(Dati!E416=\"EA4\",Dati!D416,)","v":0},{"$f":"IF(Dati!E416=\"EA5\",Dati!D416,)","v":0},{"$f":"IF(Dati!E416=\"EA6\",Dati!D416,)","v":0},{"$f":"IF(Dati!E416=\"EB1\",Dati!D416,)","v":0},{"$f":"IF(Dati!E416=\"EB2\",Dati!D416,)","v":0},{"$f":"IF(Dati!E416=\"EC1\",Dati!D416,)","v":0},{"$f":"IF(Dati!E416=\"ED1\",Dati!D416,)","v":0},{"$f":"IF(Dati!E416=\"EE1\",Dati!D416,)","v":0}]
[{"$f":"Dati!C417","v":"00:00:00"},{"$f":"Dati!H417","v":"00:00:00"},{"$f":"IF(Dati!E417=\"EA1\",Dati!D417,)","v":0},{"$f":"IF(Dati!E417=\"EA2\",Dati!D417,)","v":0},{"$f":"IF(Dati!E417=\"EA3\",Dati!D417,)","v":0},{"$f":"IF(Dati!E417=\"EA4\",Dati!D417,)","v":0},{"$f":"IF(Dati!E417=\"EA5\",Dati!D417,)","v":0},{"$f":"IF(Dati!E417=\"EA6\",Dati!D417,)","v":0},{"$f":"IF(Dati!E417=\"EB1\",Dati!D417,)","v":0},{"$f":"IF(Dati!E417=\"EB2\",Dati!D417,)","v":0},{"$f":"IF(Dati!E417=\"EC1\",Dati!D417,)","v":0},{"$f":"IF(Dati!E417=\"ED1\",Dati!D417,)","v":0},{"$f":"IF(Dati!E417=\"EE1\",Dati!D417,)","v":0}]
[{"$f":"Dati!C418","v":"00:00:00"},{"$f":"Dati!H418","v":"00:00:00"},{"$f":"IF(Dati!E418=\"EA1\",Dati!D418,)","v":0},{"$f":"IF(Dati!E418=\"EA2\",Dati!D418,)","v":0},{"$f":"IF(Dati!E418=\"EA3\",Dati!D418,)","v":0},{"$f":"IF(Dati!E418=\"EA4\",Dati!D418,)","v":0},{"$f":"IF(Dati!E418=\"EA5\",Dati!D418,)","v":0},{"$f":"IF(Dati!E418=\"EA6\",Dati!D418,)","v":0},{"$f":"IF(Dati!E418=\"EB1\",Dati!D418,)","v":0},{"$f":"IF(Dati!E418=\"EB2\",Dati!D418,)","v":0},{"$f":"IF(Dati!E418=\"EC1\",Dati!D418,)","v":0},{"$f":"IF(Dati!E418=\"ED1\",Dati!D418,)","v":0},{"$f":"IF(Dati!E418=\"EE1\",Dati!D418,)","v":0}]
[{"$f":"Dati!C419","v":"00:00:00"},{"$f":"Dati!H419","v":"00:00:00"},{"$f":"IF(Dati!E419=\"EA1\",Dati!D419,)","v":0},{"$f":"IF(Dati!E419=\"EA2\",Dati!D419,)","v":0},{"$f":"IF(Dati!E419=\"EA3\",Dati!D419,)","v":0},{"$f":"IF(Dati!E419=\"EA4\",Dati!D419,)","v":0},{"$f":"IF(Dati!E419=\"EA5\",Dati!D419,)","v":0},{"$f":"IF(Dati!E419=\"EA6\",Dati!D419,)","v":0},{"$f":"IF(Dati!E419=\"EB1\",Dati!D419,)","v":0},{"$f":"IF(Dati!E419=\"EB2\",Dati!D419,)","v":0},{"$f":"IF(Dati!E419=\"EC1\",Dati!D419,)","v":0},{"$f":"IF(Dati!E419=\"ED1\",Dati!D419,)","v":0},{"$f":"IF(Dati!E419=\"EE1\",Dati!D419,)","v":0}]
[{"$f":"Dati!C420","v":"00:00:00"},{"$f":"Dati!H420","v":"00:00:00"},{"$f":"IF(Dati!E420=\"EA1\",Dati!D420,)","v":0},{"$f":"IF(Dati!E420=\"EA2\",Dati!D420,)","v":0},{"$f":"IF(Dati!E420=\"EA3\",Dati!D420,)","v":0},{"$f":"IF(Dati!E420=\"EA4\",Dati!D420,)","v":0},{"$f":"IF(Dati!E420=\"EA5\",Dati!D420,)","v":0},{"$f":"IF(Dati!E420=\"EA6\",Dati!D420,)","v":0},{"$f":"IF(Dati!E420=\"EB1\",Dati!D420,)","v":0},{"$f":"IF(Dati!E420=\"EB2\",Dati!D420,)","v":0},{"$f":"IF(Dati!E420=\"EC1\",Dati!D420,)","v":0},{"$f":"IF(Dati!E420=\"ED1\",Dati!D420,)","v":0},{"$f":"IF(Dati!E420=\"EE1\",Dati!D420,)","v":0}]
[{"$f":"Dati!C421","v":"00:00:00"},{"$f":"Dati!H421","v":"00:00:00"},{"$f":"IF(Dati!E421=\"EA1\",Dati!D421,)","v":0},{"$f":"IF(Dati!E421=\"EA2\",Dati!D421,)","v":0},{"$f":"IF(Dati!E421=\"EA3\",Dati!D421,)","v":0},{"$f":"IF(Dati!E421=\"EA4\",Dati!D421,)","v":0},{"$f":"IF(Dati!E421=\"EA5\",Dati!D421,)","v":0},{"$f":"IF(Dati!E421=\"EA6\",Dati!D421,)","v":0},{"$f":"IF(Dati!E421=\"EB1\",Dati!D421,)","v":0},{"$f":"IF(Dati!E421=\"EB2\",Dati!D421,)","v":0},{"$f":"IF(Dati!E421=\"EC1\",Dati!D421,)","v":0},{"$f":"IF(Dati!E421=\"ED1\",Dati!D421,)","v":0},{"$f":"IF(Dati!E421=\"EE1\",Dati!D421,)","v":0}]
[{"$f":"Dati!C422","v":"00:00:00"},{"$f":"Dati!H422","v":"00:00:00"},{"$f":"IF(Dati!E422=\"EA1\",Dati!D422,)","v":0},{"$f":"IF(Dati!E422=\"EA2\",Dati!D422,)","v":0},{"$f":"IF(Dati!E422=\"EA3\",Dati!D422,)","v":0},{"$f":"IF(Dati!E422=\"EA4\",Dati!D422,)","v":0},{"$f":"IF(Dati!E422=\"EA5\",Dati!D422,)","v":0},{"$f":"IF(Dati!E422=\"EA6\",Dati!D422,)","v":0},{"$f":"IF(Dati!E422=\"EB1\",Dati!D422,)","v":0},{"$f":"IF(Dati!E422=\"EB2\",Dati!D422,)","v":0},{"$f":"IF(Dati!E422=\"EC1\",Dati!D422,)","v":0},{"$f":"IF(Dati!E422=\"ED1\",Dati!D422,)","v":0},{"$f":"IF(Dati!E422=\"EE1\",Dati!D422,)","v":0}]
[{"$f":"Dati!C423","v":"00:00:00"},{"$f":"Dati!H423","v":"00:00:00"},{"$f":"IF(Dati!E423=\"EA1\",Dati!D423,)","v":0},{"$f":"IF(Dati!E423=\"EA2\",Dati!D423,)","v":0},{"$f":"IF(Dati!E423=\"EA3\",Dati!D423,)","v":0},{"$f":"IF(Dati!E423=\"EA4\",Dati!D423,)","v":0},{"$f":"IF(Dati!E423=\"EA5\",Dati!D423,)","v":0},{"$f":"IF(Dati!E423=\"EA6\",Dati!D423,)","v":0},{"$f":"IF(Dati!E423=\"EB1\",Dati!D423,)","v":0},{"$f":"IF(Dati!E423=\"EB2\",Dati!D423,)","v":0},{"$f":"IF(Dati!E423=\"EC1\",Dati!D423,)","v":0},{"$f":"IF(Dati!E423=\"ED1\",Dati!D423,)","v":0},{"$f":"IF(Dati!E423=\"EE1\",Dati!D423,)","v":0}]
[{"$f":"Dati!C424","v":"00:00:00"},{"$f":"Dati!H424","v":"00:00:00"},{"$f":"IF(Dati!E424=\"EA1\",Dati!D424,)","v":0},{"$f":"IF(Dati!E424=\"EA2\",Dati!D424,)","v":0},{"$f":"IF(Dati!E424=\"EA3\",Dati!D424,)","v":0},{"$f":"IF(Dati!E424=\"EA4\",Dati!D424,)","v":0},{"$f":"IF(Dati!E424=\"EA5\",Dati!D424,)","v":0},{"$f":"IF(Dati!E424=\"EA6\",Dati!D424,)","v":0},{"$f":"IF(Dati!E424=\"EB1\",Dati!D424,)","v":0},{"$f":"IF(Dati!E424=\"EB2\",Dati!D424,)","v":0},{"$f":"IF(Dati!E424=\"EC1\",Dati!D424,)","v":0},{"$f":"IF(Dati!E424=\"ED1\",Dati!D424,)","v":0},{"$f":"IF(Dati!E424=\"EE1\",Dati!D424,)","v":0}]
[{"$f":"Dati!C425","v":"00:00:00"},{"$f":"Dati!H425","v":"00:00:00"},{"$f":"IF(Dati!E425=\"EA1\",Dati!D425,)","v":0},{"$f":"IF(Dati!E425=\"EA2\",Dati!D425,)","v":0},{"$f":"IF(Dati!E425=\"EA3\",Dati!D425,)","v":0},{"$f":"IF(Dati!E425=\"EA4\",Dati!D425,)","v":0},{"$f":"IF(Dati!E425=\"EA5\",Dati!D425,)","v":0},{"$f":"IF(Dati!E425=\"EA6\",Dati!D425,)","v":0},{"$f":"IF(Dati!E425=\"EB1\",Dati!D425,)","v":0},{"$f":"IF(Dati!E425=\"EB2\",Dati!D425,)","v":0},{"$f":"IF(Dati!E425=\"EC1\",Dati!D425,)","v":0},{"$f":"IF(Dati!E425=\"ED1\",Dati!D425,)","v":0},{"$f":"IF(Dati!E425=\"EE1\",Dati!D425,)","v":0}]
[{"$f":"Dati!C426","v":"00:00:00"},{"$f":"Dati!H426","v":"00:00:00"},{"$f":"IF(Dati!E426=\"EA1\",Dati!D426,)","v":0},{"$f":"IF(Dati!E426=\"EA2\",Dati!D426,)","v":0},{"$f":"IF(Dati!E426=\"EA3\",Dati!D426,)","v":0},{"$f":"IF(Dati!E426=\"EA4\",Dati!D426,)","v":0},{"$f":"IF(Dati!E426=\"EA5\",Dati!D426,)","v":0},{"$f":"IF(Dati!E426=\"EA6\",Dati!D426,)","v":0},{"$f":"IF(Dati!E426=\"EB1\",Dati!D426,)","v":0},{"$f":"IF(Dati!E426=\"EB2\",Dati!D426,)","v":0},{"$f":"IF(Dati!E426=\"EC1\",Dati!D426,)","v":0},{"$f":"IF(Dati!E426=\"ED1\",Dati!D426,)","v":0},{"$f":"IF(Dati!E426=\"EE1\",Dati!D426,)","v":0}]
[{"$f":"Dati!C427","v":"00:00:00"},{"$f":"Dati!H427","v":"00:00:00"},{"$f":"IF(Dati!E427=\"EA1\",Dati!D427,)","v":0},{"$f":"IF(Dati!E427=\"EA2\",Dati!D427,)","v":0},{"$f":"IF(Dati!E427=\"EA3\",Dati!D427,)","v":0},{"$f":"IF(Dati!E427=\"EA4\",Dati!D427,)","v":0},{"$f":"IF(Dati!E427=\"EA5\",Dati!D427,)","v":0},{"$f":"IF(Dati!E427=\"EA6\",Dati!D427,)","v":0},{"$f":"IF(Dati!E427=\"EB1\",Dati!D427,)","v":0},{"$f":"IF(Dati!E427=\"EB2\",Dati!D427,)","v":0},{"$f":"IF(Dati!E427=\"EC1\",Dati!D427,)","v":0},{"$f":"IF(Dati!E427=\"ED1\",Dati!D427,)","v":0},{"$f":"IF(Dati!E427=\"EE1\",Dati!D427,)","v":0}]
[{"$f":"Dati!C428","v":"00:00:00"},{"$f":"Dati!H428","v":"00:00:00"},{"$f":"IF(Dati!E428=\"EA1\",Dati!D428,)","v":0},{"$f":"IF(Dati!E428=\"EA2\",Dati!D428,)","v":0},{"$f":"IF(Dati!E428=\"EA3\",Dati!D428,)","v":0},{"$f":"IF(Dati!E428=\"EA4\",Dati!D428,)","v":0},{"$f":"IF(Dati!E428=\"EA5\",Dati!D428,)","v":0},{"$f":"IF(Dati!E428=\"EA6\",Dati!D428,)","v":0},{"$f":"IF(Dati!E428=\"EB1\",Dati!D428,)","v":0},{"$f":"IF(Dati!E428=\"EB2\",Dati!D428,)","v":0},{"$f":"IF(Dati!E428=\"EC1\",Dati!D428,)","v":0},{"$f":"IF(Dati!E428=\"ED1\",Dati!D428,)","v":0},{"$f":"IF(Dati!E428=\"EE1\",Dati!D428,)","v":0}]
[{"$f":"Dati!C429","v":"00:00:00"},{"$f":"Dati!H429","v":"00:00:00"},{"$f":"IF(Dati!E429=\"EA1\",Dati!D429,)","v":0},{"$f":"IF(Dati!E429=\"EA2\",Dati!D429,)","v":0},{"$f":"IF(Dati!E429=\"EA3\",Dati!D429,)","v":0},{"$f":"IF(Dati!E429=\"EA4\",Dati!D429,)","v":0},{"$f":"IF(Dati!E429=\"EA5\",Dati!D429,)","v":0},{"$f":"IF(Dati!E429=\"EA6\",Dati!D429,)","v":0},{"$f":"IF(Dati!E429=\"EB1\",Dati!D429,)","v":0},{"$f":"IF(Dati!E429=\"EB2\",Dati!D429,)","v":0},{"$f":"IF(Dati!E429=\"EC1\",Dati!D429,)","v":0},{"$f":"IF(Dati!E429=\"ED1\",Dati!D429,)","v":0},{"$f":"IF(Dati!E429=\"EE1\",Dati!D429,)","v":0}]
[{"$f":"Dati!C430","v":"00:00:00"},{"$f":"Dati!H430","v":"00:00:00"},{"$f":"IF(Dati!E430=\"EA1\",Dati!D430,)","v":0},{"$f":"IF(Dati!E430=\"EA2\",Dati!D430,)","v":0},{"$f":"IF(Dati!E430=\"EA3\",Dati!D430,)","v":0},{"$f":"IF(Dati!E430=\"EA4\",Dati!D430,)","v":0},{"$f":"IF(Dati!E430=\"EA5\",Dati!D430,)","v":0},{"$f":"IF(Dati!E430=\"EA6\",Dati!D430,)","v":0},{"$f":"IF(Dati!E430=\"EB1\",Dati!D430,)","v":0},{"$f":"IF(Dati!E430=\"EB2\",Dati!D430,)","v":0},{"$f":"IF(Dati!E430=\"EC1\",Dati!D430,)","v":0},{"$f":"IF(Dati!E430=\"ED1\",Dati!D430,)","v":0},{"$f":"IF(Dati!E430=\"EE1\",Dati!D430,)","v":0}]
[{"$f":"Dati!C431","v":"00:00:00"},{"$f":"Dati!H431","v":"00:00:00"},{"$f":"IF(Dati!E431=\"EA1\",Dati!D431,)","v":0},{"$f":"IF(Dati!E431=\"EA2\",Dati!D431,)","v":0},{"$f":"IF(Dati!E431=\"EA3\",Dati!D431,)","v":0},{"$f":"IF(Dati!E431=\"EA4\",Dati!D431,)","v":0},{"$f":"IF(Dati!E431=\"EA5\",Dati!D431,)","v":0},{"$f":"IF(Dati!E431=\"EA6\",Dati!D431,)","v":0},{"$f":"IF(Dati!E431=\"EB1\",Dati!D431,)","v":0},{"$f":"IF(Dati!E431=\"EB2\",Dati!D431,)","v":0},{"$f":"IF(Dati!E431=\"EC1\",Dati!D431,)","v":0},{"$f":"IF(Dati!E431=\"ED1\",Dati!D431,)","v":0},{"$f":"IF(Dati!E431=\"EE1\",Dati!D431,)","v":0}]
[{"$f":"Dati!C432","v":"00:00:00"},{"$f":"Dati!H432","v":"00:00:00"},{"$f":"IF(Dati!E432=\"EA1\",Dati!D432,)","v":0},{"$f":"IF(Dati!E432=\"EA2\",Dati!D432,)","v":0},{"$f":"IF(Dati!E432=\"EA3\",Dati!D432,)","v":0},{"$f":"IF(Dati!E432=\"EA4\",Dati!D432,)","v":0},{"$f":"IF(Dati!E432=\"EA5\",Dati!D432,)","v":0},{"$f":"IF(Dati!E432=\"EA6\",Dati!D432,)","v":0},{"$f":"IF(Dati!E432=\"EB1\",Dati!D432,)","v":0},{"$f":"IF(Dati!E432=\"EB2\",Dati!D432,)","v":0},{"$f":"IF(Dati!E432=\"EC1\",Dati!D432,)","v":0},{"$f":"IF(Dati!E432=\"ED1\",Dati!D432,)","v":0},{"$f":"IF(Dati!E432=\"EE1\",Dati!D432,)","v":0}]
[{"$f":"Dati!C433","v":"00:00:00"},{"$f":"Dati!H433","v":"00:00:00"},{"$f":"IF(Dati!E433=\"EA1\",Dati!D433,)","v":0},{"$f":"IF(Dati!E433=\"EA2\",Dati!D433,)","v":0},{"$f":"IF(Dati!E433=\"EA3\",Dati!D433,)","v":0},{"$f":"IF(Dati!E433=\"EA4\",Dati!D433,)","v":0},{"$f":"IF(Dati!E433=\"EA5\",Dati!D433,)","v":0},{"$f":"IF(Dati!E433=\"EA6\",Dati!D433,)","v":0},{"$f":"IF(Dati!E433=\"EB1\",Dati!D433,)","v":0},{"$f":"IF(Dati!E433=\"EB2\",Dati!D433,)","v":0},{"$f":"IF(Dati!E433=\"EC1\",Dati!D433,)","v":0},{"$f":"IF(Dati!E433=\"ED1\",Dati!D433,)","v":0},{"$f":"IF(Dati!E433=\"EE1\",Dati!D433,)","v":0}]
[{"$f":"Dati!C434","v":"00:00:00"},{"$f":"Dati!H434","v":"00:00:00"},{"$f":"IF(Dati!E434=\"EA1\",Dati!D434,)","v":0},{"$f":"IF(Dati!E434=\"EA2\",Dati!D434,)","v":0},{"$f":"IF(Dati!E434=\"EA3\",Dati!D434,)","v":0},{"$f":"IF(Dati!E434=\"EA4\",Dati!D434,)","v":0},{"$f":"IF(Dati!E434=\"EA5\",Dati!D434,)","v":0},{"$f":"IF(Dati!E434=\"EA6\",Dati!D434,)","v":0},{"$f":"IF(Dati!E434=\"EB1\",Dati!D434,)","v":0},{"$f":"IF(Dati!E434=\"EB2\",Dati!D434,)","v":0},{"$f":"IF(Dati!E434=\"EC1\",Dati!D434,)","v":0},{"$f":"IF(Dati!E434=\"ED1\",Dati!D434,)","v":0},{"$f":"IF(Dati!E434=\"EE1\",Dati!D434,)","v":0}]
[{"$f":"Dati!C435","v":"00:00:00"},{"$f":"Dati!H435","v":"00:00:00"},{"$f":"IF(Dati!E435=\"EA1\",Dati!D435,)","v":0},{"$f":"IF(Dati!E435=\"EA2\",Dati!D435,)","v":0},{"$f":"IF(Dati!E435=\"EA3\",Dati!D435,)","v":0},{"$f":"IF(Dati!E435=\"EA4\",Dati!D435,)","v":0},{"$f":"IF(Dati!E435=\"EA5\",Dati!D435,)","v":0},{"$f":"IF(Dati!E435=\"EA6\",Dati!D435,)","v":0},{"$f":"IF(Dati!E435=\"EB1\",Dati!D435,)","v":0},{"$f":"IF(Dati!E435=\"EB2\",Dati!D435,)","v":0},{"$f":"IF(Dati!E435=\"EC1\",Dati!D435,)","v":0},{"$f":"IF(Dati!E435=\"ED1\",Dati!D435,)","v":0},{"$f":"IF(Dati!E435=\"EE1\",Dati!D435,)","v":0}]
[{"$f":"Dati!C436","v":"00:00:00"},{"$f":"Dati!H436","v":"00:00:00"},{"$f":"IF(Dati!E436=\"EA1\",Dati!D436,)","v":0},{"$f":"IF(Dati!E436=\"EA2\",Dati!D436,)","v":0},{"$f":"IF(Dati!E436=\"EA3\",Dati!D436,)","v":0},{"$f":"IF(Dati!E436=\"EA4\",Dati!D436,)","v":0},{"$f":"IF(Dati!E436=\"EA5\",Dati!D436,)","v":0},{"$f":"IF(Dati!E436=\"EA6\",Dati!D436,)","v":0},{"$f":"IF(Dati!E436=\"EB1\",Dati!D436,)","v":0},{"$f":"IF(Dati!E436=\"EB2\",Dati!D436,)","v":0},{"$f":"IF(Dati!E436=\"EC1\",Dati!D436,)","v":0},{"$f":"IF(Dati!E436=\"ED1\",Dati!D436,)","v":0},{"$f":"IF(Dati!E436=\"EE1\",Dati!D436,)","v":0}]
[{"$f":"Dati!C437","v":"00:00:00"},{"$f":"Dati!H437","v":"00:00:00"},{"$f":"IF(Dati!E437=\"EA1\",Dati!D437,)","v":0},{"$f":"IF(Dati!E437=\"EA2\",Dati!D437,)","v":0},{"$f":"IF(Dati!E437=\"EA3\",Dati!D437,)","v":0},{"$f":"IF(Dati!E437=\"EA4\",Dati!D437,)","v":0},{"$f":"IF(Dati!E437=\"EA5\",Dati!D437,)","v":0},{"$f":"IF(Dati!E437=\"EA6\",Dati!D437,)","v":0},{"$f":"IF(Dati!E437=\"EB1\",Dati!D437,)","v":0},{"$f":"IF(Dati!E437=\"EB2\",Dati!D437,)","v":0},{"$f":"IF(Dati!E437=\"EC1\",Dati!D437,)","v":0},{"$f":"IF(Dati!E437=\"ED1\",Dati!D437,)","v":0},{"$f":"IF(Dati!E437=\"EE1\",Dati!D437,)","v":0}]
[{"$f":"Dati!C438","v":"00:00:00"},{"$f":"Dati!H438","v":"00:00:00"},{"$f":"IF(Dati!E438=\"EA1\",Dati!D438,)","v":0},{"$f":"IF(Dati!E438=\"EA2\",Dati!D438,)","v":0},{"$f":"IF(Dati!E438=\"EA3\",Dati!D438,)","v":0},{"$f":"IF(Dati!E438=\"EA4\",Dati!D438,)","v":0},{"$f":"IF(Dati!E438=\"EA5\",Dati!D438,)","v":0},{"$f":"IF(Dati!E438=\"EA6\",Dati!D438,)","v":0},{"$f":"IF(Dati!E438=\"EB1\",Dati!D438,)","v":0},{"$f":"IF(Dati!E438=\"EB2\",Dati!D438,)","v":0},{"$f":"IF(Dati!E438=\"EC1\",Dati!D438,)","v":0},{"$f":"IF(Dati!E438=\"ED1\",Dati!D438,)","v":0},{"$f":"IF(Dati!E438=\"EE1\",Dati!D438,)","v":0}]
[{"$f":"Dati!C439","v":"00:00:00"},{"$f":"Dati!H439","v":"00:00:00"},{"$f":"IF(Dati!E439=\"EA1\",Dati!D439,)","v":0},{"$f":"IF(Dati!E439=\"EA2\",Dati!D439,)","v":0},{"$f":"IF(Dati!E439=\"EA3\",Dati!D439,)","v":0},{"$f":"IF(Dati!E439=\"EA4\",Dati!D439,)","v":0},{"$f":"IF(Dati!E439=\"EA5\",Dati!D439,)","v":0},{"$f":"IF(Dati!E439=\"EA6\",Dati!D439,)","v":0},{"$f":"IF(Dati!E439=\"EB1\",Dati!D439,)","v":0},{"$f":"IF(Dati!E439=\"EB2\",Dati!D439,)","v":0},{"$f":"IF(Dati!E439=\"EC1\",Dati!D439,)","v":0},{"$f":"IF(Dati!E439=\"ED1\",Dati!D439,)","v":0},{"$f":"IF(Dati!E439=\"EE1\",Dati!D439,)","v":0}]
[{"$f":"Dati!C440","v":"00:00:00"},{"$f":"Dati!H440","v":"00:00:00"},{"$f":"IF(Dati!E440=\"EA1\",Dati!D440,)","v":0},{"$f":"IF(Dati!E440=\"EA2\",Dati!D440,)","v":0},{"$f":"IF(Dati!E440=\"EA3\",Dati!D440,)","v":0},{"$f":"IF(Dati!E440=\"EA4\",Dati!D440,)","v":0},{"$f":"IF(Dati!E440=\"EA5\",Dati!D440,)","v":0},{"$f":"IF(Dati!E440=\"EA6\",Dati!D440,)","v":0},{"$f":"IF(Dati!E440=\"EB1\",Dati!D440,)","v":0},{"$f":"IF(Dati!E440=\"EB2\",Dati!D440,)","v":0},{"$f":"IF(Dati!E440=\"EC1\",Dati!D440,)","v":0},{"$f":"IF(Dati!E440=\"ED1\",Dati!D440,)","v":0},{"$f":"IF(Dati!E440=\"EE1\",Dati!D440,)","v":0}]
[{"$f":"Dati!C441","v":"00:00:00"},{"$f":"Dati!H441","v":"00:00:00"},{"$f":"IF(Dati!E441=\"EA1\",Dati!D441,)","v":0},{"$f":"IF(Dati!E441=\"EA2\",Dati!D441,)","v":0},{"$f":"IF(Dati!E441=\"EA3\",Dati!D441,)","v":0},{"$f":"IF(Dati!E441=\"EA4\",Dati!D441,)","v":0},{"$f":"IF(Dati!E441=\"EA5\",Dati!D441,)","v":0},{"$f":"IF(Dati!E441=\"EA6\",Dati!D441,)","v":0},{"$f":"IF(Dati!E441=\"EB1\",Dati!D441,)","v":0},{"$f":"IF(Dati!E441=\"EB2\",Dati!D441,)","v":0},{"$f":"IF(Dati!E441=\"EC1\",Dati!D441,)","v":0},{"$f":"IF(Dati!E441=\"ED1\",Dati!D441,)","v":0},{"$f":"IF(Dati!E441=\"EE1\",Dati!D441,)","v":0}]
[{"$f":"Dati!C442","v":"00:00:00"},{"$f":"Dati!H442","v":"00:00:00"},{"$f":"IF(Dati!E442=\"EA1\",Dati!D442,)","v":0},{"$f":"IF(Dati!E442=\"EA2\",Dati!D442,)","v":0},{"$f":"IF(Dati!E442=\"EA3\",Dati!D442,)","v":0},{"$f":"IF(Dati!E442=\"EA4\",Dati!D442,)","v":0},{"$f":"IF(Dati!E442=\"EA5\",Dati!D442,)","v":0},{"$f":"IF(Dati!E442=\"EA6\",Dati!D442,)","v":0},{"$f":"IF(Dati!E442=\"EB1\",Dati!D442,)","v":0},{"$f":"IF(Dati!E442=\"EB2\",Dati!D442,)","v":0},{"$f":"IF(Dati!E442=\"EC1\",Dati!D442,)","v":0},{"$f":"IF(Dati!E442=\"ED1\",Dati!D442,)","v":0},{"$f":"IF(Dati!E442=\"EE1\",Dati!D442,)","v":0}]
[{"$f":"Dati!C443","v":"00:00:00"},{"$f":"Dati!H443","v":"00:00:00"},{"$f":"IF(Dati!E443=\"EA1\",Dati!D443,)","v":0},{"$f":"IF(Dati!E443=\"EA2\",Dati!D443,)","v":0},{"$f":"IF(Dati!E443=\"EA3\",Dati!D443,)","v":0},{"$f":"IF(Dati!E443=\"EA4\",Dati!D443,)","v":0},{"$f":"IF(Dati!E443=\"EA5\",Dati!D443,)","v":0},{"$f":"IF(Dati!E443=\"EA6\",Dati!D443,)","v":0},{"$f":"IF(Dati!E443=\"EB1\",Dati!D443,)","v":0},{"$f":"IF(Dati!E443=\"EB2\",Dati!D443,)","v":0},{"$f":"IF(Dati!E443=\"EC1\",Dati!D443,)","v":0},{"$f":"IF(Dati!E443=\"ED1\",Dati!D443,)","v":0},{"$f":"IF(Dati!E443=\"EE1\",Dati!D443,)","v":0}]
[{"$f":"Dati!C444","v":"00:00:00"},{"$f":"Dati!H444","v":"00:00:00"},{"$f":"IF(Dati!E444=\"EA1\",Dati!D444,)","v":0},{"$f":"IF(Dati!E444=\"EA2\",Dati!D444,)","v":0},{"$f":"IF(Dati!E444=\"EA3\",Dati!D444,)","v":0},{"$f":"IF(Dati!E444=\"EA4\",Dati!D444,)","v":0},{"$f":"IF(Dati!E444=\"EA5\",Dati!D444,)","v":0},{"$f":"IF(Dati!E444=\"EA6\",Dati!D444,)","v":0},{"$f":"IF(Dati!E444=\"EB1\",Dati!D444,)","v":0},{"$f":"IF(Dati!E444=\"EB2\",Dati!D444,)","v":0},{"$f":"IF(Dati!E444=\"EC1\",Dati!D444,)","v":0},{"$f":"IF(Dati!E444=\"ED1\",Dati!D444,)","v":0},{"$f":"IF(Dati!E444=\"EE1\",Dati!D444,)","v":0}]
[{"$f":"Dati!C445","v":"00:00:00"},{"$f":"Dati!H445","v":"00:00:00"},{"$f":"IF(Dati!E445=\"EA1\",Dati!D445,)","v":0},{"$f":"IF(Dati!E445=\"EA2\",Dati!D445,)","v":0},{"$f":"IF(Dati!E445=\"EA3\",Dati!D445,)","v":0},{"$f":"IF(Dati!E445=\"EA4\",Dati!D445,)","v":0},{"$f":"IF(Dati!E445=\"EA5\",Dati!D445,)","v":0},{"$f":"IF(Dati!E445=\"EA6\",Dati!D445,)","v":0},{"$f":"IF(Dati!E445=\"EB1\",Dati!D445,)","v":0},{"$f":"IF(Dati!E445=\"EB2\",Dati!D445,)","v":0},{"$f":"IF(Dati!E445=\"EC1\",Dati!D445,)","v":0},{"$f":"IF(Dati!E445=\"ED1\",Dati!D445,)","v":0},{"$f":"IF(Dati!E445=\"EE1\",Dati!D445,)","v":0}]
[{"$f":"Dati!C446","v":"00:00:00"},{"$f":"Dati!H446","v":"00:00:00"},{"$f":"IF(Dati!E446=\"EA1\",Dati!D446,)","v":0},{"$f":"IF(Dati!E446=\"EA2\",Dati!D446,)","v":0},{"$f":"IF(Dati!E446=\"EA3\",Dati!D446,)","v":0},{"$f":"IF(Dati!E446=\"EA4\",Dati!D446,)","v":0},{"$f":"IF(Dati!E446=\"EA5\",Dati!D446,)","v":0},{"$f":"IF(Dati!E446=\"EA6\",Dati!D446,)","v":0},{"$f":"IF(Dati!E446=\"EB1\",Dati!D446,)","v":0},{"$f":"IF(Dati!E446=\"EB2\",Dati!D446,)","v":0},{"$f":"IF(Dati!E446=\"EC1\",Dati!D446,)","v":0},{"$f":"IF(Dati!E446=\"ED1\",Dati!D446,)","v":0},{"$f":"IF(Dati!E446=\"EE1\",Dati!D446,)","v":0}]
[{"$f":"Dati!C447","v":"00:00:00"},{"$f":"Dati!H447","v":"00:00:00"},{"$f":"IF(Dati!E447=\"EA1\",Dati!D447,)","v":0},{"$f":"IF(Dati!E447=\"EA2\",Dati!D447,)","v":0},{"$f":"IF(Dati!E447=\"EA3\",Dati!D447,)","v":0},{"$f":"IF(Dati!E447=\"EA4\",Dati!D447,)","v":0},{"$f":"IF(Dati!E447=\"EA5\",Dati!D447,)","v":0},{"$f":"IF(Dati!E447=\"EA6\",Dati!D447,)","v":0},{"$f":"IF(Dati!E447=\"EB1\",Dati!D447,)","v":0},{"$f":"IF(Dati!E447=\"EB2\",Dati!D447,)","v":0},{"$f":"IF(Dati!E447=\"EC1\",Dati!D447,)","v":0},{"$f":"IF(Dati!E447=\"ED1\",Dati!D447,)","v":0},{"$f":"IF(Dati!E447=\"EE1\",Dati!D447,)","v":0}]
[{"$f":"Dati!C448","v":"00:00:00"},{"$f":"Dati!H448","v":"00:00:00"},{"$f":"IF(Dati!E448=\"EA1\",Dati!D448,)","v":0},{"$f":"IF(Dati!E448=\"EA2\",Dati!D448,)","v":0},{"$f":"IF(Dati!E448=\"EA3\",Dati!D448,)","v":0},{"$f":"IF(Dati!E448=\"EA4\",Dati!D448,)","v":0},{"$f":"IF(Dati!E448=\"EA5\",Dati!D448,)","v":0},{"$f":"IF(Dati!E448=\"EA6\",Dati!D448,)","v":0},{"$f":"IF(Dati!E448=\"EB1\",Dati!D448,)","v":0},{"$f":"IF(Dati!E448=\"EB2\",Dati!D448,)","v":0},{"$f":"IF(Dati!E448=\"EC1\",Dati!D448,)","v":0},{"$f":"IF(Dati!E448=\"ED1\",Dati!D448,)","v":0},{"$f":"IF(Dati!E448=\"EE1\",Dati!D448,)","v":0}]
[{"$f":"Dati!C449","v":"00:00:00"},{"$f":"Dati!H449","v":"00:00:00"},{"$f":"IF(Dati!E449=\"EA1\",Dati!D449,)","v":0},{"$f":"IF(Dati!E449=\"EA2\",Dati!D449,)","v":0},{"$f":"IF(Dati!E449=\"EA3\",Dati!D449,)","v":0},{"$f":"IF(Dati!E449=\"EA4\",Dati!D449,)","v":0},{"$f":"IF(Dati!E449=\"EA5\",Dati!D449,)","v":0},{"$f":"IF(Dati!E449=\"EA6\",Dati!D449,)","v":0},{"$f":"IF(Dati!E449=\"EB1\",Dati!D449,)","v":0},{"$f":"IF(Dati!E449=\"EB2\",Dati!D449,)","v":0},{"$f":"IF(Dati!E449=\"EC1\",Dati!D449,)","v":0},{"$f":"IF(Dati!E449=\"ED1\",Dati!D449,)","v":0},{"$f":"IF(Dati!E449=\"EE1\",Dati!D449,)","v":0}]
[{"$f":"Dati!C450","v":"00:00:00"},{"$f":"Dati!H450","v":"00:00:00"},{"$f":"IF(Dati!E450=\"EA1\",Dati!D450,)","v":0},{"$f":"IF(Dati!E450=\"EA2\",Dati!D450,)","v":0},{"$f":"IF(Dati!E450=\"EA3\",Dati!D450,)","v":0},{"$f":"IF(Dati!E450=\"EA4\",Dati!D450,)","v":0},{"$f":"IF(Dati!E450=\"EA5\",Dati!D450,)","v":0},{"$f":"IF(Dati!E450=\"EA6\",Dati!D450,)","v":0},{"$f":"IF(Dati!E450=\"EB1\",Dati!D450,)","v":0},{"$f":"IF(Dati!E450=\"EB2\",Dati!D450,)","v":0},{"$f":"IF(Dati!E450=\"EC1\",Dati!D450,)","v":0},{"$f":"IF(Dati!E450=\"ED1\",Dati!D450,)","v":0},{"$f":"IF(Dati!E450=\"EE1\",Dati!D450,)","v":0}]
[{"$f":"Dati!C451","v":"00:00:00"},{"$f":"Dati!H451","v":"00:00:00"},{"$f":"IF(Dati!E451=\"EA1\",Dati!D451,)","v":0},{"$f":"IF(Dati!E451=\"EA2\",Dati!D451,)","v":0},{"$f":"IF(Dati!E451=\"EA3\",Dati!D451,)","v":0},{"$f":"IF(Dati!E451=\"EA4\",Dati!D451,)","v":0},{"$f":"IF(Dati!E451=\"EA5\",Dati!D451,)","v":0},{"$f":"IF(Dati!E451=\"EA6\",Dati!D451,)","v":0},{"$f":"IF(Dati!E451=\"EB1\",Dati!D451,)","v":0},{"$f":"IF(Dati!E451=\"EB2\",Dati!D451,)","v":0},{"$f":"IF(Dati!E451=\"EC1\",Dati!D451,)","v":0},{"$f":"IF(Dati!E451=\"ED1\",Dati!D451,)","v":0},{"$f":"IF(Dati!E451=\"EE1\",Dati!D451,)","v":0}]
[{"$f":"Dati!C452","v":"00:00:00"},{"$f":"Dati!H452","v":"00:00:00"},{"$f":"IF(Dati!E452=\"EA1\",Dati!D452,)","v":0},{"$f":"IF(Dati!E452=\"EA2\",Dati!D452,)","v":0},{"$f":"IF(Dati!E452=\"EA3\",Dati!D452,)","v":0},{"$f":"IF(Dati!E452=\"EA4\",Dati!D452,)","v":0},{"$f":"IF(Dati!E452=\"EA5\",Dati!D452,)","v":0},{"$f":"IF(Dati!E452=\"EA6\",Dati!D452,)","v":0},{"$f":"IF(Dati!E452=\"EB1\",Dati!D452,)","v":0},{"$f":"IF(Dati!E452=\"EB2\",Dati!D452,)","v":0},{"$f":"IF(Dati!E452=\"EC1\",Dati!D452,)","v":0},{"$f":"IF(Dati!E452=\"ED1\",Dati!D452,)","v":0},{"$f":"IF(Dati!E452=\"EE1\",Dati!D452,)","v":0}]
[{"$f":"Dati!C453","v":"00:00:00"},{"$f":"Dati!H453","v":"00:00:00"},{"$f":"IF(Dati!E453=\"EA1\",Dati!D453,)","v":0},{"$f":"IF(Dati!E453=\"EA2\",Dati!D453,)","v":0},{"$f":"IF(Dati!E453=\"EA3\",Dati!D453,)","v":0},{"$f":"IF(Dati!E453=\"EA4\",Dati!D453,)","v":0},{"$f":"IF(Dati!E453=\"EA5\",Dati!D453,)","v":0},{"$f":"IF(Dati!E453=\"EA6\",Dati!D453,)","v":0},{"$f":"IF(Dati!E453=\"EB1\",Dati!D453,)","v":0},{"$f":"IF(Dati!E453=\"EB2\",Dati!D453,)","v":0},{"$f":"IF(Dati!E453=\"EC1\",Dati!D453,)","v":0},{"$f":"IF(Dati!E453=\"ED1\",Dati!D453,)","v":0},{"$f":"IF(Dati!E453=\"EE1\",Dati!D453,)","v":0}]
[{"$f":"Dati!C454","v":"00:00:00"},{"$f":"Dati!H454","v":"00:00:00"},{"$f":"IF(Dati!E454=\"EA1\",Dati!D454,)","v":0},{"$f":"IF(Dati!E454=\"EA2\",Dati!D454,)","v":0},{"$f":"IF(Dati!E454=\"EA3\",Dati!D454,)","v":0},{"$f":"IF(Dati!E454=\"EA4\",Dati!D454,)","v":0},{"$f":"IF(Dati!E454=\"EA5\",Dati!D454,)","v":0},{"$f":"IF(Dati!E454=\"EA6\",Dati!D454,)","v":0},{"$f":"IF(Dati!E454=\"EB1\",Dati!D454,)","v":0},{"$f":"IF(Dati!E454=\"EB2\",Dati!D454,)","v":0},{"$f":"IF(Dati!E454=\"EC1\",Dati!D454,)","v":0},{"$f":"IF(Dati!E454=\"ED1\",Dati!D454,)","v":0},{"$f":"IF(Dati!E454=\"EE1\",Dati!D454,)","v":0}]
[{"$f":"Dati!C455","v":"00:00:00"},{"$f":"Dati!H455","v":"00:00:00"},{"$f":"IF(Dati!E455=\"EA1\",Dati!D455,)","v":0},{"$f":"IF(Dati!E455=\"EA2\",Dati!D455,)","v":0},{"$f":"IF(Dati!E455=\"EA3\",Dati!D455,)","v":0},{"$f":"IF(Dati!E455=\"EA4\",Dati!D455,)","v":0},{"$f":"IF(Dati!E455=\"EA5\",Dati!D455,)","v":0},{"$f":"IF(Dati!E455=\"EA6\",Dati!D455,)","v":0},{"$f":"IF(Dati!E455=\"EB1\",Dati!D455,)","v":0},{"$f":"IF(Dati!E455=\"EB2\",Dati!D455,)","v":0},{"$f":"IF(Dati!E455=\"EC1\",Dati!D455,)","v":0},{"$f":"IF(Dati!E455=\"ED1\",Dati!D455,)","v":0},{"$f":"IF(Dati!E455=\"EE1\",Dati!D455,)","v":0}]
[{"$f":"Dati!C456","v":"00:00:00"},{"$f":"Dati!H456","v":"00:00:00"},{"$f":"IF(Dati!E456=\"EA1\",Dati!D456,)","v":0},{"$f":"IF(Dati!E456=\"EA2\",Dati!D456,)","v":0},{"$f":"IF(Dati!E456=\"EA3\",Dati!D456,)","v":0},{"$f":"IF(Dati!E456=\"EA4\",Dati!D456,)","v":0},{"$f":"IF(Dati!E456=\"EA5\",Dati!D456,)","v":0},{"$f":"IF(Dati!E456=\"EA6\",Dati!D456,)","v":0},{"$f":"IF(Dati!E456=\"EB1\",Dati!D456,)","v":0},{"$f":"IF(Dati!E456=\"EB2\",Dati!D456,)","v":0},{"$f":"IF(Dati!E456=\"EC1\",Dati!D456,)","v":0},{"$f":"IF(Dati!E456=\"ED1\",Dati!D456,)","v":0},{"$f":"IF(Dati!E456=\"EE1\",Dati!D456,)","v":0}]
[{"$f":"Dati!C457","v":"00:00:00"},{"$f":"Dati!H457","v":"00:00:00"},{"$f":"IF(Dati!E457=\"EA1\",Dati!D457,)","v":0},{"$f":"IF(Dati!E457=\"EA2\",Dati!D457,)","v":0},{"$f":"IF(Dati!E457=\"EA3\",Dati!D457,)","v":0},{"$f":"IF(Dati!E457=\"EA4\",Dati!D457,)","v":0},{"$f":"IF(Dati!E457=\"EA5\",Dati!D457,)","v":0},{"$f":"IF(Dati!E457=\"EA6\",Dati!D457,)","v":0},{"$f":"IF(Dati!E457=\"EB1\",Dati!D457,)","v":0},{"$f":"IF(Dati!E457=\"EB2\",Dati!D457,)","v":0},{"$f":"IF(Dati!E457=\"EC1\",Dati!D457,)","v":0},{"$f":"IF(Dati!E457=\"ED1\",Dati!D457,)","v":0},{"$f":"IF(Dati!E457=\"EE1\",Dati!D457,)","v":0}]
[{"$f":"Dati!C458","v":"00:00:00"},{"$f":"Dati!H458","v":"00:00:00"},{"$f":"IF(Dati!E458=\"EA1\",Dati!D458,)","v":0},{"$f":"IF(Dati!E458=\"EA2\",Dati!D458,)","v":0},{"$f":"IF(Dati!E458=\"EA3\",Dati!D458,)","v":0},{"$f":"IF(Dati!E458=\"EA4\",Dati!D458,)","v":0},{"$f":"IF(Dati!E458=\"EA5\",Dati!D458,)","v":0},{"$f":"IF(Dati!E458=\"EA6\",Dati!D458,)","v":0},{"$f":"IF(Dati!E458=\"EB1\",Dati!D458,)","v":0},{"$f":"IF(Dati!E458=\"EB2\",Dati!D458,)","v":0},{"$f":"IF(Dati!E458=\"EC1\",Dati!D458,)","v":0},{"$f":"IF(Dati!E458=\"ED1\",Dati!D458,)","v":0},{"$f":"IF(Dati!E458=\"EE1\",Dati!D458,)","v":0}]
[{"$f":"Dati!C459","v":"00:00:00"},{"$f":"Dati!H459","v":"00:00:00"},{"$f":"IF(Dati!E459=\"EA1\",Dati!D459,)","v":0},{"$f":"IF(Dati!E459=\"EA2\",Dati!D459,)","v":0},{"$f":"IF(Dati!E459=\"EA3\",Dati!D459,)","v":0},{"$f":"IF(Dati!E459=\"EA4\",Dati!D459,)","v":0},{"$f":"IF(Dati!E459=\"EA5\",Dati!D459,)","v":0},{"$f":"IF(Dati!E459=\"EA6\",Dati!D459,)","v":0},{"$f":"IF(Dati!E459=\"EB1\",Dati!D459,)","v":0},{"$f":"IF(Dati!E459=\"EB2\",Dati!D459,)","v":0},{"$f":"IF(Dati!E459=\"EC1\",Dati!D459,)","v":0},{"$f":"IF(Dati!E459=\"ED1\",Dati!D459,)","v":0},{"$f":"IF(Dati!E459=\"EE1\",Dati!D459,)","v":0}]
[{"$f":"Dati!C460","v":"00:00:00"},{"$f":"Dati!H460","v":"00:00:00"},{"$f":"IF(Dati!E460=\"EA1\",Dati!D460,)","v":0},{"$f":"IF(Dati!E460=\"EA2\",Dati!D460,)","v":0},{"$f":"IF(Dati!E460=\"EA3\",Dati!D460,)","v":0},{"$f":"IF(Dati!E460=\"EA4\",Dati!D460,)","v":0},{"$f":"IF(Dati!E460=\"EA5\",Dati!D460,)","v":0},{"$f":"IF(Dati!E460=\"EA6\",Dati!D460,)","v":0},{"$f":"IF(Dati!E460=\"EB1\",Dati!D460,)","v":0},{"$f":"IF(Dati!E460=\"EB2\",Dati!D460,)","v":0},{"$f":"IF(Dati!E460=\"EC1\",Dati!D460,)","v":0},{"$f":"IF(Dati!E460=\"ED1\",Dati!D460,)","v":0},{"$f":"IF(Dati!E460=\"EE1\",Dati!D460,)","v":0}]
[{"$f":"Dati!C461","v":"00:00:00"},{"$f":"Dati!H461","v":"00:00:00"},{"$f":"IF(Dati!E461=\"EA1\",Dati!D461,)","v":0},{"$f":"IF(Dati!E461=\"EA2\",Dati!D461,)","v":0},{"$f":"IF(Dati!E461=\"EA3\",Dati!D461,)","v":0},{"$f":"IF(Dati!E461=\"EA4\",Dati!D461,)","v":0},{"$f":"IF(Dati!E461=\"EA5\",Dati!D461,)","v":0},{"$f":"IF(Dati!E461=\"EA6\",Dati!D461,)","v":0},{"$f":"IF(Dati!E461=\"EB1\",Dati!D461,)","v":0},{"$f":"IF(Dati!E461=\"EB2\",Dati!D461,)","v":0},{"$f":"IF(Dati!E461=\"EC1\",Dati!D461,)","v":0},{"$f":"IF(Dati!E461=\"ED1\",Dati!D461,)","v":0},{"$f":"IF(Dati!E461=\"EE1\",Dati!D461,)","v":0}]
[{"$f":"Dati!C462","v":"00:00:00"},{"$f":"Dati!H462","v":"00:00:00"},{"$f":"IF(Dati!E462=\"EA1\",Dati!D462,)","v":0},{"$f":"IF(Dati!E462=\"EA2\",Dati!D462,)","v":0},{"$f":"IF(Dati!E462=\"EA3\",Dati!D462,)","v":0},{"$f":"IF(Dati!E462=\"EA4\",Dati!D462,)","v":0},{"$f":"IF(Dati!E462=\"EA5\",Dati!D462,)","v":0},{"$f":"IF(Dati!E462=\"EA6\",Dati!D462,)","v":0},{"$f":"IF(Dati!E462=\"EB1\",Dati!D462,)","v":0},{"$f":"IF(Dati!E462=\"EB2\",Dati!D462,)","v":0},{"$f":"IF(Dati!E462=\"EC1\",Dati!D462,)","v":0},{"$f":"IF(Dati!E462=\"ED1\",Dati!D462,)","v":0},{"$f":"IF(Dati!E462=\"EE1\",Dati!D462,)","v":0}]
[{"$f":"Dati!C463","v":"00:00:00"},{"$f":"Dati!H463","v":"00:00:00"},{"$f":"IF(Dati!E463=\"EA1\",Dati!D463,)","v":0},{"$f":"IF(Dati!E463=\"EA2\",Dati!D463,)","v":0},{"$f":"IF(Dati!E463=\"EA3\",Dati!D463,)","v":0},{"$f":"IF(Dati!E463=\"EA4\",Dati!D463,)","v":0},{"$f":"IF(Dati!E463=\"EA5\",Dati!D463,)","v":0},{"$f":"IF(Dati!E463=\"EA6\",Dati!D463,)","v":0},{"$f":"IF(Dati!E463=\"EB1\",Dati!D463,)","v":0},{"$f":"IF(Dati!E463=\"EB2\",Dati!D463,)","v":0},{"$f":"IF(Dati!E463=\"EC1\",Dati!D463,)","v":0},{"$f":"IF(Dati!E463=\"ED1\",Dati!D463,)","v":0},{"$f":"IF(Dati!E463=\"EE1\",Dati!D463,)","v":0}]
[{"$f":"Dati!C464","v":"00:00:00"},{"$f":"Dati!H464","v":"00:00:00"},{"$f":"IF(Dati!E464=\"EA1\",Dati!D464,)","v":0},{"$f":"IF(Dati!E464=\"EA2\",Dati!D464,)","v":0},{"$f":"IF(Dati!E464=\"EA3\",Dati!D464,)","v":0},{"$f":"IF(Dati!E464=\"EA4\",Dati!D464,)","v":0},{"$f":"IF(Dati!E464=\"EA5\",Dati!D464,)","v":0},{"$f":"IF(Dati!E464=\"EA6\",Dati!D464,)","v":0},{"$f":"IF(Dati!E464=\"EB1\",Dati!D464,)","v":0},{"$f":"IF(Dati!E464=\"EB2\",Dati!D464,)","v":0},{"$f":"IF(Dati!E464=\"EC1\",Dati!D464,)","v":0},{"$f":"IF(Dati!E464=\"ED1\",Dati!D464,)","v":0},{"$f":"IF(Dati!E464=\"EE1\",Dati!D464,)","v":0}]
[{"$f":"Dati!C465","v":"00:00:00"},{"$f":"Dati!H465","v":"00:00:00"},{"$f":"IF(Dati!E465=\"EA1\",Dati!D465,)","v":0},{"$f":"IF(Dati!E465=\"EA2\",Dati!D465,)","v":0},{"$f":"IF(Dati!E465=\"EA3\",Dati!D465,)","v":0},{"$f":"IF(Dati!E465=\"EA4\",Dati!D465,)","v":0},{"$f":"IF(Dati!E465=\"EA5\",Dati!D465,)","v":0},{"$f":"IF(Dati!E465=\"EA6\",Dati!D465,)","v":0},{"$f":"IF(Dati!E465=\"EB1\",Dati!D465,)","v":0},{"$f":"IF(Dati!E465=\"EB2\",Dati!D465,)","v":0},{"$f":"IF(Dati!E465=\"EC1\",Dati!D465,)","v":0},{"$f":"IF(Dati!E465=\"ED1\",Dati!D465,)","v":0},{"$f":"IF(Dati!E465=\"EE1\",Dati!D465,)","v":0}]
[{"$f":"Dati!C466","v":"00:00:00"},{"$f":"Dati!H466","v":"00:00:00"},{"$f":"IF(Dati!E466=\"EA1\",Dati!D466,)","v":0},{"$f":"IF(Dati!E466=\"EA2\",Dati!D466,)","v":0},{"$f":"IF(Dati!E466=\"EA3\",Dati!D466,)","v":0},{"$f":"IF(Dati!E466=\"EA4\",Dati!D466,)","v":0},{"$f":"IF(Dati!E466=\"EA5\",Dati!D466,)","v":0},{"$f":"IF(Dati!E466=\"EA6\",Dati!D466,)","v":0},{"$f":"IF(Dati!E466=\"EB1\",Dati!D466,)","v":0},{"$f":"IF(Dati!E466=\"EB2\",Dati!D466,)","v":0},{"$f":"IF(Dati!E466=\"EC1\",Dati!D466,)","v":0},{"$f":"IF(Dati!E466=\"ED1\",Dati!D466,)","v":0},{"$f":"IF(Dati!E466=\"EE1\",Dati!D466,)","v":0}]
[{"$f":"Dati!C467","v":"00:00:00"},{"$f":"Dati!H467","v":"00:00:00"},{"$f":"IF(Dati!E467=\"EA1\",Dati!D467,)","v":0},{"$f":"IF(Dati!E467=\"EA2\",Dati!D467,)","v":0},{"$f":"IF(Dati!E467=\"EA3\",Dati!D467,)","v":0},{"$f":"IF(Dati!E467=\"EA4\",Dati!D467,)","v":0},{"$f":"IF(Dati!E467=\"EA5\",Dati!D467,)","v":0},{"$f":"IF(Dati!E467=\"EA6\",Dati!D467,)","v":0},{"$f":"IF(Dati!E467=\"EB1\",Dati!D467,)","v":0},{"$f":"IF(Dati!E467=\"EB2\",Dati!D467,)","v":0},{"$f":"IF(Dati!E467=\"EC1\",Dati!D467,)","v":0},{"$f":"IF(Dati!E467=\"ED1\",Dati!D467,)","v":0},{"$f":"IF(Dati!E467=\"EE1\",Dati!D467,)","v":0}]
[{"$f":"Dati!C468","v":"00:00:00"},{"$f":"Dati!H468","v":"00:00:00"},{"$f":"IF(Dati!E468=\"EA1\",Dati!D468,)","v":0},{"$f":"IF(Dati!E468=\"EA2\",Dati!D468,)","v":0},{"$f":"IF(Dati!E468=\"EA3\",Dati!D468,)","v":0},{"$f":"IF(Dati!E468=\"EA4\",Dati!D468,)","v":0},{"$f":"IF(Dati!E468=\"EA5\",Dati!D468,)","v":0},{"$f":"IF(Dati!E468=\"EA6\",Dati!D468,)","v":0},{"$f":"IF(Dati!E468=\"EB1\",Dati!D468,)","v":0},{"$f":"IF(Dati!E468=\"EB2\",Dati!D468,)","v":0},{"$f":"IF(Dati!E468=\"EC1\",Dati!D468,)","v":0},{"$f":"IF(Dati!E468=\"ED1\",Dati!D468,)","v":0},{"$f":"IF(Dati!E468=\"EE1\",Dati!D468,)","v":0}]
[{"$f":"Dati!C469","v":"00:00:00"},{"$f":"Dati!H469","v":"00:00:00"},{"$f":"IF(Dati!E469=\"EA1\",Dati!D469,)","v":0},{"$f":"IF(Dati!E469=\"EA2\",Dati!D469,)","v":0},{"$f":"IF(Dati!E469=\"EA3\",Dati!D469,)","v":0},{"$f":"IF(Dati!E469=\"EA4\",Dati!D469,)","v":0},{"$f":"IF(Dati!E469=\"EA5\",Dati!D469,)","v":0},{"$f":"IF(Dati!E469=\"EA6\",Dati!D469,)","v":0},{"$f":"IF(Dati!E469=\"EB1\",Dati!D469,)","v":0},{"$f":"IF(Dati!E469=\"EB2\",Dati!D469,)","v":0},{"$f":"IF(Dati!E469=\"EC1\",Dati!D469,)","v":0},{"$f":"IF(Dati!E469=\"ED1\",Dati!D469,)","v":0},{"$f":"IF(Dati!E469=\"EE1\",Dati!D469,)","v":0}]
[{"$f":"Dati!C470","v":"00:00:00"},{"$f":"Dati!H470","v":"00:00:00"},{"$f":"IF(Dati!E470=\"EA1\",Dati!D470,)","v":0},{"$f":"IF(Dati!E470=\"EA2\",Dati!D470,)","v":0},{"$f":"IF(Dati!E470=\"EA3\",Dati!D470,)","v":0},{"$f":"IF(Dati!E470=\"EA4\",Dati!D470,)","v":0},{"$f":"IF(Dati!E470=\"EA5\",Dati!D470,)","v":0},{"$f":"IF(Dati!E470=\"EA6\",Dati!D470,)","v":0},{"$f":"IF(Dati!E470=\"EB1\",Dati!D470,)","v":0},{"$f":"IF(Dati!E470=\"EB2\",Dati!D470,)","v":0},{"$f":"IF(Dati!E470=\"EC1\",Dati!D470,)","v":0},{"$f":"IF(Dati!E470=\"ED1\",Dati!D470,)","v":0},{"$f":"IF(Dati!E470=\"EE1\",Dati!D470,)","v":0}]
[{"$f":"Dati!C471","v":"00:00:00"},{"$f":"Dati!H471","v":"00:00:00"},{"$f":"IF(Dati!E471=\"EA1\",Dati!D471,)","v":0},{"$f":"IF(Dati!E471=\"EA2\",Dati!D471,)","v":0},{"$f":"IF(Dati!E471=\"EA3\",Dati!D471,)","v":0},{"$f":"IF(Dati!E471=\"EA4\",Dati!D471,)","v":0},{"$f":"IF(Dati!E471=\"EA5\",Dati!D471,)","v":0},{"$f":"IF(Dati!E471=\"EA6\",Dati!D471,)","v":0},{"$f":"IF(Dati!E471=\"EB1\",Dati!D471,)","v":0},{"$f":"IF(Dati!E471=\"EB2\",Dati!D471,)","v":0},{"$f":"IF(Dati!E471=\"EC1\",Dati!D471,)","v":0},{"$f":"IF(Dati!E471=\"ED1\",Dati!D471,)","v":0},{"$f":"IF(Dati!E471=\"EE1\",Dati!D471,)","v":0}]
[{"$f":"Dati!C472","v":"00:00:00"},{"$f":"Dati!H472","v":"00:00:00"},{"$f":"IF(Dati!E472=\"EA1\",Dati!D472,)","v":0},{"$f":"IF(Dati!E472=\"EA2\",Dati!D472,)","v":0},{"$f":"IF(Dati!E472=\"EA3\",Dati!D472,)","v":0},{"$f":"IF(Dati!E472=\"EA4\",Dati!D472,)","v":0},{"$f":"IF(Dati!E472=\"EA5\",Dati!D472,)","v":0},{"$f":"IF(Dati!E472=\"EA6\",Dati!D472,)","v":0},{"$f":"IF(Dati!E472=\"EB1\",Dati!D472,)","v":0},{"$f":"IF(Dati!E472=\"EB2\",Dati!D472,)","v":0},{"$f":"IF(Dati!E472=\"EC1\",Dati!D472,)","v":0},{"$f":"IF(Dati!E472=\"ED1\",Dati!D472,)","v":0},{"$f":"IF(Dati!E472=\"EE1\",Dati!D472,)","v":0}]
[{"$f":"Dati!C473","v":"00:00:00"},{"$f":"Dati!H473","v":"00:00:00"},{"$f":"IF(Dati!E473=\"EA1\",Dati!D473,)","v":0},{"$f":"IF(Dati!E473=\"EA2\",Dati!D473,)","v":0},{"$f":"IF(Dati!E473=\"EA3\",Dati!D473,)","v":0},{"$f":"IF(Dati!E473=\"EA4\",Dati!D473,)","v":0},{"$f":"IF(Dati!E473=\"EA5\",Dati!D473,)","v":0},{"$f":"IF(Dati!E473=\"EA6\",Dati!D473,)","v":0},{"$f":"IF(Dati!E473=\"EB1\",Dati!D473,)","v":0},{"$f":"IF(Dati!E473=\"EB2\",Dati!D473,)","v":0},{"$f":"IF(Dati!E473=\"EC1\",Dati!D473,)","v":0},{"$f":"IF(Dati!E473=\"ED1\",Dati!D473,)","v":0},{"$f":"IF(Dati!E473=\"EE1\",Dati!D473,)","v":0}]
[{"$f":"Dati!C474","v":"00:00:00"},{"$f":"Dati!H474","v":"00:00:00"},{"$f":"IF(Dati!E474=\"EA1\",Dati!D474,)","v":0},{"$f":"IF(Dati!E474=\"EA2\",Dati!D474,)","v":0},{"$f":"IF(Dati!E474=\"EA3\",Dati!D474,)","v":0},{"$f":"IF(Dati!E474=\"EA4\",Dati!D474,)","v":0},{"$f":"IF(Dati!E474=\"EA5\",Dati!D474,)","v":0},{"$f":"IF(Dati!E474=\"EA6\",Dati!D474,)","v":0},{"$f":"IF(Dati!E474=\"EB1\",Dati!D474,)","v":0},{"$f":"IF(Dati!E474=\"EB2\",Dati!D474,)","v":0},{"$f":"IF(Dati!E474=\"EC1\",Dati!D474,)","v":0},{"$f":"IF(Dati!E474=\"ED1\",Dati!D474,)","v":0},{"$f":"IF(Dati!E474=\"EE1\",Dati!D474,)","v":0}]
[{"$f":"Dati!C475","v":"00:00:00"},{"$f":"Dati!H475","v":"00:00:00"},{"$f":"IF(Dati!E475=\"EA1\",Dati!D475,)","v":0},{"$f":"IF(Dati!E475=\"EA2\",Dati!D475,)","v":0},{"$f":"IF(Dati!E475=\"EA3\",Dati!D475,)","v":0},{"$f":"IF(Dati!E475=\"EA4\",Dati!D475,)","v":0},{"$f":"IF(Dati!E475=\"EA5\",Dati!D475,)","v":0},{"$f":"IF(Dati!E475=\"EA6\",Dati!D475,)","v":0},{"$f":"IF(Dati!E475=\"EB1\",Dati!D475,)","v":0},{"$f":"IF(Dati!E475=\"EB2\",Dati!D475,)","v":0},{"$f":"IF(Dati!E475=\"EC1\",Dati!D475,)","v":0},{"$f":"IF(Dati!E475=\"ED1\",Dati!D475,)","v":0},{"$f":"IF(Dati!E475=\"EE1\",Dati!D475,)","v":0}]
[{"$f":"Dati!C476","v":"00:00:00"},{"$f":"Dati!H476","v":"00:00:00"},{"$f":"IF(Dati!E476=\"EA1\",Dati!D476,)","v":0},{"$f":"IF(Dati!E476=\"EA2\",Dati!D476,)","v":0},{"$f":"IF(Dati!E476=\"EA3\",Dati!D476,)","v":0},{"$f":"IF(Dati!E476=\"EA4\",Dati!D476,)","v":0},{"$f":"IF(Dati!E476=\"EA5\",Dati!D476,)","v":0},{"$f":"IF(Dati!E476=\"EA6\",Dati!D476,)","v":0},{"$f":"IF(Dati!E476=\"EB1\",Dati!D476,)","v":0},{"$f":"IF(Dati!E476=\"EB2\",Dati!D476,)","v":0},{"$f":"IF(Dati!E476=\"EC1\",Dati!D476,)","v":0},{"$f":"IF(Dati!E476=\"ED1\",Dati!D476,)","v":0},{"$f":"IF(Dati!E476=\"EE1\",Dati!D476,)","v":0}]
[{"$f":"Dati!C477","v":"00:00:00"},{"$f":"Dati!H477","v":"00:00:00"},{"$f":"IF(Dati!E477=\"EA1\",Dati!D477,)","v":0},{"$f":"IF(Dati!E477=\"EA2\",Dati!D477,)","v":0},{"$f":"IF(Dati!E477=\"EA3\",Dati!D477,)","v":0},{"$f":"IF(Dati!E477=\"EA4\",Dati!D477,)","v":0},{"$f":"IF(Dati!E477=\"EA5\",Dati!D477,)","v":0},{"$f":"IF(Dati!E477=\"EA6\",Dati!D477,)","v":0},{"$f":"IF(Dati!E477=\"EB1\",Dati!D477,)","v":0},{"$f":"IF(Dati!E477=\"EB2\",Dati!D477,)","v":0},{"$f":"IF(Dati!E477=\"EC1\",Dati!D477,)","v":0},{"$f":"IF(Dati!E477=\"ED1\",Dati!D477,)","v":0},{"$f":"IF(Dati!E477=\"EE1\",Dati!D477,)","v":0}]
[{"$f":"Dati!C478","v":"00:00:00"},{"$f":"Dati!H478","v":"00:00:00"},{"$f":"IF(Dati!E478=\"EA1\",Dati!D478,)","v":0},{"$f":"IF(Dati!E478=\"EA2\",Dati!D478,)","v":0},{"$f":"IF(Dati!E478=\"EA3\",Dati!D478,)","v":0},{"$f":"IF(Dati!E478=\"EA4\",Dati!D478,)","v":0},{"$f":"IF(Dati!E478=\"EA5\",Dati!D478,)","v":0},{"$f":"IF(Dati!E478=\"EA6\",Dati!D478,)","v":0},{"$f":"IF(Dati!E478=\"EB1\",Dati!D478,)","v":0},{"$f":"IF(Dati!E478=\"EB2\",Dati!D478,)","v":0},{"$f":"IF(Dati!E478=\"EC1\",Dati!D478,)","v":0},{"$f":"IF(Dati!E478=\"ED1\",Dati!D478,)","v":0},{"$f":"IF(Dati!E478=\"EE1\",Dati!D478,)","v":0}]
[{"$f":"Dati!C479","v":"00:00:00"},{"$f":"Dati!H479","v":"00:00:00"},{"$f":"IF(Dati!E479=\"EA1\",Dati!D479,)","v":0},{"$f":"IF(Dati!E479=\"EA2\",Dati!D479,)","v":0},{"$f":"IF(Dati!E479=\"EA3\",Dati!D479,)","v":0},{"$f":"IF(Dati!E479=\"EA4\",Dati!D479,)","v":0},{"$f":"IF(Dati!E479=\"EA5\",Dati!D479,)","v":0},{"$f":"IF(Dati!E479=\"EA6\",Dati!D479,)","v":0},{"$f":"IF(Dati!E479=\"EB1\",Dati!D479,)","v":0},{"$f":"IF(Dati!E479=\"EB2\",Dati!D479,)","v":0},{"$f":"IF(Dati!E479=\"EC1\",Dati!D479,)","v":0},{"$f":"IF(Dati!E479=\"ED1\",Dati!D479,)","v":0},{"$f":"IF(Dati!E479=\"EE1\",Dati!D479,)","v":0}]
[{"$f":"Dati!C480","v":"00:00:00"},{"$f":"Dati!H480","v":"00:00:00"},{"$f":"IF(Dati!E480=\"EA1\",Dati!D480,)","v":0},{"$f":"IF(Dati!E480=\"EA2\",Dati!D480,)","v":0},{"$f":"IF(Dati!E480=\"EA3\",Dati!D480,)","v":0},{"$f":"IF(Dati!E480=\"EA4\",Dati!D480,)","v":0},{"$f":"IF(Dati!E480=\"EA5\",Dati!D480,)","v":0},{"$f":"IF(Dati!E480=\"EA6\",Dati!D480,)","v":0},{"$f":"IF(Dati!E480=\"EB1\",Dati!D480,)","v":0},{"$f":"IF(Dati!E480=\"EB2\",Dati!D480,)","v":0},{"$f":"IF(Dati!E480=\"EC1\",Dati!D480,)","v":0},{"$f":"IF(Dati!E480=\"ED1\",Dati!D480,)","v":0},{"$f":"IF(Dati!E480=\"EE1\",Dati!D480,)","v":0}]
[{"$f":"Dati!C481","v":"00:00:00"},{"$f":"Dati!H481","v":"00:00:00"},{"$f":"IF(Dati!E481=\"EA1\",Dati!D481,)","v":0},{"$f":"IF(Dati!E481=\"EA2\",Dati!D481,)","v":0},{"$f":"IF(Dati!E481=\"EA3\",Dati!D481,)","v":0},{"$f":"IF(Dati!E481=\"EA4\",Dati!D481,)","v":0},{"$f":"IF(Dati!E481=\"EA5\",Dati!D481,)","v":0},{"$f":"IF(Dati!E481=\"EA6\",Dati!D481,)","v":0},{"$f":"IF(Dati!E481=\"EB1\",Dati!D481,)","v":0},{"$f":"IF(Dati!E481=\"EB2\",Dati!D481,)","v":0},{"$f":"IF(Dati!E481=\"EC1\",Dati!D481,)","v":0},{"$f":"IF(Dati!E481=\"ED1\",Dati!D481,)","v":0},{"$f":"IF(Dati!E481=\"EE1\",Dati!D481,)","v":0}]
[{"$f":"Dati!C482","v":"00:00:00"},{"$f":"Dati!H482","v":"00:00:00"},{"$f":"IF(Dati!E482=\"EA1\",Dati!D482,)","v":0},{"$f":"IF(Dati!E482=\"EA2\",Dati!D482,)","v":0},{"$f":"IF(Dati!E482=\"EA3\",Dati!D482,)","v":0},{"$f":"IF(Dati!E482=\"EA4\",Dati!D482,)","v":0},{"$f":"IF(Dati!E482=\"EA5\",Dati!D482,)","v":0},{"$f":"IF(Dati!E482=\"EA6\",Dati!D482,)","v":0},{"$f":"IF(Dati!E482=\"EB1\",Dati!D482,)","v":0},{"$f":"IF(Dati!E482=\"EB2\",Dati!D482,)","v":0},{"$f":"IF(Dati!E482=\"EC1\",Dati!D482,)","v":0},{"$f":"IF(Dati!E482=\"ED1\",Dati!D482,)","v":0},{"$f":"IF(Dati!E482=\"EE1\",Dati!D482,)","v":0}]
[{"$f":"Dati!C483","v":"00:00:00"},{"$f":"Dati!H483","v":"00:00:00"},{"$f":"IF(Dati!E483=\"EA1\",Dati!D483,)","v":0},{"$f":"IF(Dati!E483=\"EA2\",Dati!D483,)","v":0},{"$f":"IF(Dati!E483=\"EA3\",Dati!D483,)","v":0},{"$f":"IF(Dati!E483=\"EA4\",Dati!D483,)","v":0},{"$f":"IF(Dati!E483=\"EA5\",Dati!D483,)","v":0},{"$f":"IF(Dati!E483=\"EA6\",Dati!D483,)","v":0},{"$f":"IF(Dati!E483=\"EB1\",Dati!D483,)","v":0},{"$f":"IF(Dati!E483=\"EB2\",Dati!D483,)","v":0},{"$f":"IF(Dati!E483=\"EC1\",Dati!D483,)","v":0},{"$f":"IF(Dati!E483=\"ED1\",Dati!D483,)","v":0},{"$f":"IF(Dati!E483=\"EE1\",Dati!D483,)","v":0}]
[{"$f":"Dati!C484","v":"00:00:00"},{"$f":"Dati!H484","v":"00:00:00"},{"$f":"IF(Dati!E484=\"EA1\",Dati!D484,)","v":0},{"$f":"IF(Dati!E484=\"EA2\",Dati!D484,)","v":0},{"$f":"IF(Dati!E484=\"EA3\",Dati!D484,)","v":0},{"$f":"IF(Dati!E484=\"EA4\",Dati!D484,)","v":0},{"$f":"IF(Dati!E484=\"EA5\",Dati!D484,)","v":0},{"$f":"IF(Dati!E484=\"EA6\",Dati!D484,)","v":0},{"$f":"IF(Dati!E484=\"EB1\",Dati!D484,)","v":0},{"$f":"IF(Dati!E484=\"EB2\",Dati!D484,)","v":0},{"$f":"IF(Dati!E484=\"EC1\",Dati!D484,)","v":0},{"$f":"IF(Dati!E484=\"ED1\",Dati!D484,)","v":0},{"$f":"IF(Dati!E484=\"EE1\",Dati!D484,)","v":0}]
[{"$f":"Dati!C485","v":"00:00:00"},{"$f":"Dati!H485","v":"00:00:00"},{"$f":"IF(Dati!E485=\"EA1\",Dati!D485,)","v":0},{"$f":"IF(Dati!E485=\"EA2\",Dati!D485,)","v":0},{"$f":"IF(Dati!E485=\"EA3\",Dati!D485,)","v":0},{"$f":"IF(Dati!E485=\"EA4\",Dati!D485,)","v":0},{"$f":"IF(Dati!E485=\"EA5\",Dati!D485,)","v":0},{"$f":"IF(Dati!E485=\"EA6\",Dati!D485,)","v":0},{"$f":"IF(Dati!E485=\"EB1\",Dati!D485,)","v":0},{"$f":"IF(Dati!E485=\"EB2\",Dati!D485,)","v":0},{"$f":"IF(Dati!E485=\"EC1\",Dati!D485,)","v":0},{"$f":"IF(Dati!E485=\"ED1\",Dati!D485,)","v":0},{"$f":"IF(Dati!E485=\"EE1\",Dati!D485,)","v":0}]
[{"$f":"Dati!C486","v":"00:00:00"},{"$f":"Dati!H486","v":"00:00:00"},{"$f":"IF(Dati!E486=\"EA1\",Dati!D486,)","v":0},{"$f":"IF(Dati!E486=\"EA2\",Dati!D486,)","v":0},{"$f":"IF(Dati!E486=\"EA3\",Dati!D486,)","v":0},{"$f":"IF(Dati!E486=\"EA4\",Dati!D486,)","v":0},{"$f":"IF(Dati!E486=\"EA5\",Dati!D486,)","v":0},{"$f":"IF(Dati!E486=\"EA6\",Dati!D486,)","v":0},{"$f":"IF(Dati!E486=\"EB1\",Dati!D486,)","v":0},{"$f":"IF(Dati!E486=\"EB2\",Dati!D486,)","v":0},{"$f":"IF(Dati!E486=\"EC1\",Dati!D486,)","v":0},{"$f":"IF(Dati!E486=\"ED1\",Dati!D486,)","v":0},{"$f":"IF(Dati!E486=\"EE1\",Dati!D486,)","v":0}]
[{"$f":"Dati!C487","v":"00:00:00"},{"$f":"Dati!H487","v":"00:00:00"},{"$f":"IF(Dati!E487=\"EA1\",Dati!D487,)","v":0},{"$f":"IF(Dati!E487=\"EA2\",Dati!D487,)","v":0},{"$f":"IF(Dati!E487=\"EA3\",Dati!D487,)","v":0},{"$f":"IF(Dati!E487=\"EA4\",Dati!D487,)","v":0},{"$f":"IF(Dati!E487=\"EA5\",Dati!D487,)","v":0},{"$f":"IF(Dati!E487=\"EA6\",Dati!D487,)","v":0},{"$f":"IF(Dati!E487=\"EB1\",Dati!D487,)","v":0},{"$f":"IF(Dati!E487=\"EB2\",Dati!D487,)","v":0},{"$f":"IF(Dati!E487=\"EC1\",Dati!D487,)","v":0},{"$f":"IF(Dati!E487=\"ED1\",Dati!D487,)","v":0},{"$f":"IF(Dati!E487=\"EE1\",Dati!D487,)","v":0}]
[{"$f":"Dati!C488","v":"00:00:00"},{"$f":"Dati!H488","v":"00:00:00"},{"$f":"IF(Dati!E488=\"EA1\",Dati!D488,)","v":0},{"$f":"IF(Dati!E488=\"EA2\",Dati!D488,)","v":0},{"$f":"IF(Dati!E488=\"EA3\",Dati!D488,)","v":0},{"$f":"IF(Dati!E488=\"EA4\",Dati!D488,)","v":0},{"$f":"IF(Dati!E488=\"EA5\",Dati!D488,)","v":0},{"$f":"IF(Dati!E488=\"EA6\",Dati!D488,)","v":0},{"$f":"IF(Dati!E488=\"EB1\",Dati!D488,)","v":0},{"$f":"IF(Dati!E488=\"EB2\",Dati!D488,)","v":0},{"$f":"IF(Dati!E488=\"EC1\",Dati!D488,)","v":0},{"$f":"IF(Dati!E488=\"ED1\",Dati!D488,)","v":0},{"$f":"IF(Dati!E488=\"EE1\",Dati!D488,)","v":0}]
[{"$f":"Dati!C489","v":"00:00:00"},{"$f":"Dati!H489","v":"00:00:00"},{"$f":"IF(Dati!E489=\"EA1\",Dati!D489,)","v":0},{"$f":"IF(Dati!E489=\"EA2\",Dati!D489,)","v":0},{"$f":"IF(Dati!E489=\"EA3\",Dati!D489,)","v":0},{"$f":"IF(Dati!E489=\"EA4\",Dati!D489,)","v":0},{"$f":"IF(Dati!E489=\"EA5\",Dati!D489,)","v":0},{"$f":"IF(Dati!E489=\"EA6\",Dati!D489,)","v":0},{"$f":"IF(Dati!E489=\"EB1\",Dati!D489,)","v":0},{"$f":"IF(Dati!E489=\"EB2\",Dati!D489,)","v":0},{"$f":"IF(Dati!E489=\"EC1\",Dati!D489,)","v":0},{"$f":"IF(Dati!E489=\"ED1\",Dati!D489,)","v":0},{"$f":"IF(Dati!E489=\"EE1\",Dati!D489,)","v":0}]
[{"$f":"Dati!C490","v":"00:00:00"},{"$f":"Dati!H490","v":"00:00:00"},{"$f":"IF(Dati!E490=\"EA1\",Dati!D490,)","v":0},{"$f":"IF(Dati!E490=\"EA2\",Dati!D490,)","v":0},{"$f":"IF(Dati!E490=\"EA3\",Dati!D490,)","v":0},{"$f":"IF(Dati!E490=\"EA4\",Dati!D490,)","v":0},{"$f":"IF(Dati!E490=\"EA5\",Dati!D490,)","v":0},{"$f":"IF(Dati!E490=\"EA6\",Dati!D490,)","v":0},{"$f":"IF(Dati!E490=\"EB1\",Dati!D490,)","v":0},{"$f":"IF(Dati!E490=\"EB2\",Dati!D490,)","v":0},{"$f":"IF(Dati!E490=\"EC1\",Dati!D490,)","v":0},{"$f":"IF(Dati!E490=\"ED1\",Dati!D490,)","v":0},{"$f":"IF(Dati!E490=\"EE1\",Dati!D490,)","v":0}]
[{"$f":"Dati!C491","v":"00:00:00"},{"$f":"Dati!H491","v":"00:00:00"},{"$f":"IF(Dati!E491=\"EA1\",Dati!D491,)","v":0},{"$f":"IF(Dati!E491=\"EA2\",Dati!D491,)","v":0},{"$f":"IF(Dati!E491=\"EA3\",Dati!D491,)","v":0},{"$f":"IF(Dati!E491=\"EA4\",Dati!D491,)","v":0},{"$f":"IF(Dati!E491=\"EA5\",Dati!D491,)","v":0},{"$f":"IF(Dati!E491=\"EA6\",Dati!D491,)","v":0},{"$f":"IF(Dati!E491=\"EB1\",Dati!D491,)","v":0},{"$f":"IF(Dati!E491=\"EB2\",Dati!D491,)","v":0},{"$f":"IF(Dati!E491=\"EC1\",Dati!D491,)","v":0},{"$f":"IF(Dati!E491=\"ED1\",Dati!D491,)","v":0},{"$f":"IF(Dati!E491=\"EE1\",Dati!D491,)","v":0}]
[{"$f":"Dati!C492","v":"00:00:00"},{"$f":"Dati!H492","v":"00:00:00"},{"$f":"IF(Dati!E492=\"EA1\",Dati!D492,)","v":0},{"$f":"IF(Dati!E492=\"EA2\",Dati!D492,)","v":0},{"$f":"IF(Dati!E492=\"EA3\",Dati!D492,)","v":0},{"$f":"IF(Dati!E492=\"EA4\",Dati!D492,)","v":0},{"$f":"IF(Dati!E492=\"EA5\",Dati!D492,)","v":0},{"$f":"IF(Dati!E492=\"EA6\",Dati!D492,)","v":0},{"$f":"IF(Dati!E492=\"EB1\",Dati!D492,)","v":0},{"$f":"IF(Dati!E492=\"EB2\",Dati!D492,)","v":0},{"$f":"IF(Dati!E492=\"EC1\",Dati!D492,)","v":0},{"$f":"IF(Dati!E492=\"ED1\",Dati!D492,)","v":0},{"$f":"IF(Dati!E492=\"EE1\",Dati!D492,)","v":0}]
[{"$f":"Dati!C493","v":"00:00:00"},{"$f":"Dati!H493","v":"00:00:00"},{"$f":"IF(Dati!E493=\"EA1\",Dati!D493,)","v":0},{"$f":"IF(Dati!E493=\"EA2\",Dati!D493,)","v":0},{"$f":"IF(Dati!E493=\"EA3\",Dati!D493,)","v":0},{"$f":"IF(Dati!E493=\"EA4\",Dati!D493,)","v":0},{"$f":"IF(Dati!E493=\"EA5\",Dati!D493,)","v":0},{"$f":"IF(Dati!E493=\"EA6\",Dati!D493,)","v":0},{"$f":"IF(Dati!E493=\"EB1\",Dati!D493,)","v":0},{"$f":"IF(Dati!E493=\"EB2\",Dati!D493,)","v":0},{"$f":"IF(Dati!E493=\"EC1\",Dati!D493,)","v":0},{"$f":"IF(Dati!E493=\"ED1\",Dati!D493,)","v":0},{"$f":"IF(Dati!E493=\"EE1\",Dati!D493,)","v":0}]
[{"$f":"Dati!C494","v":"00:00:00"},{"$f":"Dati!H494","v":"00:00:00"},{"$f":"IF(Dati!E494=\"EA1\",Dati!D494,)","v":0},{"$f":"IF(Dati!E494=\"EA2\",Dati!D494,)","v":0},{"$f":"IF(Dati!E494=\"EA3\",Dati!D494,)","v":0},{"$f":"IF(Dati!E494=\"EA4\",Dati!D494,)","v":0},{"$f":"IF(Dati!E494=\"EA5\",Dati!D494,)","v":0},{"$f":"IF(Dati!E494=\"EA6\",Dati!D494,)","v":0},{"$f":"IF(Dati!E494=\"EB1\",Dati!D494,)","v":0},{"$f":"IF(Dati!E494=\"EB2\",Dati!D494,)","v":0},{"$f":"IF(Dati!E494=\"EC1\",Dati!D494,)","v":0},{"$f":"IF(Dati!E494=\"ED1\",Dati!D494,)","v":0},{"$f":"IF(Dati!E494=\"EE1\",Dati!D494,)","v":0}]
[{"$f":"Dati!C495","v":"00:00:00"},{"$f":"Dati!H495","v":"00:00:00"},{"$f":"IF(Dati!E495=\"EA1\",Dati!D495,)","v":0},{"$f":"IF(Dati!E495=\"EA2\",Dati!D495,)","v":0},{"$f":"IF(Dati!E495=\"EA3\",Dati!D495,)","v":0},{"$f":"IF(Dati!E495=\"EA4\",Dati!D495,)","v":0},{"$f":"IF(Dati!E495=\"EA5\",Dati!D495,)","v":0},{"$f":"IF(Dati!E495=\"EA6\",Dati!D495,)","v":0},{"$f":"IF(Dati!E495=\"EB1\",Dati!D495,)","v":0},{"$f":"IF(Dati!E495=\"EB2\",Dati!D495,)","v":0},{"$f":"IF(Dati!E495=\"EC1\",Dati!D495,)","v":0},{"$f":"IF(Dati!E495=\"ED1\",Dati!D495,)","v":0},{"$f":"IF(Dati!E495=\"EE1\",Dati!D495,)","v":0}]
[{"$f":"Dati!C496","v":"00:00:00"},{"$f":"Dati!H496","v":"00:00:00"},{"$f":"IF(Dati!E496=\"EA1\",Dati!D496,)","v":0},{"$f":"IF(Dati!E496=\"EA2\",Dati!D496,)","v":0},{"$f":"IF(Dati!E496=\"EA3\",Dati!D496,)","v":0},{"$f":"IF(Dati!E496=\"EA4\",Dati!D496,)","v":0},{"$f":"IF(Dati!E496=\"EA5\",Dati!D496,)","v":0},{"$f":"IF(Dati!E496=\"EA6\",Dati!D496,)","v":0},{"$f":"IF(Dati!E496=\"EB1\",Dati!D496,)","v":0},{"$f":"IF(Dati!E496=\"EB2\",Dati!D496,)","v":0},{"$f":"IF(Dati!E496=\"EC1\",Dati!D496,)","v":0},{"$f":"IF(Dati!E496=\"ED1\",Dati!D496,)","v":0},{"$f":"IF(Dati!E496=\"EE1\",Dati!D496,)","v":0}]
[{"$f":"Dati!C497","v":"00:00:00"},{"$f":"Dati!H497","v":"00:00:00"},{"$f":"IF(Dati!E497=\"EA1\",Dati!D497,)","v":0},{"$f":"IF(Dati!E497=\"EA2\",Dati!D497,)","v":0},{"$f":"IF(Dati!E497=\"EA3\",Dati!D497,)","v":0},{"$f":"IF(Dati!E497=\"EA4\",Dati!D497,)","v":0},{"$f":"IF(Dati!E497=\"EA5\",Dati!D497,)","v":0},{"$f":"IF(Dati!E497=\"EA6\",Dati!D497,)","v":0},{"$f":"IF(Dati!E497=\"EB1\",Dati!D497,)","v":0},{"$f":"IF(Dati!E497=\"EB2\",Dati!D497,)","v":0},{"$f":"IF(Dati!E497=\"EC1\",Dati!D497,)","v":0},{"$f":"IF(Dati!E497=\"ED1\",Dati!D497,)","v":0},{"$f":"IF(Dati!E497=\"EE1\",Dati!D497,)","v":0}]
[{"$f":"Dati!C498","v":"00:00:00"},{"$f":"Dati!H498","v":"00:00:00"},{"$f":"IF(Dati!E498=\"EA1\",Dati!D498,)","v":0},{"$f":"IF(Dati!E498=\"EA2\",Dati!D498,)","v":0},{"$f":"IF(Dati!E498=\"EA3\",Dati!D498,)","v":0},{"$f":"IF(Dati!E498=\"EA4\",Dati!D498,)","v":0},{"$f":"IF(Dati!E498=\"EA5\",Dati!D498,)","v":0},{"$f":"IF(Dati!E498=\"EA6\",Dati!D498,)","v":0},{"$f":"IF(Dati!E498=\"EB1\",Dati!D498,)","v":0},{"$f":"IF(Dati!E498=\"EB2\",Dati!D498,)","v":0},{"$f":"IF(Dati!E498=\"EC1\",Dati!D498,)","v":0},{"$f":"IF(Dati!E498=\"ED1\",Dati!D498,)","v":0},{"$f":"IF(Dati!E498=\"EE1\",Dati!D498,)","v":0}]
[{"$f":"Dati!C499","v":"00:00:00"},{"$f":"Dati!H499","v":"00:00:00"},{"$f":"IF(Dati!E499=\"EA1\",Dati!D499,)","v":0},{"$f":"IF(Dati!E499=\"EA2\",Dati!D499,)","v":0},{"$f":"IF(Dati!E499=\"EA3\",Dati!D499,)","v":0},{"$f":"IF(Dati!E499=\"EA4\",Dati!D499,)","v":0},{"$f":"IF(Dati!E499=\"EA5\",Dati!D499,)","v":0},{"$f":"IF(Dati!E499=\"EA6\",Dati!D499,)","v":0},{"$f":"IF(Dati!E499=\"EB1\",Dati!D499,)","v":0},{"$f":"IF(Dati!E499=\"EB2\",Dati!D499,)","v":0},{"$f":"IF(Dati!E499=\"EC1\",Dati!D499,)","v":0},{"$f":"IF(Dati!E499=\"ED1\",Dati!D499,)","v":0},{"$f":"IF(Dati!E499=\"EE1\",Dati!D499,)","v":0}]
[{"$f":"Dati!C500","v":"00:00:00"},{"$f":"Dati!H500","v":"00:00:00"},{"$f":"IF(Dati!E500=\"EA1\",Dati!D500,)","v":0},{"$f":"IF(Dati!E500=\"EA2\",Dati!D500,)","v":0},{"$f":"IF(Dati!E500=\"EA3\",Dati!D500,)","v":0},{"$f":"IF(Dati!E500=\"EA4\",Dati!D500,)","v":0},{"$f":"IF(Dati!E500=\"EA5\",Dati!D500,)","v":0},{"$f":"IF(Dati!E500=\"EA6\",Dati!D500,)","v":0},{"$f":"IF(Dati!E500=\"EB1\",Dati!D500,)","v":0},{"$f":"IF(Dati!E500=\"EB2\",Dati!D500,)","v":0},{"$f":"IF(Dati!E500=\"EC1\",Dati!D500,)","v":0},{"$f":"IF(Dati!E500=\"ED1\",Dati!D500,)","v":0},{"$f":"IF(Dati!E500=\"EE1\",Dati!D500,)","v":0}]
[{"$f":"Dati!C501","v":"00:00:00"},{"$f":"Dati!H501","v":"00:00:00"},{"$f":"IF(Dati!E501=\"EA1\",Dati!D501,)","v":0},{"$f":"IF(Dati!E501=\"EA2\",Dati!D501,)","v":0},{"$f":"IF(Dati!E501=\"EA3\",Dati!D501,)","v":0},{"$f":"IF(Dati!E501=\"EA4\",Dati!D501,)","v":0},{"$f":"IF(Dati!E501=\"EA5\",Dati!D501,)","v":0},{"$f":"IF(Dati!E501=\"EA6\",Dati!D501,)","v":0},{"$f":"IF(Dati!E501=\"EB1\",Dati!D501,)","v":0},{"$f":"IF(Dati!E501=\"EB2\",Dati!D501,)","v":0},{"$f":"IF(Dati!E501=\"EC1\",Dati!D501,)","v":0},{"$f":"IF(Dati!E501=\"ED1\",Dati!D501,)","v":0},{"$f":"IF(Dati!E501=\"EE1\",Dati!D501,)","v":0}]
[{"$f":"Dati!C502","v":"00:00:00"},{"$f":"Dati!H502","v":"00:00:00"},{"$f":"IF(Dati!E502=\"EA1\",Dati!D502,)","v":0},{"$f":"IF(Dati!E502=\"EA2\",Dati!D502,)","v":0},{"$f":"IF(Dati!E502=\"EA3\",Dati!D502,)","v":0},{"$f":"IF(Dati!E502=\"EA4\",Dati!D502,)","v":0},{"$f":"IF(Dati!E502=\"EA5\",Dati!D502,)","v":0},{"$f":"IF(Dati!E502=\"EA6\",Dati!D502,)","v":0},{"$f":"IF(Dati!E502=\"EB1\",Dati!D502,)","v":0},{"$f":"IF(Dati!E502=\"EB2\",Dati!D502,)","v":0},{"$f":"IF(Dati!E502=\"EC1\",Dati!D502,)","v":0},{"$f":"IF(Dati!E502=\"ED1\",Dati!D502,)","v":0},{"$f":"IF(Dati!E502=\"EE1\",Dati!D502,)","v":0}]
[{"$f":"Dati!C503","v":"00:00:00"},{"$f":"Dati!H503","v":"00:00:00"},{"$f":"IF(Dati!E503=\"EA1\",Dati!D503,)","v":0},{"$f":"IF(Dati!E503=\"EA2\",Dati!D503,)","v":0},{"$f":"IF(Dati!E503=\"EA3\",Dati!D503,)","v":0},{"$f":"IF(Dati!E503=\"EA4\",Dati!D503,)","v":0},{"$f":"IF(Dati!E503=\"EA5\",Dati!D503,)","v":0},{"$f":"IF(Dati!E503=\"EA6\",Dati!D503,)","v":0},{"$f":"IF(Dati!E503=\"EB1\",Dati!D503,)","v":0},{"$f":"IF(Dati!E503=\"EB2\",Dati!D503,)","v":0},{"$f":"IF(Dati!E503=\"EC1\",Dati!D503,)","v":0},{"$f":"IF(Dati!E503=\"ED1\",Dati!D503,)","v":0},{"$f":"IF(Dati!E503=\"EE1\",Dati!D503,)","v":0}]
[{"$f":"Dati!C504","v":"00:00:00"},{"$f":"Dati!H504","v":"00:00:00"},{"$f":"IF(Dati!E504=\"EA1\",Dati!D504,)","v":0},{"$f":"IF(Dati!E504=\"EA2\",Dati!D504,)","v":0},{"$f":"IF(Dati!E504=\"EA3\",Dati!D504,)","v":0},{"$f":"IF(Dati!E504=\"EA4\",Dati!D504,)","v":0},{"$f":"IF(Dati!E504=\"EA5\",Dati!D504,)","v":0},{"$f":"IF(Dati!E504=\"EA6\",Dati!D504,)","v":0},{"$f":"IF(Dati!E504=\"EB1\",Dati!D504,)","v":0},{"$f":"IF(Dati!E504=\"EB2\",Dati!D504,)","v":0},{"$f":"IF(Dati!E504=\"EC1\",Dati!D504,)","v":0},{"$f":"IF(Dati!E504=\"ED1\",Dati!D504,)","v":0},{"$f":"IF(Dati!E504=\"EE1\",Dati!D504,)","v":0}]
[{"$f":"Dati!C505","v":"00:00:00"},{"$f":"Dati!H505","v":"00:00:00"},{"$f":"IF(Dati!E505=\"EA1\",Dati!D505,)","v":0},{"$f":"IF(Dati!E505=\"EA2\",Dati!D505,)","v":0},{"$f":"IF(Dati!E505=\"EA3\",Dati!D505,)","v":0},{"$f":"IF(Dati!E505=\"EA4\",Dati!D505,)","v":0},{"$f":"IF(Dati!E505=\"EA5\",Dati!D505,)","v":0},{"$f":"IF(Dati!E505=\"EA6\",Dati!D505,)","v":0},{"$f":"IF(Dati!E505=\"EB1\",Dati!D505,)","v":0},{"$f":"IF(Dati!E505=\"EB2\",Dati!D505,)","v":0},{"$f":"IF(Dati!E505=\"EC1\",Dati!D505,)","v":0},{"$f":"IF(Dati!E505=\"ED1\",Dati!D505,)","v":0},{"$f":"IF(Dati!E505=\"EE1\",Dati!D505,)","v":0}]
[{"$f":"Dati!C506","v":"00:00:00"},{"$f":"Dati!H506","v":"00:00:00"},{"$f":"IF(Dati!E506=\"EA1\",Dati!D506,)","v":0},{"$f":"IF(Dati!E506=\"EA2\",Dati!D506,)","v":0},{"$f":"IF(Dati!E506=\"EA3\",Dati!D506,)","v":0},{"$f":"IF(Dati!E506=\"EA4\",Dati!D506,)","v":0},{"$f":"IF(Dati!E506=\"EA5\",Dati!D506,)","v":0},{"$f":"IF(Dati!E506=\"EA6\",Dati!D506,)","v":0},{"$f":"IF(Dati!E506=\"EB1\",Dati!D506,)","v":0},{"$f":"IF(Dati!E506=\"EB2\",Dati!D506,)","v":0},{"$f":"IF(Dati!E506=\"EC1\",Dati!D506,)","v":0},{"$f":"IF(Dati!E506=\"ED1\",Dati!D506,)","v":0},{"$f":"IF(Dati!E506=\"EE1\",Dati!D506,)","v":0}]
[{"$f":"Dati!C507","v":"00:00:00"},{"$f":"Dati!H507","v":"00:00:00"},{"$f":"IF(Dati!E507=\"EA1\",Dati!D507,)","v":0},{"$f":"IF(Dati!E507=\"EA2\",Dati!D507,)","v":0},{"$f":"IF(Dati!E507=\"EA3\",Dati!D507,)","v":0},{"$f":"IF(Dati!E507=\"EA4\",Dati!D507,)","v":0},{"$f":"IF(Dati!E507=\"EA5\",Dati!D507,)","v":0},{"$f":"IF(Dati!E507=\"EA6\",Dati!D507,)","v":0},{"$f":"IF(Dati!E507=\"EB1\",Dati!D507,)","v":0},{"$f":"IF(Dati!E507=\"EB2\",Dati!D507,)","v":0},{"$f":"IF(Dati!E507=\"EC1\",Dati!D507,)","v":0},{"$f":"IF(Dati!E507=\"ED1\",Dati!D507,)","v":0},{"$f":"IF(Dati!E507=\"EE1\",Dati!D507,)","v":0}]
[{"$f":"Dati!C508","v":"00:00:00"},{"$f":"Dati!H508","v":"00:00:00"},{"$f":"IF(Dati!E508=\"EA1\",Dati!D508,)","v":0},{"$f":"IF(Dati!E508=\"EA2\",Dati!D508,)","v":0},{"$f":"IF(Dati!E508=\"EA3\",Dati!D508,)","v":0},{"$f":"IF(Dati!E508=\"EA4\",Dati!D508,)","v":0},{"$f":"IF(Dati!E508=\"EA5\",Dati!D508,)","v":0},{"$f":"IF(Dati!E508=\"EA6\",Dati!D508,)","v":0},{"$f":"IF(Dati!E508=\"EB1\",Dati!D508,)","v":0},{"$f":"IF(Dati!E508=\"EB2\",Dati!D508,)","v":0},{"$f":"IF(Dati!E508=\"EC1\",Dati!D508,)","v":0},{"$f":"IF(Dati!E508=\"ED1\",Dati!D508,)","v":0},{"$f":"IF(Dati!E508=\"EE1\",Dati!D508,)","v":0}]
[{"$f":"Dati!C509","v":"00:00:00"},{"$f":"Dati!H509","v":"00:00:00"},{"$f":"IF(Dati!E509=\"EA1\",Dati!D509,)","v":0},{"$f":"IF(Dati!E509=\"EA2\",Dati!D509,)","v":0},{"$f":"IF(Dati!E509=\"EA3\",Dati!D509,)","v":0},{"$f":"IF(Dati!E509=\"EA4\",Dati!D509,)","v":0},{"$f":"IF(Dati!E509=\"EA5\",Dati!D509,)","v":0},{"$f":"IF(Dati!E509=\"EA6\",Dati!D509,)","v":0},{"$f":"IF(Dati!E509=\"EB1\",Dati!D509,)","v":0},{"$f":"IF(Dati!E509=\"EB2\",Dati!D509,)","v":0},{"$f":"IF(Dati!E509=\"EC1\",Dati!D509,)","v":0},{"$f":"IF(Dati!E509=\"ED1\",Dati!D509,)","v":0},{"$f":"IF(Dati!E509=\"EE1\",Dati!D509,)","v":0}]
[{"$f":"Dati!C510","v":"00:00:00"},{"$f":"Dati!H510","v":"00:00:00"},{"$f":"IF(Dati!E510=\"EA1\",Dati!D510,)","v":0},{"$f":"IF(Dati!E510=\"EA2\",Dati!D510,)","v":0},{"$f":"IF(Dati!E510=\"EA3\",Dati!D510,)","v":0},{"$f":"IF(Dati!E510=\"EA4\",Dati!D510,)","v":0},{"$f":"IF(Dati!E510=\"EA5\",Dati!D510,)","v":0},{"$f":"IF(Dati!E510=\"EA6\",Dati!D510,)","v":0},{"$f":"IF(Dati!E510=\"EB1\",Dati!D510,)","v":0},{"$f":"IF(Dati!E510=\"EB2\",Dati!D510,)","v":0},{"$f":"IF(Dati!E510=\"EC1\",Dati!D510,)","v":0},{"$f":"IF(Dati!E510=\"ED1\",Dati!D510,)","v":0},{"$f":"IF(Dati!E510=\"EE1\",Dati!D510,)","v":0}]
[{"$f":"Dati!C511","v":"00:00:00"},{"$f":"Dati!H511","v":"00:00:00"},{"$f":"IF(Dati!E511=\"EA1\",Dati!D511,)","v":0},{"$f":"IF(Dati!E511=\"EA2\",Dati!D511,)","v":0},{"$f":"IF(Dati!E511=\"EA3\",Dati!D511,)","v":0},{"$f":"IF(Dati!E511=\"EA4\",Dati!D511,)","v":0},{"$f":"IF(Dati!E511=\"EA5\",Dati!D511,)","v":0},{"$f":"IF(Dati!E511=\"EA6\",Dati!D511,)","v":0},{"$f":"IF(Dati!E511=\"EB1\",Dati!D511,)","v":0},{"$f":"IF(Dati!E511=\"EB2\",Dati!D511,)","v":0},{"$f":"IF(Dati!E511=\"EC1\",Dati!D511,)","v":0},{"$f":"IF(Dati!E511=\"ED1\",Dati!D511,)","v":0},{"$f":"IF(Dati!E511=\"EE1\",Dati!D511,)","v":0}]
[{"$f":"Dati!C512","v":"00:00:00"},{"$f":"Dati!H512","v":"00:00:00"},{"$f":"IF(Dati!E512=\"EA1\",Dati!D512,)","v":0},{"$f":"IF(Dati!E512=\"EA2\",Dati!D512,)","v":0},{"$f":"IF(Dati!E512=\"EA3\",Dati!D512,)","v":0},{"$f":"IF(Dati!E512=\"EA4\",Dati!D512,)","v":0},{"$f":"IF(Dati!E512=\"EA5\",Dati!D512,)","v":0},{"$f":"IF(Dati!E512=\"EA6\",Dati!D512,)","v":0},{"$f":"IF(Dati!E512=\"EB1\",Dati!D512,)","v":0},{"$f":"IF(Dati!E512=\"EB2\",Dati!D512,)","v":0},{"$f":"IF(Dati!E512=\"EC1\",Dati!D512,)","v":0},{"$f":"IF(Dati!E512=\"ED1\",Dati!D512,)","v":0},{"$f":"IF(Dati!E512=\"EE1\",Dati!D512,)","v":0}]
[{"$f":"Dati!C513","v":"00:00:00"},{"$f":"Dati!H513","v":"00:00:00"},{"$f":"IF(Dati!E513=\"EA1\",Dati!D513,)","v":0},{"$f":"IF(Dati!E513=\"EA2\",Dati!D513,)","v":0},{"$f":"IF(Dati!E513=\"EA3\",Dati!D513,)","v":0},{"$f":"IF(Dati!E513=\"EA4\",Dati!D513,)","v":0},{"$f":"IF(Dati!E513=\"EA5\",Dati!D513,)","v":0},{"$f":"IF(Dati!E513=\"EA6\",Dati!D513,)","v":0},{"$f":"IF(Dati!E513=\"EB1\",Dati!D513,)","v":0},{"$f":"IF(Dati!E513=\"EB2\",Dati!D513,)","v":0},{"$f":"IF(Dati!E513=\"EC1\",Dati!D513,)","v":0},{"$f":"IF(Dati!E513=\"ED1\",Dati!D513,)","v":0},{"$f":"IF(Dati!E513=\"EE1\",Dati!D513,)","v":0}]
[{"$f":"Dati!C514","v":"00:00:00"},{"$f":"Dati!H514","v":"00:00:00"},{"$f":"IF(Dati!E514=\"EA1\",Dati!D514,)","v":0},{"$f":"IF(Dati!E514=\"EA2\",Dati!D514,)","v":0},{"$f":"IF(Dati!E514=\"EA3\",Dati!D514,)","v":0},{"$f":"IF(Dati!E514=\"EA4\",Dati!D514,)","v":0},{"$f":"IF(Dati!E514=\"EA5\",Dati!D514,)","v":0},{"$f":"IF(Dati!E514=\"EA6\",Dati!D514,)","v":0},{"$f":"IF(Dati!E514=\"EB1\",Dati!D514,)","v":0},{"$f":"IF(Dati!E514=\"EB2\",Dati!D514,)","v":0},{"$f":"IF(Dati!E514=\"EC1\",Dati!D514,)","v":0},{"$f":"IF(Dati!E514=\"ED1\",Dati!D514,)","v":0},{"$f":"IF(Dati!E514=\"EE1\",Dati!D514,)","v":0}]
[{"$f":"Dati!C515","v":"00:00:00"},{"$f":"Dati!H515","v":"00:00:00"},{"$f":"IF(Dati!E515=\"EA1\",Dati!D515,)","v":0},{"$f":"IF(Dati!E515=\"EA2\",Dati!D515,)","v":0},{"$f":"IF(Dati!E515=\"EA3\",Dati!D515,)","v":0},{"$f":"IF(Dati!E515=\"EA4\",Dati!D515,)","v":0},{"$f":"IF(Dati!E515=\"EA5\",Dati!D515,)","v":0},{"$f":"IF(Dati!E515=\"EA6\",Dati!D515,)","v":0},{"$f":"IF(Dati!E515=\"EB1\",Dati!D515,)","v":0},{"$f":"IF(Dati!E515=\"EB2\",Dati!D515,)","v":0},{"$f":"IF(Dati!E515=\"EC1\",Dati!D515,)","v":0},{"$f":"IF(Dati!E515=\"ED1\",Dati!D515,)","v":0},{"$f":"IF(Dati!E515=\"EE1\",Dati!D515,)","v":0}]
[{"$f":"Dati!C516","v":"00:00:00"},{"$f":"Dati!H516","v":"00:00:00"},{"$f":"IF(Dati!E516=\"EA1\",Dati!D516,)","v":0},{"$f":"IF(Dati!E516=\"EA2\",Dati!D516,)","v":0},{"$f":"IF(Dati!E516=\"EA3\",Dati!D516,)","v":0},{"$f":"IF(Dati!E516=\"EA4\",Dati!D516,)","v":0},{"$f":"IF(Dati!E516=\"EA5\",Dati!D516,)","v":0},{"$f":"IF(Dati!E516=\"EA6\",Dati!D516,)","v":0},{"$f":"IF(Dati!E516=\"EB1\",Dati!D516,)","v":0},{"$f":"IF(Dati!E516=\"EB2\",Dati!D516,)","v":0},{"$f":"IF(Dati!E516=\"EC1\",Dati!D516,)","v":0},{"$f":"IF(Dati!E516=\"ED1\",Dati!D516,)","v":0},{"$f":"IF(Dati!E516=\"EE1\",Dati!D516,)","v":0}]
[{"$f":"Dati!C517","v":"00:00:00"},{"$f":"Dati!H517","v":"00:00:00"},{"$f":"IF(Dati!E517=\"EA1\",Dati!D517,)","v":0},{"$f":"IF(Dati!E517=\"EA2\",Dati!D517,)","v":0},{"$f":"IF(Dati!E517=\"EA3\",Dati!D517,)","v":0},{"$f":"IF(Dati!E517=\"EA4\",Dati!D517,)","v":0},{"$f":"IF(Dati!E517=\"EA5\",Dati!D517,)","v":0},{"$f":"IF(Dati!E517=\"EA6\",Dati!D517,)","v":0},{"$f":"IF(Dati!E517=\"EB1\",Dati!D517,)","v":0},{"$f":"IF(Dati!E517=\"EB2\",Dati!D517,)","v":0},{"$f":"IF(Dati!E517=\"EC1\",Dati!D517,)","v":0},{"$f":"IF(Dati!E517=\"ED1\",Dati!D517,)","v":0},{"$f":"IF(Dati!E517=\"EE1\",Dati!D517,)","v":0}]
[{"$f":"Dati!C518","v":"00:00:00"},{"$f":"Dati!H518","v":"00:00:00"},{"$f":"IF(Dati!E518=\"EA1\",Dati!D518,)","v":0},{"$f":"IF(Dati!E518=\"EA2\",Dati!D518,)","v":0},{"$f":"IF(Dati!E518=\"EA3\",Dati!D518,)","v":0},{"$f":"IF(Dati!E518=\"EA4\",Dati!D518,)","v":0},{"$f":"IF(Dati!E518=\"EA5\",Dati!D518,)","v":0},{"$f":"IF(Dati!E518=\"EA6\",Dati!D518,)","v":0},{"$f":"IF(Dati!E518=\"EB1\",Dati!D518,)","v":0},{"$f":"IF(Dati!E518=\"EB2\",Dati!D518,)","v":0},{"$f":"IF(Dati!E518=\"EC1\",Dati!D518,)","v":0},{"$f":"IF(Dati!E518=\"ED1\",Dati!D518,)","v":0},{"$f":"IF(Dati!E518=\"EE1\",Dati!D518,)","v":0}]
[{"$f":"Dati!C519","v":"00:00:00"},{"$f":"Dati!H519","v":"00:00:00"},{"$f":"IF(Dati!E519=\"EA1\",Dati!D519,)","v":0},{"$f":"IF(Dati!E519=\"EA2\",Dati!D519,)","v":0},{"$f":"IF(Dati!E519=\"EA3\",Dati!D519,)","v":0},{"$f":"IF(Dati!E519=\"EA4\",Dati!D519,)","v":0},{"$f":"IF(Dati!E519=\"EA5\",Dati!D519,)","v":0},{"$f":"IF(Dati!E519=\"EA6\",Dati!D519,)","v":0},{"$f":"IF(Dati!E519=\"EB1\",Dati!D519,)","v":0},{"$f":"IF(Dati!E519=\"EB2\",Dati!D519,)","v":0},{"$f":"IF(Dati!E519=\"EC1\",Dati!D519,)","v":0},{"$f":"IF(Dati!E519=\"ED1\",Dati!D519,)","v":0},{"$f":"IF(Dati!E519=\"EE1\",Dati!D519,)","v":0}]
[{"$f":"Dati!C520","v":"00:00:00"},{"$f":"Dati!H520","v":"00:00:00"},{"$f":"IF(Dati!E520=\"EA1\",Dati!D520,)","v":0},{"$f":"IF(Dati!E520=\"EA2\",Dati!D520,)","v":0},{"$f":"IF(Dati!E520=\"EA3\",Dati!D520,)","v":0},{"$f":"IF(Dati!E520=\"EA4\",Dati!D520,)","v":0},{"$f":"IF(Dati!E520=\"EA5\",Dati!D520,)","v":0},{"$f":"IF(Dati!E520=\"EA6\",Dati!D520,)","v":0},{"$f":"IF(Dati!E520=\"EB1\",Dati!D520,)","v":0},{"$f":"IF(Dati!E520=\"EB2\",Dati!D520,)","v":0},{"$f":"IF(Dati!E520=\"EC1\",Dati!D520,)","v":0},{"$f":"IF(Dati!E520=\"ED1\",Dati!D520,)","v":0},{"$f":"IF(Dati!E520=\"EE1\",Dati!D520,)","v":0}]
[{"$f":"Dati!C521","v":"00:00:00"},{"$f":"Dati!H521","v":"00:00:00"},{"$f":"IF(Dati!E521=\"EA1\",Dati!D521,)","v":0},{"$f":"IF(Dati!E521=\"EA2\",Dati!D521,)","v":0},{"$f":"IF(Dati!E521=\"EA3\",Dati!D521,)","v":0},{"$f":"IF(Dati!E521=\"EA4\",Dati!D521,)","v":0},{"$f":"IF(Dati!E521=\"EA5\",Dati!D521,)","v":0},{"$f":"IF(Dati!E521=\"EA6\",Dati!D521,)","v":0},{"$f":"IF(Dati!E521=\"EB1\",Dati!D521,)","v":0},{"$f":"IF(Dati!E521=\"EB2\",Dati!D521,)","v":0},{"$f":"IF(Dati!E521=\"EC1\",Dati!D521,)","v":0},{"$f":"IF(Dati!E521=\"ED1\",Dati!D521,)","v":0},{"$f":"IF(Dati!E521=\"EE1\",Dati!D521,)","v":0}]
[{"$f":"Dati!C522","v":"00:00:00"},{"$f":"Dati!H522","v":"00:00:00"},{"$f":"IF(Dati!E522=\"EA1\",Dati!D522,)","v":0},{"$f":"IF(Dati!E522=\"EA2\",Dati!D522,)","v":0},{"$f":"IF(Dati!E522=\"EA3\",Dati!D522,)","v":0},{"$f":"IF(Dati!E522=\"EA4\",Dati!D522,)","v":0},{"$f":"IF(Dati!E522=\"EA5\",Dati!D522,)","v":0},{"$f":"IF(Dati!E522=\"EA6\",Dati!D522,)","v":0},{"$f":"IF(Dati!E522=\"EB1\",Dati!D522,)","v":0},{"$f":"IF(Dati!E522=\"EB2\",Dati!D522,)","v":0},{"$f":"IF(Dati!E522=\"EC1\",Dati!D522,)","v":0},{"$f":"IF(Dati!E522=\"ED1\",Dati!D522,)","v":0},{"$f":"IF(Dati!E522=\"EE1\",Dati!D522,)","v":0}]
[{"$f":"Dati!C523","v":"00:00:00"},{"$f":"Dati!H523","v":"00:00:00"},{"$f":"IF(Dati!E523=\"EA1\",Dati!D523,)","v":0},{"$f":"IF(Dati!E523=\"EA2\",Dati!D523,)","v":0},{"$f":"IF(Dati!E523=\"EA3\",Dati!D523,)","v":0},{"$f":"IF(Dati!E523=\"EA4\",Dati!D523,)","v":0},{"$f":"IF(Dati!E523=\"EA5\",Dati!D523,)","v":0},{"$f":"IF(Dati!E523=\"EA6\",Dati!D523,)","v":0},{"$f":"IF(Dati!E523=\"EB1\",Dati!D523,)","v":0},{"$f":"IF(Dati!E523=\"EB2\",Dati!D523,)","v":0},{"$f":"IF(Dati!E523=\"EC1\",Dati!D523,)","v":0},{"$f":"IF(Dati!E523=\"ED1\",Dati!D523,)","v":0},{"$f":"IF(Dati!E523=\"EE1\",Dati!D523,)","v":0}]
[{"$f":"Dati!C524","v":"00:00:00"},{"$f":"Dati!H524","v":"00:00:00"},{"$f":"IF(Dati!E524=\"EA1\",Dati!D524,)","v":0},{"$f":"IF(Dati!E524=\"EA2\",Dati!D524,)","v":0},{"$f":"IF(Dati!E524=\"EA3\",Dati!D524,)","v":0},{"$f":"IF(Dati!E524=\"EA4\",Dati!D524,)","v":0},{"$f":"IF(Dati!E524=\"EA5\",Dati!D524,)","v":0},{"$f":"IF(Dati!E524=\"EA6\",Dati!D524,)","v":0},{"$f":"IF(Dati!E524=\"EB1\",Dati!D524,)","v":0},{"$f":"IF(Dati!E524=\"EB2\",Dati!D524,)","v":0},{"$f":"IF(Dati!E524=\"EC1\",Dati!D524,)","v":0},{"$f":"IF(Dati!E524=\"ED1\",Dati!D524,)","v":0},{"$f":"IF(Dati!E524=\"EE1\",Dati!D524,)","v":0}]
[{"$f":"Dati!C525","v":"00:00:00"},{"$f":"Dati!H525","v":"00:00:00"},{"$f":"IF(Dati!E525=\"EA1\",Dati!D525,)","v":0},{"$f":"IF(Dati!E525=\"EA2\",Dati!D525,)","v":0},{"$f":"IF(Dati!E525=\"EA3\",Dati!D525,)","v":0},{"$f":"IF(Dati!E525=\"EA4\",Dati!D525,)","v":0},{"$f":"IF(Dati!E525=\"EA5\",Dati!D525,)","v":0},{"$f":"IF(Dati!E525=\"EA6\",Dati!D525,)","v":0},{"$f":"IF(Dati!E525=\"EB1\",Dati!D525,)","v":0},{"$f":"IF(Dati!E525=\"EB2\",Dati!D525,)","v":0},{"$f":"IF(Dati!E525=\"EC1\",Dati!D525,)","v":0},{"$f":"IF(Dati!E525=\"ED1\",Dati!D525,)","v":0},{"$f":"IF(Dati!E525=\"EE1\",Dati!D525,)","v":0}]
[{"$f":"Dati!C526","v":"00:00:00"},{"$f":"Dati!H526","v":"00:00:00"},{"$f":"IF(Dati!E526=\"EA1\",Dati!D526,)","v":0},{"$f":"IF(Dati!E526=\"EA2\",Dati!D526,)","v":0},{"$f":"IF(Dati!E526=\"EA3\",Dati!D526,)","v":0},{"$f":"IF(Dati!E526=\"EA4\",Dati!D526,)","v":0},{"$f":"IF(Dati!E526=\"EA5\",Dati!D526,)","v":0},{"$f":"IF(Dati!E526=\"EA6\",Dati!D526,)","v":0},{"$f":"IF(Dati!E526=\"EB1\",Dati!D526,)","v":0},{"$f":"IF(Dati!E526=\"EB2\",Dati!D526,)","v":0},{"$f":"IF(Dati!E526=\"EC1\",Dati!D526,)","v":0},{"$f":"IF(Dati!E526=\"ED1\",Dati!D526,)","v":0},{"$f":"IF(Dati!E526=\"EE1\",Dati!D526,)","v":0}]
[{"$f":"Dati!C527","v":"00:00:00"},{"$f":"Dati!H527","v":"00:00:00"},{"$f":"IF(Dati!E527=\"EA1\",Dati!D527,)","v":0},{"$f":"IF(Dati!E527=\"EA2\",Dati!D527,)","v":0},{"$f":"IF(Dati!E527=\"EA3\",Dati!D527,)","v":0},{"$f":"IF(Dati!E527=\"EA4\",Dati!D527,)","v":0},{"$f":"IF(Dati!E527=\"EA5\",Dati!D527,)","v":0},{"$f":"IF(Dati!E527=\"EA6\",Dati!D527,)","v":0},{"$f":"IF(Dati!E527=\"EB1\",Dati!D527,)","v":0},{"$f":"IF(Dati!E527=\"EB2\",Dati!D527,)","v":0},{"$f":"IF(Dati!E527=\"EC1\",Dati!D527,)","v":0},{"$f":"IF(Dati!E527=\"ED1\",Dati!D527,)","v":0},{"$f":"IF(Dati!E527=\"EE1\",Dati!D527,)","v":0}]
[{"$f":"Dati!C528","v":"00:00:00"},{"$f":"Dati!H528","v":"00:00:00"},{"$f":"IF(Dati!E528=\"EA1\",Dati!D528,)","v":0},{"$f":"IF(Dati!E528=\"EA2\",Dati!D528,)","v":0},{"$f":"IF(Dati!E528=\"EA3\",Dati!D528,)","v":0},{"$f":"IF(Dati!E528=\"EA4\",Dati!D528,)","v":0},{"$f":"IF(Dati!E528=\"EA5\",Dati!D528,)","v":0},{"$f":"IF(Dati!E528=\"EA6\",Dati!D528,)","v":0},{"$f":"IF(Dati!E528=\"EB1\",Dati!D528,)","v":0},{"$f":"IF(Dati!E528=\"EB2\",Dati!D528,)","v":0},{"$f":"IF(Dati!E528=\"EC1\",Dati!D528,)","v":0},{"$f":"IF(Dati!E528=\"ED1\",Dati!D528,)","v":0},{"$f":"IF(Dati!E528=\"EE1\",Dati!D528,)","v":0}]
[{"$f":"Dati!C529","v":"00:00:00"},{"$f":"Dati!H529","v":"00:00:00"},{"$f":"IF(Dati!E529=\"EA1\",Dati!D529,)","v":0},{"$f":"IF(Dati!E529=\"EA2\",Dati!D529,)","v":0},{"$f":"IF(Dati!E529=\"EA3\",Dati!D529,)","v":0},{"$f":"IF(Dati!E529=\"EA4\",Dati!D529,)","v":0},{"$f":"IF(Dati!E529=\"EA5\",Dati!D529,)","v":0},{"$f":"IF(Dati!E529=\"EA6\",Dati!D529,)","v":0},{"$f":"IF(Dati!E529=\"EB1\",Dati!D529,)","v":0},{"$f":"IF(Dati!E529=\"EB2\",Dati!D529,)","v":0},{"$f":"IF(Dati!E529=\"EC1\",Dati!D529,)","v":0},{"$f":"IF(Dati!E529=\"ED1\",Dati!D529,)","v":0},{"$f":"IF(Dati!E529=\"EE1\",Dati!D529,)","v":0}]
[{"$f":"Dati!C530","v":"00:00:00"},{"$f":"Dati!H530","v":"00:00:00"},{"$f":"IF(Dati!E530=\"EA1\",Dati!D530,)","v":0},{"$f":"IF(Dati!E530=\"EA2\",Dati!D530,)","v":0},{"$f":"IF(Dati!E530=\"EA3\",Dati!D530,)","v":0},{"$f":"IF(Dati!E530=\"EA4\",Dati!D530,)","v":0},{"$f":"IF(Dati!E530=\"EA5\",Dati!D530,)","v":0},{"$f":"IF(Dati!E530=\"EA6\",Dati!D530,)","v":0},{"$f":"IF(Dati!E530=\"EB1\",Dati!D530,)","v":0},{"$f":"IF(Dati!E530=\"EB2\",Dati!D530,)","v":0},{"$f":"IF(Dati!E530=\"EC1\",Dati!D530,)","v":0},{"$f":"IF(Dati!E530=\"ED1\",Dati!D530,)","v":0},{"$f":"IF(Dati!E530=\"EE1\",Dati!D530,)","v":0}]
[{"$f":"Dati!C531","v":"00:00:00"},{"$f":"Dati!H531","v":"00:00:00"},{"$f":"IF(Dati!E531=\"EA1\",Dati!D531,)","v":0},{"$f":"IF(Dati!E531=\"EA2\",Dati!D531,)","v":0},{"$f":"IF(Dati!E531=\"EA3\",Dati!D531,)","v":0},{"$f":"IF(Dati!E531=\"EA4\",Dati!D531,)","v":0},{"$f":"IF(Dati!E531=\"EA5\",Dati!D531,)","v":0},{"$f":"IF(Dati!E531=\"EA6\",Dati!D531,)","v":0},{"$f":"IF(Dati!E531=\"EB1\",Dati!D531,)","v":0},{"$f":"IF(Dati!E531=\"EB2\",Dati!D531,)","v":0},{"$f":"IF(Dati!E531=\"EC1\",Dati!D531,)","v":0},{"$f":"IF(Dati!E531=\"ED1\",Dati!D531,)","v":0},{"$f":"IF(Dati!E531=\"EE1\",Dati!D531,)","v":0}]
[{"$f":"Dati!C532","v":"00:00:00"},{"$f":"Dati!H532","v":"00:00:00"},{"$f":"IF(Dati!E532=\"EA1\",Dati!D532,)","v":0},{"$f":"IF(Dati!E532=\"EA2\",Dati!D532,)","v":0},{"$f":"IF(Dati!E532=\"EA3\",Dati!D532,)","v":0},{"$f":"IF(Dati!E532=\"EA4\",Dati!D532,)","v":0},{"$f":"IF(Dati!E532=\"EA5\",Dati!D532,)","v":0},{"$f":"IF(Dati!E532=\"EA6\",Dati!D532,)","v":0},{"$f":"IF(Dati!E532=\"EB1\",Dati!D532,)","v":0},{"$f":"IF(Dati!E532=\"EB2\",Dati!D532,)","v":0},{"$f":"IF(Dati!E532=\"EC1\",Dati!D532,)","v":0},{"$f":"IF(Dati!E532=\"ED1\",Dati!D532,)","v":0},{"$f":"IF(Dati!E532=\"EE1\",Dati!D532,)","v":0}]
[{"$f":"Dati!C533","v":"00:00:00"},{"$f":"Dati!H533","v":"00:00:00"},{"$f":"IF(Dati!E533=\"EA1\",Dati!D533,)","v":0},{"$f":"IF(Dati!E533=\"EA2\",Dati!D533,)","v":0},{"$f":"IF(Dati!E533=\"EA3\",Dati!D533,)","v":0},{"$f":"IF(Dati!E533=\"EA4\",Dati!D533,)","v":0},{"$f":"IF(Dati!E533=\"EA5\",Dati!D533,)","v":0},{"$f":"IF(Dati!E533=\"EA6\",Dati!D533,)","v":0},{"$f":"IF(Dati!E533=\"EB1\",Dati!D533,)","v":0},{"$f":"IF(Dati!E533=\"EB2\",Dati!D533,)","v":0},{"$f":"IF(Dati!E533=\"EC1\",Dati!D533,)","v":0},{"$f":"IF(Dati!E533=\"ED1\",Dati!D533,)","v":0},{"$f":"IF(Dati!E533=\"EE1\",Dati!D533,)","v":0}]
[{"$f":"Dati!C534","v":"00:00:00"},{"$f":"Dati!H534","v":"00:00:00"},{"$f":"IF(Dati!E534=\"EA1\",Dati!D534,)","v":0},{"$f":"IF(Dati!E534=\"EA2\",Dati!D534,)","v":0},{"$f":"IF(Dati!E534=\"EA3\",Dati!D534,)","v":0},{"$f":"IF(Dati!E534=\"EA4\",Dati!D534,)","v":0},{"$f":"IF(Dati!E534=\"EA5\",Dati!D534,)","v":0},{"$f":"IF(Dati!E534=\"EA6\",Dati!D534,)","v":0},{"$f":"IF(Dati!E534=\"EB1\",Dati!D534,)","v":0},{"$f":"IF(Dati!E534=\"EB2\",Dati!D534,)","v":0},{"$f":"IF(Dati!E534=\"EC1\",Dati!D534,)","v":0},{"$f":"IF(Dati!E534=\"ED1\",Dati!D534,)","v":0},{"$f":"IF(Dati!E534=\"EE1\",Dati!D534,)","v":0}]
[{"$f":"Dati!C535","v":"00:00:00"},{"$f":"Dati!H535","v":"00:00:00"},{"$f":"IF(Dati!E535=\"EA1\",Dati!D535,)","v":0},{"$f":"IF(Dati!E535=\"EA2\",Dati!D535,)","v":0},{"$f":"IF(Dati!E535=\"EA3\",Dati!D535,)","v":0},{"$f":"IF(Dati!E535=\"EA4\",Dati!D535,)","v":0},{"$f":"IF(Dati!E535=\"EA5\",Dati!D535,)","v":0},{"$f":"IF(Dati!E535=\"EA6\",Dati!D535,)","v":0},{"$f":"IF(Dati!E535=\"EB1\",Dati!D535,)","v":0},{"$f":"IF(Dati!E535=\"EB2\",Dati!D535,)","v":0},{"$f":"IF(Dati!E535=\"EC1\",Dati!D535,)","v":0},{"$f":"IF(Dati!E535=\"ED1\",Dati!D535,)","v":0},{"$f":"IF(Dati!E535=\"EE1\",Dati!D535,)","v":0}]
[{"$f":"Dati!C536","v":"00:00:00"},{"$f":"Dati!H536","v":"00:00:00"},{"$f":"IF(Dati!E536=\"EA1\",Dati!D536,)","v":0},{"$f":"IF(Dati!E536=\"EA2\",Dati!D536,)","v":0},{"$f":"IF(Dati!E536=\"EA3\",Dati!D536,)","v":0},{"$f":"IF(Dati!E536=\"EA4\",Dati!D536,)","v":0},{"$f":"IF(Dati!E536=\"EA5\",Dati!D536,)","v":0},{"$f":"IF(Dati!E536=\"EA6\",Dati!D536,)","v":0},{"$f":"IF(Dati!E536=\"EB1\",Dati!D536,)","v":0},{"$f":"IF(Dati!E536=\"EB2\",Dati!D536,)","v":0},{"$f":"IF(Dati!E536=\"EC1\",Dati!D536,)","v":0},{"$f":"IF(Dati!E536=\"ED1\",Dati!D536,)","v":0},{"$f":"IF(Dati!E536=\"EE1\",Dati!D536,)","v":0}]
[{"$f":"Dati!C537","v":"00:00:00"},{"$f":"Dati!H537","v":"00:00:00"},{"$f":"IF(Dati!E537=\"EA1\",Dati!D537,)","v":0},{"$f":"IF(Dati!E537=\"EA2\",Dati!D537,)","v":0},{"$f":"IF(Dati!E537=\"EA3\",Dati!D537,)","v":0},{"$f":"IF(Dati!E537=\"EA4\",Dati!D537,)","v":0},{"$f":"IF(Dati!E537=\"EA5\",Dati!D537,)","v":0},{"$f":"IF(Dati!E537=\"EA6\",Dati!D537,)","v":0},{"$f":"IF(Dati!E537=\"EB1\",Dati!D537,)","v":0},{"$f":"IF(Dati!E537=\"EB2\",Dati!D537,)","v":0},{"$f":"IF(Dati!E537=\"EC1\",Dati!D537,)","v":0},{"$f":"IF(Dati!E537=\"ED1\",Dati!D537,)","v":0},{"$f":"IF(Dati!E537=\"EE1\",Dati!D537,)","v":0}]
[{"$f":"Dati!C538","v":"00:00:00"},{"$f":"Dati!H538","v":"00:00:00"},{"$f":"IF(Dati!E538=\"EA1\",Dati!D538,)","v":0},{"$f":"IF(Dati!E538=\"EA2\",Dati!D538,)","v":0},{"$f":"IF(Dati!E538=\"EA3\",Dati!D538,)","v":0},{"$f":"IF(Dati!E538=\"EA4\",Dati!D538,)","v":0},{"$f":"IF(Dati!E538=\"EA5\",Dati!D538,)","v":0},{"$f":"IF(Dati!E538=\"EA6\",Dati!D538,)","v":0},{"$f":"IF(Dati!E538=\"EB1\",Dati!D538,)","v":0},{"$f":"IF(Dati!E538=\"EB2\",Dati!D538,)","v":0},{"$f":"IF(Dati!E538=\"EC1\",Dati!D538,)","v":0},{"$f":"IF(Dati!E538=\"ED1\",Dati!D538,)","v":0},{"$f":"IF(Dati!E538=\"EE1\",Dati!D538,)","v":0}]
[{"$f":"Dati!C539","v":"00:00:00"},{"$f":"Dati!H539","v":"00:00:00"},{"$f":"IF(Dati!E539=\"EA1\",Dati!D539,)","v":0},{"$f":"IF(Dati!E539=\"EA2\",Dati!D539,)","v":0},{"$f":"IF(Dati!E539=\"EA3\",Dati!D539,)","v":0},{"$f":"IF(Dati!E539=\"EA4\",Dati!D539,)","v":0},{"$f":"IF(Dati!E539=\"EA5\",Dati!D539,)","v":0},{"$f":"IF(Dati!E539=\"EA6\",Dati!D539,)","v":0},{"$f":"IF(Dati!E539=\"EB1\",Dati!D539,)","v":0},{"$f":"IF(Dati!E539=\"EB2\",Dati!D539,)","v":0},{"$f":"IF(Dati!E539=\"EC1\",Dati!D539,)","v":0},{"$f":"IF(Dati!E539=\"ED1\",Dati!D539,)","v":0},{"$f":"IF(Dati!E539=\"EE1\",Dati!D539,)","v":0}]
[{"$f":"Dati!C540","v":"00:00:00"},{"$f":"Dati!H540","v":"00:00:00"},{"$f":"IF(Dati!E540=\"EA1\",Dati!D540,)","v":0},{"$f":"IF(Dati!E540=\"EA2\",Dati!D540,)","v":0},{"$f":"IF(Dati!E540=\"EA3\",Dati!D540,)","v":0},{"$f":"IF(Dati!E540=\"EA4\",Dati!D540,)","v":0},{"$f":"IF(Dati!E540=\"EA5\",Dati!D540,)","v":0},{"$f":"IF(Dati!E540=\"EA6\",Dati!D540,)","v":0},{"$f":"IF(Dati!E540=\"EB1\",Dati!D540,)","v":0},{"$f":"IF(Dati!E540=\"EB2\",Dati!D540,)","v":0},{"$f":"IF(Dati!E540=\"EC1\",Dati!D540,)","v":0},{"$f":"IF(Dati!E540=\"ED1\",Dati!D540,)","v":0},{"$f":"IF(Dati!E540=\"EE1\",Dati!D540,)","v":0}]
[{"$f":"Dati!C541","v":"00:00:00"},{"$f":"Dati!H541","v":"00:00:00"},{"$f":"IF(Dati!E541=\"EA1\",Dati!D541,)","v":0},{"$f":"IF(Dati!E541=\"EA2\",Dati!D541,)","v":0},{"$f":"IF(Dati!E541=\"EA3\",Dati!D541,)","v":0},{"$f":"IF(Dati!E541=\"EA4\",Dati!D541,)","v":0},{"$f":"IF(Dati!E541=\"EA5\",Dati!D541,)","v":0},{"$f":"IF(Dati!E541=\"EA6\",Dati!D541,)","v":0},{"$f":"IF(Dati!E541=\"EB1\",Dati!D541,)","v":0},{"$f":"IF(Dati!E541=\"EB2\",Dati!D541,)","v":0},{"$f":"IF(Dati!E541=\"EC1\",Dati!D541,)","v":0},{"$f":"IF(Dati!E541=\"ED1\",Dati!D541,)","v":0},{"$f":"IF(Dati!E541=\"EE1\",Dati!D541,)","v":0}]
[{"$f":"Dati!C542","v":"00:00:00"},{"$f":"Dati!H542","v":"00:00:00"},{"$f":"IF(Dati!E542=\"EA1\",Dati!D542,)","v":0},{"$f":"IF(Dati!E542=\"EA2\",Dati!D542,)","v":0},{"$f":"IF(Dati!E542=\"EA3\",Dati!D542,)","v":0},{"$f":"IF(Dati!E542=\"EA4\",Dati!D542,)","v":0},{"$f":"IF(Dati!E542=\"EA5\",Dati!D542,)","v":0},{"$f":"IF(Dati!E542=\"EA6\",Dati!D542,)","v":0},{"$f":"IF(Dati!E542=\"EB1\",Dati!D542,)","v":0},{"$f":"IF(Dati!E542=\"EB2\",Dati!D542,)","v":0},{"$f":"IF(Dati!E542=\"EC1\",Dati!D542,)","v":0},{"$f":"IF(Dati!E542=\"ED1\",Dati!D542,)","v":0},{"$f":"IF(Dati!E542=\"EE1\",Dati!D542,)","v":0}]
[{"$f":"Dati!C543","v":"00:00:00"},{"$f":"Dati!H543","v":"00:00:00"},{"$f":"IF(Dati!E543=\"EA1\",Dati!D543,)","v":0},{"$f":"IF(Dati!E543=\"EA2\",Dati!D543,)","v":0},{"$f":"IF(Dati!E543=\"EA3\",Dati!D543,)","v":0},{"$f":"IF(Dati!E543=\"EA4\",Dati!D543,)","v":0},{"$f":"IF(Dati!E543=\"EA5\",Dati!D543,)","v":0},{"$f":"IF(Dati!E543=\"EA6\",Dati!D543,)","v":0},{"$f":"IF(Dati!E543=\"EB1\",Dati!D543,)","v":0},{"$f":"IF(Dati!E543=\"EB2\",Dati!D543,)","v":0},{"$f":"IF(Dati!E543=\"EC1\",Dati!D543,)","v":0},{"$f":"IF(Dati!E543=\"ED1\",Dati!D543,)","v":0},{"$f":"IF(Dati!E543=\"EE1\",Dati!D543,)","v":0}]
[{"$f":"Dati!C544","v":"00:00:00"},{"$f":"Dati!H544","v":"00:00:00"},{"$f":"IF(Dati!E544=\"EA1\",Dati!D544,)","v":0},{"$f":"IF(Dati!E544=\"EA2\",Dati!D544,)","v":0},{"$f":"IF(Dati!E544=\"EA3\",Dati!D544,)","v":0},{"$f":"IF(Dati!E544=\"EA4\",Dati!D544,)","v":0},{"$f":"IF(Dati!E544=\"EA5\",Dati!D544,)","v":0},{"$f":"IF(Dati!E544=\"EA6\",Dati!D544,)","v":0},{"$f":"IF(Dati!E544=\"EB1\",Dati!D544,)","v":0},{"$f":"IF(Dati!E544=\"EB2\",Dati!D544,)","v":0},{"$f":"IF(Dati!E544=\"EC1\",Dati!D544,)","v":0},{"$f":"IF(Dati!E544=\"ED1\",Dati!D544,)","v":0},{"$f":"IF(Dati!E544=\"EE1\",Dati!D544,)","v":0}]
[{"$f":"Dati!C545","v":"00:00:00"},{"$f":"Dati!H545","v":"00:00:00"},{"$f":"IF(Dati!E545=\"EA1\",Dati!D545,)","v":0},{"$f":"IF(Dati!E545=\"EA2\",Dati!D545,)","v":0},{"$f":"IF(Dati!E545=\"EA3\",Dati!D545,)","v":0},{"$f":"IF(Dati!E545=\"EA4\",Dati!D545,)","v":0},{"$f":"IF(Dati!E545=\"EA5\",Dati!D545,)","v":0},{"$f":"IF(Dati!E545=\"EA6\",Dati!D545,)","v":0},{"$f":"IF(Dati!E545=\"EB1\",Dati!D545,)","v":0},{"$f":"IF(Dati!E545=\"EB2\",Dati!D545,)","v":0},{"$f":"IF(Dati!E545=\"EC1\",Dati!D545,)","v":0},{"$f":"IF(Dati!E545=\"ED1\",Dati!D545,)","v":0},{"$f":"IF(Dati!E545=\"EE1\",Dati!D545,)","v":0}]
[{"$f":"Dati!C546","v":"00:00:00"},{"$f":"Dati!H546","v":"00:00:00"},{"$f":"IF(Dati!E546=\"EA1\",Dati!D546,)","v":0},{"$f":"IF(Dati!E546=\"EA2\",Dati!D546,)","v":0},{"$f":"IF(Dati!E546=\"EA3\",Dati!D546,)","v":0},{"$f":"IF(Dati!E546=\"EA4\",Dati!D546,)","v":0},{"$f":"IF(Dati!E546=\"EA5\",Dati!D546,)","v":0},{"$f":"IF(Dati!E546=\"EA6\",Dati!D546,)","v":0},{"$f":"IF(Dati!E546=\"EB1\",Dati!D546,)","v":0},{"$f":"IF(Dati!E546=\"EB2\",Dati!D546,)","v":0},{"$f":"IF(Dati!E546=\"EC1\",Dati!D546,)","v":0},{"$f":"IF(Dati!E546=\"ED1\",Dati!D546,)","v":0},{"$f":"IF(Dati!E546=\"EE1\",Dati!D546,)","v":0}]
[{"$f":"Dati!C547","v":"00:00:00"},{"$f":"Dati!H547","v":"00:00:00"},{"$f":"IF(Dati!E547=\"EA1\",Dati!D547,)","v":0},{"$f":"IF(Dati!E547=\"EA2\",Dati!D547,)","v":0},{"$f":"IF(Dati!E547=\"EA3\",Dati!D547,)","v":0},{"$f":"IF(Dati!E547=\"EA4\",Dati!D547,)","v":0},{"$f":"IF(Dati!E547=\"EA5\",Dati!D547,)","v":0},{"$f":"IF(Dati!E547=\"EA6\",Dati!D547,)","v":0},{"$f":"IF(Dati!E547=\"EB1\",Dati!D547,)","v":0},{"$f":"IF(Dati!E547=\"EB2\",Dati!D547,)","v":0},{"$f":"IF(Dati!E547=\"EC1\",Dati!D547,)","v":0},{"$f":"IF(Dati!E547=\"ED1\",Dati!D547,)","v":0},{"$f":"IF(Dati!E547=\"EE1\",Dati!D547,)","v":0}]
[{"$f":"Dati!C548","v":"00:00:00"},{"$f":"Dati!H548","v":"00:00:00"},{"$f":"IF(Dati!E548=\"EA1\",Dati!D548,)","v":0},{"$f":"IF(Dati!E548=\"EA2\",Dati!D548,)","v":0},{"$f":"IF(Dati!E548=\"EA3\",Dati!D548,)","v":0},{"$f":"IF(Dati!E548=\"EA4\",Dati!D548,)","v":0},{"$f":"IF(Dati!E548=\"EA5\",Dati!D548,)","v":0},{"$f":"IF(Dati!E548=\"EA6\",Dati!D548,)","v":0},{"$f":"IF(Dati!E548=\"EB1\",Dati!D548,)","v":0},{"$f":"IF(Dati!E548=\"EB2\",Dati!D548,)","v":0},{"$f":"IF(Dati!E548=\"EC1\",Dati!D548,)","v":0},{"$f":"IF(Dati!E548=\"ED1\",Dati!D548,)","v":0},{"$f":"IF(Dati!E548=\"EE1\",Dati!D548,)","v":0}]
[{"$f":"Dati!C549","v":"00:00:00"},{"$f":"Dati!H549","v":"00:00:00"},{"$f":"IF(Dati!E549=\"EA1\",Dati!D549,)","v":0},{"$f":"IF(Dati!E549=\"EA2\",Dati!D549,)","v":0},{"$f":"IF(Dati!E549=\"EA3\",Dati!D549,)","v":0},{"$f":"IF(Dati!E549=\"EA4\",Dati!D549,)","v":0},{"$f":"IF(Dati!E549=\"EA5\",Dati!D549,)","v":0},{"$f":"IF(Dati!E549=\"EA6\",Dati!D549,)","v":0},{"$f":"IF(Dati!E549=\"EB1\",Dati!D549,)","v":0},{"$f":"IF(Dati!E549=\"EB2\",Dati!D549,)","v":0},{"$f":"IF(Dati!E549=\"EC1\",Dati!D549,)","v":0},{"$f":"IF(Dati!E549=\"ED1\",Dati!D549,)","v":0},{"$f":"IF(Dati!E549=\"EE1\",Dati!D549,)","v":0}]
[{"$f":"Dati!C550","v":"00:00:00"},{"$f":"Dati!H550","v":"00:00:00"},{"$f":"IF(Dati!E550=\"EA1\",Dati!D550,)","v":0},{"$f":"IF(Dati!E550=\"EA2\",Dati!D550,)","v":0},{"$f":"IF(Dati!E550=\"EA3\",Dati!D550,)","v":0},{"$f":"IF(Dati!E550=\"EA4\",Dati!D550,)","v":0},{"$f":"IF(Dati!E550=\"EA5\",Dati!D550,)","v":0},{"$f":"IF(Dati!E550=\"EA6\",Dati!D550,)","v":0},{"$f":"IF(Dati!E550=\"EB1\",Dati!D550,)","v":0},{"$f":"IF(Dati!E550=\"EB2\",Dati!D550,)","v":0},{"$f":"IF(Dati!E550=\"EC1\",Dati!D550,)","v":0},{"$f":"IF(Dati!E550=\"ED1\",Dati!D550,)","v":0},{"$f":"IF(Dati!E550=\"EE1\",Dati!D550,)","v":0}]
[{"$f":"Dati!C551","v":"00:00:00"},{"$f":"Dati!H551","v":"00:00:00"},{"$f":"IF(Dati!E551=\"EA1\",Dati!D551,)","v":0},{"$f":"IF(Dati!E551=\"EA2\",Dati!D551,)","v":0},{"$f":"IF(Dati!E551=\"EA3\",Dati!D551,)","v":0},{"$f":"IF(Dati!E551=\"EA4\",Dati!D551,)","v":0},{"$f":"IF(Dati!E551=\"EA5\",Dati!D551,)","v":0},{"$f":"IF(Dati!E551=\"EA6\",Dati!D551,)","v":0},{"$f":"IF(Dati!E551=\"EB1\",Dati!D551,)","v":0},{"$f":"IF(Dati!E551=\"EB2\",Dati!D551,)","v":0},{"$f":"IF(Dati!E551=\"EC1\",Dati!D551,)","v":0},{"$f":"IF(Dati!E551=\"ED1\",Dati!D551,)","v":0},{"$f":"IF(Dati!E551=\"EE1\",Dati!D551,)","v":0}]
[{"$f":"Dati!C552","v":"00:00:00"},{"$f":"Dati!H552","v":"00:00:00"},{"$f":"IF(Dati!E552=\"EA1\",Dati!D552,)","v":0},{"$f":"IF(Dati!E552=\"EA2\",Dati!D552,)","v":0},{"$f":"IF(Dati!E552=\"EA3\",Dati!D552,)","v":0},{"$f":"IF(Dati!E552=\"EA4\",Dati!D552,)","v":0},{"$f":"IF(Dati!E552=\"EA5\",Dati!D552,)","v":0},{"$f":"IF(Dati!E552=\"EA6\",Dati!D552,)","v":0},{"$f":"IF(Dati!E552=\"EB1\",Dati!D552,)","v":0},{"$f":"IF(Dati!E552=\"EB2\",Dati!D552,)","v":0},{"$f":"IF(Dati!E552=\"EC1\",Dati!D552,)","v":0},{"$f":"IF(Dati!E552=\"ED1\",Dati!D552,)","v":0},{"$f":"IF(Dati!E552=\"EE1\",Dati!D552,)","v":0}]
[{"$f":"Dati!C553","v":"00:00:00"},{"$f":"Dati!H553","v":"00:00:00"},{"$f":"IF(Dati!E553=\"EA1\",Dati!D553,)","v":0},{"$f":"IF(Dati!E553=\"EA2\",Dati!D553,)","v":0},{"$f":"IF(Dati!E553=\"EA3\",Dati!D553,)","v":0},{"$f":"IF(Dati!E553=\"EA4\",Dati!D553,)","v":0},{"$f":"IF(Dati!E553=\"EA5\",Dati!D553,)","v":0},{"$f":"IF(Dati!E553=\"EA6\",Dati!D553,)","v":0},{"$f":"IF(Dati!E553=\"EB1\",Dati!D553,)","v":0},{"$f":"IF(Dati!E553=\"EB2\",Dati!D553,)","v":0},{"$f":"IF(Dati!E553=\"EC1\",Dati!D553,)","v":0},{"$f":"IF(Dati!E553=\"ED1\",Dati!D553,)","v":0},{"$f":"IF(Dati!E553=\"EE1\",Dati!D553,)","v":0}]
[{"$f":"Dati!C554","v":"00:00:00"},{"$f":"Dati!H554","v":"00:00:00"},{"$f":"IF(Dati!E554=\"EA1\",Dati!D554,)","v":0},{"$f":"IF(Dati!E554=\"EA2\",Dati!D554,)","v":0},{"$f":"IF(Dati!E554=\"EA3\",Dati!D554,)","v":0},{"$f":"IF(Dati!E554=\"EA4\",Dati!D554,)","v":0},{"$f":"IF(Dati!E554=\"EA5\",Dati!D554,)","v":0},{"$f":"IF(Dati!E554=\"EA6\",Dati!D554,)","v":0},{"$f":"IF(Dati!E554=\"EB1\",Dati!D554,)","v":0},{"$f":"IF(Dati!E554=\"EB2\",Dati!D554,)","v":0},{"$f":"IF(Dati!E554=\"EC1\",Dati!D554,)","v":0},{"$f":"IF(Dati!E554=\"ED1\",Dati!D554,)","v":0},{"$f":"IF(Dati!E554=\"EE1\",Dati!D554,)","v":0}]
[{"$f":"Dati!C555","v":"00:00:00"},{"$f":"Dati!H555","v":"00:00:00"},{"$f":"IF(Dati!E555=\"EA1\",Dati!D555,)","v":0},{"$f":"IF(Dati!E555=\"EA2\",Dati!D555,)","v":0},{"$f":"IF(Dati!E555=\"EA3\",Dati!D555,)","v":0},{"$f":"IF(Dati!E555=\"EA4\",Dati!D555,)","v":0},{"$f":"IF(Dati!E555=\"EA5\",Dati!D555,)","v":0},{"$f":"IF(Dati!E555=\"EA6\",Dati!D555,)","v":0},{"$f":"IF(Dati!E555=\"EB1\",Dati!D555,)","v":0},{"$f":"IF(Dati!E555=\"EB2\",Dati!D555,)","v":0},{"$f":"IF(Dati!E555=\"EC1\",Dati!D555,)","v":0},{"$f":"IF(Dati!E555=\"ED1\",Dati!D555,)","v":0},{"$f":"IF(Dati!E555=\"EE1\",Dati!D555,)","v":0}]
[{"$f":"Dati!C556","v":"00:00:00"},{"$f":"Dati!H556","v":"00:00:00"},{"$f":"IF(Dati!E556=\"EA1\",Dati!D556,)","v":0},{"$f":"IF(Dati!E556=\"EA2\",Dati!D556,)","v":0},{"$f":"IF(Dati!E556=\"EA3\",Dati!D556,)","v":0},{"$f":"IF(Dati!E556=\"EA4\",Dati!D556,)","v":0},{"$f":"IF(Dati!E556=\"EA5\",Dati!D556,)","v":0},{"$f":"IF(Dati!E556=\"EA6\",Dati!D556,)","v":0},{"$f":"IF(Dati!E556=\"EB1\",Dati!D556,)","v":0},{"$f":"IF(Dati!E556=\"EB2\",Dati!D556,)","v":0},{"$f":"IF(Dati!E556=\"EC1\",Dati!D556,)","v":0},{"$f":"IF(Dati!E556=\"ED1\",Dati!D556,)","v":0},{"$f":"IF(Dati!E556=\"EE1\",Dati!D556,)","v":0}]
[{"$f":"Dati!C557","v":"00:00:00"},{"$f":"Dati!H557","v":"00:00:00"},{"$f":"IF(Dati!E557=\"EA1\",Dati!D557,)","v":0},{"$f":"IF(Dati!E557=\"EA2\",Dati!D557,)","v":0},{"$f":"IF(Dati!E557=\"EA3\",Dati!D557,)","v":0},{"$f":"IF(Dati!E557=\"EA4\",Dati!D557,)","v":0},{"$f":"IF(Dati!E557=\"EA5\",Dati!D557,)","v":0},{"$f":"IF(Dati!E557=\"EA6\",Dati!D557,)","v":0},{"$f":"IF(Dati!E557=\"EB1\",Dati!D557,)","v":0},{"$f":"IF(Dati!E557=\"EB2\",Dati!D557,)","v":0},{"$f":"IF(Dati!E557=\"EC1\",Dati!D557,)","v":0},{"$f":"IF(Dati!E557=\"ED1\",Dati!D557,)","v":0},{"$f":"IF(Dati!E557=\"EE1\",Dati!D557,)","v":0}]
[{"$f":"Dati!C558","v":"00:00:00"},{"$f":"Dati!H558","v":"00:00:00"},{"$f":"IF(Dati!E558=\"EA1\",Dati!D558,)","v":0},{"$f":"IF(Dati!E558=\"EA2\",Dati!D558,)","v":0},{"$f":"IF(Dati!E558=\"EA3\",Dati!D558,)","v":0},{"$f":"IF(Dati!E558=\"EA4\",Dati!D558,)","v":0},{"$f":"IF(Dati!E558=\"EA5\",Dati!D558,)","v":0},{"$f":"IF(Dati!E558=\"EA6\",Dati!D558,)","v":0},{"$f":"IF(Dati!E558=\"EB1\",Dati!D558,)","v":0},{"$f":"IF(Dati!E558=\"EB2\",Dati!D558,)","v":0},{"$f":"IF(Dati!E558=\"EC1\",Dati!D558,)","v":0},{"$f":"IF(Dati!E558=\"ED1\",Dati!D558,)","v":0},{"$f":"IF(Dati!E558=\"EE1\",Dati!D558,)","v":0}]
[{"$f":"Dati!C559","v":"00:00:00"},{"$f":"Dati!H559","v":"00:00:00"},{"$f":"IF(Dati!E559=\"EA1\",Dati!D559,)","v":0},{"$f":"IF(Dati!E559=\"EA2\",Dati!D559,)","v":0},{"$f":"IF(Dati!E559=\"EA3\",Dati!D559,)","v":0},{"$f":"IF(Dati!E559=\"EA4\",Dati!D559,)","v":0},{"$f":"IF(Dati!E559=\"EA5\",Dati!D559,)","v":0},{"$f":"IF(Dati!E559=\"EA6\",Dati!D559,)","v":0},{"$f":"IF(Dati!E559=\"EB1\",Dati!D559,)","v":0},{"$f":"IF(Dati!E559=\"EB2\",Dati!D559,)","v":0},{"$f":"IF(Dati!E559=\"EC1\",Dati!D559,)","v":0},{"$f":"IF(Dati!E559=\"ED1\",Dati!D559,)","v":0},{"$f":"IF(Dati!E559=\"EE1\",Dati!D559,)","v":0}]
[{"$f":"Dati!C560","v":"00:00:00"},{"$f":"Dati!H560","v":"00:00:00"},{"$f":"IF(Dati!E560=\"EA1\",Dati!D560,)","v":0},{"$f":"IF(Dati!E560=\"EA2\",Dati!D560,)","v":0},{"$f":"IF(Dati!E560=\"EA3\",Dati!D560,)","v":0},{"$f":"IF(Dati!E560=\"EA4\",Dati!D560,)","v":0},{"$f":"IF(Dati!E560=\"EA5\",Dati!D560,)","v":0},{"$f":"IF(Dati!E560=\"EA6\",Dati!D560,)","v":0},{"$f":"IF(Dati!E560=\"EB1\",Dati!D560,)","v":0},{"$f":"IF(Dati!E560=\"EB2\",Dati!D560,)","v":0},{"$f":"IF(Dati!E560=\"EC1\",Dati!D560,)","v":0},{"$f":"IF(Dati!E560=\"ED1\",Dati!D560,)","v":0},{"$f":"IF(Dati!E560=\"EE1\",Dati!D560,)","v":0}]
[{"$f":"Dati!C561","v":"00:00:00"},{"$f":"Dati!H561","v":"00:00:00"},{"$f":"IF(Dati!E561=\"EA1\",Dati!D561,)","v":0},{"$f":"IF(Dati!E561=\"EA2\",Dati!D561,)","v":0},{"$f":"IF(Dati!E561=\"EA3\",Dati!D561,)","v":0},{"$f":"IF(Dati!E561=\"EA4\",Dati!D561,)","v":0},{"$f":"IF(Dati!E561=\"EA5\",Dati!D561,)","v":0},{"$f":"IF(Dati!E561=\"EA6\",Dati!D561,)","v":0},{"$f":"IF(Dati!E561=\"EB1\",Dati!D561,)","v":0},{"$f":"IF(Dati!E561=\"EB2\",Dati!D561,)","v":0},{"$f":"IF(Dati!E561=\"EC1\",Dati!D561,)","v":0},{"$f":"IF(Dati!E561=\"ED1\",Dati!D561,)","v":0},{"$f":"IF(Dati!E561=\"EE1\",Dati!D561,)","v":0}]
[{"$f":"Dati!C562","v":"00:00:00"},{"$f":"Dati!H562","v":"00:00:00"},{"$f":"IF(Dati!E562=\"EA1\",Dati!D562,)","v":0},{"$f":"IF(Dati!E562=\"EA2\",Dati!D562,)","v":0},{"$f":"IF(Dati!E562=\"EA3\",Dati!D562,)","v":0},{"$f":"IF(Dati!E562=\"EA4\",Dati!D562,)","v":0},{"$f":"IF(Dati!E562=\"EA5\",Dati!D562,)","v":0},{"$f":"IF(Dati!E562=\"EA6\",Dati!D562,)","v":0},{"$f":"IF(Dati!E562=\"EB1\",Dati!D562,)","v":0},{"$f":"IF(Dati!E562=\"EB2\",Dati!D562,)","v":0},{"$f":"IF(Dati!E562=\"EC1\",Dati!D562,)","v":0},{"$f":"IF(Dati!E562=\"ED1\",Dati!D562,)","v":0},{"$f":"IF(Dati!E562=\"EE1\",Dati!D562,)","v":0}]
[{"$f":"Dati!C563","v":"00:00:00"},{"$f":"Dati!H563","v":"00:00:00"},{"$f":"IF(Dati!E563=\"EA1\",Dati!D563,)","v":0},{"$f":"IF(Dati!E563=\"EA2\",Dati!D563,)","v":0},{"$f":"IF(Dati!E563=\"EA3\",Dati!D563,)","v":0},{"$f":"IF(Dati!E563=\"EA4\",Dati!D563,)","v":0},{"$f":"IF(Dati!E563=\"EA5\",Dati!D563,)","v":0},{"$f":"IF(Dati!E563=\"EA6\",Dati!D563,)","v":0},{"$f":"IF(Dati!E563=\"EB1\",Dati!D563,)","v":0},{"$f":"IF(Dati!E563=\"EB2\",Dati!D563,)","v":0},{"$f":"IF(Dati!E563=\"EC1\",Dati!D563,)","v":0},{"$f":"IF(Dati!E563=\"ED1\",Dati!D563,)","v":0},{"$f":"IF(Dati!E563=\"EE1\",Dati!D563,)","v":0}]
[{"$f":"Dati!C564","v":"00:00:00"},{"$f":"Dati!H564","v":"00:00:00"},{"$f":"IF(Dati!E564=\"EA1\",Dati!D564,)","v":0},{"$f":"IF(Dati!E564=\"EA2\",Dati!D564,)","v":0},{"$f":"IF(Dati!E564=\"EA3\",Dati!D564,)","v":0},{"$f":"IF(Dati!E564=\"EA4\",Dati!D564,)","v":0},{"$f":"IF(Dati!E564=\"EA5\",Dati!D564,)","v":0},{"$f":"IF(Dati!E564=\"EA6\",Dati!D564,)","v":0},{"$f":"IF(Dati!E564=\"EB1\",Dati!D564,)","v":0},{"$f":"IF(Dati!E564=\"EB2\",Dati!D564,)","v":0},{"$f":"IF(Dati!E564=\"EC1\",Dati!D564,)","v":0},{"$f":"IF(Dati!E564=\"ED1\",Dati!D564,)","v":0},{"$f":"IF(Dati!E564=\"EE1\",Dati!D564,)","v":0}]
[{"$f":"Dati!C565","v":"00:00:00"},{"$f":"Dati!H565","v":"00:00:00"},{"$f":"IF(Dati!E565=\"EA1\",Dati!D565,)","v":0},{"$f":"IF(Dati!E565=\"EA2\",Dati!D565,)","v":0},{"$f":"IF(Dati!E565=\"EA3\",Dati!D565,)","v":0},{"$f":"IF(Dati!E565=\"EA4\",Dati!D565,)","v":0},{"$f":"IF(Dati!E565=\"EA5\",Dati!D565,)","v":0},{"$f":"IF(Dati!E565=\"EA6\",Dati!D565,)","v":0},{"$f":"IF(Dati!E565=\"EB1\",Dati!D565,)","v":0},{"$f":"IF(Dati!E565=\"EB2\",Dati!D565,)","v":0},{"$f":"IF(Dati!E565=\"EC1\",Dati!D565,)","v":0},{"$f":"IF(Dati!E565=\"ED1\",Dati!D565,)","v":0},{"$f":"IF(Dati!E565=\"EE1\",Dati!D565,)","v":0}]
[{"$f":"Dati!C566","v":"00:00:00"},{"$f":"Dati!H566","v":"00:00:00"},{"$f":"IF(Dati!E566=\"EA1\",Dati!D566,)","v":0},{"$f":"IF(Dati!E566=\"EA2\",Dati!D566,)","v":0},{"$f":"IF(Dati!E566=\"EA3\",Dati!D566,)","v":0},{"$f":"IF(Dati!E566=\"EA4\",Dati!D566,)","v":0},{"$f":"IF(Dati!E566=\"EA5\",Dati!D566,)","v":0},{"$f":"IF(Dati!E566=\"EA6\",Dati!D566,)","v":0},{"$f":"IF(Dati!E566=\"EB1\",Dati!D566,)","v":0},{"$f":"IF(Dati!E566=\"EB2\",Dati!D566,)","v":0},{"$f":"IF(Dati!E566=\"EC1\",Dati!D566,)","v":0},{"$f":"IF(Dati!E566=\"ED1\",Dati!D566,)","v":0},{"$f":"IF(Dati!E566=\"EE1\",Dati!D566,)","v":0}]
[{"$f":"Dati!C567","v":"00:00:00"},{"$f":"Dati!H567","v":"00:00:00"},{"$f":"IF(Dati!E567=\"EA1\",Dati!D567,)","v":0},{"$f":"IF(Dati!E567=\"EA2\",Dati!D567,)","v":0},{"$f":"IF(Dati!E567=\"EA3\",Dati!D567,)","v":0},{"$f":"IF(Dati!E567=\"EA4\",Dati!D567,)","v":0},{"$f":"IF(Dati!E567=\"EA5\",Dati!D567,)","v":0},{"$f":"IF(Dati!E567=\"EA6\",Dati!D567,)","v":0},{"$f":"IF(Dati!E567=\"EB1\",Dati!D567,)","v":0},{"$f":"IF(Dati!E567=\"EB2\",Dati!D567,)","v":0},{"$f":"IF(Dati!E567=\"EC1\",Dati!D567,)","v":0},{"$f":"IF(Dati!E567=\"ED1\",Dati!D567,)","v":0},{"$f":"IF(Dati!E567=\"EE1\",Dati!D567,)","v":0}]
[{"$f":"Dati!C568","v":"00:00:00"},{"$f":"Dati!H568","v":"00:00:00"},{"$f":"IF(Dati!E568=\"EA1\",Dati!D568,)","v":0},{"$f":"IF(Dati!E568=\"EA2\",Dati!D568,)","v":0},{"$f":"IF(Dati!E568=\"EA3\",Dati!D568,)","v":0},{"$f":"IF(Dati!E568=\"EA4\",Dati!D568,)","v":0},{"$f":"IF(Dati!E568=\"EA5\",Dati!D568,)","v":0},{"$f":"IF(Dati!E568=\"EA6\",Dati!D568,)","v":0},{"$f":"IF(Dati!E568=\"EB1\",Dati!D568,)","v":0},{"$f":"IF(Dati!E568=\"EB2\",Dati!D568,)","v":0},{"$f":"IF(Dati!E568=\"EC1\",Dati!D568,)","v":0},{"$f":"IF(Dati!E568=\"ED1\",Dati!D568,)","v":0},{"$f":"IF(Dati!E568=\"EE1\",Dati!D568,)","v":0}]
[{"$f":"Dati!C569","v":"00:00:00"},{"$f":"Dati!H569","v":"00:00:00"},{"$f":"IF(Dati!E569=\"EA1\",Dati!D569,)","v":0},{"$f":"IF(Dati!E569=\"EA2\",Dati!D569,)","v":0},{"$f":"IF(Dati!E569=\"EA3\",Dati!D569,)","v":0},{"$f":"IF(Dati!E569=\"EA4\",Dati!D569,)","v":0},{"$f":"IF(Dati!E569=\"EA5\",Dati!D569,)","v":0},{"$f":"IF(Dati!E569=\"EA6\",Dati!D569,)","v":0},{"$f":"IF(Dati!E569=\"EB1\",Dati!D569,)","v":0},{"$f":"IF(Dati!E569=\"EB2\",Dati!D569,)","v":0},{"$f":"IF(Dati!E569=\"EC1\",Dati!D569,)","v":0},{"$f":"IF(Dati!E569=\"ED1\",Dati!D569,)","v":0},{"$f":"IF(Dati!E569=\"EE1\",Dati!D569,)","v":0}]
[{"$f":"Dati!C570","v":"00:00:00"},{"$f":"Dati!H570","v":"00:00:00"},{"$f":"IF(Dati!E570=\"EA1\",Dati!D570,)","v":0},{"$f":"IF(Dati!E570=\"EA2\",Dati!D570,)","v":0},{"$f":"IF(Dati!E570=\"EA3\",Dati!D570,)","v":0},{"$f":"IF(Dati!E570=\"EA4\",Dati!D570,)","v":0},{"$f":"IF(Dati!E570=\"EA5\",Dati!D570,)","v":0},{"$f":"IF(Dati!E570=\"EA6\",Dati!D570,)","v":0},{"$f":"IF(Dati!E570=\"EB1\",Dati!D570,)","v":0},{"$f":"IF(Dati!E570=\"EB2\",Dati!D570,)","v":0},{"$f":"IF(Dati!E570=\"EC1\",Dati!D570,)","v":0},{"$f":"IF(Dati!E570=\"ED1\",Dati!D570,)","v":0},{"$f":"IF(Dati!E570=\"EE1\",Dati!D570,)","v":0}]
[{"$f":"Dati!C571","v":"00:00:00"},{"$f":"Dati!H571","v":"00:00:00"},{"$f":"IF(Dati!E571=\"EA1\",Dati!D571,)","v":0},{"$f":"IF(Dati!E571=\"EA2\",Dati!D571,)","v":0},{"$f":"IF(Dati!E571=\"EA3\",Dati!D571,)","v":0},{"$f":"IF(Dati!E571=\"EA4\",Dati!D571,)","v":0},{"$f":"IF(Dati!E571=\"EA5\",Dati!D571,)","v":0},{"$f":"IF(Dati!E571=\"EA6\",Dati!D571,)","v":0},{"$f":"IF(Dati!E571=\"EB1\",Dati!D571,)","v":0},{"$f":"IF(Dati!E571=\"EB2\",Dati!D571,)","v":0},{"$f":"IF(Dati!E571=\"EC1\",Dati!D571,)","v":0},{"$f":"IF(Dati!E571=\"ED1\",Dati!D571,)","v":0},{"$f":"IF(Dati!E571=\"EE1\",Dati!D571,)","v":0}]
[{"$f":"Dati!C572","v":"00:00:00"},{"$f":"Dati!H572","v":"00:00:00"},{"$f":"IF(Dati!E572=\"EA1\",Dati!D572,)","v":0},{"$f":"IF(Dati!E572=\"EA2\",Dati!D572,)","v":0},{"$f":"IF(Dati!E572=\"EA3\",Dati!D572,)","v":0},{"$f":"IF(Dati!E572=\"EA4\",Dati!D572,)","v":0},{"$f":"IF(Dati!E572=\"EA5\",Dati!D572,)","v":0},{"$f":"IF(Dati!E572=\"EA6\",Dati!D572,)","v":0},{"$f":"IF(Dati!E572=\"EB1\",Dati!D572,)","v":0},{"$f":"IF(Dati!E572=\"EB2\",Dati!D572,)","v":0},{"$f":"IF(Dati!E572=\"EC1\",Dati!D572,)","v":0},{"$f":"IF(Dati!E572=\"ED1\",Dati!D572,)","v":0},{"$f":"IF(Dati!E572=\"EE1\",Dati!D572,)","v":0}]
[{"$f":"Dati!C573","v":"00:00:00"},{"$f":"Dati!H573","v":"00:00:00"},{"$f":"IF(Dati!E573=\"EA1\",Dati!D573,)","v":0},{"$f":"IF(Dati!E573=\"EA2\",Dati!D573,)","v":0},{"$f":"IF(Dati!E573=\"EA3\",Dati!D573,)","v":0},{"$f":"IF(Dati!E573=\"EA4\",Dati!D573,)","v":0},{"$f":"IF(Dati!E573=\"EA5\",Dati!D573,)","v":0},{"$f":"IF(Dati!E573=\"EA6\",Dati!D573,)","v":0},{"$f":"IF(Dati!E573=\"EB1\",Dati!D573,)","v":0},{"$f":"IF(Dati!E573=\"EB2\",Dati!D573,)","v":0},{"$f":"IF(Dati!E573=\"EC1\",Dati!D573,)","v":0},{"$f":"IF(Dati!E573=\"ED1\",Dati!D573,)","v":0},{"$f":"IF(Dati!E573=\"EE1\",Dati!D573,)","v":0}]
[{"$f":"Dati!C574","v":"00:00:00"},{"$f":"Dati!H574","v":"00:00:00"},{"$f":"IF(Dati!E574=\"EA1\",Dati!D574,)","v":0},{"$f":"IF(Dati!E574=\"EA2\",Dati!D574,)","v":0},{"$f":"IF(Dati!E574=\"EA3\",Dati!D574,)","v":0},{"$f":"IF(Dati!E574=\"EA4\",Dati!D574,)","v":0},{"$f":"IF(Dati!E574=\"EA5\",Dati!D574,)","v":0},{"$f":"IF(Dati!E574=\"EA6\",Dati!D574,)","v":0},{"$f":"IF(Dati!E574=\"EB1\",Dati!D574,)","v":0},{"$f":"IF(Dati!E574=\"EB2\",Dati!D574,)","v":0},{"$f":"IF(Dati!E574=\"EC1\",Dati!D574,)","v":0},{"$f":"IF(Dati!E574=\"ED1\",Dati!D574,)","v":0},{"$f":"IF(Dati!E574=\"EE1\",Dati!D574,)","v":0}]
[{"$f":"Dati!C575","v":"00:00:00"},{"$f":"Dati!H575","v":"00:00:00"},{"$f":"IF(Dati!E575=\"EA1\",Dati!D575,)","v":0},{"$f":"IF(Dati!E575=\"EA2\",Dati!D575,)","v":0},{"$f":"IF(Dati!E575=\"EA3\",Dati!D575,)","v":0},{"$f":"IF(Dati!E575=\"EA4\",Dati!D575,)","v":0},{"$f":"IF(Dati!E575=\"EA5\",Dati!D575,)","v":0},{"$f":"IF(Dati!E575=\"EA6\",Dati!D575,)","v":0},{"$f":"IF(Dati!E575=\"EB1\",Dati!D575,)","v":0},{"$f":"IF(Dati!E575=\"EB2\",Dati!D575,)","v":0},{"$f":"IF(Dati!E575=\"EC1\",Dati!D575,)","v":0},{"$f":"IF(Dati!E575=\"ED1\",Dati!D575,)","v":0},{"$f":"IF(Dati!E575=\"EE1\",Dati!D575,)","v":0}]
[{"$f":"Dati!C576","v":"00:00:00"},{"$f":"Dati!H576","v":"00:00:00"},{"$f":"IF(Dati!E576=\"EA1\",Dati!D576,)","v":0},{"$f":"IF(Dati!E576=\"EA2\",Dati!D576,)","v":0},{"$f":"IF(Dati!E576=\"EA3\",Dati!D576,)","v":0},{"$f":"IF(Dati!E576=\"EA4\",Dati!D576,)","v":0},{"$f":"IF(Dati!E576=\"EA5\",Dati!D576,)","v":0},{"$f":"IF(Dati!E576=\"EA6\",Dati!D576,)","v":0},{"$f":"IF(Dati!E576=\"EB1\",Dati!D576,)","v":0},{"$f":"IF(Dati!E576=\"EB2\",Dati!D576,)","v":0},{"$f":"IF(Dati!E576=\"EC1\",Dati!D576,)","v":0},{"$f":"IF(Dati!E576=\"ED1\",Dati!D576,)","v":0},{"$f":"IF(Dati!E576=\"EE1\",Dati!D576,)","v":0}]
[{"$f":"Dati!C577","v":"00:00:00"},{"$f":"Dati!H577","v":"00:00:00"},{"$f":"IF(Dati!E577=\"EA1\",Dati!D577,)","v":0},{"$f":"IF(Dati!E577=\"EA2\",Dati!D577,)","v":0},{"$f":"IF(Dati!E577=\"EA3\",Dati!D577,)","v":0},{"$f":"IF(Dati!E577=\"EA4\",Dati!D577,)","v":0},{"$f":"IF(Dati!E577=\"EA5\",Dati!D577,)","v":0},{"$f":"IF(Dati!E577=\"EA6\",Dati!D577,)","v":0},{"$f":"IF(Dati!E577=\"EB1\",Dati!D577,)","v":0},{"$f":"IF(Dati!E577=\"EB2\",Dati!D577,)","v":0},{"$f":"IF(Dati!E577=\"EC1\",Dati!D577,)","v":0},{"$f":"IF(Dati!E577=\"ED1\",Dati!D577,)","v":0},{"$f":"IF(Dati!E577=\"EE1\",Dati!D577,)","v":0}]
[{"$f":"Dati!C578","v":"00:00:00"},{"$f":"Dati!H578","v":"00:00:00"},{"$f":"IF(Dati!E578=\"EA1\",Dati!D578,)","v":0},{"$f":"IF(Dati!E578=\"EA2\",Dati!D578,)","v":0},{"$f":"IF(Dati!E578=\"EA3\",Dati!D578,)","v":0},{"$f":"IF(Dati!E578=\"EA4\",Dati!D578,)","v":0},{"$f":"IF(Dati!E578=\"EA5\",Dati!D578,)","v":0},{"$f":"IF(Dati!E578=\"EA6\",Dati!D578,)","v":0},{"$f":"IF(Dati!E578=\"EB1\",Dati!D578,)","v":0},{"$f":"IF(Dati!E578=\"EB2\",Dati!D578,)","v":0},{"$f":"IF(Dati!E578=\"EC1\",Dati!D578,)","v":0},{"$f":"IF(Dati!E578=\"ED1\",Dati!D578,)","v":0},{"$f":"IF(Dati!E578=\"EE1\",Dati!D578,)","v":0}]
[{"$f":"Dati!C579","v":"00:00:00"},{"$f":"Dati!H579","v":"00:00:00"},{"$f":"IF(Dati!E579=\"EA1\",Dati!D579,)","v":0},{"$f":"IF(Dati!E579=\"EA2\",Dati!D579,)","v":0},{"$f":"IF(Dati!E579=\"EA3\",Dati!D579,)","v":0},{"$f":"IF(Dati!E579=\"EA4\",Dati!D579,)","v":0},{"$f":"IF(Dati!E579=\"EA5\",Dati!D579,)","v":0},{"$f":"IF(Dati!E579=\"EA6\",Dati!D579,)","v":0},{"$f":"IF(Dati!E579=\"EB1\",Dati!D579,)","v":0},{"$f":"IF(Dati!E579=\"EB2\",Dati!D579,)","v":0},{"$f":"IF(Dati!E579=\"EC1\",Dati!D579,)","v":0},{"$f":"IF(Dati!E579=\"ED1\",Dati!D579,)","v":0},{"$f":"IF(Dati!E579=\"EE1\",Dati!D579,)","v":0}]
[{"$f":"Dati!C580","v":"00:00:00"},{"$f":"Dati!H580","v":"00:00:00"},{"$f":"IF(Dati!E580=\"EA1\",Dati!D580,)","v":0},{"$f":"IF(Dati!E580=\"EA2\",Dati!D580,)","v":0},{"$f":"IF(Dati!E580=\"EA3\",Dati!D580,)","v":0},{"$f":"IF(Dati!E580=\"EA4\",Dati!D580,)","v":0},{"$f":"IF(Dati!E580=\"EA5\",Dati!D580,)","v":0},{"$f":"IF(Dati!E580=\"EA6\",Dati!D580,)","v":0},{"$f":"IF(Dati!E580=\"EB1\",Dati!D580,)","v":0},{"$f":"IF(Dati!E580=\"EB2\",Dati!D580,)","v":0},{"$f":"IF(Dati!E580=\"EC1\",Dati!D580,)","v":0},{"$f":"IF(Dati!E580=\"ED1\",Dati!D580,)","v":0},{"$f":"IF(Dati!E580=\"EE1\",Dati!D580,)","v":0}]
[{"$f":"Dati!C581","v":"00:00:00"},{"$f":"Dati!H581","v":"00:00:00"},{"$f":"IF(Dati!E581=\"EA1\",Dati!D581,)","v":0},{"$f":"IF(Dati!E581=\"EA2\",Dati!D581,)","v":0},{"$f":"IF(Dati!E581=\"EA3\",Dati!D581,)","v":0},{"$f":"IF(Dati!E581=\"EA4\",Dati!D581,)","v":0},{"$f":"IF(Dati!E581=\"EA5\",Dati!D581,)","v":0},{"$f":"IF(Dati!E581=\"EA6\",Dati!D581,)","v":0},{"$f":"IF(Dati!E581=\"EB1\",Dati!D581,)","v":0},{"$f":"IF(Dati!E581=\"EB2\",Dati!D581,)","v":0},{"$f":"IF(Dati!E581=\"EC1\",Dati!D581,)","v":0},{"$f":"IF(Dati!E581=\"ED1\",Dati!D581,)","v":0},{"$f":"IF(Dati!E581=\"EE1\",Dati!D581,)","v":0}]
[{"$f":"Dati!C582","v":"00:00:00"},{"$f":"Dati!H582","v":"00:00:00"},{"$f":"IF(Dati!E582=\"EA1\",Dati!D582,)","v":0},{"$f":"IF(Dati!E582=\"EA2\",Dati!D582,)","v":0},{"$f":"IF(Dati!E582=\"EA3\",Dati!D582,)","v":0},{"$f":"IF(Dati!E582=\"EA4\",Dati!D582,)","v":0},{"$f":"IF(Dati!E582=\"EA5\",Dati!D582,)","v":0},{"$f":"IF(Dati!E582=\"EA6\",Dati!D582,)","v":0},{"$f":"IF(Dati!E582=\"EB1\",Dati!D582,)","v":0},{"$f":"IF(Dati!E582=\"EB2\",Dati!D582,)","v":0},{"$f":"IF(Dati!E582=\"EC1\",Dati!D582,)","v":0},{"$f":"IF(Dati!E582=\"ED1\",Dati!D582,)","v":0},{"$f":"IF(Dati!E582=\"EE1\",Dati!D582,)","v":0}]
[{"$f":"Dati!C583","v":"00:00:00"},{"$f":"Dati!H583","v":"00:00:00"},{"$f":"IF(Dati!E583=\"EA1\",Dati!D583,)","v":0},{"$f":"IF(Dati!E583=\"EA2\",Dati!D583,)","v":0},{"$f":"IF(Dati!E583=\"EA3\",Dati!D583,)","v":0},{"$f":"IF(Dati!E583=\"EA4\",Dati!D583,)","v":0},{"$f":"IF(Dati!E583=\"EA5\",Dati!D583,)","v":0},{"$f":"IF(Dati!E583=\"EA6\",Dati!D583,)","v":0},{"$f":"IF(Dati!E583=\"EB1\",Dati!D583,)","v":0},{"$f":"IF(Dati!E583=\"EB2\",Dati!D583,)","v":0},{"$f":"IF(Dati!E583=\"EC1\",Dati!D583,)","v":0},{"$f":"IF(Dati!E583=\"ED1\",Dati!D583,)","v":0},{"$f":"IF(Dati!E583=\"EE1\",Dati!D583,)","v":0}]
[{"$f":"Dati!C584","v":"00:00:00"},{"$f":"Dati!H584","v":"00:00:00"},{"$f":"IF(Dati!E584=\"EA1\",Dati!D584,)","v":0},{"$f":"IF(Dati!E584=\"EA2\",Dati!D584,)","v":0},{"$f":"IF(Dati!E584=\"EA3\",Dati!D584,)","v":0},{"$f":"IF(Dati!E584=\"EA4\",Dati!D584,)","v":0},{"$f":"IF(Dati!E584=\"EA5\",Dati!D584,)","v":0},{"$f":"IF(Dati!E584=\"EA6\",Dati!D584,)","v":0},{"$f":"IF(Dati!E584=\"EB1\",Dati!D584,)","v":0},{"$f":"IF(Dati!E584=\"EB2\",Dati!D584,)","v":0},{"$f":"IF(Dati!E584=\"EC1\",Dati!D584,)","v":0},{"$f":"IF(Dati!E584=\"ED1\",Dati!D584,)","v":0},{"$f":"IF(Dati!E584=\"EE1\",Dati!D584,)","v":0}]
[{"$f":"Dati!C585","v":"00:00:00"},{"$f":"Dati!H585","v":"00:00:00"},{"$f":"IF(Dati!E585=\"EA1\",Dati!D585,)","v":0},{"$f":"IF(Dati!E585=\"EA2\",Dati!D585,)","v":0},{"$f":"IF(Dati!E585=\"EA3\",Dati!D585,)","v":0},{"$f":"IF(Dati!E585=\"EA4\",Dati!D585,)","v":0},{"$f":"IF(Dati!E585=\"EA5\",Dati!D585,)","v":0},{"$f":"IF(Dati!E585=\"EA6\",Dati!D585,)","v":0},{"$f":"IF(Dati!E585=\"EB1\",Dati!D585,)","v":0},{"$f":"IF(Dati!E585=\"EB2\",Dati!D585,)","v":0},{"$f":"IF(Dati!E585=\"EC1\",Dati!D585,)","v":0},{"$f":"IF(Dati!E585=\"ED1\",Dati!D585,)","v":0},{"$f":"IF(Dati!E585=\"EE1\",Dati!D585,)","v":0}]
[{"$f":"Dati!C586","v":"00:00:00"},{"$f":"Dati!H586","v":"00:00:00"},{"$f":"IF(Dati!E586=\"EA1\",Dati!D586,)","v":0},{"$f":"IF(Dati!E586=\"EA2\",Dati!D586,)","v":0},{"$f":"IF(Dati!E586=\"EA3\",Dati!D586,)","v":0},{"$f":"IF(Dati!E586=\"EA4\",Dati!D586,)","v":0},{"$f":"IF(Dati!E586=\"EA5\",Dati!D586,)","v":0},{"$f":"IF(Dati!E586=\"EA6\",Dati!D586,)","v":0},{"$f":"IF(Dati!E586=\"EB1\",Dati!D586,)","v":0},{"$f":"IF(Dati!E586=\"EB2\",Dati!D586,)","v":0},{"$f":"IF(Dati!E586=\"EC1\",Dati!D586,)","v":0},{"$f":"IF(Dati!E586=\"ED1\",Dati!D586,)","v":0},{"$f":"IF(Dati!E586=\"EE1\",Dati!D586,)","v":0}]
[{"$f":"Dati!C587","v":"00:00:00"},{"$f":"Dati!H587","v":"00:00:00"},{"$f":"IF(Dati!E587=\"EA1\",Dati!D587,)","v":0},{"$f":"IF(Dati!E587=\"EA2\",Dati!D587,)","v":0},{"$f":"IF(Dati!E587=\"EA3\",Dati!D587,)","v":0},{"$f":"IF(Dati!E587=\"EA4\",Dati!D587,)","v":0},{"$f":"IF(Dati!E587=\"EA5\",Dati!D587,)","v":0},{"$f":"IF(Dati!E587=\"EA6\",Dati!D587,)","v":0},{"$f":"IF(Dati!E587=\"EB1\",Dati!D587,)","v":0},{"$f":"IF(Dati!E587=\"EB2\",Dati!D587,)","v":0},{"$f":"IF(Dati!E587=\"EC1\",Dati!D587,)","v":0},{"$f":"IF(Dati!E587=\"ED1\",Dati!D587,)","v":0},{"$f":"IF(Dati!E587=\"EE1\",Dati!D587,)","v":0}]
[{"$f":"Dati!C588","v":"00:00:00"},{"$f":"Dati!H588","v":"00:00:00"},{"$f":"IF(Dati!E588=\"EA1\",Dati!D588,)","v":0},{"$f":"IF(Dati!E588=\"EA2\",Dati!D588,)","v":0},{"$f":"IF(Dati!E588=\"EA3\",Dati!D588,)","v":0},{"$f":"IF(Dati!E588=\"EA4\",Dati!D588,)","v":0},{"$f":"IF(Dati!E588=\"EA5\",Dati!D588,)","v":0},{"$f":"IF(Dati!E588=\"EA6\",Dati!D588,)","v":0},{"$f":"IF(Dati!E588=\"EB1\",Dati!D588,)","v":0},{"$f":"IF(Dati!E588=\"EB2\",Dati!D588,)","v":0},{"$f":"IF(Dati!E588=\"EC1\",Dati!D588,)","v":0},{"$f":"IF(Dati!E588=\"ED1\",Dati!D588,)","v":0},{"$f":"IF(Dati!E588=\"EE1\",Dati!D588,)","v":0}]
[{"$f":"Dati!C589","v":"00:00:00"},{"$f":"Dati!H589","v":"00:00:00"},{"$f":"IF(Dati!E589=\"EA1\",Dati!D589,)","v":0},{"$f":"IF(Dati!E589=\"EA2\",Dati!D589,)","v":0},{"$f":"IF(Dati!E589=\"EA3\",Dati!D589,)","v":0},{"$f":"IF(Dati!E589=\"EA4\",Dati!D589,)","v":0},{"$f":"IF(Dati!E589=\"EA5\",Dati!D589,)","v":0},{"$f":"IF(Dati!E589=\"EA6\",Dati!D589,)","v":0},{"$f":"IF(Dati!E589=\"EB1\",Dati!D589,)","v":0},{"$f":"IF(Dati!E589=\"EB2\",Dati!D589,)","v":0},{"$f":"IF(Dati!E589=\"EC1\",Dati!D589,)","v":0},{"$f":"IF(Dati!E589=\"ED1\",Dati!D589,)","v":0},{"$f":"IF(Dati!E589=\"EE1\",Dati!D589,)","v":0}]
[{"$f":"Dati!C590","v":"00:00:00"},{"$f":"Dati!H590","v":"00:00:00"},{"$f":"IF(Dati!E590=\"EA1\",Dati!D590,)","v":0},{"$f":"IF(Dati!E590=\"EA2\",Dati!D590,)","v":0},{"$f":"IF(Dati!E590=\"EA3\",Dati!D590,)","v":0},{"$f":"IF(Dati!E590=\"EA4\",Dati!D590,)","v":0},{"$f":"IF(Dati!E590=\"EA5\",Dati!D590,)","v":0},{"$f":"IF(Dati!E590=\"EA6\",Dati!D590,)","v":0},{"$f":"IF(Dati!E590=\"EB1\",Dati!D590,)","v":0},{"$f":"IF(Dati!E590=\"EB2\",Dati!D590,)","v":0},{"$f":"IF(Dati!E590=\"EC1\",Dati!D590,)","v":0},{"$f":"IF(Dati!E590=\"ED1\",Dati!D590,)","v":0},{"$f":"IF(Dati!E590=\"EE1\",Dati!D590,)","v":0}]
[{"$f":"Dati!C591","v":"00:00:00"},{"$f":"Dati!H591","v":"00:00:00"},{"$f":"IF(Dati!E591=\"EA1\",Dati!D591,)","v":0},{"$f":"IF(Dati!E591=\"EA2\",Dati!D591,)","v":0},{"$f":"IF(Dati!E591=\"EA3\",Dati!D591,)","v":0},{"$f":"IF(Dati!E591=\"EA4\",Dati!D591,)","v":0},{"$f":"IF(Dati!E591=\"EA5\",Dati!D591,)","v":0},{"$f":"IF(Dati!E591=\"EA6\",Dati!D591,)","v":0},{"$f":"IF(Dati!E591=\"EB1\",Dati!D591,)","v":0},{"$f":"IF(Dati!E591=\"EB2\",Dati!D591,)","v":0},{"$f":"IF(Dati!E591=\"EC1\",Dati!D591,)","v":0},{"$f":"IF(Dati!E591=\"ED1\",Dati!D591,)","v":0},{"$f":"IF(Dati!E591=\"EE1\",Dati!D591,)","v":0}]
[{"$f":"Dati!C592","v":"00:00:00"},{"$f":"Dati!H592","v":"00:00:00"},{"$f":"IF(Dati!E592=\"EA1\",Dati!D592,)","v":0},{"$f":"IF(Dati!E592=\"EA2\",Dati!D592,)","v":0},{"$f":"IF(Dati!E592=\"EA3\",Dati!D592,)","v":0},{"$f":"IF(Dati!E592=\"EA4\",Dati!D592,)","v":0},{"$f":"IF(Dati!E592=\"EA5\",Dati!D592,)","v":0},{"$f":"IF(Dati!E592=\"EA6\",Dati!D592,)","v":0},{"$f":"IF(Dati!E592=\"EB1\",Dati!D592,)","v":0},{"$f":"IF(Dati!E592=\"EB2\",Dati!D592,)","v":0},{"$f":"IF(Dati!E592=\"EC1\",Dati!D592,)","v":0},{"$f":"IF(Dati!E592=\"ED1\",Dati!D592,)","v":0},{"$f":"IF(Dati!E592=\"EE1\",Dati!D592,)","v":0}]
[{"$f":"Dati!C593","v":"00:00:00"},{"$f":"Dati!H593","v":"00:00:00"},{"$f":"IF(Dati!E593=\"EA1\",Dati!D593,)","v":0},{"$f":"IF(Dati!E593=\"EA2\",Dati!D593,)","v":0},{"$f":"IF(Dati!E593=\"EA3\",Dati!D593,)","v":0},{"$f":"IF(Dati!E593=\"EA4\",Dati!D593,)","v":0},{"$f":"IF(Dati!E593=\"EA5\",Dati!D593,)","v":0},{"$f":"IF(Dati!E593=\"EA6\",Dati!D593,)","v":0},{"$f":"IF(Dati!E593=\"EB1\",Dati!D593,)","v":0},{"$f":"IF(Dati!E593=\"EB2\",Dati!D593,)","v":0},{"$f":"IF(Dati!E593=\"EC1\",Dati!D593,)","v":0},{"$f":"IF(Dati!E593=\"ED1\",Dati!D593,)","v":0},{"$f":"IF(Dati!E593=\"EE1\",Dati!D593,)","v":0}]
[{"$f":"Dati!C594","v":"00:00:00"},{"$f":"Dati!H594","v":"00:00:00"},{"$f":"IF(Dati!E594=\"EA1\",Dati!D594,)","v":0},{"$f":"IF(Dati!E594=\"EA2\",Dati!D594,)","v":0},{"$f":"IF(Dati!E594=\"EA3\",Dati!D594,)","v":0},{"$f":"IF(Dati!E594=\"EA4\",Dati!D594,)","v":0},{"$f":"IF(Dati!E594=\"EA5\",Dati!D594,)","v":0},{"$f":"IF(Dati!E594=\"EA6\",Dati!D594,)","v":0},{"$f":"IF(Dati!E594=\"EB1\",Dati!D594,)","v":0},{"$f":"IF(Dati!E594=\"EB2\",Dati!D594,)","v":0},{"$f":"IF(Dati!E594=\"EC1\",Dati!D594,)","v":0},{"$f":"IF(Dati!E594=\"ED1\",Dati!D594,)","v":0},{"$f":"IF(Dati!E594=\"EE1\",Dati!D594,)","v":0}]
[{"$f":"Dati!C595","v":"00:00:00"},{"$f":"Dati!H595","v":"00:00:00"},{"$f":"IF(Dati!E595=\"EA1\",Dati!D595,)","v":0},{"$f":"IF(Dati!E595=\"EA2\",Dati!D595,)","v":0},{"$f":"IF(Dati!E595=\"EA3\",Dati!D595,)","v":0},{"$f":"IF(Dati!E595=\"EA4\",Dati!D595,)","v":0},{"$f":"IF(Dati!E595=\"EA5\",Dati!D595,)","v":0},{"$f":"IF(Dati!E595=\"EA6\",Dati!D595,)","v":0},{"$f":"IF(Dati!E595=\"EB1\",Dati!D595,)","v":0},{"$f":"IF(Dati!E595=\"EB2\",Dati!D595,)","v":0},{"$f":"IF(Dati!E595=\"EC1\",Dati!D595,)","v":0},{"$f":"IF(Dati!E595=\"ED1\",Dati!D595,)","v":0},{"$f":"IF(Dati!E595=\"EE1\",Dati!D595,)","v":0}]
[{"$f":"Dati!C596","v":"00:00:00"},{"$f":"Dati!H596","v":"00:00:00"},{"$f":"IF(Dati!E596=\"EA1\",Dati!D596,)","v":0},{"$f":"IF(Dati!E596=\"EA2\",Dati!D596,)","v":0},{"$f":"IF(Dati!E596=\"EA3\",Dati!D596,)","v":0},{"$f":"IF(Dati!E596=\"EA4\",Dati!D596,)","v":0},{"$f":"IF(Dati!E596=\"EA5\",Dati!D596,)","v":0},{"$f":"IF(Dati!E596=\"EA6\",Dati!D596,)","v":0},{"$f":"IF(Dati!E596=\"EB1\",Dati!D596,)","v":0},{"$f":"IF(Dati!E596=\"EB2\",Dati!D596,)","v":0},{"$f":"IF(Dati!E596=\"EC1\",Dati!D596,)","v":0},{"$f":"IF(Dati!E596=\"ED1\",Dati!D596,)","v":0},{"$f":"IF(Dati!E596=\"EE1\",Dati!D596,)","v":0}]
[{"$f":"Dati!C597","v":"00:00:00"},{"$f":"Dati!H597","v":"00:00:00"},{"$f":"IF(Dati!E597=\"EA1\",Dati!D597,)","v":0},{"$f":"IF(Dati!E597=\"EA2\",Dati!D597,)","v":0},{"$f":"IF(Dati!E597=\"EA3\",Dati!D597,)","v":0},{"$f":"IF(Dati!E597=\"EA4\",Dati!D597,)","v":0},{"$f":"IF(Dati!E597=\"EA5\",Dati!D597,)","v":0},{"$f":"IF(Dati!E597=\"EA6\",Dati!D597,)","v":0},{"$f":"IF(Dati!E597=\"EB1\",Dati!D597,)","v":0},{"$f":"IF(Dati!E597=\"EB2\",Dati!D597,)","v":0},{"$f":"IF(Dati!E597=\"EC1\",Dati!D597,)","v":0},{"$f":"IF(Dati!E597=\"ED1\",Dati!D597,)","v":0},{"$f":"IF(Dati!E597=\"EE1\",Dati!D597,)","v":0}]
[{"$f":"Dati!C598","v":"00:00:00"},{"$f":"Dati!H598","v":"00:00:00"},{"$f":"IF(Dati!E598=\"EA1\",Dati!D598,)","v":0},{"$f":"IF(Dati!E598=\"EA2\",Dati!D598,)","v":0},{"$f":"IF(Dati!E598=\"EA3\",Dati!D598,)","v":0},{"$f":"IF(Dati!E598=\"EA4\",Dati!D598,)","v":0},{"$f":"IF(Dati!E598=\"EA5\",Dati!D598,)","v":0},{"$f":"IF(Dati!E598=\"EA6\",Dati!D598,)","v":0},{"$f":"IF(Dati!E598=\"EB1\",Dati!D598,)","v":0},{"$f":"IF(Dati!E598=\"EB2\",Dati!D598,)","v":0},{"$f":"IF(Dati!E598=\"EC1\",Dati!D598,)","v":0},{"$f":"IF(Dati!E598=\"ED1\",Dati!D598,)","v":0},{"$f":"IF(Dati!E598=\"EE1\",Dati!D598,)","v":0}]
[{"$f":"Dati!C599","v":"00:00:00"},{"$f":"Dati!H599","v":"00:00:00"},{"$f":"IF(Dati!E599=\"EA1\",Dati!D599,)","v":0},{"$f":"IF(Dati!E599=\"EA2\",Dati!D599,)","v":0},{"$f":"IF(Dati!E599=\"EA3\",Dati!D599,)","v":0},{"$f":"IF(Dati!E599=\"EA4\",Dati!D599,)","v":0},{"$f":"IF(Dati!E599=\"EA5\",Dati!D599,)","v":0},{"$f":"IF(Dati!E599=\"EA6\",Dati!D599,)","v":0},{"$f":"IF(Dati!E599=\"EB1\",Dati!D599,)","v":0},{"$f":"IF(Dati!E599=\"EB2\",Dati!D599,)","v":0},{"$f":"IF(Dati!E599=\"EC1\",Dati!D599,)","v":0},{"$f":"IF(Dati!E599=\"ED1\",Dati!D599,)","v":0},{"$f":"IF(Dati!E599=\"EE1\",Dati!D599,)","v":0}]
[{"$f":"Dati!C600","v":"00:00:00"},{"$f":"Dati!H600","v":"00:00:00"},{"$f":"IF(Dati!E600=\"EA1\",Dati!D600,)","v":0},{"$f":"IF(Dati!E600=\"EA2\",Dati!D600,)","v":0},{"$f":"IF(Dati!E600=\"EA3\",Dati!D600,)","v":0},{"$f":"IF(Dati!E600=\"EA4\",Dati!D600,)","v":0},{"$f":"IF(Dati!E600=\"EA5\",Dati!D600,)","v":0},{"$f":"IF(Dati!E600=\"EA6\",Dati!D600,)","v":0},{"$f":"IF(Dati!E600=\"EB1\",Dati!D600,)","v":0},{"$f":"IF(Dati!E600=\"EB2\",Dati!D600,)","v":0},{"$f":"IF(Dati!E600=\"EC1\",Dati!D600,)","v":0},{"$f":"IF(Dati!E600=\"ED1\",Dati!D600,)","v":0},{"$f":"IF(Dati!E600=\"EE1\",Dati!D600,)","v":0}]
[{"$f":"Dati!C601","v":"00:00:00"},{"$f":"Dati!H601","v":"00:00:00"},{"$f":"IF(Dati!E601=\"EA1\",Dati!D601,)","v":0},{"$f":"IF(Dati!E601=\"EA2\",Dati!D601,)","v":0},{"$f":"IF(Dati!E601=\"EA3\",Dati!D601,)","v":0},{"$f":"IF(Dati!E601=\"EA4\",Dati!D601,)","v":0},{"$f":"IF(Dati!E601=\"EA5\",Dati!D601,)","v":0},{"$f":"IF(Dati!E601=\"EA6\",Dati!D601,)","v":0},{"$f":"IF(Dati!E601=\"EB1\",Dati!D601,)","v":0},{"$f":"IF(Dati!E601=\"EB2\",Dati!D601,)","v":0},{"$f":"IF(Dati!E601=\"EC1\",Dati!D601,)","v":0},{"$f":"IF(Dati!E601=\"ED1\",Dati!D601,)","v":0},{"$f":"IF(Dati!E601=\"EE1\",Dati!D601,)","v":0}]
[{"$f":"Dati!C602","v":"00:00:00"},{"$f":"Dati!H602","v":"00:00:00"},{"$f":"IF(Dati!E602=\"EA1\",Dati!D602,)","v":0},{"$f":"IF(Dati!E602=\"EA2\",Dati!D602,)","v":0},{"$f":"IF(Dati!E602=\"EA3\",Dati!D602,)","v":0},{"$f":"IF(Dati!E602=\"EA4\",Dati!D602,)","v":0},{"$f":"IF(Dati!E602=\"EA5\",Dati!D602,)","v":0},{"$f":"IF(Dati!E602=\"EA6\",Dati!D602,)","v":0},{"$f":"IF(Dati!E602=\"EB1\",Dati!D602,)","v":0},{"$f":"IF(Dati!E602=\"EB2\",Dati!D602,)","v":0},{"$f":"IF(Dati!E602=\"EC1\",Dati!D602,)","v":0},{"$f":"IF(Dati!E602=\"ED1\",Dati!D602,)","v":0},{"$f":"IF(Dati!E602=\"EE1\",Dati!D602,)","v":0}]
[{"$f":"Dati!C603","v":"00:00:00"},{"$f":"Dati!H603","v":"00:00:00"},{"$f":"IF(Dati!E603=\"EA1\",Dati!D603,)","v":0},{"$f":"IF(Dati!E603=\"EA2\",Dati!D603,)","v":0},{"$f":"IF(Dati!E603=\"EA3\",Dati!D603,)","v":0},{"$f":"IF(Dati!E603=\"EA4\",Dati!D603,)","v":0},{"$f":"IF(Dati!E603=\"EA5\",Dati!D603,)","v":0},{"$f":"IF(Dati!E603=\"EA6\",Dati!D603,)","v":0},{"$f":"IF(Dati!E603=\"EB1\",Dati!D603,)","v":0},{"$f":"IF(Dati!E603=\"EB2\",Dati!D603,)","v":0},{"$f":"IF(Dati!E603=\"EC1\",Dati!D603,)","v":0},{"$f":"IF(Dati!E603=\"ED1\",Dati!D603,)","v":0},{"$f":"IF(Dati!E603=\"EE1\",Dati!D603,)","v":0}]
[{"$f":"Dati!C604","v":"00:00:00"},{"$f":"Dati!H604","v":"00:00:00"},{"$f":"IF(Dati!E604=\"EA1\",Dati!D604,)","v":0},{"$f":"IF(Dati!E604=\"EA2\",Dati!D604,)","v":0},{"$f":"IF(Dati!E604=\"EA3\",Dati!D604,)","v":0},{"$f":"IF(Dati!E604=\"EA4\",Dati!D604,)","v":0},{"$f":"IF(Dati!E604=\"EA5\",Dati!D604,)","v":0},{"$f":"IF(Dati!E604=\"EA6\",Dati!D604,)","v":0},{"$f":"IF(Dati!E604=\"EB1\",Dati!D604,)","v":0},{"$f":"IF(Dati!E604=\"EB2\",Dati!D604,)","v":0},{"$f":"IF(Dati!E604=\"EC1\",Dati!D604,)","v":0},{"$f":"IF(Dati!E604=\"ED1\",Dati!D604,)","v":0},{"$f":"IF(Dati!E604=\"EE1\",Dati!D604,)","v":0}]
[{"$f":"Dati!C605","v":"00:00:00"},{"$f":"Dati!H605","v":"00:00:00"},{"$f":"IF(Dati!E605=\"EA1\",Dati!D605,)","v":0},{"$f":"IF(Dati!E605=\"EA2\",Dati!D605,)","v":0},{"$f":"IF(Dati!E605=\"EA3\",Dati!D605,)","v":0},{"$f":"IF(Dati!E605=\"EA4\",Dati!D605,)","v":0},{"$f":"IF(Dati!E605=\"EA5\",Dati!D605,)","v":0},{"$f":"IF(Dati!E605=\"EA6\",Dati!D605,)","v":0},{"$f":"IF(Dati!E605=\"EB1\",Dati!D605,)","v":0},{"$f":"IF(Dati!E605=\"EB2\",Dati!D605,)","v":0},{"$f":"IF(Dati!E605=\"EC1\",Dati!D605,)","v":0},{"$f":"IF(Dati!E605=\"ED1\",Dati!D605,)","v":0},{"$f":"IF(Dati!E605=\"EE1\",Dati!D605,)","v":0}]
[{"$f":"Dati!C606","v":"00:00:00"},{"$f":"Dati!H606","v":"00:00:00"},{"$f":"IF(Dati!E606=\"EA1\",Dati!D606,)","v":0},{"$f":"IF(Dati!E606=\"EA2\",Dati!D606,)","v":0},{"$f":"IF(Dati!E606=\"EA3\",Dati!D606,)","v":0},{"$f":"IF(Dati!E606=\"EA4\",Dati!D606,)","v":0},{"$f":"IF(Dati!E606=\"EA5\",Dati!D606,)","v":0},{"$f":"IF(Dati!E606=\"EA6\",Dati!D606,)","v":0},{"$f":"IF(Dati!E606=\"EB1\",Dati!D606,)","v":0},{"$f":"IF(Dati!E606=\"EB2\",Dati!D606,)","v":0},{"$f":"IF(Dati!E606=\"EC1\",Dati!D606,)","v":0},{"$f":"IF(Dati!E606=\"ED1\",Dati!D606,)","v":0},{"$f":"IF(Dati!E606=\"EE1\",Dati!D606,)","v":0}]
[{"$f":"Dati!C607","v":"00:00:00"},{"$f":"Dati!H607","v":"00:00:00"},{"$f":"IF(Dati!E607=\"EA1\",Dati!D607,)","v":0},{"$f":"IF(Dati!E607=\"EA2\",Dati!D607,)","v":0},{"$f":"IF(Dati!E607=\"EA3\",Dati!D607,)","v":0},{"$f":"IF(Dati!E607=\"EA4\",Dati!D607,)","v":0},{"$f":"IF(Dati!E607=\"EA5\",Dati!D607,)","v":0},{"$f":"IF(Dati!E607=\"EA6\",Dati!D607,)","v":0},{"$f":"IF(Dati!E607=\"EB1\",Dati!D607,)","v":0},{"$f":"IF(Dati!E607=\"EB2\",Dati!D607,)","v":0},{"$f":"IF(Dati!E607=\"EC1\",Dati!D607,)","v":0},{"$f":"IF(Dati!E607=\"ED1\",Dati!D607,)","v":0},{"$f":"IF(Dati!E607=\"EE1\",Dati!D607,)","v":0}]
[{"$f":"Dati!C608","v":"00:00:00"},{"$f":"Dati!H608","v":"00:00:00"},{"$f":"IF(Dati!E608=\"EA1\",Dati!D608,)","v":0},{"$f":"IF(Dati!E608=\"EA2\",Dati!D608,)","v":0},{"$f":"IF(Dati!E608=\"EA3\",Dati!D608,)","v":0},{"$f":"IF(Dati!E608=\"EA4\",Dati!D608,)","v":0},{"$f":"IF(Dati!E608=\"EA5\",Dati!D608,)","v":0},{"$f":"IF(Dati!E608=\"EA6\",Dati!D608,)","v":0},{"$f":"IF(Dati!E608=\"EB1\",Dati!D608,)","v":0},{"$f":"IF(Dati!E608=\"EB2\",Dati!D608,)","v":0},{"$f":"IF(Dati!E608=\"EC1\",Dati!D608,)","v":0},{"$f":"IF(Dati!E608=\"ED1\",Dati!D608,)","v":0},{"$f":"IF(Dati!E608=\"EE1\",Dati!D608,)","v":0}]
[{"$f":"Dati!C609","v":"00:00:00"},{"$f":"Dati!H609","v":"00:00:00"},{"$f":"IF(Dati!E609=\"EA1\",Dati!D609,)","v":0},{"$f":"IF(Dati!E609=\"EA2\",Dati!D609,)","v":0},{"$f":"IF(Dati!E609=\"EA3\",Dati!D609,)","v":0},{"$f":"IF(Dati!E609=\"EA4\",Dati!D609,)","v":0},{"$f":"IF(Dati!E609=\"EA5\",Dati!D609,)","v":0},{"$f":"IF(Dati!E609=\"EA6\",Dati!D609,)","v":0},{"$f":"IF(Dati!E609=\"EB1\",Dati!D609,)","v":0},{"$f":"IF(Dati!E609=\"EB2\",Dati!D609,)","v":0},{"$f":"IF(Dati!E609=\"EC1\",Dati!D609,)","v":0},{"$f":"IF(Dati!E609=\"ED1\",Dati!D609,)","v":0},{"$f":"IF(Dati!E609=\"EE1\",Dati!D609,)","v":0}]
[{"$f":"Dati!C610","v":"00:00:00"},{"$f":"Dati!H610","v":"00:00:00"},{"$f":"IF(Dati!E610=\"EA1\",Dati!D610,)","v":0},{"$f":"IF(Dati!E610=\"EA2\",Dati!D610,)","v":0},{"$f":"IF(Dati!E610=\"EA3\",Dati!D610,)","v":0},{"$f":"IF(Dati!E610=\"EA4\",Dati!D610,)","v":0},{"$f":"IF(Dati!E610=\"EA5\",Dati!D610,)","v":0},{"$f":"IF(Dati!E610=\"EA6\",Dati!D610,)","v":0},{"$f":"IF(Dati!E610=\"EB1\",Dati!D610,)","v":0},{"$f":"IF(Dati!E610=\"EB2\",Dati!D610,)","v":0},{"$f":"IF(Dati!E610=\"EC1\",Dati!D610,)","v":0},{"$f":"IF(Dati!E610=\"ED1\",Dati!D610,)","v":0},{"$f":"IF(Dati!E610=\"EE1\",Dati!D610,)","v":0}]
[{"$f":"Dati!C611","v":"00:00:00"},{"$f":"Dati!H611","v":"00:00:00"},{"$f":"IF(Dati!E611=\"EA1\",Dati!D611,)","v":0},{"$f":"IF(Dati!E611=\"EA2\",Dati!D611,)","v":0},{"$f":"IF(Dati!E611=\"EA3\",Dati!D611,)","v":0},{"$f":"IF(Dati!E611=\"EA4\",Dati!D611,)","v":0},{"$f":"IF(Dati!E611=\"EA5\",Dati!D611,)","v":0},{"$f":"IF(Dati!E611=\"EA6\",Dati!D611,)","v":0},{"$f":"IF(Dati!E611=\"EB1\",Dati!D611,)","v":0},{"$f":"IF(Dati!E611=\"EB2\",Dati!D611,)","v":0},{"$f":"IF(Dati!E611=\"EC1\",Dati!D611,)","v":0},{"$f":"IF(Dati!E611=\"ED1\",Dati!D611,)","v":0},{"$f":"IF(Dati!E611=\"EE1\",Dati!D611,)","v":0}]
[{"$f":"Dati!C612","v":"00:00:00"},{"$f":"Dati!H612","v":"00:00:00"},{"$f":"IF(Dati!E612=\"EA1\",Dati!D612,)","v":0},{"$f":"IF(Dati!E612=\"EA2\",Dati!D612,)","v":0},{"$f":"IF(Dati!E612=\"EA3\",Dati!D612,)","v":0},{"$f":"IF(Dati!E612=\"EA4\",Dati!D612,)","v":0},{"$f":"IF(Dati!E612=\"EA5\",Dati!D612,)","v":0},{"$f":"IF(Dati!E612=\"EA6\",Dati!D612,)","v":0},{"$f":"IF(Dati!E612=\"EB1\",Dati!D612,)","v":0},{"$f":"IF(Dati!E612=\"EB2\",Dati!D612,)","v":0},{"$f":"IF(Dati!E612=\"EC1\",Dati!D612,)","v":0},{"$f":"IF(Dati!E612=\"ED1\",Dati!D612,)","v":0},{"$f":"IF(Dati!E612=\"EE1\",Dati!D612,)","v":0}]
[{"$f":"Dati!C613","v":"00:00:00"},{"$f":"Dati!H613","v":"00:00:00"},{"$f":"IF(Dati!E613=\"EA1\",Dati!D613,)","v":0},{"$f":"IF(Dati!E613=\"EA2\",Dati!D613,)","v":0},{"$f":"IF(Dati!E613=\"EA3\",Dati!D613,)","v":0},{"$f":"IF(Dati!E613=\"EA4\",Dati!D613,)","v":0},{"$f":"IF(Dati!E613=\"EA5\",Dati!D613,)","v":0},{"$f":"IF(Dati!E613=\"EA6\",Dati!D613,)","v":0},{"$f":"IF(Dati!E613=\"EB1\",Dati!D613,)","v":0},{"$f":"IF(Dati!E613=\"EB2\",Dati!D613,)","v":0},{"$f":"IF(Dati!E613=\"EC1\",Dati!D613,)","v":0},{"$f":"IF(Dati!E613=\"ED1\",Dati!D613,)","v":0},{"$f":"IF(Dati!E613=\"EE1\",Dati!D613,)","v":0}]
[{"$f":"Dati!C614","v":"00:00:00"},{"$f":"Dati!H614","v":"00:00:00"},{"$f":"IF(Dati!E614=\"EA1\",Dati!D614,)","v":0},{"$f":"IF(Dati!E614=\"EA2\",Dati!D614,)","v":0},{"$f":"IF(Dati!E614=\"EA3\",Dati!D614,)","v":0},{"$f":"IF(Dati!E614=\"EA4\",Dati!D614,)","v":0},{"$f":"IF(Dati!E614=\"EA5\",Dati!D614,)","v":0},{"$f":"IF(Dati!E614=\"EA6\",Dati!D614,)","v":0},{"$f":"IF(Dati!E614=\"EB1\",Dati!D614,)","v":0},{"$f":"IF(Dati!E614=\"EB2\",Dati!D614,)","v":0},{"$f":"IF(Dati!E614=\"EC1\",Dati!D614,)","v":0},{"$f":"IF(Dati!E614=\"ED1\",Dati!D614,)","v":0},{"$f":"IF(Dati!E614=\"EE1\",Dati!D614,)","v":0}]
[{"$f":"Dati!C615","v":"00:00:00"},{"$f":"Dati!H615","v":"00:00:00"},{"$f":"IF(Dati!E615=\"EA1\",Dati!D615,)","v":0},{"$f":"IF(Dati!E615=\"EA2\",Dati!D615,)","v":0},{"$f":"IF(Dati!E615=\"EA3\",Dati!D615,)","v":0},{"$f":"IF(Dati!E615=\"EA4\",Dati!D615,)","v":0},{"$f":"IF(Dati!E615=\"EA5\",Dati!D615,)","v":0},{"$f":"IF(Dati!E615=\"EA6\",Dati!D615,)","v":0},{"$f":"IF(Dati!E615=\"EB1\",Dati!D615,)","v":0},{"$f":"IF(Dati!E615=\"EB2\",Dati!D615,)","v":0},{"$f":"IF(Dati!E615=\"EC1\",Dati!D615,)","v":0},{"$f":"IF(Dati!E615=\"ED1\",Dati!D615,)","v":0},{"$f":"IF(Dati!E615=\"EE1\",Dati!D615,)","v":0}]
[{"$f":"Dati!C616","v":"00:00:00"},{"$f":"Dati!H616","v":"00:00:00"},{"$f":"IF(Dati!E616=\"EA1\",Dati!D616,)","v":0},{"$f":"IF(Dati!E616=\"EA2\",Dati!D616,)","v":0},{"$f":"IF(Dati!E616=\"EA3\",Dati!D616,)","v":0},{"$f":"IF(Dati!E616=\"EA4\",Dati!D616,)","v":0},{"$f":"IF(Dati!E616=\"EA5\",Dati!D616,)","v":0},{"$f":"IF(Dati!E616=\"EA6\",Dati!D616,)","v":0},{"$f":"IF(Dati!E616=\"EB1\",Dati!D616,)","v":0},{"$f":"IF(Dati!E616=\"EB2\",Dati!D616,)","v":0},{"$f":"IF(Dati!E616=\"EC1\",Dati!D616,)","v":0},{"$f":"IF(Dati!E616=\"ED1\",Dati!D616,)","v":0},{"$f":"IF(Dati!E616=\"EE1\",Dati!D616,)","v":0}]
[{"$f":"Dati!C617","v":"00:00:00"},{"$f":"Dati!H617","v":"00:00:00"},{"$f":"IF(Dati!E617=\"EA1\",Dati!D617,)","v":0},{"$f":"IF(Dati!E617=\"EA2\",Dati!D617,)","v":0},{"$f":"IF(Dati!E617=\"EA3\",Dati!D617,)","v":0},{"$f":"IF(Dati!E617=\"EA4\",Dati!D617,)","v":0},{"$f":"IF(Dati!E617=\"EA5\",Dati!D617,)","v":0},{"$f":"IF(Dati!E617=\"EA6\",Dati!D617,)","v":0},{"$f":"IF(Dati!E617=\"EB1\",Dati!D617,)","v":0},{"$f":"IF(Dati!E617=\"EB2\",Dati!D617,)","v":0},{"$f":"IF(Dati!E617=\"EC1\",Dati!D617,)","v":0},{"$f":"IF(Dati!E617=\"ED1\",Dati!D617,)","v":0},{"$f":"IF(Dati!E617=\"EE1\",Dati!D617,)","v":0}]
[{"$f":"Dati!C618","v":"00:00:00"},{"$f":"Dati!H618","v":"00:00:00"},{"$f":"IF(Dati!E618=\"EA1\",Dati!D618,)","v":0},{"$f":"IF(Dati!E618=\"EA2\",Dati!D618,)","v":0},{"$f":"IF(Dati!E618=\"EA3\",Dati!D618,)","v":0},{"$f":"IF(Dati!E618=\"EA4\",Dati!D618,)","v":0},{"$f":"IF(Dati!E618=\"EA5\",Dati!D618,)","v":0},{"$f":"IF(Dati!E618=\"EA6\",Dati!D618,)","v":0},{"$f":"IF(Dati!E618=\"EB1\",Dati!D618,)","v":0},{"$f":"IF(Dati!E618=\"EB2\",Dati!D618,)","v":0},{"$f":"IF(Dati!E618=\"EC1\",Dati!D618,)","v":0},{"$f":"IF(Dati!E618=\"ED1\",Dati!D618,)","v":0},{"$f":"IF(Dati!E618=\"EE1\",Dati!D618,)","v":0}]
[{"$f":"Dati!C619","v":"00:00:00"},{"$f":"Dati!H619","v":"00:00:00"},{"$f":"IF(Dati!E619=\"EA1\",Dati!D619,)","v":0},{"$f":"IF(Dati!E619=\"EA2\",Dati!D619,)","v":0},{"$f":"IF(Dati!E619=\"EA3\",Dati!D619,)","v":0},{"$f":"IF(Dati!E619=\"EA4\",Dati!D619,)","v":0},{"$f":"IF(Dati!E619=\"EA5\",Dati!D619,)","v":0},{"$f":"IF(Dati!E619=\"EA6\",Dati!D619,)","v":0},{"$f":"IF(Dati!E619=\"EB1\",Dati!D619,)","v":0},{"$f":"IF(Dati!E619=\"EB2\",Dati!D619,)","v":0},{"$f":"IF(Dati!E619=\"EC1\",Dati!D619,)","v":0},{"$f":"IF(Dati!E619=\"ED1\",Dati!D619,)","v":0},{"$f":"IF(Dati!E619=\"EE1\",Dati!D619,)","v":0}]
[{"$f":"Dati!C620","v":"00:00:00"},{"$f":"Dati!H620","v":"00:00:00"},{"$f":"IF(Dati!E620=\"EA1\",Dati!D620,)","v":0},{"$f":"IF(Dati!E620=\"EA2\",Dati!D620,)","v":0},{"$f":"IF(Dati!E620=\"EA3\",Dati!D620,)","v":0},{"$f":"IF(Dati!E620=\"EA4\",Dati!D620,)","v":0},{"$f":"IF(Dati!E620=\"EA5\",Dati!D620,)","v":0},{"$f":"IF(Dati!E620=\"EA6\",Dati!D620,)","v":0},{"$f":"IF(Dati!E620=\"EB1\",Dati!D620,)","v":0},{"$f":"IF(Dati!E620=\"EB2\",Dati!D620,)","v":0},{"$f":"IF(Dati!E620=\"EC1\",Dati!D620,)","v":0},{"$f":"IF(Dati!E620=\"ED1\",Dati!D620,)","v":0},{"$f":"IF(Dati!E620=\"EE1\",Dati!D620,)","v":0}]
[{"$f":"Dati!C621","v":"00:00:00"},{"$f":"Dati!H621","v":"00:00:00"},{"$f":"IF(Dati!E621=\"EA1\",Dati!D621,)","v":0},{"$f":"IF(Dati!E621=\"EA2\",Dati!D621,)","v":0},{"$f":"IF(Dati!E621=\"EA3\",Dati!D621,)","v":0},{"$f":"IF(Dati!E621=\"EA4\",Dati!D621,)","v":0},{"$f":"IF(Dati!E621=\"EA5\",Dati!D621,)","v":0},{"$f":"IF(Dati!E621=\"EA6\",Dati!D621,)","v":0},{"$f":"IF(Dati!E621=\"EB1\",Dati!D621,)","v":0},{"$f":"IF(Dati!E621=\"EB2\",Dati!D621,)","v":0},{"$f":"IF(Dati!E621=\"EC1\",Dati!D621,)","v":0},{"$f":"IF(Dati!E621=\"ED1\",Dati!D621,)","v":0},{"$f":"IF(Dati!E621=\"EE1\",Dati!D621,)","v":0}]
[{"$f":"Dati!C622","v":"00:00:00"},{"$f":"Dati!H622","v":"00:00:00"},{"$f":"IF(Dati!E622=\"EA1\",Dati!D622,)","v":0},{"$f":"IF(Dati!E622=\"EA2\",Dati!D622,)","v":0},{"$f":"IF(Dati!E622=\"EA3\",Dati!D622,)","v":0},{"$f":"IF(Dati!E622=\"EA4\",Dati!D622,)","v":0},{"$f":"IF(Dati!E622=\"EA5\",Dati!D622,)","v":0},{"$f":"IF(Dati!E622=\"EA6\",Dati!D622,)","v":0},{"$f":"IF(Dati!E622=\"EB1\",Dati!D622,)","v":0},{"$f":"IF(Dati!E622=\"EB2\",Dati!D622,)","v":0},{"$f":"IF(Dati!E622=\"EC1\",Dati!D622,)","v":0},{"$f":"IF(Dati!E622=\"ED1\",Dati!D622,)","v":0},{"$f":"IF(Dati!E622=\"EE1\",Dati!D622,)","v":0}]
[{"$f":"Dati!C623","v":"00:00:00"},{"$f":"Dati!H623","v":"00:00:00"},{"$f":"IF(Dati!E623=\"EA1\",Dati!D623,)","v":0},{"$f":"IF(Dati!E623=\"EA2\",Dati!D623,)","v":0},{"$f":"IF(Dati!E623=\"EA3\",Dati!D623,)","v":0},{"$f":"IF(Dati!E623=\"EA4\",Dati!D623,)","v":0},{"$f":"IF(Dati!E623=\"EA5\",Dati!D623,)","v":0},{"$f":"IF(Dati!E623=\"EA6\",Dati!D623,)","v":0},{"$f":"IF(Dati!E623=\"EB1\",Dati!D623,)","v":0},{"$f":"IF(Dati!E623=\"EB2\",Dati!D623,)","v":0},{"$f":"IF(Dati!E623=\"EC1\",Dati!D623,)","v":0},{"$f":"IF(Dati!E623=\"ED1\",Dati!D623,)","v":0},{"$f":"IF(Dati!E623=\"EE1\",Dati!D623,)","v":0}]
[{"$f":"Dati!C624","v":"00:00:00"},{"$f":"Dati!H624","v":"00:00:00"},{"$f":"IF(Dati!E624=\"EA1\",Dati!D624,)","v":0},{"$f":"IF(Dati!E624=\"EA2\",Dati!D624,)","v":0},{"$f":"IF(Dati!E624=\"EA3\",Dati!D624,)","v":0},{"$f":"IF(Dati!E624=\"EA4\",Dati!D624,)","v":0},{"$f":"IF(Dati!E624=\"EA5\",Dati!D624,)","v":0},{"$f":"IF(Dati!E624=\"EA6\",Dati!D624,)","v":0},{"$f":"IF(Dati!E624=\"EB1\",Dati!D624,)","v":0},{"$f":"IF(Dati!E624=\"EB2\",Dati!D624,)","v":0},{"$f":"IF(Dati!E624=\"EC1\",Dati!D624,)","v":0},{"$f":"IF(Dati!E624=\"ED1\",Dati!D624,)","v":0},{"$f":"IF(Dati!E624=\"EE1\",Dati!D624,)","v":0}]
[{"$f":"Dati!C625","v":"00:00:00"},{"$f":"Dati!H625","v":"00:00:00"},{"$f":"IF(Dati!E625=\"EA1\",Dati!D625,)","v":0},{"$f":"IF(Dati!E625=\"EA2\",Dati!D625,)","v":0},{"$f":"IF(Dati!E625=\"EA3\",Dati!D625,)","v":0},{"$f":"IF(Dati!E625=\"EA4\",Dati!D625,)","v":0},{"$f":"IF(Dati!E625=\"EA5\",Dati!D625,)","v":0},{"$f":"IF(Dati!E625=\"EA6\",Dati!D625,)","v":0},{"$f":"IF(Dati!E625=\"EB1\",Dati!D625,)","v":0},{"$f":"IF(Dati!E625=\"EB2\",Dati!D625,)","v":0},{"$f":"IF(Dati!E625=\"EC1\",Dati!D625,)","v":0},{"$f":"IF(Dati!E625=\"ED1\",Dati!D625,)","v":0},{"$f":"IF(Dati!E625=\"EE1\",Dati!D625,)","v":0}]
[{"$f":"Dati!C626","v":"00:00:00"},{"$f":"Dati!H626","v":"00:00:00"},{"$f":"IF(Dati!E626=\"EA1\",Dati!D626,)","v":0},{"$f":"IF(Dati!E626=\"EA2\",Dati!D626,)","v":0},{"$f":"IF(Dati!E626=\"EA3\",Dati!D626,)","v":0},{"$f":"IF(Dati!E626=\"EA4\",Dati!D626,)","v":0},{"$f":"IF(Dati!E626=\"EA5\",Dati!D626,)","v":0},{"$f":"IF(Dati!E626=\"EA6\",Dati!D626,)","v":0},{"$f":"IF(Dati!E626=\"EB1\",Dati!D626,)","v":0},{"$f":"IF(Dati!E626=\"EB2\",Dati!D626,)","v":0},{"$f":"IF(Dati!E626=\"EC1\",Dati!D626,)","v":0},{"$f":"IF(Dati!E626=\"ED1\",Dati!D626,)","v":0},{"$f":"IF(Dati!E626=\"EE1\",Dati!D626,)","v":0}]
[{"$f":"Dati!C627","v":"00:00:00"},{"$f":"Dati!H627","v":"00:00:00"},{"$f":"IF(Dati!E627=\"EA1\",Dati!D627,)","v":0},{"$f":"IF(Dati!E627=\"EA2\",Dati!D627,)","v":0},{"$f":"IF(Dati!E627=\"EA3\",Dati!D627,)","v":0},{"$f":"IF(Dati!E627=\"EA4\",Dati!D627,)","v":0},{"$f":"IF(Dati!E627=\"EA5\",Dati!D627,)","v":0},{"$f":"IF(Dati!E627=\"EA6\",Dati!D627,)","v":0},{"$f":"IF(Dati!E627=\"EB1\",Dati!D627,)","v":0},{"$f":"IF(Dati!E627=\"EB2\",Dati!D627,)","v":0},{"$f":"IF(Dati!E627=\"EC1\",Dati!D627,)","v":0},{"$f":"IF(Dati!E627=\"ED1\",Dati!D627,)","v":0},{"$f":"IF(Dati!E627=\"EE1\",Dati!D627,)","v":0}]
[{"$f":"Dati!C628","v":"00:00:00"},{"$f":"Dati!H628","v":"00:00:00"},{"$f":"IF(Dati!E628=\"EA1\",Dati!D628,)","v":0},{"$f":"IF(Dati!E628=\"EA2\",Dati!D628,)","v":0},{"$f":"IF(Dati!E628=\"EA3\",Dati!D628,)","v":0},{"$f":"IF(Dati!E628=\"EA4\",Dati!D628,)","v":0},{"$f":"IF(Dati!E628=\"EA5\",Dati!D628,)","v":0},{"$f":"IF(Dati!E628=\"EA6\",Dati!D628,)","v":0},{"$f":"IF(Dati!E628=\"EB1\",Dati!D628,)","v":0},{"$f":"IF(Dati!E628=\"EB2\",Dati!D628,)","v":0},{"$f":"IF(Dati!E628=\"EC1\",Dati!D628,)","v":0},{"$f":"IF(Dati!E628=\"ED1\",Dati!D628,)","v":0},{"$f":"IF(Dati!E628=\"EE1\",Dati!D628,)","v":0}]
[{"$f":"Dati!C629","v":"00:00:00"},{"$f":"Dati!H629","v":"00:00:00"},{"$f":"IF(Dati!E629=\"EA1\",Dati!D629,)","v":0},{"$f":"IF(Dati!E629=\"EA2\",Dati!D629,)","v":0},{"$f":"IF(Dati!E629=\"EA3\",Dati!D629,)","v":0},{"$f":"IF(Dati!E629=\"EA4\",Dati!D629,)","v":0},{"$f":"IF(Dati!E629=\"EA5\",Dati!D629,)","v":0},{"$f":"IF(Dati!E629=\"EA6\",Dati!D629,)","v":0},{"$f":"IF(Dati!E629=\"EB1\",Dati!D629,)","v":0},{"$f":"IF(Dati!E629=\"EB2\",Dati!D629,)","v":0},{"$f":"IF(Dati!E629=\"EC1\",Dati!D629,)","v":0},{"$f":"IF(Dati!E629=\"ED1\",Dati!D629,)","v":0},{"$f":"IF(Dati!E629=\"EE1\",Dati!D629,)","v":0}]
[{"$f":"Dati!C630","v":"00:00:00"},{"$f":"Dati!H630","v":"00:00:00"},{"$f":"IF(Dati!E630=\"EA1\",Dati!D630,)","v":0},{"$f":"IF(Dati!E630=\"EA2\",Dati!D630,)","v":0},{"$f":"IF(Dati!E630=\"EA3\",Dati!D630,)","v":0},{"$f":"IF(Dati!E630=\"EA4\",Dati!D630,)","v":0},{"$f":"IF(Dati!E630=\"EA5\",Dati!D630,)","v":0},{"$f":"IF(Dati!E630=\"EA6\",Dati!D630,)","v":0},{"$f":"IF(Dati!E630=\"EB1\",Dati!D630,)","v":0},{"$f":"IF(Dati!E630=\"EB2\",Dati!D630,)","v":0},{"$f":"IF(Dati!E630=\"EC1\",Dati!D630,)","v":0},{"$f":"IF(Dati!E630=\"ED1\",Dati!D630,)","v":0},{"$f":"IF(Dati!E630=\"EE1\",Dati!D630,)","v":0}]
[{"$f":"Dati!C631","v":"00:00:00"},{"$f":"Dati!H631","v":"00:00:00"},{"$f":"IF(Dati!E631=\"EA1\",Dati!D631,)","v":0},{"$f":"IF(Dati!E631=\"EA2\",Dati!D631,)","v":0},{"$f":"IF(Dati!E631=\"EA3\",Dati!D631,)","v":0},{"$f":"IF(Dati!E631=\"EA4\",Dati!D631,)","v":0},{"$f":"IF(Dati!E631=\"EA5\",Dati!D631,)","v":0},{"$f":"IF(Dati!E631=\"EA6\",Dati!D631,)","v":0},{"$f":"IF(Dati!E631=\"EB1\",Dati!D631,)","v":0},{"$f":"IF(Dati!E631=\"EB2\",Dati!D631,)","v":0},{"$f":"IF(Dati!E631=\"EC1\",Dati!D631,)","v":0},{"$f":"IF(Dati!E631=\"ED1\",Dati!D631,)","v":0},{"$f":"IF(Dati!E631=\"EE1\",Dati!D631,)","v":0}]
[{"$f":"Dati!C632","v":"00:00:00"},{"$f":"Dati!H632","v":"00:00:00"},{"$f":"IF(Dati!E632=\"EA1\",Dati!D632,)","v":0},{"$f":"IF(Dati!E632=\"EA2\",Dati!D632,)","v":0},{"$f":"IF(Dati!E632=\"EA3\",Dati!D632,)","v":0},{"$f":"IF(Dati!E632=\"EA4\",Dati!D632,)","v":0},{"$f":"IF(Dati!E632=\"EA5\",Dati!D632,)","v":0},{"$f":"IF(Dati!E632=\"EA6\",Dati!D632,)","v":0},{"$f":"IF(Dati!E632=\"EB1\",Dati!D632,)","v":0},{"$f":"IF(Dati!E632=\"EB2\",Dati!D632,)","v":0},{"$f":"IF(Dati!E632=\"EC1\",Dati!D632,)","v":0},{"$f":"IF(Dati!E632=\"ED1\",Dati!D632,)","v":0},{"$f":"IF(Dati!E632=\"EE1\",Dati!D632,)","v":0}]
[{"$f":"Dati!C633","v":"00:00:00"},{"$f":"Dati!H633","v":"00:00:00"},{"$f":"IF(Dati!E633=\"EA1\",Dati!D633,)","v":0},{"$f":"IF(Dati!E633=\"EA2\",Dati!D633,)","v":0},{"$f":"IF(Dati!E633=\"EA3\",Dati!D633,)","v":0},{"$f":"IF(Dati!E633=\"EA4\",Dati!D633,)","v":0},{"$f":"IF(Dati!E633=\"EA5\",Dati!D633,)","v":0},{"$f":"IF(Dati!E633=\"EA6\",Dati!D633,)","v":0},{"$f":"IF(Dati!E633=\"EB1\",Dati!D633,)","v":0},{"$f":"IF(Dati!E633=\"EB2\",Dati!D633,)","v":0},{"$f":"IF(Dati!E633=\"EC1\",Dati!D633,)","v":0},{"$f":"IF(Dati!E633=\"ED1\",Dati!D633,)","v":0},{"$f":"IF(Dati!E633=\"EE1\",Dati!D633,)","v":0}]
[{"$f":"Dati!C634","v":"00:00:00"},{"$f":"Dati!H634","v":"00:00:00"},{"$f":"IF(Dati!E634=\"EA1\",Dati!D634,)","v":0},{"$f":"IF(Dati!E634=\"EA2\",Dati!D634,)","v":0},{"$f":"IF(Dati!E634=\"EA3\",Dati!D634,)","v":0},{"$f":"IF(Dati!E634=\"EA4\",Dati!D634,)","v":0},{"$f":"IF(Dati!E634=\"EA5\",Dati!D634,)","v":0},{"$f":"IF(Dati!E634=\"EA6\",Dati!D634,)","v":0},{"$f":"IF(Dati!E634=\"EB1\",Dati!D634,)","v":0},{"$f":"IF(Dati!E634=\"EB2\",Dati!D634,)","v":0},{"$f":"IF(Dati!E634=\"EC1\",Dati!D634,)","v":0},{"$f":"IF(Dati!E634=\"ED1\",Dati!D634,)","v":0},{"$f":"IF(Dati!E634=\"EE1\",Dati!D634,)","v":0}]
[{"$f":"Dati!C635","v":"00:00:00"},{"$f":"Dati!H635","v":"00:00:00"},{"$f":"IF(Dati!E635=\"EA1\",Dati!D635,)","v":0},{"$f":"IF(Dati!E635=\"EA2\",Dati!D635,)","v":0},{"$f":"IF(Dati!E635=\"EA3\",Dati!D635,)","v":0},{"$f":"IF(Dati!E635=\"EA4\",Dati!D635,)","v":0},{"$f":"IF(Dati!E635=\"EA5\",Dati!D635,)","v":0},{"$f":"IF(Dati!E635=\"EA6\",Dati!D635,)","v":0},{"$f":"IF(Dati!E635=\"EB1\",Dati!D635,)","v":0},{"$f":"IF(Dati!E635=\"EB2\",Dati!D635,)","v":0},{"$f":"IF(Dati!E635=\"EC1\",Dati!D635,)","v":0},{"$f":"IF(Dati!E635=\"ED1\",Dati!D635,)","v":0},{"$f":"IF(Dati!E635=\"EE1\",Dati!D635,)","v":0}]
[{"$f":"Dati!C636","v":"00:00:00"},{"$f":"Dati!H636","v":"00:00:00"},{"$f":"IF(Dati!E636=\"EA1\",Dati!D636,)","v":0},{"$f":"IF(Dati!E636=\"EA2\",Dati!D636,)","v":0},{"$f":"IF(Dati!E636=\"EA3\",Dati!D636,)","v":0},{"$f":"IF(Dati!E636=\"EA4\",Dati!D636,)","v":0},{"$f":"IF(Dati!E636=\"EA5\",Dati!D636,)","v":0},{"$f":"IF(Dati!E636=\"EA6\",Dati!D636,)","v":0},{"$f":"IF(Dati!E636=\"EB1\",Dati!D636,)","v":0},{"$f":"IF(Dati!E636=\"EB2\",Dati!D636,)","v":0},{"$f":"IF(Dati!E636=\"EC1\",Dati!D636,)","v":0},{"$f":"IF(Dati!E636=\"ED1\",Dati!D636,)","v":0},{"$f":"IF(Dati!E636=\"EE1\",Dati!D636,)","v":0}]
[{"$f":"Dati!C637","v":"00:00:00"},{"$f":"Dati!H637","v":"00:00:00"},{"$f":"IF(Dati!E637=\"EA1\",Dati!D637,)","v":0},{"$f":"IF(Dati!E637=\"EA2\",Dati!D637,)","v":0},{"$f":"IF(Dati!E637=\"EA3\",Dati!D637,)","v":0},{"$f":"IF(Dati!E637=\"EA4\",Dati!D637,)","v":0},{"$f":"IF(Dati!E637=\"EA5\",Dati!D637,)","v":0},{"$f":"IF(Dati!E637=\"EA6\",Dati!D637,)","v":0},{"$f":"IF(Dati!E637=\"EB1\",Dati!D637,)","v":0},{"$f":"IF(Dati!E637=\"EB2\",Dati!D637,)","v":0},{"$f":"IF(Dati!E637=\"EC1\",Dati!D637,)","v":0},{"$f":"IF(Dati!E637=\"ED1\",Dati!D637,)","v":0},{"$f":"IF(Dati!E637=\"EE1\",Dati!D637,)","v":0}]
[{"$f":"Dati!C638","v":"00:00:00"},{"$f":"Dati!H638","v":"00:00:00"},{"$f":"IF(Dati!E638=\"EA1\",Dati!D638,)","v":0},{"$f":"IF(Dati!E638=\"EA2\",Dati!D638,)","v":0},{"$f":"IF(Dati!E638=\"EA3\",Dati!D638,)","v":0},{"$f":"IF(Dati!E638=\"EA4\",Dati!D638,)","v":0},{"$f":"IF(Dati!E638=\"EA5\",Dati!D638,)","v":0},{"$f":"IF(Dati!E638=\"EA6\",Dati!D638,)","v":0},{"$f":"IF(Dati!E638=\"EB1\",Dati!D638,)","v":0},{"$f":"IF(Dati!E638=\"EB2\",Dati!D638,)","v":0},{"$f":"IF(Dati!E638=\"EC1\",Dati!D638,)","v":0},{"$f":"IF(Dati!E638=\"ED1\",Dati!D638,)","v":0},{"$f":"IF(Dati!E638=\"EE1\",Dati!D638,)","v":0}]
[{"$f":"Dati!C639","v":"00:00:00"},{"$f":"Dati!H639","v":"00:00:00"},{"$f":"IF(Dati!E639=\"EA1\",Dati!D639,)","v":0},{"$f":"IF(Dati!E639=\"EA2\",Dati!D639,)","v":0},{"$f":"IF(Dati!E639=\"EA3\",Dati!D639,)","v":0},{"$f":"IF(Dati!E639=\"EA4\",Dati!D639,)","v":0},{"$f":"IF(Dati!E639=\"EA5\",Dati!D639,)","v":0},{"$f":"IF(Dati!E639=\"EA6\",Dati!D639,)","v":0},{"$f":"IF(Dati!E639=\"EB1\",Dati!D639,)","v":0},{"$f":"IF(Dati!E639=\"EB2\",Dati!D639,)","v":0},{"$f":"IF(Dati!E639=\"EC1\",Dati!D639,)","v":0},{"$f":"IF(Dati!E639=\"ED1\",Dati!D639,)","v":0},{"$f":"IF(Dati!E639=\"EE1\",Dati!D639,)","v":0}]
[{"$f":"Dati!C640","v":"00:00:00"},{"$f":"Dati!H640","v":"00:00:00"},{"$f":"IF(Dati!E640=\"EA1\",Dati!D640,)","v":0},{"$f":"IF(Dati!E640=\"EA2\",Dati!D640,)","v":0},{"$f":"IF(Dati!E640=\"EA3\",Dati!D640,)","v":0},{"$f":"IF(Dati!E640=\"EA4\",Dati!D640,)","v":0},{"$f":"IF(Dati!E640=\"EA5\",Dati!D640,)","v":0},{"$f":"IF(Dati!E640=\"EA6\",Dati!D640,)","v":0},{"$f":"IF(Dati!E640=\"EB1\",Dati!D640,)","v":0},{"$f":"IF(Dati!E640=\"EB2\",Dati!D640,)","v":0},{"$f":"IF(Dati!E640=\"EC1\",Dati!D640,)","v":0},{"$f":"IF(Dati!E640=\"ED1\",Dati!D640,)","v":0},{"$f":"IF(Dati!E640=\"EE1\",Dati!D640,)","v":0}]
[{"$f":"Dati!C641","v":"00:00:00"},{"$f":"Dati!H641","v":"00:00:00"},{"$f":"IF(Dati!E641=\"EA1\",Dati!D641,)","v":0},{"$f":"IF(Dati!E641=\"EA2\",Dati!D641,)","v":0},{"$f":"IF(Dati!E641=\"EA3\",Dati!D641,)","v":0},{"$f":"IF(Dati!E641=\"EA4\",Dati!D641,)","v":0},{"$f":"IF(Dati!E641=\"EA5\",Dati!D641,)","v":0},{"$f":"IF(Dati!E641=\"EA6\",Dati!D641,)","v":0},{"$f":"IF(Dati!E641=\"EB1\",Dati!D641,)","v":0},{"$f":"IF(Dati!E641=\"EB2\",Dati!D641,)","v":0},{"$f":"IF(Dati!E641=\"EC1\",Dati!D641,)","v":0},{"$f":"IF(Dati!E641=\"ED1\",Dati!D641,)","v":0},{"$f":"IF(Dati!E641=\"EE1\",Dati!D641,)","v":0}]
[{"$f":"Dati!C642","v":"00:00:00"},{"$f":"Dati!H642","v":"00:00:00"},{"$f":"IF(Dati!E642=\"EA1\",Dati!D642,)","v":0},{"$f":"IF(Dati!E642=\"EA2\",Dati!D642,)","v":0},{"$f":"IF(Dati!E642=\"EA3\",Dati!D642,)","v":0},{"$f":"IF(Dati!E642=\"EA4\",Dati!D642,)","v":0},{"$f":"IF(Dati!E642=\"EA5\",Dati!D642,)","v":0},{"$f":"IF(Dati!E642=\"EA6\",Dati!D642,)","v":0},{"$f":"IF(Dati!E642=\"EB1\",Dati!D642,)","v":0},{"$f":"IF(Dati!E642=\"EB2\",Dati!D642,)","v":0},{"$f":"IF(Dati!E642=\"EC1\",Dati!D642,)","v":0},{"$f":"IF(Dati!E642=\"ED1\",Dati!D642,)","v":0},{"$f":"IF(Dati!E642=\"EE1\",Dati!D642,)","v":0}]
[{"$f":"Dati!C643","v":"00:00:00"},{"$f":"Dati!H643","v":"00:00:00"},{"$f":"IF(Dati!E643=\"EA1\",Dati!D643,)","v":0},{"$f":"IF(Dati!E643=\"EA2\",Dati!D643,)","v":0},{"$f":"IF(Dati!E643=\"EA3\",Dati!D643,)","v":0},{"$f":"IF(Dati!E643=\"EA4\",Dati!D643,)","v":0},{"$f":"IF(Dati!E643=\"EA5\",Dati!D643,)","v":0},{"$f":"IF(Dati!E643=\"EA6\",Dati!D643,)","v":0},{"$f":"IF(Dati!E643=\"EB1\",Dati!D643,)","v":0},{"$f":"IF(Dati!E643=\"EB2\",Dati!D643,)","v":0},{"$f":"IF(Dati!E643=\"EC1\",Dati!D643,)","v":0},{"$f":"IF(Dati!E643=\"ED1\",Dati!D643,)","v":0},{"$f":"IF(Dati!E643=\"EE1\",Dati!D643,)","v":0}]
[{"$f":"Dati!C644","v":"00:00:00"},{"$f":"Dati!H644","v":"00:00:00"},{"$f":"IF(Dati!E644=\"EA1\",Dati!D644,)","v":0},{"$f":"IF(Dati!E644=\"EA2\",Dati!D644,)","v":0},{"$f":"IF(Dati!E644=\"EA3\",Dati!D644,)","v":0},{"$f":"IF(Dati!E644=\"EA4\",Dati!D644,)","v":0},{"$f":"IF(Dati!E644=\"EA5\",Dati!D644,)","v":0},{"$f":"IF(Dati!E644=\"EA6\",Dati!D644,)","v":0},{"$f":"IF(Dati!E644=\"EB1\",Dati!D644,)","v":0},{"$f":"IF(Dati!E644=\"EB2\",Dati!D644,)","v":0},{"$f":"IF(Dati!E644=\"EC1\",Dati!D644,)","v":0},{"$f":"IF(Dati!E644=\"ED1\",Dati!D644,)","v":0},{"$f":"IF(Dati!E644=\"EE1\",Dati!D644,)","v":0}]
[{"$f":"Dati!C645","v":"00:00:00"},{"$f":"Dati!H645","v":"00:00:00"},{"$f":"IF(Dati!E645=\"EA1\",Dati!D645,)","v":0},{"$f":"IF(Dati!E645=\"EA2\",Dati!D645,)","v":0},{"$f":"IF(Dati!E645=\"EA3\",Dati!D645,)","v":0},{"$f":"IF(Dati!E645=\"EA4\",Dati!D645,)","v":0},{"$f":"IF(Dati!E645=\"EA5\",Dati!D645,)","v":0},{"$f":"IF(Dati!E645=\"EA6\",Dati!D645,)","v":0},{"$f":"IF(Dati!E645=\"EB1\",Dati!D645,)","v":0},{"$f":"IF(Dati!E645=\"EB2\",Dati!D645,)","v":0},{"$f":"IF(Dati!E645=\"EC1\",Dati!D645,)","v":0},{"$f":"IF(Dati!E645=\"ED1\",Dati!D645,)","v":0},{"$f":"IF(Dati!E645=\"EE1\",Dati!D645,)","v":0}]
[{"$f":"Dati!C646","v":"00:00:00"},{"$f":"Dati!H646","v":"00:00:00"},{"$f":"IF(Dati!E646=\"EA1\",Dati!D646,)","v":0},{"$f":"IF(Dati!E646=\"EA2\",Dati!D646,)","v":0},{"$f":"IF(Dati!E646=\"EA3\",Dati!D646,)","v":0},{"$f":"IF(Dati!E646=\"EA4\",Dati!D646,)","v":0},{"$f":"IF(Dati!E646=\"EA5\",Dati!D646,)","v":0},{"$f":"IF(Dati!E646=\"EA6\",Dati!D646,)","v":0},{"$f":"IF(Dati!E646=\"EB1\",Dati!D646,)","v":0},{"$f":"IF(Dati!E646=\"EB2\",Dati!D646,)","v":0},{"$f":"IF(Dati!E646=\"EC1\",Dati!D646,)","v":0},{"$f":"IF(Dati!E646=\"ED1\",Dati!D646,)","v":0},{"$f":"IF(Dati!E646=\"EE1\",Dati!D646,)","v":0}]
[{"$f":"Dati!C647","v":"00:00:00"},{"$f":"Dati!H647","v":"00:00:00"},{"$f":"IF(Dati!E647=\"EA1\",Dati!D647,)","v":0},{"$f":"IF(Dati!E647=\"EA2\",Dati!D647,)","v":0},{"$f":"IF(Dati!E647=\"EA3\",Dati!D647,)","v":0},{"$f":"IF(Dati!E647=\"EA4\",Dati!D647,)","v":0},{"$f":"IF(Dati!E647=\"EA5\",Dati!D647,)","v":0},{"$f":"IF(Dati!E647=\"EA6\",Dati!D647,)","v":0},{"$f":"IF(Dati!E647=\"EB1\",Dati!D647,)","v":0},{"$f":"IF(Dati!E647=\"EB2\",Dati!D647,)","v":0},{"$f":"IF(Dati!E647=\"EC1\",Dati!D647,)","v":0},{"$f":"IF(Dati!E647=\"ED1\",Dati!D647,)","v":0},{"$f":"IF(Dati!E647=\"EE1\",Dati!D647,)","v":0}]
[{"$f":"Dati!C648","v":"00:00:00"},{"$f":"Dati!H648","v":"00:00:00"},{"$f":"IF(Dati!E648=\"EA1\",Dati!D648,)","v":0},{"$f":"IF(Dati!E648=\"EA2\",Dati!D648,)","v":0},{"$f":"IF(Dati!E648=\"EA3\",Dati!D648,)","v":0},{"$f":"IF(Dati!E648=\"EA4\",Dati!D648,)","v":0},{"$f":"IF(Dati!E648=\"EA5\",Dati!D648,)","v":0},{"$f":"IF(Dati!E648=\"EA6\",Dati!D648,)","v":0},{"$f":"IF(Dati!E648=\"EB1\",Dati!D648,)","v":0},{"$f":"IF(Dati!E648=\"EB2\",Dati!D648,)","v":0},{"$f":"IF(Dati!E648=\"EC1\",Dati!D648,)","v":0},{"$f":"IF(Dati!E648=\"ED1\",Dati!D648,)","v":0},{"$f":"IF(Dati!E648=\"EE1\",Dati!D648,)","v":0}]
[{"$f":"Dati!C649","v":"00:00:00"},{"$f":"Dati!H649","v":"00:00:00"},{"$f":"IF(Dati!E649=\"EA1\",Dati!D649,)","v":0},{"$f":"IF(Dati!E649=\"EA2\",Dati!D649,)","v":0},{"$f":"IF(Dati!E649=\"EA3\",Dati!D649,)","v":0},{"$f":"IF(Dati!E649=\"EA4\",Dati!D649,)","v":0},{"$f":"IF(Dati!E649=\"EA5\",Dati!D649,)","v":0},{"$f":"IF(Dati!E649=\"EA6\",Dati!D649,)","v":0},{"$f":"IF(Dati!E649=\"EB1\",Dati!D649,)","v":0},{"$f":"IF(Dati!E649=\"EB2\",Dati!D649,)","v":0},{"$f":"IF(Dati!E649=\"EC1\",Dati!D649,)","v":0},{"$f":"IF(Dati!E649=\"ED1\",Dati!D649,)","v":0},{"$f":"IF(Dati!E649=\"EE1\",Dati!D649,)","v":0}]
[{"$f":"Dati!C650","v":"00:00:00"},{"$f":"Dati!H650","v":"00:00:00"},{"$f":"IF(Dati!E650=\"EA1\",Dati!D650,)","v":0},{"$f":"IF(Dati!E650=\"EA2\",Dati!D650,)","v":0},{"$f":"IF(Dati!E650=\"EA3\",Dati!D650,)","v":0},{"$f":"IF(Dati!E650=\"EA4\",Dati!D650,)","v":0},{"$f":"IF(Dati!E650=\"EA5\",Dati!D650,)","v":0},{"$f":"IF(Dati!E650=\"EA6\",Dati!D650,)","v":0},{"$f":"IF(Dati!E650=\"EB1\",Dati!D650,)","v":0},{"$f":"IF(Dati!E650=\"EB2\",Dati!D650,)","v":0},{"$f":"IF(Dati!E650=\"EC1\",Dati!D650,)","v":0},{"$f":"IF(Dati!E650=\"ED1\",Dati!D650,)","v":0},{"$f":"IF(Dati!E650=\"EE1\",Dati!D650,)","v":0}]
[{"$f":"Dati!C651","v":"00:00:00"},{"$f":"Dati!H651","v":"00:00:00"},{"$f":"IF(Dati!E651=\"EA1\",Dati!D651,)","v":0},{"$f":"IF(Dati!E651=\"EA2\",Dati!D651,)","v":0},{"$f":"IF(Dati!E651=\"EA3\",Dati!D651,)","v":0},{"$f":"IF(Dati!E651=\"EA4\",Dati!D651,)","v":0},{"$f":"IF(Dati!E651=\"EA5\",Dati!D651,)","v":0},{"$f":"IF(Dati!E651=\"EA6\",Dati!D651,)","v":0},{"$f":"IF(Dati!E651=\"EB1\",Dati!D651,)","v":0},{"$f":"IF(Dati!E651=\"EB2\",Dati!D651,)","v":0},{"$f":"IF(Dati!E651=\"EC1\",Dati!D651,)","v":0},{"$f":"IF(Dati!E651=\"ED1\",Dati!D651,)","v":0},{"$f":"IF(Dati!E651=\"EE1\",Dati!D651,)","v":0}]
[{"$f":"Dati!C652","v":"00:00:00"},{"$f":"Dati!H652","v":"00:00:00"},{"$f":"IF(Dati!E652=\"EA1\",Dati!D652,)","v":0},{"$f":"IF(Dati!E652=\"EA2\",Dati!D652,)","v":0},{"$f":"IF(Dati!E652=\"EA3\",Dati!D652,)","v":0},{"$f":"IF(Dati!E652=\"EA4\",Dati!D652,)","v":0},{"$f":"IF(Dati!E652=\"EA5\",Dati!D652,)","v":0},{"$f":"IF(Dati!E652=\"EA6\",Dati!D652,)","v":0},{"$f":"IF(Dati!E652=\"EB1\",Dati!D652,)","v":0},{"$f":"IF(Dati!E652=\"EB2\",Dati!D652,)","v":0},{"$f":"IF(Dati!E652=\"EC1\",Dati!D652,)","v":0},{"$f":"IF(Dati!E652=\"ED1\",Dati!D652,)","v":0},{"$f":"IF(Dati!E652=\"EE1\",Dati!D652,)","v":0}]
[{"$f":"Dati!C653","v":"00:00:00"},{"$f":"Dati!H653","v":"00:00:00"},{"$f":"IF(Dati!E653=\"EA1\",Dati!D653,)","v":0},{"$f":"IF(Dati!E653=\"EA2\",Dati!D653,)","v":0},{"$f":"IF(Dati!E653=\"EA3\",Dati!D653,)","v":0},{"$f":"IF(Dati!E653=\"EA4\",Dati!D653,)","v":0},{"$f":"IF(Dati!E653=\"EA5\",Dati!D653,)","v":0},{"$f":"IF(Dati!E653=\"EA6\",Dati!D653,)","v":0},{"$f":"IF(Dati!E653=\"EB1\",Dati!D653,)","v":0},{"$f":"IF(Dati!E653=\"EB2\",Dati!D653,)","v":0},{"$f":"IF(Dati!E653=\"EC1\",Dati!D653,)","v":0},{"$f":"IF(Dati!E653=\"ED1\",Dati!D653,)","v":0},{"$f":"IF(Dati!E653=\"EE1\",Dati!D653,)","v":0}]
[{"$f":"Dati!C654","v":"00:00:00"},{"$f":"Dati!H654","v":"00:00:00"},{"$f":"IF(Dati!E654=\"EA1\",Dati!D654,)","v":0},{"$f":"IF(Dati!E654=\"EA2\",Dati!D654,)","v":0},{"$f":"IF(Dati!E654=\"EA3\",Dati!D654,)","v":0},{"$f":"IF(Dati!E654=\"EA4\",Dati!D654,)","v":0},{"$f":"IF(Dati!E654=\"EA5\",Dati!D654,)","v":0},{"$f":"IF(Dati!E654=\"EA6\",Dati!D654,)","v":0},{"$f":"IF(Dati!E654=\"EB1\",Dati!D654,)","v":0},{"$f":"IF(Dati!E654=\"EB2\",Dati!D654,)","v":0},{"$f":"IF(Dati!E654=\"EC1\",Dati!D654,)","v":0},{"$f":"IF(Dati!E654=\"ED1\",Dati!D654,)","v":0},{"$f":"IF(Dati!E654=\"EE1\",Dati!D654,)","v":0}]
[{"$f":"Dati!C655","v":"00:00:00"},{"$f":"Dati!H655","v":"00:00:00"},{"$f":"IF(Dati!E655=\"EA1\",Dati!D655,)","v":0},{"$f":"IF(Dati!E655=\"EA2\",Dati!D655,)","v":0},{"$f":"IF(Dati!E655=\"EA3\",Dati!D655,)","v":0},{"$f":"IF(Dati!E655=\"EA4\",Dati!D655,)","v":0},{"$f":"IF(Dati!E655=\"EA5\",Dati!D655,)","v":0},{"$f":"IF(Dati!E655=\"EA6\",Dati!D655,)","v":0},{"$f":"IF(Dati!E655=\"EB1\",Dati!D655,)","v":0},{"$f":"IF(Dati!E655=\"EB2\",Dati!D655,)","v":0},{"$f":"IF(Dati!E655=\"EC1\",Dati!D655,)","v":0},{"$f":"IF(Dati!E655=\"ED1\",Dati!D655,)","v":0},{"$f":"IF(Dati!E655=\"EE1\",Dati!D655,)","v":0}]
[{"$f":"Dati!C656","v":"00:00:00"},{"$f":"Dati!H656","v":"00:00:00"},{"$f":"IF(Dati!E656=\"EA1\",Dati!D656,)","v":0},{"$f":"IF(Dati!E656=\"EA2\",Dati!D656,)","v":0},{"$f":"IF(Dati!E656=\"EA3\",Dati!D656,)","v":0},{"$f":"IF(Dati!E656=\"EA4\",Dati!D656,)","v":0},{"$f":"IF(Dati!E656=\"EA5\",Dati!D656,)","v":0},{"$f":"IF(Dati!E656=\"EA6\",Dati!D656,)","v":0},{"$f":"IF(Dati!E656=\"EB1\",Dati!D656,)","v":0},{"$f":"IF(Dati!E656=\"EB2\",Dati!D656,)","v":0},{"$f":"IF(Dati!E656=\"EC1\",Dati!D656,)","v":0},{"$f":"IF(Dati!E656=\"ED1\",Dati!D656,)","v":0},{"$f":"IF(Dati!E656=\"EE1\",Dati!D656,)","v":0}]
[{"$f":"Dati!C657","v":"00:00:00"},{"$f":"Dati!H657","v":"00:00:00"},{"$f":"IF(Dati!E657=\"EA1\",Dati!D657,)","v":0},{"$f":"IF(Dati!E657=\"EA2\",Dati!D657,)","v":0},{"$f":"IF(Dati!E657=\"EA3\",Dati!D657,)","v":0},{"$f":"IF(Dati!E657=\"EA4\",Dati!D657,)","v":0},{"$f":"IF(Dati!E657=\"EA5\",Dati!D657,)","v":0},{"$f":"IF(Dati!E657=\"EA6\",Dati!D657,)","v":0},{"$f":"IF(Dati!E657=\"EB1\",Dati!D657,)","v":0},{"$f":"IF(Dati!E657=\"EB2\",Dati!D657,)","v":0},{"$f":"IF(Dati!E657=\"EC1\",Dati!D657,)","v":0},{"$f":"IF(Dati!E657=\"ED1\",Dati!D657,)","v":0},{"$f":"IF(Dati!E657=\"EE1\",Dati!D657,)","v":0}]
[{"$f":"Dati!C658","v":"00:00:00"},{"$f":"Dati!H658","v":"00:00:00"},{"$f":"IF(Dati!E658=\"EA1\",Dati!D658,)","v":0},{"$f":"IF(Dati!E658=\"EA2\",Dati!D658,)","v":0},{"$f":"IF(Dati!E658=\"EA3\",Dati!D658,)","v":0},{"$f":"IF(Dati!E658=\"EA4\",Dati!D658,)","v":0},{"$f":"IF(Dati!E658=\"EA5\",Dati!D658,)","v":0},{"$f":"IF(Dati!E658=\"EA6\",Dati!D658,)","v":0},{"$f":"IF(Dati!E658=\"EB1\",Dati!D658,)","v":0},{"$f":"IF(Dati!E658=\"EB2\",Dati!D658,)","v":0},{"$f":"IF(Dati!E658=\"EC1\",Dati!D658,)","v":0},{"$f":"IF(Dati!E658=\"ED1\",Dati!D658,)","v":0},{"$f":"IF(Dati!E658=\"EE1\",Dati!D658,)","v":0}]
[{"$f":"Dati!C659","v":"00:00:00"},{"$f":"Dati!H659","v":"00:00:00"},{"$f":"IF(Dati!E659=\"EA1\",Dati!D659,)","v":0},{"$f":"IF(Dati!E659=\"EA2\",Dati!D659,)","v":0},{"$f":"IF(Dati!E659=\"EA3\",Dati!D659,)","v":0},{"$f":"IF(Dati!E659=\"EA4\",Dati!D659,)","v":0},{"$f":"IF(Dati!E659=\"EA5\",Dati!D659,)","v":0},{"$f":"IF(Dati!E659=\"EA6\",Dati!D659,)","v":0},{"$f":"IF(Dati!E659=\"EB1\",Dati!D659,)","v":0},{"$f":"IF(Dati!E659=\"EB2\",Dati!D659,)","v":0},{"$f":"IF(Dati!E659=\"EC1\",Dati!D659,)","v":0},{"$f":"IF(Dati!E659=\"ED1\",Dati!D659,)","v":0},{"$f":"IF(Dati!E659=\"EE1\",Dati!D659,)","v":0}]
[{"$f":"Dati!C660","v":"00:00:00"},{"$f":"Dati!H660","v":"00:00:00"},{"$f":"IF(Dati!E660=\"EA1\",Dati!D660,)","v":0},{"$f":"IF(Dati!E660=\"EA2\",Dati!D660,)","v":0},{"$f":"IF(Dati!E660=\"EA3\",Dati!D660,)","v":0},{"$f":"IF(Dati!E660=\"EA4\",Dati!D660,)","v":0},{"$f":"IF(Dati!E660=\"EA5\",Dati!D660,)","v":0},{"$f":"IF(Dati!E660=\"EA6\",Dati!D660,)","v":0},{"$f":"IF(Dati!E660=\"EB1\",Dati!D660,)","v":0},{"$f":"IF(Dati!E660=\"EB2\",Dati!D660,)","v":0},{"$f":"IF(Dati!E660=\"EC1\",Dati!D660,)","v":0},{"$f":"IF(Dati!E660=\"ED1\",Dati!D660,)","v":0},{"$f":"IF(Dati!E660=\"EE1\",Dati!D660,)","v":0}]
[{"$f":"Dati!C661","v":"00:00:00"},{"$f":"Dati!H661","v":"00:00:00"},{"$f":"IF(Dati!E661=\"EA1\",Dati!D661,)","v":0},{"$f":"IF(Dati!E661=\"EA2\",Dati!D661,)","v":0},{"$f":"IF(Dati!E661=\"EA3\",Dati!D661,)","v":0},{"$f":"IF(Dati!E661=\"EA4\",Dati!D661,)","v":0},{"$f":"IF(Dati!E661=\"EA5\",Dati!D661,)","v":0},{"$f":"IF(Dati!E661=\"EA6\",Dati!D661,)","v":0},{"$f":"IF(Dati!E661=\"EB1\",Dati!D661,)","v":0},{"$f":"IF(Dati!E661=\"EB2\",Dati!D661,)","v":0},{"$f":"IF(Dati!E661=\"EC1\",Dati!D661,)","v":0},{"$f":"IF(Dati!E661=\"ED1\",Dati!D661,)","v":0},{"$f":"IF(Dati!E661=\"EE1\",Dati!D661,)","v":0}]
[{"$f":"Dati!C662","v":"00:00:00"},{"$f":"Dati!H662","v":"00:00:00"},{"$f":"IF(Dati!E662=\"EA1\",Dati!D662,)","v":0},{"$f":"IF(Dati!E662=\"EA2\",Dati!D662,)","v":0},{"$f":"IF(Dati!E662=\"EA3\",Dati!D662,)","v":0},{"$f":"IF(Dati!E662=\"EA4\",Dati!D662,)","v":0},{"$f":"IF(Dati!E662=\"EA5\",Dati!D662,)","v":0},{"$f":"IF(Dati!E662=\"EA6\",Dati!D662,)","v":0},{"$f":"IF(Dati!E662=\"EB1\",Dati!D662,)","v":0},{"$f":"IF(Dati!E662=\"EB2\",Dati!D662,)","v":0},{"$f":"IF(Dati!E662=\"EC1\",Dati!D662,)","v":0},{"$f":"IF(Dati!E662=\"ED1\",Dati!D662,)","v":0},{"$f":"IF(Dati!E662=\"EE1\",Dati!D662,)","v":0}]
[{"$f":"Dati!C663","v":"00:00:00"},{"$f":"Dati!H663","v":"00:00:00"},{"$f":"IF(Dati!E663=\"EA1\",Dati!D663,)","v":0},{"$f":"IF(Dati!E663=\"EA2\",Dati!D663,)","v":0},{"$f":"IF(Dati!E663=\"EA3\",Dati!D663,)","v":0},{"$f":"IF(Dati!E663=\"EA4\",Dati!D663,)","v":0},{"$f":"IF(Dati!E663=\"EA5\",Dati!D663,)","v":0},{"$f":"IF(Dati!E663=\"EA6\",Dati!D663,)","v":0},{"$f":"IF(Dati!E663=\"EB1\",Dati!D663,)","v":0},{"$f":"IF(Dati!E663=\"EB2\",Dati!D663,)","v":0},{"$f":"IF(Dati!E663=\"EC1\",Dati!D663,)","v":0},{"$f":"IF(Dati!E663=\"ED1\",Dati!D663,)","v":0},{"$f":"IF(Dati!E663=\"EE1\",Dati!D663,)","v":0}]
[{"$f":"Dati!C664","v":"00:00:00"},{"$f":"Dati!H664","v":"00:00:00"},{"$f":"IF(Dati!E664=\"EA1\",Dati!D664,)","v":0},{"$f":"IF(Dati!E664=\"EA2\",Dati!D664,)","v":0},{"$f":"IF(Dati!E664=\"EA3\",Dati!D664,)","v":0},{"$f":"IF(Dati!E664=\"EA4\",Dati!D664,)","v":0},{"$f":"IF(Dati!E664=\"EA5\",Dati!D664,)","v":0},{"$f":"IF(Dati!E664=\"EA6\",Dati!D664,)","v":0},{"$f":"IF(Dati!E664=\"EB1\",Dati!D664,)","v":0},{"$f":"IF(Dati!E664=\"EB2\",Dati!D664,)","v":0},{"$f":"IF(Dati!E664=\"EC1\",Dati!D664,)","v":0},{"$f":"IF(Dati!E664=\"ED1\",Dati!D664,)","v":0},{"$f":"IF(Dati!E664=\"EE1\",Dati!D664,)","v":0}]
[{"$f":"Dati!C665","v":"00:00:00"},{"$f":"Dati!H665","v":"00:00:00"},{"$f":"IF(Dati!E665=\"EA1\",Dati!D665,)","v":0},{"$f":"IF(Dati!E665=\"EA2\",Dati!D665,)","v":0},{"$f":"IF(Dati!E665=\"EA3\",Dati!D665,)","v":0},{"$f":"IF(Dati!E665=\"EA4\",Dati!D665,)","v":0},{"$f":"IF(Dati!E665=\"EA5\",Dati!D665,)","v":0},{"$f":"IF(Dati!E665=\"EA6\",Dati!D665,)","v":0},{"$f":"IF(Dati!E665=\"EB1\",Dati!D665,)","v":0},{"$f":"IF(Dati!E665=\"EB2\",Dati!D665,)","v":0},{"$f":"IF(Dati!E665=\"EC1\",Dati!D665,)","v":0},{"$f":"IF(Dati!E665=\"ED1\",Dati!D665,)","v":0},{"$f":"IF(Dati!E665=\"EE1\",Dati!D665,)","v":0}]
[{"$f":"Dati!C666","v":"00:00:00"},{"$f":"Dati!H666","v":"00:00:00"},{"$f":"IF(Dati!E666=\"EA1\",Dati!D666,)","v":0},{"$f":"IF(Dati!E666=\"EA2\",Dati!D666,)","v":0},{"$f":"IF(Dati!E666=\"EA3\",Dati!D666,)","v":0},{"$f":"IF(Dati!E666=\"EA4\",Dati!D666,)","v":0},{"$f":"IF(Dati!E666=\"EA5\",Dati!D666,)","v":0},{"$f":"IF(Dati!E666=\"EA6\",Dati!D666,)","v":0},{"$f":"IF(Dati!E666=\"EB1\",Dati!D666,)","v":0},{"$f":"IF(Dati!E666=\"EB2\",Dati!D666,)","v":0},{"$f":"IF(Dati!E666=\"EC1\",Dati!D666,)","v":0},{"$f":"IF(Dati!E666=\"ED1\",Dati!D666,)","v":0},{"$f":"IF(Dati!E666=\"EE1\",Dati!D666,)","v":0}]
[{"$f":"Dati!C667","v":"00:00:00"},{"$f":"Dati!H667","v":"00:00:00"},{"$f":"IF(Dati!E667=\"EA1\",Dati!D667,)","v":0},{"$f":"IF(Dati!E667=\"EA2\",Dati!D667,)","v":0},{"$f":"IF(Dati!E667=\"EA3\",Dati!D667,)","v":0},{"$f":"IF(Dati!E667=\"EA4\",Dati!D667,)","v":0},{"$f":"IF(Dati!E667=\"EA5\",Dati!D667,)","v":0},{"$f":"IF(Dati!E667=\"EA6\",Dati!D667,)","v":0},{"$f":"IF(Dati!E667=\"EB1\",Dati!D667,)","v":0},{"$f":"IF(Dati!E667=\"EB2\",Dati!D667,)","v":0},{"$f":"IF(Dati!E667=\"EC1\",Dati!D667,)","v":0},{"$f":"IF(Dati!E667=\"ED1\",Dati!D667,)","v":0},{"$f":"IF(Dati!E667=\"EE1\",Dati!D667,)","v":0}]
[{"$f":"Dati!C668","v":"00:00:00"},{"$f":"Dati!H668","v":"00:00:00"},{"$f":"IF(Dati!E668=\"EA1\",Dati!D668,)","v":0},{"$f":"IF(Dati!E668=\"EA2\",Dati!D668,)","v":0},{"$f":"IF(Dati!E668=\"EA3\",Dati!D668,)","v":0},{"$f":"IF(Dati!E668=\"EA4\",Dati!D668,)","v":0},{"$f":"IF(Dati!E668=\"EA5\",Dati!D668,)","v":0},{"$f":"IF(Dati!E668=\"EA6\",Dati!D668,)","v":0},{"$f":"IF(Dati!E668=\"EB1\",Dati!D668,)","v":0},{"$f":"IF(Dati!E668=\"EB2\",Dati!D668,)","v":0},{"$f":"IF(Dati!E668=\"EC1\",Dati!D668,)","v":0},{"$f":"IF(Dati!E668=\"ED1\",Dati!D668,)","v":0},{"$f":"IF(Dati!E668=\"EE1\",Dati!D668,)","v":0}]
[{"$f":"Dati!C669","v":"00:00:00"},{"$f":"Dati!H669","v":"00:00:00"},{"$f":"IF(Dati!E669=\"EA1\",Dati!D669,)","v":0},{"$f":"IF(Dati!E669=\"EA2\",Dati!D669,)","v":0},{"$f":"IF(Dati!E669=\"EA3\",Dati!D669,)","v":0},{"$f":"IF(Dati!E669=\"EA4\",Dati!D669,)","v":0},{"$f":"IF(Dati!E669=\"EA5\",Dati!D669,)","v":0},{"$f":"IF(Dati!E669=\"EA6\",Dati!D669,)","v":0},{"$f":"IF(Dati!E669=\"EB1\",Dati!D669,)","v":0},{"$f":"IF(Dati!E669=\"EB2\",Dati!D669,)","v":0},{"$f":"IF(Dati!E669=\"EC1\",Dati!D669,)","v":0},{"$f":"IF(Dati!E669=\"ED1\",Dati!D669,)","v":0},{"$f":"IF(Dati!E669=\"EE1\",Dati!D669,)","v":0}]
[{"$f":"Dati!C670","v":"00:00:00"},{"$f":"Dati!H670","v":"00:00:00"},{"$f":"IF(Dati!E670=\"EA1\",Dati!D670,)","v":0},{"$f":"IF(Dati!E670=\"EA2\",Dati!D670,)","v":0},{"$f":"IF(Dati!E670=\"EA3\",Dati!D670,)","v":0},{"$f":"IF(Dati!E670=\"EA4\",Dati!D670,)","v":0},{"$f":"IF(Dati!E670=\"EA5\",Dati!D670,)","v":0},{"$f":"IF(Dati!E670=\"EA6\",Dati!D670,)","v":0},{"$f":"IF(Dati!E670=\"EB1\",Dati!D670,)","v":0},{"$f":"IF(Dati!E670=\"EB2\",Dati!D670,)","v":0},{"$f":"IF(Dati!E670=\"EC1\",Dati!D670,)","v":0},{"$f":"IF(Dati!E670=\"ED1\",Dati!D670,)","v":0},{"$f":"IF(Dati!E670=\"EE1\",Dati!D670,)","v":0}]
[{"$f":"Dati!C671","v":"00:00:00"},{"$f":"Dati!H671","v":"00:00:00"},{"$f":"IF(Dati!E671=\"EA1\",Dati!D671,)","v":0},{"$f":"IF(Dati!E671=\"EA2\",Dati!D671,)","v":0},{"$f":"IF(Dati!E671=\"EA3\",Dati!D671,)","v":0},{"$f":"IF(Dati!E671=\"EA4\",Dati!D671,)","v":0},{"$f":"IF(Dati!E671=\"EA5\",Dati!D671,)","v":0},{"$f":"IF(Dati!E671=\"EA6\",Dati!D671,)","v":0},{"$f":"IF(Dati!E671=\"EB1\",Dati!D671,)","v":0},{"$f":"IF(Dati!E671=\"EB2\",Dati!D671,)","v":0},{"$f":"IF(Dati!E671=\"EC1\",Dati!D671,)","v":0},{"$f":"IF(Dati!E671=\"ED1\",Dati!D671,)","v":0},{"$f":"IF(Dati!E671=\"EE1\",Dati!D671,)","v":0}]
[{"$f":"Dati!C672","v":"00:00:00"},{"$f":"Dati!H672","v":"00:00:00"},{"$f":"IF(Dati!E672=\"EA1\",Dati!D672,)","v":0},{"$f":"IF(Dati!E672=\"EA2\",Dati!D672,)","v":0},{"$f":"IF(Dati!E672=\"EA3\",Dati!D672,)","v":0},{"$f":"IF(Dati!E672=\"EA4\",Dati!D672,)","v":0},{"$f":"IF(Dati!E672=\"EA5\",Dati!D672,)","v":0},{"$f":"IF(Dati!E672=\"EA6\",Dati!D672,)","v":0},{"$f":"IF(Dati!E672=\"EB1\",Dati!D672,)","v":0},{"$f":"IF(Dati!E672=\"EB2\",Dati!D672,)","v":0},{"$f":"IF(Dati!E672=\"EC1\",Dati!D672,)","v":0},{"$f":"IF(Dati!E672=\"ED1\",Dati!D672,)","v":0},{"$f":"IF(Dati!E672=\"EE1\",Dati!D672,)","v":0}]
[{"$f":"Dati!C673","v":"00:00:00"},{"$f":"Dati!H673","v":"00:00:00"},{"$f":"IF(Dati!E673=\"EA1\",Dati!D673,)","v":0},{"$f":"IF(Dati!E673=\"EA2\",Dati!D673,)","v":0},{"$f":"IF(Dati!E673=\"EA3\",Dati!D673,)","v":0},{"$f":"IF(Dati!E673=\"EA4\",Dati!D673,)","v":0},{"$f":"IF(Dati!E673=\"EA5\",Dati!D673,)","v":0},{"$f":"IF(Dati!E673=\"EA6\",Dati!D673,)","v":0},{"$f":"IF(Dati!E673=\"EB1\",Dati!D673,)","v":0},{"$f":"IF(Dati!E673=\"EB2\",Dati!D673,)","v":0},{"$f":"IF(Dati!E673=\"EC1\",Dati!D673,)","v":0},{"$f":"IF(Dati!E673=\"ED1\",Dati!D673,)","v":0},{"$f":"IF(Dati!E673=\"EE1\",Dati!D673,)","v":0}]
[{"$f":"Dati!C674","v":"00:00:00"},{"$f":"Dati!H674","v":"00:00:00"},{"$f":"IF(Dati!E674=\"EA1\",Dati!D674,)","v":0},{"$f":"IF(Dati!E674=\"EA2\",Dati!D674,)","v":0},{"$f":"IF(Dati!E674=\"EA3\",Dati!D674,)","v":0},{"$f":"IF(Dati!E674=\"EA4\",Dati!D674,)","v":0},{"$f":"IF(Dati!E674=\"EA5\",Dati!D674,)","v":0},{"$f":"IF(Dati!E674=\"EA6\",Dati!D674,)","v":0},{"$f":"IF(Dati!E674=\"EB1\",Dati!D674,)","v":0},{"$f":"IF(Dati!E674=\"EB2\",Dati!D674,)","v":0},{"$f":"IF(Dati!E674=\"EC1\",Dati!D674,)","v":0},{"$f":"IF(Dati!E674=\"ED1\",Dati!D674,)","v":0},{"$f":"IF(Dati!E674=\"EE1\",Dati!D674,)","v":0}]
[{"$f":"Dati!C675","v":"00:00:00"},{"$f":"Dati!H675","v":"00:00:00"},{"$f":"IF(Dati!E675=\"EA1\",Dati!D675,)","v":0},{"$f":"IF(Dati!E675=\"EA2\",Dati!D675,)","v":0},{"$f":"IF(Dati!E675=\"EA3\",Dati!D675,)","v":0},{"$f":"IF(Dati!E675=\"EA4\",Dati!D675,)","v":0},{"$f":"IF(Dati!E675=\"EA5\",Dati!D675,)","v":0},{"$f":"IF(Dati!E675=\"EA6\",Dati!D675,)","v":0},{"$f":"IF(Dati!E675=\"EB1\",Dati!D675,)","v":0},{"$f":"IF(Dati!E675=\"EB2\",Dati!D675,)","v":0},{"$f":"IF(Dati!E675=\"EC1\",Dati!D675,)","v":0},{"$f":"IF(Dati!E675=\"ED1\",Dati!D675,)","v":0},{"$f":"IF(Dati!E675=\"EE1\",Dati!D675,)","v":0}]
[{"$f":"Dati!C676","v":"00:00:00"},{"$f":"Dati!H676","v":"00:00:00"},{"$f":"IF(Dati!E676=\"EA1\",Dati!D676,)","v":0},{"$f":"IF(Dati!E676=\"EA2\",Dati!D676,)","v":0},{"$f":"IF(Dati!E676=\"EA3\",Dati!D676,)","v":0},{"$f":"IF(Dati!E676=\"EA4\",Dati!D676,)","v":0},{"$f":"IF(Dati!E676=\"EA5\",Dati!D676,)","v":0},{"$f":"IF(Dati!E676=\"EA6\",Dati!D676,)","v":0},{"$f":"IF(Dati!E676=\"EB1\",Dati!D676,)","v":0},{"$f":"IF(Dati!E676=\"EB2\",Dati!D676,)","v":0},{"$f":"IF(Dati!E676=\"EC1\",Dati!D676,)","v":0},{"$f":"IF(Dati!E676=\"ED1\",Dati!D676,)","v":0},{"$f":"IF(Dati!E676=\"EE1\",Dati!D676,)","v":0}]
[{"$f":"Dati!C677","v":"00:00:00"},{"$f":"Dati!H677","v":"00:00:00"},{"$f":"IF(Dati!E677=\"EA1\",Dati!D677,)","v":0},{"$f":"IF(Dati!E677=\"EA2\",Dati!D677,)","v":0},{"$f":"IF(Dati!E677=\"EA3\",Dati!D677,)","v":0},{"$f":"IF(Dati!E677=\"EA4\",Dati!D677,)","v":0},{"$f":"IF(Dati!E677=\"EA5\",Dati!D677,)","v":0},{"$f":"IF(Dati!E677=\"EA6\",Dati!D677,)","v":0},{"$f":"IF(Dati!E677=\"EB1\",Dati!D677,)","v":0},{"$f":"IF(Dati!E677=\"EB2\",Dati!D677,)","v":0},{"$f":"IF(Dati!E677=\"EC1\",Dati!D677,)","v":0},{"$f":"IF(Dati!E677=\"ED1\",Dati!D677,)","v":0},{"$f":"IF(Dati!E677=\"EE1\",Dati!D677,)","v":0}]
[{"$f":"Dati!C678","v":"00:00:00"},{"$f":"Dati!H678","v":"00:00:00"},{"$f":"IF(Dati!E678=\"EA1\",Dati!D678,)","v":0},{"$f":"IF(Dati!E678=\"EA2\",Dati!D678,)","v":0},{"$f":"IF(Dati!E678=\"EA3\",Dati!D678,)","v":0},{"$f":"IF(Dati!E678=\"EA4\",Dati!D678,)","v":0},{"$f":"IF(Dati!E678=\"EA5\",Dati!D678,)","v":0},{"$f":"IF(Dati!E678=\"EA6\",Dati!D678,)","v":0},{"$f":"IF(Dati!E678=\"EB1\",Dati!D678,)","v":0},{"$f":"IF(Dati!E678=\"EB2\",Dati!D678,)","v":0},{"$f":"IF(Dati!E678=\"EC1\",Dati!D678,)","v":0},{"$f":"IF(Dati!E678=\"ED1\",Dati!D678,)","v":0},{"$f":"IF(Dati!E678=\"EE1\",Dati!D678,)","v":0}]
[{"$f":"Dati!C679","v":"00:00:00"},{"$f":"Dati!H679","v":"00:00:00"},{"$f":"IF(Dati!E679=\"EA1\",Dati!D679,)","v":0},{"$f":"IF(Dati!E679=\"EA2\",Dati!D679,)","v":0},{"$f":"IF(Dati!E679=\"EA3\",Dati!D679,)","v":0},{"$f":"IF(Dati!E679=\"EA4\",Dati!D679,)","v":0},{"$f":"IF(Dati!E679=\"EA5\",Dati!D679,)","v":0},{"$f":"IF(Dati!E679=\"EA6\",Dati!D679,)","v":0},{"$f":"IF(Dati!E679=\"EB1\",Dati!D679,)","v":0},{"$f":"IF(Dati!E679=\"EB2\",Dati!D679,)","v":0},{"$f":"IF(Dati!E679=\"EC1\",Dati!D679,)","v":0},{"$f":"IF(Dati!E679=\"ED1\",Dati!D679,)","v":0},{"$f":"IF(Dati!E679=\"EE1\",Dati!D679,)","v":0}]
[{"$f":"Dati!C680","v":"00:00:00"},{"$f":"Dati!H680","v":"00:00:00"},{"$f":"IF(Dati!E680=\"EA1\",Dati!D680,)","v":0},{"$f":"IF(Dati!E680=\"EA2\",Dati!D680,)","v":0},{"$f":"IF(Dati!E680=\"EA3\",Dati!D680,)","v":0},{"$f":"IF(Dati!E680=\"EA4\",Dati!D680,)","v":0},{"$f":"IF(Dati!E680=\"EA5\",Dati!D680,)","v":0},{"$f":"IF(Dati!E680=\"EA6\",Dati!D680,)","v":0},{"$f":"IF(Dati!E680=\"EB1\",Dati!D680,)","v":0},{"$f":"IF(Dati!E680=\"EB2\",Dati!D680,)","v":0},{"$f":"IF(Dati!E680=\"EC1\",Dati!D680,)","v":0},{"$f":"IF(Dati!E680=\"ED1\",Dati!D680,)","v":0},{"$f":"IF(Dati!E680=\"EE1\",Dati!D680,)","v":0}]
[{"$f":"Dati!C681","v":"00:00:00"},{"$f":"Dati!H681","v":"00:00:00"},{"$f":"IF(Dati!E681=\"EA1\",Dati!D681,)","v":0},{"$f":"IF(Dati!E681=\"EA2\",Dati!D681,)","v":0},{"$f":"IF(Dati!E681=\"EA3\",Dati!D681,)","v":0},{"$f":"IF(Dati!E681=\"EA4\",Dati!D681,)","v":0},{"$f":"IF(Dati!E681=\"EA5\",Dati!D681,)","v":0},{"$f":"IF(Dati!E681=\"EA6\",Dati!D681,)","v":0},{"$f":"IF(Dati!E681=\"EB1\",Dati!D681,)","v":0},{"$f":"IF(Dati!E681=\"EB2\",Dati!D681,)","v":0},{"$f":"IF(Dati!E681=\"EC1\",Dati!D681,)","v":0},{"$f":"IF(Dati!E681=\"ED1\",Dati!D681,)","v":0},{"$f":"IF(Dati!E681=\"EE1\",Dati!D681,)","v":0}]
[{"$f":"Dati!C682","v":"00:00:00"},{"$f":"Dati!H682","v":"00:00:00"},{"$f":"IF(Dati!E682=\"EA1\",Dati!D682,)","v":0},{"$f":"IF(Dati!E682=\"EA2\",Dati!D682,)","v":0},{"$f":"IF(Dati!E682=\"EA3\",Dati!D682,)","v":0},{"$f":"IF(Dati!E682=\"EA4\",Dati!D682,)","v":0},{"$f":"IF(Dati!E682=\"EA5\",Dati!D682,)","v":0},{"$f":"IF(Dati!E682=\"EA6\",Dati!D682,)","v":0},{"$f":"IF(Dati!E682=\"EB1\",Dati!D682,)","v":0},{"$f":"IF(Dati!E682=\"EB2\",Dati!D682,)","v":0},{"$f":"IF(Dati!E682=\"EC1\",Dati!D682,)","v":0},{"$f":"IF(Dati!E682=\"ED1\",Dati!D682,)","v":0},{"$f":"IF(Dati!E682=\"EE1\",Dati!D682,)","v":0}]
[{"$f":"Dati!C683","v":"00:00:00"},{"$f":"Dati!H683","v":"00:00:00"},{"$f":"IF(Dati!E683=\"EA1\",Dati!D683,)","v":0},{"$f":"IF(Dati!E683=\"EA2\",Dati!D683,)","v":0},{"$f":"IF(Dati!E683=\"EA3\",Dati!D683,)","v":0},{"$f":"IF(Dati!E683=\"EA4\",Dati!D683,)","v":0},{"$f":"IF(Dati!E683=\"EA5\",Dati!D683,)","v":0},{"$f":"IF(Dati!E683=\"EA6\",Dati!D683,)","v":0},{"$f":"IF(Dati!E683=\"EB1\",Dati!D683,)","v":0},{"$f":"IF(Dati!E683=\"EB2\",Dati!D683,)","v":0},{"$f":"IF(Dati!E683=\"EC1\",Dati!D683,)","v":0},{"$f":"IF(Dati!E683=\"ED1\",Dati!D683,)","v":0},{"$f":"IF(Dati!E683=\"EE1\",Dati!D683,)","v":0}]
[{"$f":"Dati!C684","v":"00:00:00"},{"$f":"Dati!H684","v":"00:00:00"},{"$f":"IF(Dati!E684=\"EA1\",Dati!D684,)","v":0},{"$f":"IF(Dati!E684=\"EA2\",Dati!D684,)","v":0},{"$f":"IF(Dati!E684=\"EA3\",Dati!D684,)","v":0},{"$f":"IF(Dati!E684=\"EA4\",Dati!D684,)","v":0},{"$f":"IF(Dati!E684=\"EA5\",Dati!D684,)","v":0},{"$f":"IF(Dati!E684=\"EA6\",Dati!D684,)","v":0},{"$f":"IF(Dati!E684=\"EB1\",Dati!D684,)","v":0},{"$f":"IF(Dati!E684=\"EB2\",Dati!D684,)","v":0},{"$f":"IF(Dati!E684=\"EC1\",Dati!D684,)","v":0},{"$f":"IF(Dati!E684=\"ED1\",Dati!D684,)","v":0},{"$f":"IF(Dati!E684=\"EE1\",Dati!D684,)","v":0}]
[{"$f":"Dati!C685","v":"00:00:00"},{"$f":"Dati!H685","v":"00:00:00"},{"$f":"IF(Dati!E685=\"EA1\",Dati!D685,)","v":0},{"$f":"IF(Dati!E685=\"EA2\",Dati!D685,)","v":0},{"$f":"IF(Dati!E685=\"EA3\",Dati!D685,)","v":0},{"$f":"IF(Dati!E685=\"EA4\",Dati!D685,)","v":0},{"$f":"IF(Dati!E685=\"EA5\",Dati!D685,)","v":0},{"$f":"IF(Dati!E685=\"EA6\",Dati!D685,)","v":0},{"$f":"IF(Dati!E685=\"EB1\",Dati!D685,)","v":0},{"$f":"IF(Dati!E685=\"EB2\",Dati!D685,)","v":0},{"$f":"IF(Dati!E685=\"EC1\",Dati!D685,)","v":0},{"$f":"IF(Dati!E685=\"ED1\",Dati!D685,)","v":0},{"$f":"IF(Dati!E685=\"EE1\",Dati!D685,)","v":0}]
[{"$f":"Dati!C686","v":"00:00:00"},{"$f":"Dati!H686","v":"00:00:00"},{"$f":"IF(Dati!E686=\"EA1\",Dati!D686,)","v":0},{"$f":"IF(Dati!E686=\"EA2\",Dati!D686,)","v":0},{"$f":"IF(Dati!E686=\"EA3\",Dati!D686,)","v":0},{"$f":"IF(Dati!E686=\"EA4\",Dati!D686,)","v":0},{"$f":"IF(Dati!E686=\"EA5\",Dati!D686,)","v":0},{"$f":"IF(Dati!E686=\"EA6\",Dati!D686,)","v":0},{"$f":"IF(Dati!E686=\"EB1\",Dati!D686,)","v":0},{"$f":"IF(Dati!E686=\"EB2\",Dati!D686,)","v":0},{"$f":"IF(Dati!E686=\"EC1\",Dati!D686,)","v":0},{"$f":"IF(Dati!E686=\"ED1\",Dati!D686,)","v":0},{"$f":"IF(Dati!E686=\"EE1\",Dati!D686,)","v":0}]
[{"$f":"Dati!C687","v":"00:00:00"},{"$f":"Dati!H687","v":"00:00:00"},{"$f":"IF(Dati!E687=\"EA1\",Dati!D687,)","v":0},{"$f":"IF(Dati!E687=\"EA2\",Dati!D687,)","v":0},{"$f":"IF(Dati!E687=\"EA3\",Dati!D687,)","v":0},{"$f":"IF(Dati!E687=\"EA4\",Dati!D687,)","v":0},{"$f":"IF(Dati!E687=\"EA5\",Dati!D687,)","v":0},{"$f":"IF(Dati!E687=\"EA6\",Dati!D687,)","v":0},{"$f":"IF(Dati!E687=\"EB1\",Dati!D687,)","v":0},{"$f":"IF(Dati!E687=\"EB2\",Dati!D687,)","v":0},{"$f":"IF(Dati!E687=\"EC1\",Dati!D687,)","v":0},{"$f":"IF(Dati!E687=\"ED1\",Dati!D687,)","v":0},{"$f":"IF(Dati!E687=\"EE1\",Dati!D687,)","v":0}]
[{"$f":"Dati!C688","v":"00:00:00"},{"$f":"Dati!H688","v":"00:00:00"},{"$f":"IF(Dati!E688=\"EA1\",Dati!D688,)","v":0},{"$f":"IF(Dati!E688=\"EA2\",Dati!D688,)","v":0},{"$f":"IF(Dati!E688=\"EA3\",Dati!D688,)","v":0},{"$f":"IF(Dati!E688=\"EA4\",Dati!D688,)","v":0},{"$f":"IF(Dati!E688=\"EA5\",Dati!D688,)","v":0},{"$f":"IF(Dati!E688=\"EA6\",Dati!D688,)","v":0},{"$f":"IF(Dati!E688=\"EB1\",Dati!D688,)","v":0},{"$f":"IF(Dati!E688=\"EB2\",Dati!D688,)","v":0},{"$f":"IF(Dati!E688=\"EC1\",Dati!D688,)","v":0},{"$f":"IF(Dati!E688=\"ED1\",Dati!D688,)","v":0},{"$f":"IF(Dati!E688=\"EE1\",Dati!D688,)","v":0}]
[{"$f":"Dati!C689","v":"00:00:00"},{"$f":"Dati!H689","v":"00:00:00"},{"$f":"IF(Dati!E689=\"EA1\",Dati!D689,)","v":0},{"$f":"IF(Dati!E689=\"EA2\",Dati!D689,)","v":0},{"$f":"IF(Dati!E689=\"EA3\",Dati!D689,)","v":0},{"$f":"IF(Dati!E689=\"EA4\",Dati!D689,)","v":0},{"$f":"IF(Dati!E689=\"EA5\",Dati!D689,)","v":0},{"$f":"IF(Dati!E689=\"EA6\",Dati!D689,)","v":0},{"$f":"IF(Dati!E689=\"EB1\",Dati!D689,)","v":0},{"$f":"IF(Dati!E689=\"EB2\",Dati!D689,)","v":0},{"$f":"IF(Dati!E689=\"EC1\",Dati!D689,)","v":0},{"$f":"IF(Dati!E689=\"ED1\",Dati!D689,)","v":0},{"$f":"IF(Dati!E689=\"EE1\",Dati!D689,)","v":0}]
[{"$f":"Dati!C690","v":"00:00:00"},{"$f":"Dati!H690","v":"00:00:00"},{"$f":"IF(Dati!E690=\"EA1\",Dati!D690,)","v":0},{"$f":"IF(Dati!E690=\"EA2\",Dati!D690,)","v":0},{"$f":"IF(Dati!E690=\"EA3\",Dati!D690,)","v":0},{"$f":"IF(Dati!E690=\"EA4\",Dati!D690,)","v":0},{"$f":"IF(Dati!E690=\"EA5\",Dati!D690,)","v":0},{"$f":"IF(Dati!E690=\"EA6\",Dati!D690,)","v":0},{"$f":"IF(Dati!E690=\"EB1\",Dati!D690,)","v":0},{"$f":"IF(Dati!E690=\"EB2\",Dati!D690,)","v":0},{"$f":"IF(Dati!E690=\"EC1\",Dati!D690,)","v":0},{"$f":"IF(Dati!E690=\"ED1\",Dati!D690,)","v":0},{"$f":"IF(Dati!E690=\"EE1\",Dati!D690,)","v":0}]
[{"$f":"Dati!C691","v":"00:00:00"},{"$f":"Dati!H691","v":"00:00:00"},{"$f":"IF(Dati!E691=\"EA1\",Dati!D691,)","v":0},{"$f":"IF(Dati!E691=\"EA2\",Dati!D691,)","v":0},{"$f":"IF(Dati!E691=\"EA3\",Dati!D691,)","v":0},{"$f":"IF(Dati!E691=\"EA4\",Dati!D691,)","v":0},{"$f":"IF(Dati!E691=\"EA5\",Dati!D691,)","v":0},{"$f":"IF(Dati!E691=\"EA6\",Dati!D691,)","v":0},{"$f":"IF(Dati!E691=\"EB1\",Dati!D691,)","v":0},{"$f":"IF(Dati!E691=\"EB2\",Dati!D691,)","v":0},{"$f":"IF(Dati!E691=\"EC1\",Dati!D691,)","v":0},{"$f":"IF(Dati!E691=\"ED1\",Dati!D691,)","v":0},{"$f":"IF(Dati!E691=\"EE1\",Dati!D691,)","v":0}]
[{"$f":"Dati!C692","v":"00:00:00"},{"$f":"Dati!H692","v":"00:00:00"},{"$f":"IF(Dati!E692=\"EA1\",Dati!D692,)","v":0},{"$f":"IF(Dati!E692=\"EA2\",Dati!D692,)","v":0},{"$f":"IF(Dati!E692=\"EA3\",Dati!D692,)","v":0},{"$f":"IF(Dati!E692=\"EA4\",Dati!D692,)","v":0},{"$f":"IF(Dati!E692=\"EA5\",Dati!D692,)","v":0},{"$f":"IF(Dati!E692=\"EA6\",Dati!D692,)","v":0},{"$f":"IF(Dati!E692=\"EB1\",Dati!D692,)","v":0},{"$f":"IF(Dati!E692=\"EB2\",Dati!D692,)","v":0},{"$f":"IF(Dati!E692=\"EC1\",Dati!D692,)","v":0},{"$f":"IF(Dati!E692=\"ED1\",Dati!D692,)","v":0},{"$f":"IF(Dati!E692=\"EE1\",Dati!D692,)","v":0}]
[{"$f":"Dati!C693","v":"00:00:00"},{"$f":"Dati!H693","v":"00:00:00"},{"$f":"IF(Dati!E693=\"EA1\",Dati!D693,)","v":0},{"$f":"IF(Dati!E693=\"EA2\",Dati!D693,)","v":0},{"$f":"IF(Dati!E693=\"EA3\",Dati!D693,)","v":0},{"$f":"IF(Dati!E693=\"EA4\",Dati!D693,)","v":0},{"$f":"IF(Dati!E693=\"EA5\",Dati!D693,)","v":0},{"$f":"IF(Dati!E693=\"EA6\",Dati!D693,)","v":0},{"$f":"IF(Dati!E693=\"EB1\",Dati!D693,)","v":0},{"$f":"IF(Dati!E693=\"EB2\",Dati!D693,)","v":0},{"$f":"IF(Dati!E693=\"EC1\",Dati!D693,)","v":0},{"$f":"IF(Dati!E693=\"ED1\",Dati!D693,)","v":0},{"$f":"IF(Dati!E693=\"EE1\",Dati!D693,)","v":0}]
[{"$f":"Dati!C694","v":"00:00:00"},{"$f":"Dati!H694","v":"00:00:00"},{"$f":"IF(Dati!E694=\"EA1\",Dati!D694,)","v":0},{"$f":"IF(Dati!E694=\"EA2\",Dati!D694,)","v":0},{"$f":"IF(Dati!E694=\"EA3\",Dati!D694,)","v":0},{"$f":"IF(Dati!E694=\"EA4\",Dati!D694,)","v":0},{"$f":"IF(Dati!E694=\"EA5\",Dati!D694,)","v":0},{"$f":"IF(Dati!E694=\"EA6\",Dati!D694,)","v":0},{"$f":"IF(Dati!E694=\"EB1\",Dati!D694,)","v":0},{"$f":"IF(Dati!E694=\"EB2\",Dati!D694,)","v":0},{"$f":"IF(Dati!E694=\"EC1\",Dati!D694,)","v":0},{"$f":"IF(Dati!E694=\"ED1\",Dati!D694,)","v":0},{"$f":"IF(Dati!E694=\"EE1\",Dati!D694,)","v":0}]
[{"$f":"Dati!C695","v":"00:00:00"},{"$f":"Dati!H695","v":"00:00:00"},{"$f":"IF(Dati!E695=\"EA1\",Dati!D695,)","v":0},{"$f":"IF(Dati!E695=\"EA2\",Dati!D695,)","v":0},{"$f":"IF(Dati!E695=\"EA3\",Dati!D695,)","v":0},{"$f":"IF(Dati!E695=\"EA4\",Dati!D695,)","v":0},{"$f":"IF(Dati!E695=\"EA5\",Dati!D695,)","v":0},{"$f":"IF(Dati!E695=\"EA6\",Dati!D695,)","v":0},{"$f":"IF(Dati!E695=\"EB1\",Dati!D695,)","v":0},{"$f":"IF(Dati!E695=\"EB2\",Dati!D695,)","v":0},{"$f":"IF(Dati!E695=\"EC1\",Dati!D695,)","v":0},{"$f":"IF(Dati!E695=\"ED1\",Dati!D695,)","v":0},{"$f":"IF(Dati!E695=\"EE1\",Dati!D695,)","v":0}]
[{"$f":"Dati!C696","v":"00:00:00"},{"$f":"Dati!H696","v":"00:00:00"},{"$f":"IF(Dati!E696=\"EA1\",Dati!D696,)","v":0},{"$f":"IF(Dati!E696=\"EA2\",Dati!D696,)","v":0},{"$f":"IF(Dati!E696=\"EA3\",Dati!D696,)","v":0},{"$f":"IF(Dati!E696=\"EA4\",Dati!D696,)","v":0},{"$f":"IF(Dati!E696=\"EA5\",Dati!D696,)","v":0},{"$f":"IF(Dati!E696=\"EA6\",Dati!D696,)","v":0},{"$f":"IF(Dati!E696=\"EB1\",Dati!D696,)","v":0},{"$f":"IF(Dati!E696=\"EB2\",Dati!D696,)","v":0},{"$f":"IF(Dati!E696=\"EC1\",Dati!D696,)","v":0},{"$f":"IF(Dati!E696=\"ED1\",Dati!D696,)","v":0},{"$f":"IF(Dati!E696=\"EE1\",Dati!D696,)","v":0}]
[{"$f":"Dati!C697","v":"00:00:00"},{"$f":"Dati!H697","v":"00:00:00"},{"$f":"IF(Dati!E697=\"EA1\",Dati!D697,)","v":0},{"$f":"IF(Dati!E697=\"EA2\",Dati!D697,)","v":0},{"$f":"IF(Dati!E697=\"EA3\",Dati!D697,)","v":0},{"$f":"IF(Dati!E697=\"EA4\",Dati!D697,)","v":0},{"$f":"IF(Dati!E697=\"EA5\",Dati!D697,)","v":0},{"$f":"IF(Dati!E697=\"EA6\",Dati!D697,)","v":0},{"$f":"IF(Dati!E697=\"EB1\",Dati!D697,)","v":0},{"$f":"IF(Dati!E697=\"EB2\",Dati!D697,)","v":0},{"$f":"IF(Dati!E697=\"EC1\",Dati!D697,)","v":0},{"$f":"IF(Dati!E697=\"ED1\",Dati!D697,)","v":0},{"$f":"IF(Dati!E697=\"EE1\",Dati!D697,)","v":0}]
[{"$f":"Dati!C698","v":"00:00:00"},{"$f":"Dati!H698","v":"00:00:00"},{"$f":"IF(Dati!E698=\"EA1\",Dati!D698,)","v":0},{"$f":"IF(Dati!E698=\"EA2\",Dati!D698,)","v":0},{"$f":"IF(Dati!E698=\"EA3\",Dati!D698,)","v":0},{"$f":"IF(Dati!E698=\"EA4\",Dati!D698,)","v":0},{"$f":"IF(Dati!E698=\"EA5\",Dati!D698,)","v":0},{"$f":"IF(Dati!E698=\"EA6\",Dati!D698,)","v":0},{"$f":"IF(Dati!E698=\"EB1\",Dati!D698,)","v":0},{"$f":"IF(Dati!E698=\"EB2\",Dati!D698,)","v":0},{"$f":"IF(Dati!E698=\"EC1\",Dati!D698,)","v":0},{"$f":"IF(Dati!E698=\"ED1\",Dati!D698,)","v":0},{"$f":"IF(Dati!E698=\"EE1\",Dati!D698,)","v":0}]
[{"$f":"Dati!C699","v":"00:00:00"},{"$f":"Dati!H699","v":"00:00:00"},{"$f":"IF(Dati!E699=\"EA1\",Dati!D699,)","v":0},{"$f":"IF(Dati!E699=\"EA2\",Dati!D699,)","v":0},{"$f":"IF(Dati!E699=\"EA3\",Dati!D699,)","v":0},{"$f":"IF(Dati!E699=\"EA4\",Dati!D699,)","v":0},{"$f":"IF(Dati!E699=\"EA5\",Dati!D699,)","v":0},{"$f":"IF(Dati!E699=\"EA6\",Dati!D699,)","v":0},{"$f":"IF(Dati!E699=\"EB1\",Dati!D699,)","v":0},{"$f":"IF(Dati!E699=\"EB2\",Dati!D699,)","v":0},{"$f":"IF(Dati!E699=\"EC1\",Dati!D699,)","v":0},{"$f":"IF(Dati!E699=\"ED1\",Dati!D699,)","v":0},{"$f":"IF(Dati!E699=\"EE1\",Dati!D699,)","v":0}]
[{"$f":"Dati!C700","v":"00:00:00"},{"$f":"Dati!H700","v":"00:00:00"},{"$f":"IF(Dati!E700=\"EA1\",Dati!D700,)","v":0},{"$f":"IF(Dati!E700=\"EA2\",Dati!D700,)","v":0},{"$f":"IF(Dati!E700=\"EA3\",Dati!D700,)","v":0},{"$f":"IF(Dati!E700=\"EA4\",Dati!D700,)","v":0},{"$f":"IF(Dati!E700=\"EA5\",Dati!D700,)","v":0},{"$f":"IF(Dati!E700=\"EA6\",Dati!D700,)","v":0},{"$f":"IF(Dati!E700=\"EB1\",Dati!D700,)","v":0},{"$f":"IF(Dati!E700=\"EB2\",Dati!D700,)","v":0},{"$f":"IF(Dati!E700=\"EC1\",Dati!D700,)","v":0},{"$f":"IF(Dati!E700=\"ED1\",Dati!D700,)","v":0},{"$f":"IF(Dati!E700=\"EE1\",Dati!D700,)","v":0}]
[{"$f":"Dati!C701","v":"00:00:00"},{"$f":"Dati!H701","v":"00:00:00"},{"$f":"IF(Dati!E701=\"EA1\",Dati!D701,)","v":0},{"$f":"IF(Dati!E701=\"EA2\",Dati!D701,)","v":0},{"$f":"IF(Dati!E701=\"EA3\",Dati!D701,)","v":0},{"$f":"IF(Dati!E701=\"EA4\",Dati!D701,)","v":0},{"$f":"IF(Dati!E701=\"EA5\",Dati!D701,)","v":0},{"$f":"IF(Dati!E701=\"EA6\",Dati!D701,)","v":0},{"$f":"IF(Dati!E701=\"EB1\",Dati!D701,)","v":0},{"$f":"IF(Dati!E701=\"EB2\",Dati!D701,)","v":0},{"$f":"IF(Dati!E701=\"EC1\",Dati!D701,)","v":0},{"$f":"IF(Dati!E701=\"ED1\",Dati!D701,)","v":0},{"$f":"IF(Dati!E701=\"EE1\",Dati!D701,)","v":0}]
[{"$f":"Dati!C702","v":"00:00:00"},{"$f":"Dati!H702","v":"00:00:00"},{"$f":"IF(Dati!E702=\"EA1\",Dati!D702,)","v":0},{"$f":"IF(Dati!E702=\"EA2\",Dati!D702,)","v":0},{"$f":"IF(Dati!E702=\"EA3\",Dati!D702,)","v":0},{"$f":"IF(Dati!E702=\"EA4\",Dati!D702,)","v":0},{"$f":"IF(Dati!E702=\"EA5\",Dati!D702,)","v":0},{"$f":"IF(Dati!E702=\"EA6\",Dati!D702,)","v":0},{"$f":"IF(Dati!E702=\"EB1\",Dati!D702,)","v":0},{"$f":"IF(Dati!E702=\"EB2\",Dati!D702,)","v":0},{"$f":"IF(Dati!E702=\"EC1\",Dati!D702,)","v":0},{"$f":"IF(Dati!E702=\"ED1\",Dati!D702,)","v":0},{"$f":"IF(Dati!E702=\"EE1\",Dati!D702,)","v":0}]
[{"$f":"Dati!C703","v":"00:00:00"},{"$f":"Dati!H703","v":"00:00:00"},{"$f":"IF(Dati!E703=\"EA1\",Dati!D703,)","v":0},{"$f":"IF(Dati!E703=\"EA2\",Dati!D703,)","v":0},{"$f":"IF(Dati!E703=\"EA3\",Dati!D703,)","v":0},{"$f":"IF(Dati!E703=\"EA4\",Dati!D703,)","v":0},{"$f":"IF(Dati!E703=\"EA5\",Dati!D703,)","v":0},{"$f":"IF(Dati!E703=\"EA6\",Dati!D703,)","v":0},{"$f":"IF(Dati!E703=\"EB1\",Dati!D703,)","v":0},{"$f":"IF(Dati!E703=\"EB2\",Dati!D703,)","v":0},{"$f":"IF(Dati!E703=\"EC1\",Dati!D703,)","v":0},{"$f":"IF(Dati!E703=\"ED1\",Dati!D703,)","v":0},{"$f":"IF(Dati!E703=\"EE1\",Dati!D703,)","v":0}]
[{"$f":"Dati!C704","v":"00:00:00"},{"$f":"Dati!H704","v":"00:00:00"},{"$f":"IF(Dati!E704=\"EA1\",Dati!D704,)","v":0},{"$f":"IF(Dati!E704=\"EA2\",Dati!D704,)","v":0},{"$f":"IF(Dati!E704=\"EA3\",Dati!D704,)","v":0},{"$f":"IF(Dati!E704=\"EA4\",Dati!D704,)","v":0},{"$f":"IF(Dati!E704=\"EA5\",Dati!D704,)","v":0},{"$f":"IF(Dati!E704=\"EA6\",Dati!D704,)","v":0},{"$f":"IF(Dati!E704=\"EB1\",Dati!D704,)","v":0},{"$f":"IF(Dati!E704=\"EB2\",Dati!D704,)","v":0},{"$f":"IF(Dati!E704=\"EC1\",Dati!D704,)","v":0},{"$f":"IF(Dati!E704=\"ED1\",Dati!D704,)","v":0},{"$f":"IF(Dati!E704=\"EE1\",Dati!D704,)","v":0}]
[{"$f":"Dati!C705","v":"00:00:00"},{"$f":"Dati!H705","v":"00:00:00"},{"$f":"IF(Dati!E705=\"EA1\",Dati!D705,)","v":0},{"$f":"IF(Dati!E705=\"EA2\",Dati!D705,)","v":0},{"$f":"IF(Dati!E705=\"EA3\",Dati!D705,)","v":0},{"$f":"IF(Dati!E705=\"EA4\",Dati!D705,)","v":0},{"$f":"IF(Dati!E705=\"EA5\",Dati!D705,)","v":0},{"$f":"IF(Dati!E705=\"EA6\",Dati!D705,)","v":0},{"$f":"IF(Dati!E705=\"EB1\",Dati!D705,)","v":0},{"$f":"IF(Dati!E705=\"EB2\",Dati!D705,)","v":0},{"$f":"IF(Dati!E705=\"EC1\",Dati!D705,)","v":0},{"$f":"IF(Dati!E705=\"ED1\",Dati!D705,)","v":0},{"$f":"IF(Dati!E705=\"EE1\",Dati!D705,)","v":0}]
[{"$f":"Dati!C706","v":"00:00:00"},{"$f":"Dati!H706","v":"00:00:00"},{"$f":"IF(Dati!E706=\"EA1\",Dati!D706,)","v":0},{"$f":"IF(Dati!E706=\"EA2\",Dati!D706,)","v":0},{"$f":"IF(Dati!E706=\"EA3\",Dati!D706,)","v":0},{"$f":"IF(Dati!E706=\"EA4\",Dati!D706,)","v":0},{"$f":"IF(Dati!E706=\"EA5\",Dati!D706,)","v":0},{"$f":"IF(Dati!E706=\"EA6\",Dati!D706,)","v":0},{"$f":"IF(Dati!E706=\"EB1\",Dati!D706,)","v":0},{"$f":"IF(Dati!E706=\"EB2\",Dati!D706,)","v":0},{"$f":"IF(Dati!E706=\"EC1\",Dati!D706,)","v":0},{"$f":"IF(Dati!E706=\"ED1\",Dati!D706,)","v":0},{"$f":"IF(Dati!E706=\"EE1\",Dati!D706,)","v":0}]
[{"$f":"Dati!C707","v":"00:00:00"},{"$f":"Dati!H707","v":"00:00:00"},{"$f":"IF(Dati!E707=\"EA1\",Dati!D707,)","v":0},{"$f":"IF(Dati!E707=\"EA2\",Dati!D707,)","v":0},{"$f":"IF(Dati!E707=\"EA3\",Dati!D707,)","v":0},{"$f":"IF(Dati!E707=\"EA4\",Dati!D707,)","v":0},{"$f":"IF(Dati!E707=\"EA5\",Dati!D707,)","v":0},{"$f":"IF(Dati!E707=\"EA6\",Dati!D707,)","v":0},{"$f":"IF(Dati!E707=\"EB1\",Dati!D707,)","v":0},{"$f":"IF(Dati!E707=\"EB2\",Dati!D707,)","v":0},{"$f":"IF(Dati!E707=\"EC1\",Dati!D707,)","v":0},{"$f":"IF(Dati!E707=\"ED1\",Dati!D707,)","v":0},{"$f":"IF(Dati!E707=\"EE1\",Dati!D707,)","v":0}]
[{"$f":"Dati!C708","v":"00:00:00"},{"$f":"Dati!H708","v":"00:00:00"},{"$f":"IF(Dati!E708=\"EA1\",Dati!D708,)","v":0},{"$f":"IF(Dati!E708=\"EA2\",Dati!D708,)","v":0},{"$f":"IF(Dati!E708=\"EA3\",Dati!D708,)","v":0},{"$f":"IF(Dati!E708=\"EA4\",Dati!D708,)","v":0},{"$f":"IF(Dati!E708=\"EA5\",Dati!D708,)","v":0},{"$f":"IF(Dati!E708=\"EA6\",Dati!D708,)","v":0},{"$f":"IF(Dati!E708=\"EB1\",Dati!D708,)","v":0},{"$f":"IF(Dati!E708=\"EB2\",Dati!D708,)","v":0},{"$f":"IF(Dati!E708=\"EC1\",Dati!D708,)","v":0},{"$f":"IF(Dati!E708=\"ED1\",Dati!D708,)","v":0},{"$f":"IF(Dati!E708=\"EE1\",Dati!D708,)","v":0}]
[{"$f":"Dati!C709","v":"00:00:00"},{"$f":"Dati!H709","v":"00:00:00"},{"$f":"IF(Dati!E709=\"EA1\",Dati!D709,)","v":0},{"$f":"IF(Dati!E709=\"EA2\",Dati!D709,)","v":0},{"$f":"IF(Dati!E709=\"EA3\",Dati!D709,)","v":0},{"$f":"IF(Dati!E709=\"EA4\",Dati!D709,)","v":0},{"$f":"IF(Dati!E709=\"EA5\",Dati!D709,)","v":0},{"$f":"IF(Dati!E709=\"EA6\",Dati!D709,)","v":0},{"$f":"IF(Dati!E709=\"EB1\",Dati!D709,)","v":0},{"$f":"IF(Dati!E709=\"EB2\",Dati!D709,)","v":0},{"$f":"IF(Dati!E709=\"EC1\",Dati!D709,)","v":0},{"$f":"IF(Dati!E709=\"ED1\",Dati!D709,)","v":0},{"$f":"IF(Dati!E709=\"EE1\",Dati!D709,)","v":0}]
[{"$f":"Dati!C710","v":"00:00:00"},{"$f":"Dati!H710","v":"00:00:00"},{"$f":"IF(Dati!E710=\"EA1\",Dati!D710,)","v":0},{"$f":"IF(Dati!E710=\"EA2\",Dati!D710,)","v":0},{"$f":"IF(Dati!E710=\"EA3\",Dati!D710,)","v":0},{"$f":"IF(Dati!E710=\"EA4\",Dati!D710,)","v":0},{"$f":"IF(Dati!E710=\"EA5\",Dati!D710,)","v":0},{"$f":"IF(Dati!E710=\"EA6\",Dati!D710,)","v":0},{"$f":"IF(Dati!E710=\"EB1\",Dati!D710,)","v":0},{"$f":"IF(Dati!E710=\"EB2\",Dati!D710,)","v":0},{"$f":"IF(Dati!E710=\"EC1\",Dati!D710,)","v":0},{"$f":"IF(Dati!E710=\"ED1\",Dati!D710,)","v":0},{"$f":"IF(Dati!E710=\"EE1\",Dati!D710,)","v":0}]
[{"$f":"Dati!C711","v":"00:00:00"},{"$f":"Dati!H711","v":"00:00:00"},{"$f":"IF(Dati!E711=\"EA1\",Dati!D711,)","v":0},{"$f":"IF(Dati!E711=\"EA2\",Dati!D711,)","v":0},{"$f":"IF(Dati!E711=\"EA3\",Dati!D711,)","v":0},{"$f":"IF(Dati!E711=\"EA4\",Dati!D711,)","v":0},{"$f":"IF(Dati!E711=\"EA5\",Dati!D711,)","v":0},{"$f":"IF(Dati!E711=\"EA6\",Dati!D711,)","v":0},{"$f":"IF(Dati!E711=\"EB1\",Dati!D711,)","v":0},{"$f":"IF(Dati!E711=\"EB2\",Dati!D711,)","v":0},{"$f":"IF(Dati!E711=\"EC1\",Dati!D711,)","v":0},{"$f":"IF(Dati!E711=\"ED1\",Dati!D711,)","v":0},{"$f":"IF(Dati!E711=\"EE1\",Dati!D711,)","v":0}]
[{"$f":"Dati!C712","v":"00:00:00"},{"$f":"Dati!H712","v":"00:00:00"},{"$f":"IF(Dati!E712=\"EA1\",Dati!D712,)","v":0},{"$f":"IF(Dati!E712=\"EA2\",Dati!D712,)","v":0},{"$f":"IF(Dati!E712=\"EA3\",Dati!D712,)","v":0},{"$f":"IF(Dati!E712=\"EA4\",Dati!D712,)","v":0},{"$f":"IF(Dati!E712=\"EA5\",Dati!D712,)","v":0},{"$f":"IF(Dati!E712=\"EA6\",Dati!D712,)","v":0},{"$f":"IF(Dati!E712=\"EB1\",Dati!D712,)","v":0},{"$f":"IF(Dati!E712=\"EB2\",Dati!D712,)","v":0},{"$f":"IF(Dati!E712=\"EC1\",Dati!D712,)","v":0},{"$f":"IF(Dati!E712=\"ED1\",Dati!D712,)","v":0},{"$f":"IF(Dati!E712=\"EE1\",Dati!D712,)","v":0}]
[{"$f":"Dati!C713","v":"00:00:00"},{"$f":"Dati!H713","v":"00:00:00"},{"$f":"IF(Dati!E713=\"EA1\",Dati!D713,)","v":0},{"$f":"IF(Dati!E713=\"EA2\",Dati!D713,)","v":0},{"$f":"IF(Dati!E713=\"EA3\",Dati!D713,)","v":0},{"$f":"IF(Dati!E713=\"EA4\",Dati!D713,)","v":0},{"$f":"IF(Dati!E713=\"EA5\",Dati!D713,)","v":0},{"$f":"IF(Dati!E713=\"EA6\",Dati!D713,)","v":0},{"$f":"IF(Dati!E713=\"EB1\",Dati!D713,)","v":0},{"$f":"IF(Dati!E713=\"EB2\",Dati!D713,)","v":0},{"$f":"IF(Dati!E713=\"EC1\",Dati!D713,)","v":0},{"$f":"IF(Dati!E713=\"ED1\",Dati!D713,)","v":0},{"$f":"IF(Dati!E713=\"EE1\",Dati!D713,)","v":0}]
[{"$f":"Dati!C714","v":"00:00:00"},{"$f":"Dati!H714","v":"00:00:00"},{"$f":"IF(Dati!E714=\"EA1\",Dati!D714,)","v":0},{"$f":"IF(Dati!E714=\"EA2\",Dati!D714,)","v":0},{"$f":"IF(Dati!E714=\"EA3\",Dati!D714,)","v":0},{"$f":"IF(Dati!E714=\"EA4\",Dati!D714,)","v":0},{"$f":"IF(Dati!E714=\"EA5\",Dati!D714,)","v":0},{"$f":"IF(Dati!E714=\"EA6\",Dati!D714,)","v":0},{"$f":"IF(Dati!E714=\"EB1\",Dati!D714,)","v":0},{"$f":"IF(Dati!E714=\"EB2\",Dati!D714,)","v":0},{"$f":"IF(Dati!E714=\"EC1\",Dati!D714,)","v":0},{"$f":"IF(Dati!E714=\"ED1\",Dati!D714,)","v":0},{"$f":"IF(Dati!E714=\"EE1\",Dati!D714,)","v":0}]
[{"$f":"Dati!C715","v":"00:00:00"},{"$f":"Dati!H715","v":"00:00:00"},{"$f":"IF(Dati!E715=\"EA1\",Dati!D715,)","v":0},{"$f":"IF(Dati!E715=\"EA2\",Dati!D715,)","v":0},{"$f":"IF(Dati!E715=\"EA3\",Dati!D715,)","v":0},{"$f":"IF(Dati!E715=\"EA4\",Dati!D715,)","v":0},{"$f":"IF(Dati!E715=\"EA5\",Dati!D715,)","v":0},{"$f":"IF(Dati!E715=\"EA6\",Dati!D715,)","v":0},{"$f":"IF(Dati!E715=\"EB1\",Dati!D715,)","v":0},{"$f":"IF(Dati!E715=\"EB2\",Dati!D715,)","v":0},{"$f":"IF(Dati!E715=\"EC1\",Dati!D715,)","v":0},{"$f":"IF(Dati!E715=\"ED1\",Dati!D715,)","v":0},{"$f":"IF(Dati!E715=\"EE1\",Dati!D715,)","v":0}]
[{"$f":"Dati!C716","v":"00:00:00"},{"$f":"Dati!H716","v":"00:00:00"},{"$f":"IF(Dati!E716=\"EA1\",Dati!D716,)","v":0},{"$f":"IF(Dati!E716=\"EA2\",Dati!D716,)","v":0},{"$f":"IF(Dati!E716=\"EA3\",Dati!D716,)","v":0},{"$f":"IF(Dati!E716=\"EA4\",Dati!D716,)","v":0},{"$f":"IF(Dati!E716=\"EA5\",Dati!D716,)","v":0},{"$f":"IF(Dati!E716=\"EA6\",Dati!D716,)","v":0},{"$f":"IF(Dati!E716=\"EB1\",Dati!D716,)","v":0},{"$f":"IF(Dati!E716=\"EB2\",Dati!D716,)","v":0},{"$f":"IF(Dati!E716=\"EC1\",Dati!D716,)","v":0},{"$f":"IF(Dati!E716=\"ED1\",Dati!D716,)","v":0},{"$f":"IF(Dati!E716=\"EE1\",Dati!D716,)","v":0}]
[{"$f":"Dati!C717","v":"00:00:00"},{"$f":"Dati!H717","v":"00:00:00"},{"$f":"IF(Dati!E717=\"EA1\",Dati!D717,)","v":0},{"$f":"IF(Dati!E717=\"EA2\",Dati!D717,)","v":0},{"$f":"IF(Dati!E717=\"EA3\",Dati!D717,)","v":0},{"$f":"IF(Dati!E717=\"EA4\",Dati!D717,)","v":0},{"$f":"IF(Dati!E717=\"EA5\",Dati!D717,)","v":0},{"$f":"IF(Dati!E717=\"EA6\",Dati!D717,)","v":0},{"$f":"IF(Dati!E717=\"EB1\",Dati!D717,)","v":0},{"$f":"IF(Dati!E717=\"EB2\",Dati!D717,)","v":0},{"$f":"IF(Dati!E717=\"EC1\",Dati!D717,)","v":0},{"$f":"IF(Dati!E717=\"ED1\",Dati!D717,)","v":0},{"$f":"IF(Dati!E717=\"EE1\",Dati!D717,)","v":0}]
[{"$f":"Dati!C718","v":"00:00:00"},{"$f":"Dati!H718","v":"00:00:00"},{"$f":"IF(Dati!E718=\"EA1\",Dati!D718,)","v":0},{"$f":"IF(Dati!E718=\"EA2\",Dati!D718,)","v":0},{"$f":"IF(Dati!E718=\"EA3\",Dati!D718,)","v":0},{"$f":"IF(Dati!E718=\"EA4\",Dati!D718,)","v":0},{"$f":"IF(Dati!E718=\"EA5\",Dati!D718,)","v":0},{"$f":"IF(Dati!E718=\"EA6\",Dati!D718,)","v":0},{"$f":"IF(Dati!E718=\"EB1\",Dati!D718,)","v":0},{"$f":"IF(Dati!E718=\"EB2\",Dati!D718,)","v":0},{"$f":"IF(Dati!E718=\"EC1\",Dati!D718,)","v":0},{"$f":"IF(Dati!E718=\"ED1\",Dati!D718,)","v":0},{"$f":"IF(Dati!E718=\"EE1\",Dati!D718,)","v":0}]
[{"$f":"Dati!C719","v":"00:00:00"},{"$f":"Dati!H719","v":"00:00:00"},{"$f":"IF(Dati!E719=\"EA1\",Dati!D719,)","v":0},{"$f":"IF(Dati!E719=\"EA2\",Dati!D719,)","v":0},{"$f":"IF(Dati!E719=\"EA3\",Dati!D719,)","v":0},{"$f":"IF(Dati!E719=\"EA4\",Dati!D719,)","v":0},{"$f":"IF(Dati!E719=\"EA5\",Dati!D719,)","v":0},{"$f":"IF(Dati!E719=\"EA6\",Dati!D719,)","v":0},{"$f":"IF(Dati!E719=\"EB1\",Dati!D719,)","v":0},{"$f":"IF(Dati!E719=\"EB2\",Dati!D719,)","v":0},{"$f":"IF(Dati!E719=\"EC1\",Dati!D719,)","v":0},{"$f":"IF(Dati!E719=\"ED1\",Dati!D719,)","v":0},{"$f":"IF(Dati!E719=\"EE1\",Dati!D719,)","v":0}]
[{"$f":"Dati!C720","v":"00:00:00"},{"$f":"Dati!H720","v":"00:00:00"},{"$f":"IF(Dati!E720=\"EA1\",Dati!D720,)","v":0},{"$f":"IF(Dati!E720=\"EA2\",Dati!D720,)","v":0},{"$f":"IF(Dati!E720=\"EA3\",Dati!D720,)","v":0},{"$f":"IF(Dati!E720=\"EA4\",Dati!D720,)","v":0},{"$f":"IF(Dati!E720=\"EA5\",Dati!D720,)","v":0},{"$f":"IF(Dati!E720=\"EA6\",Dati!D720,)","v":0},{"$f":"IF(Dati!E720=\"EB1\",Dati!D720,)","v":0},{"$f":"IF(Dati!E720=\"EB2\",Dati!D720,)","v":0},{"$f":"IF(Dati!E720=\"EC1\",Dati!D720,)","v":0},{"$f":"IF(Dati!E720=\"ED1\",Dati!D720,)","v":0},{"$f":"IF(Dati!E720=\"EE1\",Dati!D720,)","v":0}]
[{"$f":"Dati!C721","v":"00:00:00"},{"$f":"Dati!H721","v":"00:00:00"},{"$f":"IF(Dati!E721=\"EA1\",Dati!D721,)","v":0},{"$f":"IF(Dati!E721=\"EA2\",Dati!D721,)","v":0},{"$f":"IF(Dati!E721=\"EA3\",Dati!D721,)","v":0},{"$f":"IF(Dati!E721=\"EA4\",Dati!D721,)","v":0},{"$f":"IF(Dati!E721=\"EA5\",Dati!D721,)","v":0},{"$f":"IF(Dati!E721=\"EA6\",Dati!D721,)","v":0},{"$f":"IF(Dati!E721=\"EB1\",Dati!D721,)","v":0},{"$f":"IF(Dati!E721=\"EB2\",Dati!D721,)","v":0},{"$f":"IF(Dati!E721=\"EC1\",Dati!D721,)","v":0},{"$f":"IF(Dati!E721=\"ED1\",Dati!D721,)","v":0},{"$f":"IF(Dati!E721=\"EE1\",Dati!D721,)","v":0}]
[{"$f":"Dati!C722","v":"00:00:00"},{"$f":"Dati!H722","v":"00:00:00"},{"$f":"IF(Dati!E722=\"EA1\",Dati!D722,)","v":0},{"$f":"IF(Dati!E722=\"EA2\",Dati!D722,)","v":0},{"$f":"IF(Dati!E722=\"EA3\",Dati!D722,)","v":0},{"$f":"IF(Dati!E722=\"EA4\",Dati!D722,)","v":0},{"$f":"IF(Dati!E722=\"EA5\",Dati!D722,)","v":0},{"$f":"IF(Dati!E722=\"EA6\",Dati!D722,)","v":0},{"$f":"IF(Dati!E722=\"EB1\",Dati!D722,)","v":0},{"$f":"IF(Dati!E722=\"EB2\",Dati!D722,)","v":0},{"$f":"IF(Dati!E722=\"EC1\",Dati!D722,)","v":0},{"$f":"IF(Dati!E722=\"ED1\",Dati!D722,)","v":0},{"$f":"IF(Dati!E722=\"EE1\",Dati!D722,)","v":0}]
[{"$f":"Dati!C723","v":"00:00:00"},{"$f":"Dati!H723","v":"00:00:00"},{"$f":"IF(Dati!E723=\"EA1\",Dati!D723,)","v":0},{"$f":"IF(Dati!E723=\"EA2\",Dati!D723,)","v":0},{"$f":"IF(Dati!E723=\"EA3\",Dati!D723,)","v":0},{"$f":"IF(Dati!E723=\"EA4\",Dati!D723,)","v":0},{"$f":"IF(Dati!E723=\"EA5\",Dati!D723,)","v":0},{"$f":"IF(Dati!E723=\"EA6\",Dati!D723,)","v":0},{"$f":"IF(Dati!E723=\"EB1\",Dati!D723,)","v":0},{"$f":"IF(Dati!E723=\"EB2\",Dati!D723,)","v":0},{"$f":"IF(Dati!E723=\"EC1\",Dati!D723,)","v":0},{"$f":"IF(Dati!E723=\"ED1\",Dati!D723,)","v":0},{"$f":"IF(Dati!E723=\"EE1\",Dati!D723,)","v":0}]
[{"$f":"Dati!C724","v":"00:00:00"},{"$f":"Dati!H724","v":"00:00:00"},{"$f":"IF(Dati!E724=\"EA1\",Dati!D724,)","v":0},{"$f":"IF(Dati!E724=\"EA2\",Dati!D724,)","v":0},{"$f":"IF(Dati!E724=\"EA3\",Dati!D724,)","v":0},{"$f":"IF(Dati!E724=\"EA4\",Dati!D724,)","v":0},{"$f":"IF(Dati!E724=\"EA5\",Dati!D724,)","v":0},{"$f":"IF(Dati!E724=\"EA6\",Dati!D724,)","v":0},{"$f":"IF(Dati!E724=\"EB1\",Dati!D724,)","v":0},{"$f":"IF(Dati!E724=\"EB2\",Dati!D724,)","v":0},{"$f":"IF(Dati!E724=\"EC1\",Dati!D724,)","v":0},{"$f":"IF(Dati!E724=\"ED1\",Dati!D724,)","v":0},{"$f":"IF(Dati!E724=\"EE1\",Dati!D724,)","v":0}]
[{"$f":"Dati!C725","v":"00:00:00"},{"$f":"Dati!H725","v":"00:00:00"},{"$f":"IF(Dati!E725=\"EA1\",Dati!D725,)","v":0},{"$f":"IF(Dati!E725=\"EA2\",Dati!D725,)","v":0},{"$f":"IF(Dati!E725=\"EA3\",Dati!D725,)","v":0},{"$f":"IF(Dati!E725=\"EA4\",Dati!D725,)","v":0},{"$f":"IF(Dati!E725=\"EA5\",Dati!D725,)","v":0},{"$f":"IF(Dati!E725=\"EA6\",Dati!D725,)","v":0},{"$f":"IF(Dati!E725=\"EB1\",Dati!D725,)","v":0},{"$f":"IF(Dati!E725=\"EB2\",Dati!D725,)","v":0},{"$f":"IF(Dati!E725=\"EC1\",Dati!D725,)","v":0},{"$f":"IF(Dati!E725=\"ED1\",Dati!D725,)","v":0},{"$f":"IF(Dati!E725=\"EE1\",Dati!D725,)","v":0}]
[{"$f":"Dati!C726","v":"00:00:00"},{"$f":"Dati!H726","v":"00:00:00"},{"$f":"IF(Dati!E726=\"EA1\",Dati!D726,)","v":0},{"$f":"IF(Dati!E726=\"EA2\",Dati!D726,)","v":0},{"$f":"IF(Dati!E726=\"EA3\",Dati!D726,)","v":0},{"$f":"IF(Dati!E726=\"EA4\",Dati!D726,)","v":0},{"$f":"IF(Dati!E726=\"EA5\",Dati!D726,)","v":0},{"$f":"IF(Dati!E726=\"EA6\",Dati!D726,)","v":0},{"$f":"IF(Dati!E726=\"EB1\",Dati!D726,)","v":0},{"$f":"IF(Dati!E726=\"EB2\",Dati!D726,)","v":0},{"$f":"IF(Dati!E726=\"EC1\",Dati!D726,)","v":0},{"$f":"IF(Dati!E726=\"ED1\",Dati!D726,)","v":0},{"$f":"IF(Dati!E726=\"EE1\",Dati!D726,)","v":0}]
[{"$f":"Dati!C727","v":"00:00:00"},{"$f":"Dati!H727","v":"00:00:00"},{"$f":"IF(Dati!E727=\"EA1\",Dati!D727,)","v":0},{"$f":"IF(Dati!E727=\"EA2\",Dati!D727,)","v":0},{"$f":"IF(Dati!E727=\"EA3\",Dati!D727,)","v":0},{"$f":"IF(Dati!E727=\"EA4\",Dati!D727,)","v":0},{"$f":"IF(Dati!E727=\"EA5\",Dati!D727,)","v":0},{"$f":"IF(Dati!E727=\"EA6\",Dati!D727,)","v":0},{"$f":"IF(Dati!E727=\"EB1\",Dati!D727,)","v":0},{"$f":"IF(Dati!E727=\"EB2\",Dati!D727,)","v":0},{"$f":"IF(Dati!E727=\"EC1\",Dati!D727,)","v":0},{"$f":"IF(Dati!E727=\"ED1\",Dati!D727,)","v":0},{"$f":"IF(Dati!E727=\"EE1\",Dati!D727,)","v":0}]
[{"$f":"Dati!C728","v":"00:00:00"},{"$f":"Dati!H728","v":"00:00:00"},{"$f":"IF(Dati!E728=\"EA1\",Dati!D728,)","v":0},{"$f":"IF(Dati!E728=\"EA2\",Dati!D728,)","v":0},{"$f":"IF(Dati!E728=\"EA3\",Dati!D728,)","v":0},{"$f":"IF(Dati!E728=\"EA4\",Dati!D728,)","v":0},{"$f":"IF(Dati!E728=\"EA5\",Dati!D728,)","v":0},{"$f":"IF(Dati!E728=\"EA6\",Dati!D728,)","v":0},{"$f":"IF(Dati!E728=\"EB1\",Dati!D728,)","v":0},{"$f":"IF(Dati!E728=\"EB2\",Dati!D728,)","v":0},{"$f":"IF(Dati!E728=\"EC1\",Dati!D728,)","v":0},{"$f":"IF(Dati!E728=\"ED1\",Dati!D728,)","v":0},{"$f":"IF(Dati!E728=\"EE1\",Dati!D728,)","v":0}]
[{"$f":"Dati!C729","v":"00:00:00"},{"$f":"Dati!H729","v":"00:00:00"},{"$f":"IF(Dati!E729=\"EA1\",Dati!D729,)","v":0},{"$f":"IF(Dati!E729=\"EA2\",Dati!D729,)","v":0},{"$f":"IF(Dati!E729=\"EA3\",Dati!D729,)","v":0},{"$f":"IF(Dati!E729=\"EA4\",Dati!D729,)","v":0},{"$f":"IF(Dati!E729=\"EA5\",Dati!D729,)","v":0},{"$f":"IF(Dati!E729=\"EA6\",Dati!D729,)","v":0},{"$f":"IF(Dati!E729=\"EB1\",Dati!D729,)","v":0},{"$f":"IF(Dati!E729=\"EB2\",Dati!D729,)","v":0},{"$f":"IF(Dati!E729=\"EC1\",Dati!D729,)","v":0},{"$f":"IF(Dati!E729=\"ED1\",Dati!D729,)","v":0},{"$f":"IF(Dati!E729=\"EE1\",Dati!D729,)","v":0}]
[{"$f":"Dati!C730","v":"00:00:00"},{"$f":"Dati!H730","v":"00:00:00"},{"$f":"IF(Dati!E730=\"EA1\",Dati!D730,)","v":0},{"$f":"IF(Dati!E730=\"EA2\",Dati!D730,)","v":0},{"$f":"IF(Dati!E730=\"EA3\",Dati!D730,)","v":0},{"$f":"IF(Dati!E730=\"EA4\",Dati!D730,)","v":0},{"$f":"IF(Dati!E730=\"EA5\",Dati!D730,)","v":0},{"$f":"IF(Dati!E730=\"EA6\",Dati!D730,)","v":0},{"$f":"IF(Dati!E730=\"EB1\",Dati!D730,)","v":0},{"$f":"IF(Dati!E730=\"EB2\",Dati!D730,)","v":0},{"$f":"IF(Dati!E730=\"EC1\",Dati!D730,)","v":0},{"$f":"IF(Dati!E730=\"ED1\",Dati!D730,)","v":0},{"$f":"IF(Dati!E730=\"EE1\",Dati!D730,)","v":0}]
[{"$f":"Dati!C731","v":"00:00:00"},{"$f":"Dati!H731","v":"00:00:00"},{"$f":"IF(Dati!E731=\"EA1\",Dati!D731,)","v":0},{"$f":"IF(Dati!E731=\"EA2\",Dati!D731,)","v":0},{"$f":"IF(Dati!E731=\"EA3\",Dati!D731,)","v":0},{"$f":"IF(Dati!E731=\"EA4\",Dati!D731,)","v":0},{"$f":"IF(Dati!E731=\"EA5\",Dati!D731,)","v":0},{"$f":"IF(Dati!E731=\"EA6\",Dati!D731,)","v":0},{"$f":"IF(Dati!E731=\"EB1\",Dati!D731,)","v":0},{"$f":"IF(Dati!E731=\"EB2\",Dati!D731,)","v":0},{"$f":"IF(Dati!E731=\"EC1\",Dati!D731,)","v":0},{"$f":"IF(Dati!E731=\"ED1\",Dati!D731,)","v":0},{"$f":"IF(Dati!E731=\"EE1\",Dati!D731,)","v":0}]
[{"$f":"Dati!C732","v":"00:00:00"},{"$f":"Dati!H732","v":"00:00:00"},{"$f":"IF(Dati!E732=\"EA1\",Dati!D732,)","v":0},{"$f":"IF(Dati!E732=\"EA2\",Dati!D732,)","v":0},{"$f":"IF(Dati!E732=\"EA3\",Dati!D732,)","v":0},{"$f":"IF(Dati!E732=\"EA4\",Dati!D732,)","v":0},{"$f":"IF(Dati!E732=\"EA5\",Dati!D732,)","v":0},{"$f":"IF(Dati!E732=\"EA6\",Dati!D732,)","v":0},{"$f":"IF(Dati!E732=\"EB1\",Dati!D732,)","v":0},{"$f":"IF(Dati!E732=\"EB2\",Dati!D732,)","v":0},{"$f":"IF(Dati!E732=\"EC1\",Dati!D732,)","v":0},{"$f":"IF(Dati!E732=\"ED1\",Dati!D732,)","v":0},{"$f":"IF(Dati!E732=\"EE1\",Dati!D732,)","v":0}]
[{"$f":"Dati!C733","v":"00:00:00"},{"$f":"Dati!H733","v":"00:00:00"},{"$f":"IF(Dati!E733=\"EA1\",Dati!D733,)","v":0},{"$f":"IF(Dati!E733=\"EA2\",Dati!D733,)","v":0},{"$f":"IF(Dati!E733=\"EA3\",Dati!D733,)","v":0},{"$f":"IF(Dati!E733=\"EA4\",Dati!D733,)","v":0},{"$f":"IF(Dati!E733=\"EA5\",Dati!D733,)","v":0},{"$f":"IF(Dati!E733=\"EA6\",Dati!D733,)","v":0},{"$f":"IF(Dati!E733=\"EB1\",Dati!D733,)","v":0},{"$f":"IF(Dati!E733=\"EB2\",Dati!D733,)","v":0},{"$f":"IF(Dati!E733=\"EC1\",Dati!D733,)","v":0},{"$f":"IF(Dati!E733=\"ED1\",Dati!D733,)","v":0},{"$f":"IF(Dati!E733=\"EE1\",Dati!D733,)","v":0}]
[{"$f":"Dati!C734","v":"00:00:00"},{"$f":"Dati!H734","v":"00:00:00"},{"$f":"IF(Dati!E734=\"EA1\",Dati!D734,)","v":0},{"$f":"IF(Dati!E734=\"EA2\",Dati!D734,)","v":0},{"$f":"IF(Dati!E734=\"EA3\",Dati!D734,)","v":0},{"$f":"IF(Dati!E734=\"EA4\",Dati!D734,)","v":0},{"$f":"IF(Dati!E734=\"EA5\",Dati!D734,)","v":0},{"$f":"IF(Dati!E734=\"EA6\",Dati!D734,)","v":0},{"$f":"IF(Dati!E734=\"EB1\",Dati!D734,)","v":0},{"$f":"IF(Dati!E734=\"EB2\",Dati!D734,)","v":0},{"$f":"IF(Dati!E734=\"EC1\",Dati!D734,)","v":0},{"$f":"IF(Dati!E734=\"ED1\",Dati!D734,)","v":0},{"$f":"IF(Dati!E734=\"EE1\",Dati!D734,)","v":0}]
[{"$f":"Dati!C735","v":"00:00:00"},{"$f":"Dati!H735","v":"00:00:00"},{"$f":"IF(Dati!E735=\"EA1\",Dati!D735,)","v":0},{"$f":"IF(Dati!E735=\"EA2\",Dati!D735,)","v":0},{"$f":"IF(Dati!E735=\"EA3\",Dati!D735,)","v":0},{"$f":"IF(Dati!E735=\"EA4\",Dati!D735,)","v":0},{"$f":"IF(Dati!E735=\"EA5\",Dati!D735,)","v":0},{"$f":"IF(Dati!E735=\"EA6\",Dati!D735,)","v":0},{"$f":"IF(Dati!E735=\"EB1\",Dati!D735,)","v":0},{"$f":"IF(Dati!E735=\"EB2\",Dati!D735,)","v":0},{"$f":"IF(Dati!E735=\"EC1\",Dati!D735,)","v":0},{"$f":"IF(Dati!E735=\"ED1\",Dati!D735,)","v":0},{"$f":"IF(Dati!E735=\"EE1\",Dati!D735,)","v":0}]
[{"$f":"Dati!C736","v":"00:00:00"},{"$f":"Dati!H736","v":"00:00:00"},{"$f":"IF(Dati!E736=\"EA1\",Dati!D736,)","v":0},{"$f":"IF(Dati!E736=\"EA2\",Dati!D736,)","v":0},{"$f":"IF(Dati!E736=\"EA3\",Dati!D736,)","v":0},{"$f":"IF(Dati!E736=\"EA4\",Dati!D736,)","v":0},{"$f":"IF(Dati!E736=\"EA5\",Dati!D736,)","v":0},{"$f":"IF(Dati!E736=\"EA6\",Dati!D736,)","v":0},{"$f":"IF(Dati!E736=\"EB1\",Dati!D736,)","v":0},{"$f":"IF(Dati!E736=\"EB2\",Dati!D736,)","v":0},{"$f":"IF(Dati!E736=\"EC1\",Dati!D736,)","v":0},{"$f":"IF(Dati!E736=\"ED1\",Dati!D736,)","v":0},{"$f":"IF(Dati!E736=\"EE1\",Dati!D736,)","v":0}]
[{"$f":"Dati!C737","v":"00:00:00"},{"$f":"Dati!H737","v":"00:00:00"},{"$f":"IF(Dati!E737=\"EA1\",Dati!D737,)","v":0},{"$f":"IF(Dati!E737=\"EA2\",Dati!D737,)","v":0},{"$f":"IF(Dati!E737=\"EA3\",Dati!D737,)","v":0},{"$f":"IF(Dati!E737=\"EA4\",Dati!D737,)","v":0},{"$f":"IF(Dati!E737=\"EA5\",Dati!D737,)","v":0},{"$f":"IF(Dati!E737=\"EA6\",Dati!D737,)","v":0},{"$f":"IF(Dati!E737=\"EB1\",Dati!D737,)","v":0},{"$f":"IF(Dati!E737=\"EB2\",Dati!D737,)","v":0},{"$f":"IF(Dati!E737=\"EC1\",Dati!D737,)","v":0},{"$f":"IF(Dati!E737=\"ED1\",Dati!D737,)","v":0},{"$f":"IF(Dati!E737=\"EE1\",Dati!D737,)","v":0}]
[{"$f":"Dati!C738","v":"00:00:00"},{"$f":"Dati!H738","v":"00:00:00"},{"$f":"IF(Dati!E738=\"EA1\",Dati!D738,)","v":0},{"$f":"IF(Dati!E738=\"EA2\",Dati!D738,)","v":0},{"$f":"IF(Dati!E738=\"EA3\",Dati!D738,)","v":0},{"$f":"IF(Dati!E738=\"EA4\",Dati!D738,)","v":0},{"$f":"IF(Dati!E738=\"EA5\",Dati!D738,)","v":0},{"$f":"IF(Dati!E738=\"EA6\",Dati!D738,)","v":0},{"$f":"IF(Dati!E738=\"EB1\",Dati!D738,)","v":0},{"$f":"IF(Dati!E738=\"EB2\",Dati!D738,)","v":0},{"$f":"IF(Dati!E738=\"EC1\",Dati!D738,)","v":0},{"$f":"IF(Dati!E738=\"ED1\",Dati!D738,)","v":0},{"$f":"IF(Dati!E738=\"EE1\",Dati!D738,)","v":0}]
[{"$f":"Dati!C739","v":"00:00:00"},{"$f":"Dati!H739","v":"00:00:00"},{"$f":"IF(Dati!E739=\"EA1\",Dati!D739,)","v":0},{"$f":"IF(Dati!E739=\"EA2\",Dati!D739,)","v":0},{"$f":"IF(Dati!E739=\"EA3\",Dati!D739,)","v":0},{"$f":"IF(Dati!E739=\"EA4\",Dati!D739,)","v":0},{"$f":"IF(Dati!E739=\"EA5\",Dati!D739,)","v":0},{"$f":"IF(Dati!E739=\"EA6\",Dati!D739,)","v":0},{"$f":"IF(Dati!E739=\"EB1\",Dati!D739,)","v":0},{"$f":"IF(Dati!E739=\"EB2\",Dati!D739,)","v":0},{"$f":"IF(Dati!E739=\"EC1\",Dati!D739,)","v":0},{"$f":"IF(Dati!E739=\"ED1\",Dati!D739,)","v":0},{"$f":"IF(Dati!E739=\"EE1\",Dati!D739,)","v":0}]
[{"$f":"Dati!C740","v":"00:00:00"},{"$f":"Dati!H740","v":"00:00:00"},{"$f":"IF(Dati!E740=\"EA1\",Dati!D740,)","v":0},{"$f":"IF(Dati!E740=\"EA2\",Dati!D740,)","v":0},{"$f":"IF(Dati!E740=\"EA3\",Dati!D740,)","v":0},{"$f":"IF(Dati!E740=\"EA4\",Dati!D740,)","v":0},{"$f":"IF(Dati!E740=\"EA5\",Dati!D740,)","v":0},{"$f":"IF(Dati!E740=\"EA6\",Dati!D740,)","v":0},{"$f":"IF(Dati!E740=\"EB1\",Dati!D740,)","v":0},{"$f":"IF(Dati!E740=\"EB2\",Dati!D740,)","v":0},{"$f":"IF(Dati!E740=\"EC1\",Dati!D740,)","v":0},{"$f":"IF(Dati!E740=\"ED1\",Dati!D740,)","v":0},{"$f":"IF(Dati!E740=\"EE1\",Dati!D740,)","v":0}]
[{"$f":"Dati!C741","v":"00:00:00"},{"$f":"Dati!H741","v":"00:00:00"},{"$f":"IF(Dati!E741=\"EA1\",Dati!D741,)","v":0},{"$f":"IF(Dati!E741=\"EA2\",Dati!D741,)","v":0},{"$f":"IF(Dati!E741=\"EA3\",Dati!D741,)","v":0},{"$f":"IF(Dati!E741=\"EA4\",Dati!D741,)","v":0},{"$f":"IF(Dati!E741=\"EA5\",Dati!D741,)","v":0},{"$f":"IF(Dati!E741=\"EA6\",Dati!D741,)","v":0},{"$f":"IF(Dati!E741=\"EB1\",Dati!D741,)","v":0},{"$f":"IF(Dati!E741=\"EB2\",Dati!D741,)","v":0},{"$f":"IF(Dati!E741=\"EC1\",Dati!D741,)","v":0},{"$f":"IF(Dati!E741=\"ED1\",Dati!D741,)","v":0},{"$f":"IF(Dati!E741=\"EE1\",Dati!D741,)","v":0}]
[{"$f":"Dati!C742","v":"00:00:00"},{"$f":"Dati!H742","v":"00:00:00"},{"$f":"IF(Dati!E742=\"EA1\",Dati!D742,)","v":0},{"$f":"IF(Dati!E742=\"EA2\",Dati!D742,)","v":0},{"$f":"IF(Dati!E742=\"EA3\",Dati!D742,)","v":0},{"$f":"IF(Dati!E742=\"EA4\",Dati!D742,)","v":0},{"$f":"IF(Dati!E742=\"EA5\",Dati!D742,)","v":0},{"$f":"IF(Dati!E742=\"EA6\",Dati!D742,)","v":0},{"$f":"IF(Dati!E742=\"EB1\",Dati!D742,)","v":0},{"$f":"IF(Dati!E742=\"EB2\",Dati!D742,)","v":0},{"$f":"IF(Dati!E742=\"EC1\",Dati!D742,)","v":0},{"$f":"IF(Dati!E742=\"ED1\",Dati!D742,)","v":0},{"$f":"IF(Dati!E742=\"EE1\",Dati!D742,)","v":0}]
[{"$f":"Dati!C743","v":"00:00:00"},{"$f":"Dati!H743","v":"00:00:00"},{"$f":"IF(Dati!E743=\"EA1\",Dati!D743,)","v":0},{"$f":"IF(Dati!E743=\"EA2\",Dati!D743,)","v":0},{"$f":"IF(Dati!E743=\"EA3\",Dati!D743,)","v":0},{"$f":"IF(Dati!E743=\"EA4\",Dati!D743,)","v":0},{"$f":"IF(Dati!E743=\"EA5\",Dati!D743,)","v":0},{"$f":"IF(Dati!E743=\"EA6\",Dati!D743,)","v":0},{"$f":"IF(Dati!E743=\"EB1\",Dati!D743,)","v":0},{"$f":"IF(Dati!E743=\"EB2\",Dati!D743,)","v":0},{"$f":"IF(Dati!E743=\"EC1\",Dati!D743,)","v":0},{"$f":"IF(Dati!E743=\"ED1\",Dati!D743,)","v":0},{"$f":"IF(Dati!E743=\"EE1\",Dati!D743,)","v":0}]
[{"$f":"Dati!C744","v":"00:00:00"},{"$f":"Dati!H744","v":"00:00:00"},{"$f":"IF(Dati!E744=\"EA1\",Dati!D744,)","v":0},{"$f":"IF(Dati!E744=\"EA2\",Dati!D744,)","v":0},{"$f":"IF(Dati!E744=\"EA3\",Dati!D744,)","v":0},{"$f":"IF(Dati!E744=\"EA4\",Dati!D744,)","v":0},{"$f":"IF(Dati!E744=\"EA5\",Dati!D744,)","v":0},{"$f":"IF(Dati!E744=\"EA6\",Dati!D744,)","v":0},{"$f":"IF(Dati!E744=\"EB1\",Dati!D744,)","v":0},{"$f":"IF(Dati!E744=\"EB2\",Dati!D744,)","v":0},{"$f":"IF(Dati!E744=\"EC1\",Dati!D744,)","v":0},{"$f":"IF(Dati!E744=\"ED1\",Dati!D744,)","v":0},{"$f":"IF(Dati!E744=\"EE1\",Dati!D744,)","v":0}]
[{"$f":"Dati!C745","v":"00:00:00"},{"$f":"Dati!H745","v":"00:00:00"},{"$f":"IF(Dati!E745=\"EA1\",Dati!D745,)","v":0},{"$f":"IF(Dati!E745=\"EA2\",Dati!D745,)","v":0},{"$f":"IF(Dati!E745=\"EA3\",Dati!D745,)","v":0},{"$f":"IF(Dati!E745=\"EA4\",Dati!D745,)","v":0},{"$f":"IF(Dati!E745=\"EA5\",Dati!D745,)","v":0},{"$f":"IF(Dati!E745=\"EA6\",Dati!D745,)","v":0},{"$f":"IF(Dati!E745=\"EB1\",Dati!D745,)","v":0},{"$f":"IF(Dati!E745=\"EB2\",Dati!D745,)","v":0},{"$f":"IF(Dati!E745=\"EC1\",Dati!D745,)","v":0},{"$f":"IF(Dati!E745=\"ED1\",Dati!D745,)","v":0},{"$f":"IF(Dati!E745=\"EE1\",Dati!D745,)","v":0}]
[{"$f":"Dati!C746","v":"00:00:00"},{"$f":"Dati!H746","v":"00:00:00"},{"$f":"IF(Dati!E746=\"EA1\",Dati!D746,)","v":0},{"$f":"IF(Dati!E746=\"EA2\",Dati!D746,)","v":0},{"$f":"IF(Dati!E746=\"EA3\",Dati!D746,)","v":0},{"$f":"IF(Dati!E746=\"EA4\",Dati!D746,)","v":0},{"$f":"IF(Dati!E746=\"EA5\",Dati!D746,)","v":0},{"$f":"IF(Dati!E746=\"EA6\",Dati!D746,)","v":0},{"$f":"IF(Dati!E746=\"EB1\",Dati!D746,)","v":0},{"$f":"IF(Dati!E746=\"EB2\",Dati!D746,)","v":0},{"$f":"IF(Dati!E746=\"EC1\",Dati!D746,)","v":0},{"$f":"IF(Dati!E746=\"ED1\",Dati!D746,)","v":0},{"$f":"IF(Dati!E746=\"EE1\",Dati!D746,)","v":0}]
[{"$f":"Dati!C747","v":"00:00:00"},{"$f":"Dati!H747","v":"00:00:00"},{"$f":"IF(Dati!E747=\"EA1\",Dati!D747,)","v":0},{"$f":"IF(Dati!E747=\"EA2\",Dati!D747,)","v":0},{"$f":"IF(Dati!E747=\"EA3\",Dati!D747,)","v":0},{"$f":"IF(Dati!E747=\"EA4\",Dati!D747,)","v":0},{"$f":"IF(Dati!E747=\"EA5\",Dati!D747,)","v":0},{"$f":"IF(Dati!E747=\"EA6\",Dati!D747,)","v":0},{"$f":"IF(Dati!E747=\"EB1\",Dati!D747,)","v":0},{"$f":"IF(Dati!E747=\"EB2\",Dati!D747,)","v":0},{"$f":"IF(Dati!E747=\"EC1\",Dati!D747,)","v":0},{"$f":"IF(Dati!E747=\"ED1\",Dati!D747,)","v":0},{"$f":"IF(Dati!E747=\"EE1\",Dati!D747,)","v":0}]
[{"$f":"Dati!C748","v":"00:00:00"},{"$f":"Dati!H748","v":"00:00:00"},{"$f":"IF(Dati!E748=\"EA1\",Dati!D748,)","v":0},{"$f":"IF(Dati!E748=\"EA2\",Dati!D748,)","v":0},{"$f":"IF(Dati!E748=\"EA3\",Dati!D748,)","v":0},{"$f":"IF(Dati!E748=\"EA4\",Dati!D748,)","v":0},{"$f":"IF(Dati!E748=\"EA5\",Dati!D748,)","v":0},{"$f":"IF(Dati!E748=\"EA6\",Dati!D748,)","v":0},{"$f":"IF(Dati!E748=\"EB1\",Dati!D748,)","v":0},{"$f":"IF(Dati!E748=\"EB2\",Dati!D748,)","v":0},{"$f":"IF(Dati!E748=\"EC1\",Dati!D748,)","v":0},{"$f":"IF(Dati!E748=\"ED1\",Dati!D748,)","v":0},{"$f":"IF(Dati!E748=\"EE1\",Dati!D748,)","v":0}]
[{"$f":"Dati!C749","v":"00:00:00"},{"$f":"Dati!H749","v":"00:00:00"},{"$f":"IF(Dati!E749=\"EA1\",Dati!D749,)","v":0},{"$f":"IF(Dati!E749=\"EA2\",Dati!D749,)","v":0},{"$f":"IF(Dati!E749=\"EA3\",Dati!D749,)","v":0},{"$f":"IF(Dati!E749=\"EA4\",Dati!D749,)","v":0},{"$f":"IF(Dati!E749=\"EA5\",Dati!D749,)","v":0},{"$f":"IF(Dati!E749=\"EA6\",Dati!D749,)","v":0},{"$f":"IF(Dati!E749=\"EB1\",Dati!D749,)","v":0},{"$f":"IF(Dati!E749=\"EB2\",Dati!D749,)","v":0},{"$f":"IF(Dati!E749=\"EC1\",Dati!D749,)","v":0},{"$f":"IF(Dati!E749=\"ED1\",Dati!D749,)","v":0},{"$f":"IF(Dati!E749=\"EE1\",Dati!D749,)","v":0}]
[{"$f":"Dati!C750","v":"00:00:00"},{"$f":"Dati!H750","v":"00:00:00"},{"$f":"IF(Dati!E750=\"EA1\",Dati!D750,)","v":0},{"$f":"IF(Dati!E750=\"EA2\",Dati!D750,)","v":0},{"$f":"IF(Dati!E750=\"EA3\",Dati!D750,)","v":0},{"$f":"IF(Dati!E750=\"EA4\",Dati!D750,)","v":0},{"$f":"IF(Dati!E750=\"EA5\",Dati!D750,)","v":0},{"$f":"IF(Dati!E750=\"EA6\",Dati!D750,)","v":0},{"$f":"IF(Dati!E750=\"EB1\",Dati!D750,)","v":0},{"$f":"IF(Dati!E750=\"EB2\",Dati!D750,)","v":0},{"$f":"IF(Dati!E750=\"EC1\",Dati!D750,)","v":0},{"$f":"IF(Dati!E750=\"ED1\",Dati!D750,)","v":0},{"$f":"IF(Dati!E750=\"EE1\",Dati!D750,)","v":0}]
[{"$f":"Dati!C751","v":"00:00:00"},{"$f":"Dati!H751","v":"00:00:00"},{"$f":"IF(Dati!E751=\"EA1\",Dati!D751,)","v":0},{"$f":"IF(Dati!E751=\"EA2\",Dati!D751,)","v":0},{"$f":"IF(Dati!E751=\"EA3\",Dati!D751,)","v":0},{"$f":"IF(Dati!E751=\"EA4\",Dati!D751,)","v":0},{"$f":"IF(Dati!E751=\"EA5\",Dati!D751,)","v":0},{"$f":"IF(Dati!E751=\"EA6\",Dati!D751,)","v":0},{"$f":"IF(Dati!E751=\"EB1\",Dati!D751,)","v":0},{"$f":"IF(Dati!E751=\"EB2\",Dati!D751,)","v":0},{"$f":"IF(Dati!E751=\"EC1\",Dati!D751,)","v":0},{"$f":"IF(Dati!E751=\"ED1\",Dati!D751,)","v":0},{"$f":"IF(Dati!E751=\"EE1\",Dati!D751,)","v":0}]
[{"$f":"Dati!C752","v":"00:00:00"},{"$f":"Dati!H752","v":"00:00:00"},{"$f":"IF(Dati!E752=\"EA1\",Dati!D752,)","v":0},{"$f":"IF(Dati!E752=\"EA2\",Dati!D752,)","v":0},{"$f":"IF(Dati!E752=\"EA3\",Dati!D752,)","v":0},{"$f":"IF(Dati!E752=\"EA4\",Dati!D752,)","v":0},{"$f":"IF(Dati!E752=\"EA5\",Dati!D752,)","v":0},{"$f":"IF(Dati!E752=\"EA6\",Dati!D752,)","v":0},{"$f":"IF(Dati!E752=\"EB1\",Dati!D752,)","v":0},{"$f":"IF(Dati!E752=\"EB2\",Dati!D752,)","v":0},{"$f":"IF(Dati!E752=\"EC1\",Dati!D752,)","v":0},{"$f":"IF(Dati!E752=\"ED1\",Dati!D752,)","v":0},{"$f":"IF(Dati!E752=\"EE1\",Dati!D752,)","v":0}]
[{"$f":"Dati!C753","v":"00:00:00"},{"$f":"Dati!H753","v":"00:00:00"},{"$f":"IF(Dati!E753=\"EA1\",Dati!D753,)","v":0},{"$f":"IF(Dati!E753=\"EA2\",Dati!D753,)","v":0},{"$f":"IF(Dati!E753=\"EA3\",Dati!D753,)","v":0},{"$f":"IF(Dati!E753=\"EA4\",Dati!D753,)","v":0},{"$f":"IF(Dati!E753=\"EA5\",Dati!D753,)","v":0},{"$f":"IF(Dati!E753=\"EA6\",Dati!D753,)","v":0},{"$f":"IF(Dati!E753=\"EB1\",Dati!D753,)","v":0},{"$f":"IF(Dati!E753=\"EB2\",Dati!D753,)","v":0},{"$f":"IF(Dati!E753=\"EC1\",Dati!D753,)","v":0},{"$f":"IF(Dati!E753=\"ED1\",Dati!D753,)","v":0},{"$f":"IF(Dati!E753=\"EE1\",Dati!D753,)","v":0}]
[{"$f":"Dati!C754","v":"00:00:00"},{"$f":"Dati!H754","v":"00:00:00"},{"$f":"IF(Dati!E754=\"EA1\",Dati!D754,)","v":0},{"$f":"IF(Dati!E754=\"EA2\",Dati!D754,)","v":0},{"$f":"IF(Dati!E754=\"EA3\",Dati!D754,)","v":0},{"$f":"IF(Dati!E754=\"EA4\",Dati!D754,)","v":0},{"$f":"IF(Dati!E754=\"EA5\",Dati!D754,)","v":0},{"$f":"IF(Dati!E754=\"EA6\",Dati!D754,)","v":0},{"$f":"IF(Dati!E754=\"EB1\",Dati!D754,)","v":0},{"$f":"IF(Dati!E754=\"EB2\",Dati!D754,)","v":0},{"$f":"IF(Dati!E754=\"EC1\",Dati!D754,)","v":0},{"$f":"IF(Dati!E754=\"ED1\",Dati!D754,)","v":0},{"$f":"IF(Dati!E754=\"EE1\",Dati!D754,)","v":0}]
[{"$f":"Dati!C755","v":"00:00:00"},{"$f":"Dati!H755","v":"00:00:00"},{"$f":"IF(Dati!E755=\"EA1\",Dati!D755,)","v":0},{"$f":"IF(Dati!E755=\"EA2\",Dati!D755,)","v":0},{"$f":"IF(Dati!E755=\"EA3\",Dati!D755,)","v":0},{"$f":"IF(Dati!E755=\"EA4\",Dati!D755,)","v":0},{"$f":"IF(Dati!E755=\"EA5\",Dati!D755,)","v":0},{"$f":"IF(Dati!E755=\"EA6\",Dati!D755,)","v":0},{"$f":"IF(Dati!E755=\"EB1\",Dati!D755,)","v":0},{"$f":"IF(Dati!E755=\"EB2\",Dati!D755,)","v":0},{"$f":"IF(Dati!E755=\"EC1\",Dati!D755,)","v":0},{"$f":"IF(Dati!E755=\"ED1\",Dati!D755,)","v":0},{"$f":"IF(Dati!E755=\"EE1\",Dati!D755,)","v":0}]
[{"$f":"Dati!C756","v":"00:00:00"},{"$f":"Dati!H756","v":"00:00:00"},{"$f":"IF(Dati!E756=\"EA1\",Dati!D756,)","v":0},{"$f":"IF(Dati!E756=\"EA2\",Dati!D756,)","v":0},{"$f":"IF(Dati!E756=\"EA3\",Dati!D756,)","v":0},{"$f":"IF(Dati!E756=\"EA4\",Dati!D756,)","v":0},{"$f":"IF(Dati!E756=\"EA5\",Dati!D756,)","v":0},{"$f":"IF(Dati!E756=\"EA6\",Dati!D756,)","v":0},{"$f":"IF(Dati!E756=\"EB1\",Dati!D756,)","v":0},{"$f":"IF(Dati!E756=\"EB2\",Dati!D756,)","v":0},{"$f":"IF(Dati!E756=\"EC1\",Dati!D756,)","v":0},{"$f":"IF(Dati!E756=\"ED1\",Dati!D756,)","v":0},{"$f":"IF(Dati!E756=\"EE1\",Dati!D756,)","v":0}]
[{"$f":"Dati!C757","v":"00:00:00"},{"$f":"Dati!H757","v":"00:00:00"},{"$f":"IF(Dati!E757=\"EA1\",Dati!D757,)","v":0},{"$f":"IF(Dati!E757=\"EA2\",Dati!D757,)","v":0},{"$f":"IF(Dati!E757=\"EA3\",Dati!D757,)","v":0},{"$f":"IF(Dati!E757=\"EA4\",Dati!D757,)","v":0},{"$f":"IF(Dati!E757=\"EA5\",Dati!D757,)","v":0},{"$f":"IF(Dati!E757=\"EA6\",Dati!D757,)","v":0},{"$f":"IF(Dati!E757=\"EB1\",Dati!D757,)","v":0},{"$f":"IF(Dati!E757=\"EB2\",Dati!D757,)","v":0},{"$f":"IF(Dati!E757=\"EC1\",Dati!D757,)","v":0},{"$f":"IF(Dati!E757=\"ED1\",Dati!D757,)","v":0},{"$f":"IF(Dati!E757=\"EE1\",Dati!D757,)","v":0}]
[{"$f":"Dati!C758","v":"00:00:00"},{"$f":"Dati!H758","v":"00:00:00"},{"$f":"IF(Dati!E758=\"EA1\",Dati!D758,)","v":0},{"$f":"IF(Dati!E758=\"EA2\",Dati!D758,)","v":0},{"$f":"IF(Dati!E758=\"EA3\",Dati!D758,)","v":0},{"$f":"IF(Dati!E758=\"EA4\",Dati!D758,)","v":0},{"$f":"IF(Dati!E758=\"EA5\",Dati!D758,)","v":0},{"$f":"IF(Dati!E758=\"EA6\",Dati!D758,)","v":0},{"$f":"IF(Dati!E758=\"EB1\",Dati!D758,)","v":0},{"$f":"IF(Dati!E758=\"EB2\",Dati!D758,)","v":0},{"$f":"IF(Dati!E758=\"EC1\",Dati!D758,)","v":0},{"$f":"IF(Dati!E758=\"ED1\",Dati!D758,)","v":0},{"$f":"IF(Dati!E758=\"EE1\",Dati!D758,)","v":0}]
[{"$f":"Dati!C759","v":"00:00:00"},{"$f":"Dati!H759","v":"00:00:00"},{"$f":"IF(Dati!E759=\"EA1\",Dati!D759,)","v":0},{"$f":"IF(Dati!E759=\"EA2\",Dati!D759,)","v":0},{"$f":"IF(Dati!E759=\"EA3\",Dati!D759,)","v":0},{"$f":"IF(Dati!E759=\"EA4\",Dati!D759,)","v":0},{"$f":"IF(Dati!E759=\"EA5\",Dati!D759,)","v":0},{"$f":"IF(Dati!E759=\"EA6\",Dati!D759,)","v":0},{"$f":"IF(Dati!E759=\"EB1\",Dati!D759,)","v":0},{"$f":"IF(Dati!E759=\"EB2\",Dati!D759,)","v":0},{"$f":"IF(Dati!E759=\"EC1\",Dati!D759,)","v":0},{"$f":"IF(Dati!E759=\"ED1\",Dati!D759,)","v":0},{"$f":"IF(Dati!E759=\"EE1\",Dati!D759,)","v":0}]
[{"$f":"Dati!C760","v":"00:00:00"},{"$f":"Dati!H760","v":"00:00:00"},{"$f":"IF(Dati!E760=\"EA1\",Dati!D760,)","v":0},{"$f":"IF(Dati!E760=\"EA2\",Dati!D760,)","v":0},{"$f":"IF(Dati!E760=\"EA3\",Dati!D760,)","v":0},{"$f":"IF(Dati!E760=\"EA4\",Dati!D760,)","v":0},{"$f":"IF(Dati!E760=\"EA5\",Dati!D760,)","v":0},{"$f":"IF(Dati!E760=\"EA6\",Dati!D760,)","v":0},{"$f":"IF(Dati!E760=\"EB1\",Dati!D760,)","v":0},{"$f":"IF(Dati!E760=\"EB2\",Dati!D760,)","v":0},{"$f":"IF(Dati!E760=\"EC1\",Dati!D760,)","v":0},{"$f":"IF(Dati!E760=\"ED1\",Dati!D760,)","v":0},{"$f":"IF(Dati!E760=\"EE1\",Dati!D760,)","v":0}]
[{"$f":"Dati!C761","v":"00:00:00"},{"$f":"Dati!H761","v":"00:00:00"},{"$f":"IF(Dati!E761=\"EA1\",Dati!D761,)","v":0},{"$f":"IF(Dati!E761=\"EA2\",Dati!D761,)","v":0},{"$f":"IF(Dati!E761=\"EA3\",Dati!D761,)","v":0},{"$f":"IF(Dati!E761=\"EA4\",Dati!D761,)","v":0},{"$f":"IF(Dati!E761=\"EA5\",Dati!D761,)","v":0},{"$f":"IF(Dati!E761=\"EA6\",Dati!D761,)","v":0},{"$f":"IF(Dati!E761=\"EB1\",Dati!D761,)","v":0},{"$f":"IF(Dati!E761=\"EB2\",Dati!D761,)","v":0},{"$f":"IF(Dati!E761=\"EC1\",Dati!D761,)","v":0},{"$f":"IF(Dati!E761=\"ED1\",Dati!D761,)","v":0},{"$f":"IF(Dati!E761=\"EE1\",Dati!D761,)","v":0}]
[{"$f":"Dati!C762","v":"00:00:00"},{"$f":"Dati!H762","v":"00:00:00"},{"$f":"IF(Dati!E762=\"EA1\",Dati!D762,)","v":0},{"$f":"IF(Dati!E762=\"EA2\",Dati!D762,)","v":0},{"$f":"IF(Dati!E762=\"EA3\",Dati!D762,)","v":0},{"$f":"IF(Dati!E762=\"EA4\",Dati!D762,)","v":0},{"$f":"IF(Dati!E762=\"EA5\",Dati!D762,)","v":0},{"$f":"IF(Dati!E762=\"EA6\",Dati!D762,)","v":0},{"$f":"IF(Dati!E762=\"EB1\",Dati!D762,)","v":0},{"$f":"IF(Dati!E762=\"EB2\",Dati!D762,)","v":0},{"$f":"IF(Dati!E762=\"EC1\",Dati!D762,)","v":0},{"$f":"IF(Dati!E762=\"ED1\",Dati!D762,)","v":0},{"$f":"IF(Dati!E762=\"EE1\",Dati!D762,)","v":0}]
[{"$f":"Dati!C763","v":"00:00:00"},{"$f":"Dati!H763","v":"00:00:00"},{"$f":"IF(Dati!E763=\"EA1\",Dati!D763,)","v":0},{"$f":"IF(Dati!E763=\"EA2\",Dati!D763,)","v":0},{"$f":"IF(Dati!E763=\"EA3\",Dati!D763,)","v":0},{"$f":"IF(Dati!E763=\"EA4\",Dati!D763,)","v":0},{"$f":"IF(Dati!E763=\"EA5\",Dati!D763,)","v":0},{"$f":"IF(Dati!E763=\"EA6\",Dati!D763,)","v":0},{"$f":"IF(Dati!E763=\"EB1\",Dati!D763,)","v":0},{"$f":"IF(Dati!E763=\"EB2\",Dati!D763,)","v":0},{"$f":"IF(Dati!E763=\"EC1\",Dati!D763,)","v":0},{"$f":"IF(Dati!E763=\"ED1\",Dati!D763,)","v":0},{"$f":"IF(Dati!E763=\"EE1\",Dati!D763,)","v":0}]
[{"$f":"Dati!C764","v":"00:00:00"},{"$f":"Dati!H764","v":"00:00:00"},{"$f":"IF(Dati!E764=\"EA1\",Dati!D764,)","v":0},{"$f":"IF(Dati!E764=\"EA2\",Dati!D764,)","v":0},{"$f":"IF(Dati!E764=\"EA3\",Dati!D764,)","v":0},{"$f":"IF(Dati!E764=\"EA4\",Dati!D764,)","v":0},{"$f":"IF(Dati!E764=\"EA5\",Dati!D764,)","v":0},{"$f":"IF(Dati!E764=\"EA6\",Dati!D764,)","v":0},{"$f":"IF(Dati!E764=\"EB1\",Dati!D764,)","v":0},{"$f":"IF(Dati!E764=\"EB2\",Dati!D764,)","v":0},{"$f":"IF(Dati!E764=\"EC1\",Dati!D764,)","v":0},{"$f":"IF(Dati!E764=\"ED1\",Dati!D764,)","v":0},{"$f":"IF(Dati!E764=\"EE1\",Dati!D764,)","v":0}]
[{"$f":"Dati!C765","v":"00:00:00"},{"$f":"Dati!H765","v":"00:00:00"},{"$f":"IF(Dati!E765=\"EA1\",Dati!D765,)","v":0},{"$f":"IF(Dati!E765=\"EA2\",Dati!D765,)","v":0},{"$f":"IF(Dati!E765=\"EA3\",Dati!D765,)","v":0},{"$f":"IF(Dati!E765=\"EA4\",Dati!D765,)","v":0},{"$f":"IF(Dati!E765=\"EA5\",Dati!D765,)","v":0},{"$f":"IF(Dati!E765=\"EA6\",Dati!D765,)","v":0},{"$f":"IF(Dati!E765=\"EB1\",Dati!D765,)","v":0},{"$f":"IF(Dati!E765=\"EB2\",Dati!D765,)","v":0},{"$f":"IF(Dati!E765=\"EC1\",Dati!D765,)","v":0},{"$f":"IF(Dati!E765=\"ED1\",Dati!D765,)","v":0},{"$f":"IF(Dati!E765=\"EE1\",Dati!D765,)","v":0}]
[{"$f":"Dati!C766","v":"00:00:00"},{"$f":"Dati!H766","v":"00:00:00"},{"$f":"IF(Dati!E766=\"EA1\",Dati!D766,)","v":0},{"$f":"IF(Dati!E766=\"EA2\",Dati!D766,)","v":0},{"$f":"IF(Dati!E766=\"EA3\",Dati!D766,)","v":0},{"$f":"IF(Dati!E766=\"EA4\",Dati!D766,)","v":0},{"$f":"IF(Dati!E766=\"EA5\",Dati!D766,)","v":0},{"$f":"IF(Dati!E766=\"EA6\",Dati!D766,)","v":0},{"$f":"IF(Dati!E766=\"EB1\",Dati!D766,)","v":0},{"$f":"IF(Dati!E766=\"EB2\",Dati!D766,)","v":0},{"$f":"IF(Dati!E766=\"EC1\",Dati!D766,)","v":0},{"$f":"IF(Dati!E766=\"ED1\",Dati!D766,)","v":0},{"$f":"IF(Dati!E766=\"EE1\",Dati!D766,)","v":0}]
[{"$f":"Dati!C767","v":"00:00:00"},{"$f":"Dati!H767","v":"00:00:00"},{"$f":"IF(Dati!E767=\"EA1\",Dati!D767,)","v":0},{"$f":"IF(Dati!E767=\"EA2\",Dati!D767,)","v":0},{"$f":"IF(Dati!E767=\"EA3\",Dati!D767,)","v":0},{"$f":"IF(Dati!E767=\"EA4\",Dati!D767,)","v":0},{"$f":"IF(Dati!E767=\"EA5\",Dati!D767,)","v":0},{"$f":"IF(Dati!E767=\"EA6\",Dati!D767,)","v":0},{"$f":"IF(Dati!E767=\"EB1\",Dati!D767,)","v":0},{"$f":"IF(Dati!E767=\"EB2\",Dati!D767,)","v":0},{"$f":"IF(Dati!E767=\"EC1\",Dati!D767,)","v":0},{"$f":"IF(Dati!E767=\"ED1\",Dati!D767,)","v":0},{"$f":"IF(Dati!E767=\"EE1\",Dati!D767,)","v":0}]
[{"$f":"Dati!C768","v":"00:00:00"},{"$f":"Dati!H768","v":"00:00:00"},{"$f":"IF(Dati!E768=\"EA1\",Dati!D768,)","v":0},{"$f":"IF(Dati!E768=\"EA2\",Dati!D768,)","v":0},{"$f":"IF(Dati!E768=\"EA3\",Dati!D768,)","v":0},{"$f":"IF(Dati!E768=\"EA4\",Dati!D768,)","v":0},{"$f":"IF(Dati!E768=\"EA5\",Dati!D768,)","v":0},{"$f":"IF(Dati!E768=\"EA6\",Dati!D768,)","v":0},{"$f":"IF(Dati!E768=\"EB1\",Dati!D768,)","v":0},{"$f":"IF(Dati!E768=\"EB2\",Dati!D768,)","v":0},{"$f":"IF(Dati!E768=\"EC1\",Dati!D768,)","v":0},{"$f":"IF(Dati!E768=\"ED1\",Dati!D768,)","v":0},{"$f":"IF(Dati!E768=\"EE1\",Dati!D768,)","v":0}]
[{"$f":"Dati!C769","v":"00:00:00"},{"$f":"Dati!H769","v":"00:00:00"},{"$f":"IF(Dati!E769=\"EA1\",Dati!D769,)","v":0},{"$f":"IF(Dati!E769=\"EA2\",Dati!D769,)","v":0},{"$f":"IF(Dati!E769=\"EA3\",Dati!D769,)","v":0},{"$f":"IF(Dati!E769=\"EA4\",Dati!D769,)","v":0},{"$f":"IF(Dati!E769=\"EA5\",Dati!D769,)","v":0},{"$f":"IF(Dati!E769=\"EA6\",Dati!D769,)","v":0},{"$f":"IF(Dati!E769=\"EB1\",Dati!D769,)","v":0},{"$f":"IF(Dati!E769=\"EB2\",Dati!D769,)","v":0},{"$f":"IF(Dati!E769=\"EC1\",Dati!D769,)","v":0},{"$f":"IF(Dati!E769=\"ED1\",Dati!D769,)","v":0},{"$f":"IF(Dati!E769=\"EE1\",Dati!D769,)","v":0}]
[{"$f":"Dati!C770","v":"00:00:00"},{"$f":"Dati!H770","v":"00:00:00"},{"$f":"IF(Dati!E770=\"EA1\",Dati!D770,)","v":0},{"$f":"IF(Dati!E770=\"EA2\",Dati!D770,)","v":0},{"$f":"IF(Dati!E770=\"EA3\",Dati!D770,)","v":0},{"$f":"IF(Dati!E770=\"EA4\",Dati!D770,)","v":0},{"$f":"IF(Dati!E770=\"EA5\",Dati!D770,)","v":0},{"$f":"IF(Dati!E770=\"EA6\",Dati!D770,)","v":0},{"$f":"IF(Dati!E770=\"EB1\",Dati!D770,)","v":0},{"$f":"IF(Dati!E770=\"EB2\",Dati!D770,)","v":0},{"$f":"IF(Dati!E770=\"EC1\",Dati!D770,)","v":0},{"$f":"IF(Dati!E770=\"ED1\",Dati!D770,)","v":0},{"$f":"IF(Dati!E770=\"EE1\",Dati!D770,)","v":0}]
[{"$f":"Dati!C771","v":"00:00:00"},{"$f":"Dati!H771","v":"00:00:00"},{"$f":"IF(Dati!E771=\"EA1\",Dati!D771,)","v":0},{"$f":"IF(Dati!E771=\"EA2\",Dati!D771,)","v":0},{"$f":"IF(Dati!E771=\"EA3\",Dati!D771,)","v":0},{"$f":"IF(Dati!E771=\"EA4\",Dati!D771,)","v":0},{"$f":"IF(Dati!E771=\"EA5\",Dati!D771,)","v":0},{"$f":"IF(Dati!E771=\"EA6\",Dati!D771,)","v":0},{"$f":"IF(Dati!E771=\"EB1\",Dati!D771,)","v":0},{"$f":"IF(Dati!E771=\"EB2\",Dati!D771,)","v":0},{"$f":"IF(Dati!E771=\"EC1\",Dati!D771,)","v":0},{"$f":"IF(Dati!E771=\"ED1\",Dati!D771,)","v":0},{"$f":"IF(Dati!E771=\"EE1\",Dati!D771,)","v":0}]
[{"$f":"Dati!C772","v":"00:00:00"},{"$f":"Dati!H772","v":"00:00:00"},{"$f":"IF(Dati!E772=\"EA1\",Dati!D772,)","v":0},{"$f":"IF(Dati!E772=\"EA2\",Dati!D772,)","v":0},{"$f":"IF(Dati!E772=\"EA3\",Dati!D772,)","v":0},{"$f":"IF(Dati!E772=\"EA4\",Dati!D772,)","v":0},{"$f":"IF(Dati!E772=\"EA5\",Dati!D772,)","v":0},{"$f":"IF(Dati!E772=\"EA6\",Dati!D772,)","v":0},{"$f":"IF(Dati!E772=\"EB1\",Dati!D772,)","v":0},{"$f":"IF(Dati!E772=\"EB2\",Dati!D772,)","v":0},{"$f":"IF(Dati!E772=\"EC1\",Dati!D772,)","v":0},{"$f":"IF(Dati!E772=\"ED1\",Dati!D772,)","v":0},{"$f":"IF(Dati!E772=\"EE1\",Dati!D772,)","v":0}]
[{"$f":"Dati!C773","v":"00:00:00"},{"$f":"Dati!H773","v":"00:00:00"},{"$f":"IF(Dati!E773=\"EA1\",Dati!D773,)","v":0},{"$f":"IF(Dati!E773=\"EA2\",Dati!D773,)","v":0},{"$f":"IF(Dati!E773=\"EA3\",Dati!D773,)","v":0},{"$f":"IF(Dati!E773=\"EA4\",Dati!D773,)","v":0},{"$f":"IF(Dati!E773=\"EA5\",Dati!D773,)","v":0},{"$f":"IF(Dati!E773=\"EA6\",Dati!D773,)","v":0},{"$f":"IF(Dati!E773=\"EB1\",Dati!D773,)","v":0},{"$f":"IF(Dati!E773=\"EB2\",Dati!D773,)","v":0},{"$f":"IF(Dati!E773=\"EC1\",Dati!D773,)","v":0},{"$f":"IF(Dati!E773=\"ED1\",Dati!D773,)","v":0},{"$f":"IF(Dati!E773=\"EE1\",Dati!D773,)","v":0}]
[{"$f":"Dati!C774","v":"00:00:00"},{"$f":"Dati!H774","v":"00:00:00"},{"$f":"IF(Dati!E774=\"EA1\",Dati!D774,)","v":0},{"$f":"IF(Dati!E774=\"EA2\",Dati!D774,)","v":0},{"$f":"IF(Dati!E774=\"EA3\",Dati!D774,)","v":0},{"$f":"IF(Dati!E774=\"EA4\",Dati!D774,)","v":0},{"$f":"IF(Dati!E774=\"EA5\",Dati!D774,)","v":0},{"$f":"IF(Dati!E774=\"EA6\",Dati!D774,)","v":0},{"$f":"IF(Dati!E774=\"EB1\",Dati!D774,)","v":0},{"$f":"IF(Dati!E774=\"EB2\",Dati!D774,)","v":0},{"$f":"IF(Dati!E774=\"EC1\",Dati!D774,)","v":0},{"$f":"IF(Dati!E774=\"ED1\",Dati!D774,)","v":0},{"$f":"IF(Dati!E774=\"EE1\",Dati!D774,)","v":0}]
[{"$f":"Dati!C775","v":"00:00:00"},{"$f":"Dati!H775","v":"00:00:00"},{"$f":"IF(Dati!E775=\"EA1\",Dati!D775,)","v":0},{"$f":"IF(Dati!E775=\"EA2\",Dati!D775,)","v":0},{"$f":"IF(Dati!E775=\"EA3\",Dati!D775,)","v":0},{"$f":"IF(Dati!E775=\"EA4\",Dati!D775,)","v":0},{"$f":"IF(Dati!E775=\"EA5\",Dati!D775,)","v":0},{"$f":"IF(Dati!E775=\"EA6\",Dati!D775,)","v":0},{"$f":"IF(Dati!E775=\"EB1\",Dati!D775,)","v":0},{"$f":"IF(Dati!E775=\"EB2\",Dati!D775,)","v":0},{"$f":"IF(Dati!E775=\"EC1\",Dati!D775,)","v":0},{"$f":"IF(Dati!E775=\"ED1\",Dati!D775,)","v":0},{"$f":"IF(Dati!E775=\"EE1\",Dati!D775,)","v":0}]
[{"$f":"Dati!C776","v":"00:00:00"},{"$f":"Dati!H776","v":"00:00:00"},{"$f":"IF(Dati!E776=\"EA1\",Dati!D776,)","v":0},{"$f":"IF(Dati!E776=\"EA2\",Dati!D776,)","v":0},{"$f":"IF(Dati!E776=\"EA3\",Dati!D776,)","v":0},{"$f":"IF(Dati!E776=\"EA4\",Dati!D776,)","v":0},{"$f":"IF(Dati!E776=\"EA5\",Dati!D776,)","v":0},{"$f":"IF(Dati!E776=\"EA6\",Dati!D776,)","v":0},{"$f":"IF(Dati!E776=\"EB1\",Dati!D776,)","v":0},{"$f":"IF(Dati!E776=\"EB2\",Dati!D776,)","v":0},{"$f":"IF(Dati!E776=\"EC1\",Dati!D776,)","v":0},{"$f":"IF(Dati!E776=\"ED1\",Dati!D776,)","v":0},{"$f":"IF(Dati!E776=\"EE1\",Dati!D776,)","v":0}]
[{"$f":"Dati!C777","v":"00:00:00"},{"$f":"Dati!H777","v":"00:00:00"},{"$f":"IF(Dati!E777=\"EA1\",Dati!D777,)","v":0},{"$f":"IF(Dati!E777=\"EA2\",Dati!D777,)","v":0},{"$f":"IF(Dati!E777=\"EA3\",Dati!D777,)","v":0},{"$f":"IF(Dati!E777=\"EA4\",Dati!D777,)","v":0},{"$f":"IF(Dati!E777=\"EA5\",Dati!D777,)","v":0},{"$f":"IF(Dati!E777=\"EA6\",Dati!D777,)","v":0},{"$f":"IF(Dati!E777=\"EB1\",Dati!D777,)","v":0},{"$f":"IF(Dati!E777=\"EB2\",Dati!D777,)","v":0},{"$f":"IF(Dati!E777=\"EC1\",Dati!D777,)","v":0},{"$f":"IF(Dati!E777=\"ED1\",Dati!D777,)","v":0},{"$f":"IF(Dati!E777=\"EE1\",Dati!D777,)","v":0}]
[{"$f":"Dati!C778","v":"00:00:00"},{"$f":"Dati!H778","v":"00:00:00"},{"$f":"IF(Dati!E778=\"EA1\",Dati!D778,)","v":0},{"$f":"IF(Dati!E778=\"EA2\",Dati!D778,)","v":0},{"$f":"IF(Dati!E778=\"EA3\",Dati!D778,)","v":0},{"$f":"IF(Dati!E778=\"EA4\",Dati!D778,)","v":0},{"$f":"IF(Dati!E778=\"EA5\",Dati!D778,)","v":0},{"$f":"IF(Dati!E778=\"EA6\",Dati!D778,)","v":0},{"$f":"IF(Dati!E778=\"EB1\",Dati!D778,)","v":0},{"$f":"IF(Dati!E778=\"EB2\",Dati!D778,)","v":0},{"$f":"IF(Dati!E778=\"EC1\",Dati!D778,)","v":0},{"$f":"IF(Dati!E778=\"ED1\",Dati!D778,)","v":0},{"$f":"IF(Dati!E778=\"EE1\",Dati!D778,)","v":0}]
[{"$f":"Dati!C779","v":"00:00:00"},{"$f":"Dati!H779","v":"00:00:00"},{"$f":"IF(Dati!E779=\"EA1\",Dati!D779,)","v":0},{"$f":"IF(Dati!E779=\"EA2\",Dati!D779,)","v":0},{"$f":"IF(Dati!E779=\"EA3\",Dati!D779,)","v":0},{"$f":"IF(Dati!E779=\"EA4\",Dati!D779,)","v":0},{"$f":"IF(Dati!E779=\"EA5\",Dati!D779,)","v":0},{"$f":"IF(Dati!E779=\"EA6\",Dati!D779,)","v":0},{"$f":"IF(Dati!E779=\"EB1\",Dati!D779,)","v":0},{"$f":"IF(Dati!E779=\"EB2\",Dati!D779,)","v":0},{"$f":"IF(Dati!E779=\"EC1\",Dati!D779,)","v":0},{"$f":"IF(Dati!E779=\"ED1\",Dati!D779,)","v":0},{"$f":"IF(Dati!E779=\"EE1\",Dati!D779,)","v":0}]
[{"$f":"Dati!C780","v":"00:00:00"},{"$f":"Dati!H780","v":"00:00:00"},{"$f":"IF(Dati!E780=\"EA1\",Dati!D780,)","v":0},{"$f":"IF(Dati!E780=\"EA2\",Dati!D780,)","v":0},{"$f":"IF(Dati!E780=\"EA3\",Dati!D780,)","v":0},{"$f":"IF(Dati!E780=\"EA4\",Dati!D780,)","v":0},{"$f":"IF(Dati!E780=\"EA5\",Dati!D780,)","v":0},{"$f":"IF(Dati!E780=\"EA6\",Dati!D780,)","v":0},{"$f":"IF(Dati!E780=\"EB1\",Dati!D780,)","v":0},{"$f":"IF(Dati!E780=\"EB2\",Dati!D780,)","v":0},{"$f":"IF(Dati!E780=\"EC1\",Dati!D780,)","v":0},{"$f":"IF(Dati!E780=\"ED1\",Dati!D780,)","v":0},{"$f":"IF(Dati!E780=\"EE1\",Dati!D780,)","v":0}]
[{"$f":"Dati!C781","v":"00:00:00"},{"$f":"Dati!H781","v":"00:00:00"},{"$f":"IF(Dati!E781=\"EA1\",Dati!D781,)","v":0},{"$f":"IF(Dati!E781=\"EA2\",Dati!D781,)","v":0},{"$f":"IF(Dati!E781=\"EA3\",Dati!D781,)","v":0},{"$f":"IF(Dati!E781=\"EA4\",Dati!D781,)","v":0},{"$f":"IF(Dati!E781=\"EA5\",Dati!D781,)","v":0},{"$f":"IF(Dati!E781=\"EA6\",Dati!D781,)","v":0},{"$f":"IF(Dati!E781=\"EB1\",Dati!D781,)","v":0},{"$f":"IF(Dati!E781=\"EB2\",Dati!D781,)","v":0},{"$f":"IF(Dati!E781=\"EC1\",Dati!D781,)","v":0},{"$f":"IF(Dati!E781=\"ED1\",Dati!D781,)","v":0},{"$f":"IF(Dati!E781=\"EE1\",Dati!D781,)","v":0}]
[{"$f":"Dati!C782","v":"00:00:00"},{"$f":"Dati!H782","v":"00:00:00"},{"$f":"IF(Dati!E782=\"EA1\",Dati!D782,)","v":0},{"$f":"IF(Dati!E782=\"EA2\",Dati!D782,)","v":0},{"$f":"IF(Dati!E782=\"EA3\",Dati!D782,)","v":0},{"$f":"IF(Dati!E782=\"EA4\",Dati!D782,)","v":0},{"$f":"IF(Dati!E782=\"EA5\",Dati!D782,)","v":0},{"$f":"IF(Dati!E782=\"EA6\",Dati!D782,)","v":0},{"$f":"IF(Dati!E782=\"EB1\",Dati!D782,)","v":0},{"$f":"IF(Dati!E782=\"EB2\",Dati!D782,)","v":0},{"$f":"IF(Dati!E782=\"EC1\",Dati!D782,)","v":0},{"$f":"IF(Dati!E782=\"ED1\",Dati!D782,)","v":0},{"$f":"IF(Dati!E782=\"EE1\",Dati!D782,)","v":0}]
[{"$f":"Dati!C783","v":"00:00:00"},{"$f":"Dati!H783","v":"00:00:00"},{"$f":"IF(Dati!E783=\"EA1\",Dati!D783,)","v":0},{"$f":"IF(Dati!E783=\"EA2\",Dati!D783,)","v":0},{"$f":"IF(Dati!E783=\"EA3\",Dati!D783,)","v":0},{"$f":"IF(Dati!E783=\"EA4\",Dati!D783,)","v":0},{"$f":"IF(Dati!E783=\"EA5\",Dati!D783,)","v":0},{"$f":"IF(Dati!E783=\"EA6\",Dati!D783,)","v":0},{"$f":"IF(Dati!E783=\"EB1\",Dati!D783,)","v":0},{"$f":"IF(Dati!E783=\"EB2\",Dati!D783,)","v":0},{"$f":"IF(Dati!E783=\"EC1\",Dati!D783,)","v":0},{"$f":"IF(Dati!E783=\"ED1\",Dati!D783,)","v":0},{"$f":"IF(Dati!E783=\"EE1\",Dati!D783,)","v":0}]
[{"$f":"Dati!C784","v":"00:00:00"},{"$f":"Dati!H784","v":"00:00:00"},{"$f":"IF(Dati!E784=\"EA1\",Dati!D784,)","v":0},{"$f":"IF(Dati!E784=\"EA2\",Dati!D784,)","v":0},{"$f":"IF(Dati!E784=\"EA3\",Dati!D784,)","v":0},{"$f":"IF(Dati!E784=\"EA4\",Dati!D784,)","v":0},{"$f":"IF(Dati!E784=\"EA5\",Dati!D784,)","v":0},{"$f":"IF(Dati!E784=\"EA6\",Dati!D784,)","v":0},{"$f":"IF(Dati!E784=\"EB1\",Dati!D784,)","v":0},{"$f":"IF(Dati!E784=\"EB2\",Dati!D784,)","v":0},{"$f":"IF(Dati!E784=\"EC1\",Dati!D784,)","v":0},{"$f":"IF(Dati!E784=\"ED1\",Dati!D784,)","v":0},{"$f":"IF(Dati!E784=\"EE1\",Dati!D784,)","v":0}]
[{"$f":"Dati!C785","v":"00:00:00"},{"$f":"Dati!H785","v":"00:00:00"},{"$f":"IF(Dati!E785=\"EA1\",Dati!D785,)","v":0},{"$f":"IF(Dati!E785=\"EA2\",Dati!D785,)","v":0},{"$f":"IF(Dati!E785=\"EA3\",Dati!D785,)","v":0},{"$f":"IF(Dati!E785=\"EA4\",Dati!D785,)","v":0},{"$f":"IF(Dati!E785=\"EA5\",Dati!D785,)","v":0},{"$f":"IF(Dati!E785=\"EA6\",Dati!D785,)","v":0},{"$f":"IF(Dati!E785=\"EB1\",Dati!D785,)","v":0},{"$f":"IF(Dati!E785=\"EB2\",Dati!D785,)","v":0},{"$f":"IF(Dati!E785=\"EC1\",Dati!D785,)","v":0},{"$f":"IF(Dati!E785=\"ED1\",Dati!D785,)","v":0},{"$f":"IF(Dati!E785=\"EE1\",Dati!D785,)","v":0}]
[{"$f":"Dati!C786","v":"00:00:00"},{"$f":"Dati!H786","v":"00:00:00"},{"$f":"IF(Dati!E786=\"EA1\",Dati!D786,)","v":0},{"$f":"IF(Dati!E786=\"EA2\",Dati!D786,)","v":0},{"$f":"IF(Dati!E786=\"EA3\",Dati!D786,)","v":0},{"$f":"IF(Dati!E786=\"EA4\",Dati!D786,)","v":0},{"$f":"IF(Dati!E786=\"EA5\",Dati!D786,)","v":0},{"$f":"IF(Dati!E786=\"EA6\",Dati!D786,)","v":0},{"$f":"IF(Dati!E786=\"EB1\",Dati!D786,)","v":0},{"$f":"IF(Dati!E786=\"EB2\",Dati!D786,)","v":0},{"$f":"IF(Dati!E786=\"EC1\",Dati!D786,)","v":0},{"$f":"IF(Dati!E786=\"ED1\",Dati!D786,)","v":0},{"$f":"IF(Dati!E786=\"EE1\",Dati!D786,)","v":0}]
[{"$f":"Dati!C787","v":"00:00:00"},{"$f":"Dati!H787","v":"00:00:00"},{"$f":"IF(Dati!E787=\"EA1\",Dati!D787,)","v":0},{"$f":"IF(Dati!E787=\"EA2\",Dati!D787,)","v":0},{"$f":"IF(Dati!E787=\"EA3\",Dati!D787,)","v":0},{"$f":"IF(Dati!E787=\"EA4\",Dati!D787,)","v":0},{"$f":"IF(Dati!E787=\"EA5\",Dati!D787,)","v":0},{"$f":"IF(Dati!E787=\"EA6\",Dati!D787,)","v":0},{"$f":"IF(Dati!E787=\"EB1\",Dati!D787,)","v":0},{"$f":"IF(Dati!E787=\"EB2\",Dati!D787,)","v":0},{"$f":"IF(Dati!E787=\"EC1\",Dati!D787,)","v":0},{"$f":"IF(Dati!E787=\"ED1\",Dati!D787,)","v":0},{"$f":"IF(Dati!E787=\"EE1\",Dati!D787,)","v":0}]
[{"$f":"Dati!C788","v":"00:00:00"},{"$f":"Dati!H788","v":"00:00:00"},{"$f":"IF(Dati!E788=\"EA1\",Dati!D788,)","v":0},{"$f":"IF(Dati!E788=\"EA2\",Dati!D788,)","v":0},{"$f":"IF(Dati!E788=\"EA3\",Dati!D788,)","v":0},{"$f":"IF(Dati!E788=\"EA4\",Dati!D788,)","v":0},{"$f":"IF(Dati!E788=\"EA5\",Dati!D788,)","v":0},{"$f":"IF(Dati!E788=\"EA6\",Dati!D788,)","v":0},{"$f":"IF(Dati!E788=\"EB1\",Dati!D788,)","v":0},{"$f":"IF(Dati!E788=\"EB2\",Dati!D788,)","v":0},{"$f":"IF(Dati!E788=\"EC1\",Dati!D788,)","v":0},{"$f":"IF(Dati!E788=\"ED1\",Dati!D788,)","v":0},{"$f":"IF(Dati!E788=\"EE1\",Dati!D788,)","v":0}]
[{"$f":"Dati!C789","v":"00:00:00"},{"$f":"Dati!H789","v":"00:00:00"},{"$f":"IF(Dati!E789=\"EA1\",Dati!D789,)","v":0},{"$f":"IF(Dati!E789=\"EA2\",Dati!D789,)","v":0},{"$f":"IF(Dati!E789=\"EA3\",Dati!D789,)","v":0},{"$f":"IF(Dati!E789=\"EA4\",Dati!D789,)","v":0},{"$f":"IF(Dati!E789=\"EA5\",Dati!D789,)","v":0},{"$f":"IF(Dati!E789=\"EA6\",Dati!D789,)","v":0},{"$f":"IF(Dati!E789=\"EB1\",Dati!D789,)","v":0},{"$f":"IF(Dati!E789=\"EB2\",Dati!D789,)","v":0},{"$f":"IF(Dati!E789=\"EC1\",Dati!D789,)","v":0},{"$f":"IF(Dati!E789=\"ED1\",Dati!D789,)","v":0},{"$f":"IF(Dati!E789=\"EE1\",Dati!D789,)","v":0}]
[{"$f":"Dati!C790","v":"00:00:00"},{"$f":"Dati!H790","v":"00:00:00"},{"$f":"IF(Dati!E790=\"EA1\",Dati!D790,)","v":0},{"$f":"IF(Dati!E790=\"EA2\",Dati!D790,)","v":0},{"$f":"IF(Dati!E790=\"EA3\",Dati!D790,)","v":0},{"$f":"IF(Dati!E790=\"EA4\",Dati!D790,)","v":0},{"$f":"IF(Dati!E790=\"EA5\",Dati!D790,)","v":0},{"$f":"IF(Dati!E790=\"EA6\",Dati!D790,)","v":0},{"$f":"IF(Dati!E790=\"EB1\",Dati!D790,)","v":0},{"$f":"IF(Dati!E790=\"EB2\",Dati!D790,)","v":0},{"$f":"IF(Dati!E790=\"EC1\",Dati!D790,)","v":0},{"$f":"IF(Dati!E790=\"ED1\",Dati!D790,)","v":0},{"$f":"IF(Dati!E790=\"EE1\",Dati!D790,)","v":0}]
[{"$f":"Dati!C791","v":"00:00:00"},{"$f":"Dati!H791","v":"00:00:00"},{"$f":"IF(Dati!E791=\"EA1\",Dati!D791,)","v":0},{"$f":"IF(Dati!E791=\"EA2\",Dati!D791,)","v":0},{"$f":"IF(Dati!E791=\"EA3\",Dati!D791,)","v":0},{"$f":"IF(Dati!E791=\"EA4\",Dati!D791,)","v":0},{"$f":"IF(Dati!E791=\"EA5\",Dati!D791,)","v":0},{"$f":"IF(Dati!E791=\"EA6\",Dati!D791,)","v":0},{"$f":"IF(Dati!E791=\"EB1\",Dati!D791,)","v":0},{"$f":"IF(Dati!E791=\"EB2\",Dati!D791,)","v":0},{"$f":"IF(Dati!E791=\"EC1\",Dati!D791,)","v":0},{"$f":"IF(Dati!E791=\"ED1\",Dati!D791,)","v":0},{"$f":"IF(Dati!E791=\"EE1\",Dati!D791,)","v":0}]
[{"$f":"Dati!C792","v":"00:00:00"},{"$f":"Dati!H792","v":"00:00:00"},{"$f":"IF(Dati!E792=\"EA1\",Dati!D792,)","v":0},{"$f":"IF(Dati!E792=\"EA2\",Dati!D792,)","v":0},{"$f":"IF(Dati!E792=\"EA3\",Dati!D792,)","v":0},{"$f":"IF(Dati!E792=\"EA4\",Dati!D792,)","v":0},{"$f":"IF(Dati!E792=\"EA5\",Dati!D792,)","v":0},{"$f":"IF(Dati!E792=\"EA6\",Dati!D792,)","v":0},{"$f":"IF(Dati!E792=\"EB1\",Dati!D792,)","v":0},{"$f":"IF(Dati!E792=\"EB2\",Dati!D792,)","v":0},{"$f":"IF(Dati!E792=\"EC1\",Dati!D792,)","v":0},{"$f":"IF(Dati!E792=\"ED1\",Dati!D792,)","v":0},{"$f":"IF(Dati!E792=\"EE1\",Dati!D792,)","v":0}]
[{"$f":"Dati!C793","v":"00:00:00"},{"$f":"Dati!H793","v":"00:00:00"},{"$f":"IF(Dati!E793=\"EA1\",Dati!D793,)","v":0},{"$f":"IF(Dati!E793=\"EA2\",Dati!D793,)","v":0},{"$f":"IF(Dati!E793=\"EA3\",Dati!D793,)","v":0},{"$f":"IF(Dati!E793=\"EA4\",Dati!D793,)","v":0},{"$f":"IF(Dati!E793=\"EA5\",Dati!D793,)","v":0},{"$f":"IF(Dati!E793=\"EA6\",Dati!D793,)","v":0},{"$f":"IF(Dati!E793=\"EB1\",Dati!D793,)","v":0},{"$f":"IF(Dati!E793=\"EB2\",Dati!D793,)","v":0},{"$f":"IF(Dati!E793=\"EC1\",Dati!D793,)","v":0},{"$f":"IF(Dati!E793=\"ED1\",Dati!D793,)","v":0},{"$f":"IF(Dati!E793=\"EE1\",Dati!D793,)","v":0}]
[{"$f":"Dati!C794","v":"00:00:00"},{"$f":"Dati!H794","v":"00:00:00"},{"$f":"IF(Dati!E794=\"EA1\",Dati!D794,)","v":0},{"$f":"IF(Dati!E794=\"EA2\",Dati!D794,)","v":0},{"$f":"IF(Dati!E794=\"EA3\",Dati!D794,)","v":0},{"$f":"IF(Dati!E794=\"EA4\",Dati!D794,)","v":0},{"$f":"IF(Dati!E794=\"EA5\",Dati!D794,)","v":0},{"$f":"IF(Dati!E794=\"EA6\",Dati!D794,)","v":0},{"$f":"IF(Dati!E794=\"EB1\",Dati!D794,)","v":0},{"$f":"IF(Dati!E794=\"EB2\",Dati!D794,)","v":0},{"$f":"IF(Dati!E794=\"EC1\",Dati!D794,)","v":0},{"$f":"IF(Dati!E794=\"ED1\",Dati!D794,)","v":0},{"$f":"IF(Dati!E794=\"EE1\",Dati!D794,)","v":0}]
[{"$f":"Dati!C795","v":"00:00:00"},{"$f":"Dati!H795","v":"00:00:00"},{"$f":"IF(Dati!E795=\"EA1\",Dati!D795,)","v":0},{"$f":"IF(Dati!E795=\"EA2\",Dati!D795,)","v":0},{"$f":"IF(Dati!E795=\"EA3\",Dati!D795,)","v":0},{"$f":"IF(Dati!E795=\"EA4\",Dati!D795,)","v":0},{"$f":"IF(Dati!E795=\"EA5\",Dati!D795,)","v":0},{"$f":"IF(Dati!E795=\"EA6\",Dati!D795,)","v":0},{"$f":"IF(Dati!E795=\"EB1\",Dati!D795,)","v":0},{"$f":"IF(Dati!E795=\"EB2\",Dati!D795,)","v":0},{"$f":"IF(Dati!E795=\"EC1\",Dati!D795,)","v":0},{"$f":"IF(Dati!E795=\"ED1\",Dati!D795,)","v":0},{"$f":"IF(Dati!E795=\"EE1\",Dati!D795,)","v":0}]
[{"$f":"Dati!C796","v":"00:00:00"},{"$f":"Dati!H796","v":"00:00:00"},{"$f":"IF(Dati!E796=\"EA1\",Dati!D796,)","v":0},{"$f":"IF(Dati!E796=\"EA2\",Dati!D796,)","v":0},{"$f":"IF(Dati!E796=\"EA3\",Dati!D796,)","v":0},{"$f":"IF(Dati!E796=\"EA4\",Dati!D796,)","v":0},{"$f":"IF(Dati!E796=\"EA5\",Dati!D796,)","v":0},{"$f":"IF(Dati!E796=\"EA6\",Dati!D796,)","v":0},{"$f":"IF(Dati!E796=\"EB1\",Dati!D796,)","v":0},{"$f":"IF(Dati!E796=\"EB2\",Dati!D796,)","v":0},{"$f":"IF(Dati!E796=\"EC1\",Dati!D796,)","v":0},{"$f":"IF(Dati!E796=\"ED1\",Dati!D796,)","v":0},{"$f":"IF(Dati!E796=\"EE1\",Dati!D796,)","v":0}]
[{"$f":"Dati!C797","v":"00:00:00"},{"$f":"Dati!H797","v":"00:00:00"},{"$f":"IF(Dati!E797=\"EA1\",Dati!D797,)","v":0},{"$f":"IF(Dati!E797=\"EA2\",Dati!D797,)","v":0},{"$f":"IF(Dati!E797=\"EA3\",Dati!D797,)","v":0},{"$f":"IF(Dati!E797=\"EA4\",Dati!D797,)","v":0},{"$f":"IF(Dati!E797=\"EA5\",Dati!D797,)","v":0},{"$f":"IF(Dati!E797=\"EA6\",Dati!D797,)","v":0},{"$f":"IF(Dati!E797=\"EB1\",Dati!D797,)","v":0},{"$f":"IF(Dati!E797=\"EB2\",Dati!D797,)","v":0},{"$f":"IF(Dati!E797=\"EC1\",Dati!D797,)","v":0},{"$f":"IF(Dati!E797=\"ED1\",Dati!D797,)","v":0},{"$f":"IF(Dati!E797=\"EE1\",Dati!D797,)","v":0}]
[{"$f":"Dati!C798","v":"00:00:00"},{"$f":"Dati!H798","v":"00:00:00"},{"$f":"IF(Dati!E798=\"EA1\",Dati!D798,)","v":0},{"$f":"IF(Dati!E798=\"EA2\",Dati!D798,)","v":0},{"$f":"IF(Dati!E798=\"EA3\",Dati!D798,)","v":0},{"$f":"IF(Dati!E798=\"EA4\",Dati!D798,)","v":0},{"$f":"IF(Dati!E798=\"EA5\",Dati!D798,)","v":0},{"$f":"IF(Dati!E798=\"EA6\",Dati!D798,)","v":0},{"$f":"IF(Dati!E798=\"EB1\",Dati!D798,)","v":0},{"$f":"IF(Dati!E798=\"EB2\",Dati!D798,)","v":0},{"$f":"IF(Dati!E798=\"EC1\",Dati!D798,)","v":0},{"$f":"IF(Dati!E798=\"ED1\",Dati!D798,)","v":0},{"$f":"IF(Dati!E798=\"EE1\",Dati!D798,)","v":0}]
[{"$f":"Dati!C799","v":"00:00:00"},{"$f":"Dati!H799","v":"00:00:00"},{"$f":"IF(Dati!E799=\"EA1\",Dati!D799,)","v":0},{"$f":"IF(Dati!E799=\"EA2\",Dati!D799,)","v":0},{"$f":"IF(Dati!E799=\"EA3\",Dati!D799,)","v":0},{"$f":"IF(Dati!E799=\"EA4\",Dati!D799,)","v":0},{"$f":"IF(Dati!E799=\"EA5\",Dati!D799,)","v":0},{"$f":"IF(Dati!E799=\"EA6\",Dati!D799,)","v":0},{"$f":"IF(Dati!E799=\"EB1\",Dati!D799,)","v":0},{"$f":"IF(Dati!E799=\"EB2\",Dati!D799,)","v":0},{"$f":"IF(Dati!E799=\"EC1\",Dati!D799,)","v":0},{"$f":"IF(Dati!E799=\"ED1\",Dati!D799,)","v":0},{"$f":"IF(Dati!E799=\"EE1\",Dati!D799,)","v":0}]
[{"$f":"Dati!C800","v":"00:00:00"},{"$f":"Dati!H800","v":"00:00:00"},{"$f":"IF(Dati!E800=\"EA1\",Dati!D800,)","v":0},{"$f":"IF(Dati!E800=\"EA2\",Dati!D800,)","v":0},{"$f":"IF(Dati!E800=\"EA3\",Dati!D800,)","v":0},{"$f":"IF(Dati!E800=\"EA4\",Dati!D800,)","v":0},{"$f":"IF(Dati!E800=\"EA5\",Dati!D800,)","v":0},{"$f":"IF(Dati!E800=\"EA6\",Dati!D800,)","v":0},{"$f":"IF(Dati!E800=\"EB1\",Dati!D800,)","v":0},{"$f":"IF(Dati!E800=\"EB2\",Dati!D800,)","v":0},{"$f":"IF(Dati!E800=\"EC1\",Dati!D800,)","v":0},{"$f":"IF(Dati!E800=\"ED1\",Dati!D800,)","v":0},{"$f":"IF(Dati!E800=\"EE1\",Dati!D800,)","v":0}]
[{"$f":"Dati!C801","v":"00:00:00"},{"$f":"Dati!H801","v":"00:00:00"},{"$f":"IF(Dati!E801=\"EA1\",Dati!D801,)","v":0},{"$f":"IF(Dati!E801=\"EA2\",Dati!D801,)","v":0},{"$f":"IF(Dati!E801=\"EA3\",Dati!D801,)","v":0},{"$f":"IF(Dati!E801=\"EA4\",Dati!D801,)","v":0},{"$f":"IF(Dati!E801=\"EA5\",Dati!D801,)","v":0},{"$f":"IF(Dati!E801=\"EA6\",Dati!D801,)","v":0},{"$f":"IF(Dati!E801=\"EB1\",Dati!D801,)","v":0},{"$f":"IF(Dati!E801=\"EB2\",Dati!D801,)","v":0},{"$f":"IF(Dati!E801=\"EC1\",Dati!D801,)","v":0},{"$f":"IF(Dati!E801=\"ED1\",Dati!D801,)","v":0},{"$f":"IF(Dati!E801=\"EE1\",Dati!D801,)","v":0}]
[{"$f":"Dati!C802","v":"00:00:00"},{"$f":"Dati!H802","v":"00:00:00"},{"$f":"IF(Dati!E802=\"EA1\",Dati!D802,)","v":0},{"$f":"IF(Dati!E802=\"EA2\",Dati!D802,)","v":0},{"$f":"IF(Dati!E802=\"EA3\",Dati!D802,)","v":0},{"$f":"IF(Dati!E802=\"EA4\",Dati!D802,)","v":0},{"$f":"IF(Dati!E802=\"EA5\",Dati!D802,)","v":0},{"$f":"IF(Dati!E802=\"EA6\",Dati!D802,)","v":0},{"$f":"IF(Dati!E802=\"EB1\",Dati!D802,)","v":0},{"$f":"IF(Dati!E802=\"EB2\",Dati!D802,)","v":0},{"$f":"IF(Dati!E802=\"EC1\",Dati!D802,)","v":0},{"$f":"IF(Dati!E802=\"ED1\",Dati!D802,)","v":0},{"$f":"IF(Dati!E802=\"EE1\",Dati!D802,)","v":0}]
[{"$f":"Dati!C803","v":"00:00:00"},{"$f":"Dati!H803","v":"00:00:00"},{"$f":"IF(Dati!E803=\"EA1\",Dati!D803,)","v":0},{"$f":"IF(Dati!E803=\"EA2\",Dati!D803,)","v":0},{"$f":"IF(Dati!E803=\"EA3\",Dati!D803,)","v":0},{"$f":"IF(Dati!E803=\"EA4\",Dati!D803,)","v":0},{"$f":"IF(Dati!E803=\"EA5\",Dati!D803,)","v":0},{"$f":"IF(Dati!E803=\"EA6\",Dati!D803,)","v":0},{"$f":"IF(Dati!E803=\"EB1\",Dati!D803,)","v":0},{"$f":"IF(Dati!E803=\"EB2\",Dati!D803,)","v":0},{"$f":"IF(Dati!E803=\"EC1\",Dati!D803,)","v":0},{"$f":"IF(Dati!E803=\"ED1\",Dati!D803,)","v":0},{"$f":"IF(Dati!E803=\"EE1\",Dati!D803,)","v":0}]
[{"$f":"Dati!C804","v":"00:00:00"},{"$f":"Dati!H804","v":"00:00:00"},{"$f":"IF(Dati!E804=\"EA1\",Dati!D804,)","v":0},{"$f":"IF(Dati!E804=\"EA2\",Dati!D804,)","v":0},{"$f":"IF(Dati!E804=\"EA3\",Dati!D804,)","v":0},{"$f":"IF(Dati!E804=\"EA4\",Dati!D804,)","v":0},{"$f":"IF(Dati!E804=\"EA5\",Dati!D804,)","v":0},{"$f":"IF(Dati!E804=\"EA6\",Dati!D804,)","v":0},{"$f":"IF(Dati!E804=\"EB1\",Dati!D804,)","v":0},{"$f":"IF(Dati!E804=\"EB2\",Dati!D804,)","v":0},{"$f":"IF(Dati!E804=\"EC1\",Dati!D804,)","v":0},{"$f":"IF(Dati!E804=\"ED1\",Dati!D804,)","v":0},{"$f":"IF(Dati!E804=\"EE1\",Dati!D804,)","v":0}]
[{"$f":"Dati!C805","v":"00:00:00"},{"$f":"Dati!H805","v":"00:00:00"},{"$f":"IF(Dati!E805=\"EA1\",Dati!D805,)","v":0},{"$f":"IF(Dati!E805=\"EA2\",Dati!D805,)","v":0},{"$f":"IF(Dati!E805=\"EA3\",Dati!D805,)","v":0},{"$f":"IF(Dati!E805=\"EA4\",Dati!D805,)","v":0},{"$f":"IF(Dati!E805=\"EA5\",Dati!D805,)","v":0},{"$f":"IF(Dati!E805=\"EA6\",Dati!D805,)","v":0},{"$f":"IF(Dati!E805=\"EB1\",Dati!D805,)","v":0},{"$f":"IF(Dati!E805=\"EB2\",Dati!D805,)","v":0},{"$f":"IF(Dati!E805=\"EC1\",Dati!D805,)","v":0},{"$f":"IF(Dati!E805=\"ED1\",Dati!D805,)","v":0},{"$f":"IF(Dati!E805=\"EE1\",Dati!D805,)","v":0}]
[{"$f":"Dati!C806","v":"00:00:00"},{"$f":"Dati!H806","v":"00:00:00"},{"$f":"IF(Dati!E806=\"EA1\",Dati!D806,)","v":0},{"$f":"IF(Dati!E806=\"EA2\",Dati!D806,)","v":0},{"$f":"IF(Dati!E806=\"EA3\",Dati!D806,)","v":0},{"$f":"IF(Dati!E806=\"EA4\",Dati!D806,)","v":0},{"$f":"IF(Dati!E806=\"EA5\",Dati!D806,)","v":0},{"$f":"IF(Dati!E806=\"EA6\",Dati!D806,)","v":0},{"$f":"IF(Dati!E806=\"EB1\",Dati!D806,)","v":0},{"$f":"IF(Dati!E806=\"EB2\",Dati!D806,)","v":0},{"$f":"IF(Dati!E806=\"EC1\",Dati!D806,)","v":0},{"$f":"IF(Dati!E806=\"ED1\",Dati!D806,)","v":0},{"$f":"IF(Dati!E806=\"EE1\",Dati!D806,)","v":0}]
[{"$f":"Dati!C807","v":"00:00:00"},{"$f":"Dati!H807","v":"00:00:00"},{"$f":"IF(Dati!E807=\"EA1\",Dati!D807,)","v":0},{"$f":"IF(Dati!E807=\"EA2\",Dati!D807,)","v":0},{"$f":"IF(Dati!E807=\"EA3\",Dati!D807,)","v":0},{"$f":"IF(Dati!E807=\"EA4\",Dati!D807,)","v":0},{"$f":"IF(Dati!E807=\"EA5\",Dati!D807,)","v":0},{"$f":"IF(Dati!E807=\"EA6\",Dati!D807,)","v":0},{"$f":"IF(Dati!E807=\"EB1\",Dati!D807,)","v":0},{"$f":"IF(Dati!E807=\"EB2\",Dati!D807,)","v":0},{"$f":"IF(Dati!E807=\"EC1\",Dati!D807,)","v":0},{"$f":"IF(Dati!E807=\"ED1\",Dati!D807,)","v":0},{"$f":"IF(Dati!E807=\"EE1\",Dati!D807,)","v":0}]
[{"$f":"Dati!C808","v":"00:00:00"},{"$f":"Dati!H808","v":"00:00:00"},{"$f":"IF(Dati!E808=\"EA1\",Dati!D808,)","v":0},{"$f":"IF(Dati!E808=\"EA2\",Dati!D808,)","v":0},{"$f":"IF(Dati!E808=\"EA3\",Dati!D808,)","v":0},{"$f":"IF(Dati!E808=\"EA4\",Dati!D808,)","v":0},{"$f":"IF(Dati!E808=\"EA5\",Dati!D808,)","v":0},{"$f":"IF(Dati!E808=\"EA6\",Dati!D808,)","v":0},{"$f":"IF(Dati!E808=\"EB1\",Dati!D808,)","v":0},{"$f":"IF(Dati!E808=\"EB2\",Dati!D808,)","v":0},{"$f":"IF(Dati!E808=\"EC1\",Dati!D808,)","v":0},{"$f":"IF(Dati!E808=\"ED1\",Dati!D808,)","v":0},{"$f":"IF(Dati!E808=\"EE1\",Dati!D808,)","v":0}]
[{"$f":"Dati!C809","v":"00:00:00"},{"$f":"Dati!H809","v":"00:00:00"},{"$f":"IF(Dati!E809=\"EA1\",Dati!D809,)","v":0},{"$f":"IF(Dati!E809=\"EA2\",Dati!D809,)","v":0},{"$f":"IF(Dati!E809=\"EA3\",Dati!D809,)","v":0},{"$f":"IF(Dati!E809=\"EA4\",Dati!D809,)","v":0},{"$f":"IF(Dati!E809=\"EA5\",Dati!D809,)","v":0},{"$f":"IF(Dati!E809=\"EA6\",Dati!D809,)","v":0},{"$f":"IF(Dati!E809=\"EB1\",Dati!D809,)","v":0},{"$f":"IF(Dati!E809=\"EB2\",Dati!D809,)","v":0},{"$f":"IF(Dati!E809=\"EC1\",Dati!D809,)","v":0},{"$f":"IF(Dati!E809=\"ED1\",Dati!D809,)","v":0},{"$f":"IF(Dati!E809=\"EE1\",Dati!D809,)","v":0}]
[{"$f":"Dati!C810","v":"00:00:00"},{"$f":"Dati!H810","v":"00:00:00"},{"$f":"IF(Dati!E810=\"EA1\",Dati!D810,)","v":0},{"$f":"IF(Dati!E810=\"EA2\",Dati!D810,)","v":0},{"$f":"IF(Dati!E810=\"EA3\",Dati!D810,)","v":0},{"$f":"IF(Dati!E810=\"EA4\",Dati!D810,)","v":0},{"$f":"IF(Dati!E810=\"EA5\",Dati!D810,)","v":0},{"$f":"IF(Dati!E810=\"EA6\",Dati!D810,)","v":0},{"$f":"IF(Dati!E810=\"EB1\",Dati!D810,)","v":0},{"$f":"IF(Dati!E810=\"EB2\",Dati!D810,)","v":0},{"$f":"IF(Dati!E810=\"EC1\",Dati!D810,)","v":0},{"$f":"IF(Dati!E810=\"ED1\",Dati!D810,)","v":0},{"$f":"IF(Dati!E810=\"EE1\",Dati!D810,)","v":0}]
[{"$f":"Dati!C811","v":"00:00:00"},{"$f":"Dati!H811","v":"00:00:00"},{"$f":"IF(Dati!E811=\"EA1\",Dati!D811,)","v":0},{"$f":"IF(Dati!E811=\"EA2\",Dati!D811,)","v":0},{"$f":"IF(Dati!E811=\"EA3\",Dati!D811,)","v":0},{"$f":"IF(Dati!E811=\"EA4\",Dati!D811,)","v":0},{"$f":"IF(Dati!E811=\"EA5\",Dati!D811,)","v":0},{"$f":"IF(Dati!E811=\"EA6\",Dati!D811,)","v":0},{"$f":"IF(Dati!E811=\"EB1\",Dati!D811,)","v":0},{"$f":"IF(Dati!E811=\"EB2\",Dati!D811,)","v":0},{"$f":"IF(Dati!E811=\"EC1\",Dati!D811,)","v":0},{"$f":"IF(Dati!E811=\"ED1\",Dati!D811,)","v":0},{"$f":"IF(Dati!E811=\"EE1\",Dati!D811,)","v":0}]
[{"$f":"Dati!C812","v":"00:00:00"},{"$f":"Dati!H812","v":"00:00:00"},{"$f":"IF(Dati!E812=\"EA1\",Dati!D812,)","v":0},{"$f":"IF(Dati!E812=\"EA2\",Dati!D812,)","v":0},{"$f":"IF(Dati!E812=\"EA3\",Dati!D812,)","v":0},{"$f":"IF(Dati!E812=\"EA4\",Dati!D812,)","v":0},{"$f":"IF(Dati!E812=\"EA5\",Dati!D812,)","v":0},{"$f":"IF(Dati!E812=\"EA6\",Dati!D812,)","v":0},{"$f":"IF(Dati!E812=\"EB1\",Dati!D812,)","v":0},{"$f":"IF(Dati!E812=\"EB2\",Dati!D812,)","v":0},{"$f":"IF(Dati!E812=\"EC1\",Dati!D812,)","v":0},{"$f":"IF(Dati!E812=\"ED1\",Dati!D812,)","v":0},{"$f":"IF(Dati!E812=\"EE1\",Dati!D812,)","v":0}]
[{"$f":"Dati!C813","v":"00:00:00"},{"$f":"Dati!H813","v":"00:00:00"},{"$f":"IF(Dati!E813=\"EA1\",Dati!D813,)","v":0},{"$f":"IF(Dati!E813=\"EA2\",Dati!D813,)","v":0},{"$f":"IF(Dati!E813=\"EA3\",Dati!D813,)","v":0},{"$f":"IF(Dati!E813=\"EA4\",Dati!D813,)","v":0},{"$f":"IF(Dati!E813=\"EA5\",Dati!D813,)","v":0},{"$f":"IF(Dati!E813=\"EA6\",Dati!D813,)","v":0},{"$f":"IF(Dati!E813=\"EB1\",Dati!D813,)","v":0},{"$f":"IF(Dati!E813=\"EB2\",Dati!D813,)","v":0},{"$f":"IF(Dati!E813=\"EC1\",Dati!D813,)","v":0},{"$f":"IF(Dati!E813=\"ED1\",Dati!D813,)","v":0},{"$f":"IF(Dati!E813=\"EE1\",Dati!D813,)","v":0}]
[{"$f":"Dati!C814","v":"00:00:00"},{"$f":"Dati!H814","v":"00:00:00"},{"$f":"IF(Dati!E814=\"EA1\",Dati!D814,)","v":0},{"$f":"IF(Dati!E814=\"EA2\",Dati!D814,)","v":0},{"$f":"IF(Dati!E814=\"EA3\",Dati!D814,)","v":0},{"$f":"IF(Dati!E814=\"EA4\",Dati!D814,)","v":0},{"$f":"IF(Dati!E814=\"EA5\",Dati!D814,)","v":0},{"$f":"IF(Dati!E814=\"EA6\",Dati!D814,)","v":0},{"$f":"IF(Dati!E814=\"EB1\",Dati!D814,)","v":0},{"$f":"IF(Dati!E814=\"EB2\",Dati!D814,)","v":0},{"$f":"IF(Dati!E814=\"EC1\",Dati!D814,)","v":0},{"$f":"IF(Dati!E814=\"ED1\",Dati!D814,)","v":0},{"$f":"IF(Dati!E814=\"EE1\",Dati!D814,)","v":0}]
[{"$f":"Dati!C815","v":"00:00:00"},{"$f":"Dati!H815","v":"00:00:00"},{"$f":"IF(Dati!E815=\"EA1\",Dati!D815,)","v":0},{"$f":"IF(Dati!E815=\"EA2\",Dati!D815,)","v":0},{"$f":"IF(Dati!E815=\"EA3\",Dati!D815,)","v":0},{"$f":"IF(Dati!E815=\"EA4\",Dati!D815,)","v":0},{"$f":"IF(Dati!E815=\"EA5\",Dati!D815,)","v":0},{"$f":"IF(Dati!E815=\"EA6\",Dati!D815,)","v":0},{"$f":"IF(Dati!E815=\"EB1\",Dati!D815,)","v":0},{"$f":"IF(Dati!E815=\"EB2\",Dati!D815,)","v":0},{"$f":"IF(Dati!E815=\"EC1\",Dati!D815,)","v":0},{"$f":"IF(Dati!E815=\"ED1\",Dati!D815,)","v":0},{"$f":"IF(Dati!E815=\"EE1\",Dati!D815,)","v":0}]
[{"$f":"Dati!C816","v":"00:00:00"},{"$f":"Dati!H816","v":"00:00:00"},{"$f":"IF(Dati!E816=\"EA1\",Dati!D816,)","v":0},{"$f":"IF(Dati!E816=\"EA2\",Dati!D816,)","v":0},{"$f":"IF(Dati!E816=\"EA3\",Dati!D816,)","v":0},{"$f":"IF(Dati!E816=\"EA4\",Dati!D816,)","v":0},{"$f":"IF(Dati!E816=\"EA5\",Dati!D816,)","v":0},{"$f":"IF(Dati!E816=\"EA6\",Dati!D816,)","v":0},{"$f":"IF(Dati!E816=\"EB1\",Dati!D816,)","v":0},{"$f":"IF(Dati!E816=\"EB2\",Dati!D816,)","v":0},{"$f":"IF(Dati!E816=\"EC1\",Dati!D816,)","v":0},{"$f":"IF(Dati!E816=\"ED1\",Dati!D816,)","v":0},{"$f":"IF(Dati!E816=\"EE1\",Dati!D816,)","v":0}]
[{"$f":"Dati!C817","v":"00:00:00"},{"$f":"Dati!H817","v":"00:00:00"},{"$f":"IF(Dati!E817=\"EA1\",Dati!D817,)","v":0},{"$f":"IF(Dati!E817=\"EA2\",Dati!D817,)","v":0},{"$f":"IF(Dati!E817=\"EA3\",Dati!D817,)","v":0},{"$f":"IF(Dati!E817=\"EA4\",Dati!D817,)","v":0},{"$f":"IF(Dati!E817=\"EA5\",Dati!D817,)","v":0},{"$f":"IF(Dati!E817=\"EA6\",Dati!D817,)","v":0},{"$f":"IF(Dati!E817=\"EB1\",Dati!D817,)","v":0},{"$f":"IF(Dati!E817=\"EB2\",Dati!D817,)","v":0},{"$f":"IF(Dati!E817=\"EC1\",Dati!D817,)","v":0},{"$f":"IF(Dati!E817=\"ED1\",Dati!D817,)","v":0},{"$f":"IF(Dati!E817=\"EE1\",Dati!D817,)","v":0}]
[{"$f":"Dati!C818","v":"00:00:00"},{"$f":"Dati!H818","v":"00:00:00"},{"$f":"IF(Dati!E818=\"EA1\",Dati!D818,)","v":0},{"$f":"IF(Dati!E818=\"EA2\",Dati!D818,)","v":0},{"$f":"IF(Dati!E818=\"EA3\",Dati!D818,)","v":0},{"$f":"IF(Dati!E818=\"EA4\",Dati!D818,)","v":0},{"$f":"IF(Dati!E818=\"EA5\",Dati!D818,)","v":0},{"$f":"IF(Dati!E818=\"EA6\",Dati!D818,)","v":0},{"$f":"IF(Dati!E818=\"EB1\",Dati!D818,)","v":0},{"$f":"IF(Dati!E818=\"EB2\",Dati!D818,)","v":0},{"$f":"IF(Dati!E818=\"EC1\",Dati!D818,)","v":0},{"$f":"IF(Dati!E818=\"ED1\",Dati!D818,)","v":0},{"$f":"IF(Dati!E818=\"EE1\",Dati!D818,)","v":0}]
[{"$f":"Dati!C819","v":"00:00:00"},{"$f":"Dati!H819","v":"00:00:00"},{"$f":"IF(Dati!E819=\"EA1\",Dati!D819,)","v":0},{"$f":"IF(Dati!E819=\"EA2\",Dati!D819,)","v":0},{"$f":"IF(Dati!E819=\"EA3\",Dati!D819,)","v":0},{"$f":"IF(Dati!E819=\"EA4\",Dati!D819,)","v":0},{"$f":"IF(Dati!E819=\"EA5\",Dati!D819,)","v":0},{"$f":"IF(Dati!E819=\"EA6\",Dati!D819,)","v":0},{"$f":"IF(Dati!E819=\"EB1\",Dati!D819,)","v":0},{"$f":"IF(Dati!E819=\"EB2\",Dati!D819,)","v":0},{"$f":"IF(Dati!E819=\"EC1\",Dati!D819,)","v":0},{"$f":"IF(Dati!E819=\"ED1\",Dati!D819,)","v":0},{"$f":"IF(Dati!E819=\"EE1\",Dati!D819,)","v":0}]
[{"$f":"Dati!C820","v":"00:00:00"},{"$f":"Dati!H820","v":"00:00:00"},{"$f":"IF(Dati!E820=\"EA1\",Dati!D820,)","v":0},{"$f":"IF(Dati!E820=\"EA2\",Dati!D820,)","v":0},{"$f":"IF(Dati!E820=\"EA3\",Dati!D820,)","v":0},{"$f":"IF(Dati!E820=\"EA4\",Dati!D820,)","v":0},{"$f":"IF(Dati!E820=\"EA5\",Dati!D820,)","v":0},{"$f":"IF(Dati!E820=\"EA6\",Dati!D820,)","v":0},{"$f":"IF(Dati!E820=\"EB1\",Dati!D820,)","v":0},{"$f":"IF(Dati!E820=\"EB2\",Dati!D820,)","v":0},{"$f":"IF(Dati!E820=\"EC1\",Dati!D820,)","v":0},{"$f":"IF(Dati!E820=\"ED1\",Dati!D820,)","v":0},{"$f":"IF(Dati!E820=\"EE1\",Dati!D820,)","v":0}]
[{"$f":"Dati!C821","v":"00:00:00"},{"$f":"Dati!H821","v":"00:00:00"},{"$f":"IF(Dati!E821=\"EA1\",Dati!D821,)","v":0},{"$f":"IF(Dati!E821=\"EA2\",Dati!D821,)","v":0},{"$f":"IF(Dati!E821=\"EA3\",Dati!D821,)","v":0},{"$f":"IF(Dati!E821=\"EA4\",Dati!D821,)","v":0},{"$f":"IF(Dati!E821=\"EA5\",Dati!D821,)","v":0},{"$f":"IF(Dati!E821=\"EA6\",Dati!D821,)","v":0},{"$f":"IF(Dati!E821=\"EB1\",Dati!D821,)","v":0},{"$f":"IF(Dati!E821=\"EB2\",Dati!D821,)","v":0},{"$f":"IF(Dati!E821=\"EC1\",Dati!D821,)","v":0},{"$f":"IF(Dati!E821=\"ED1\",Dati!D821,)","v":0},{"$f":"IF(Dati!E821=\"EE1\",Dati!D821,)","v":0}]
[{"$f":"Dati!C822","v":"00:00:00"},{"$f":"Dati!H822","v":"00:00:00"},{"$f":"IF(Dati!E822=\"EA1\",Dati!D822,)","v":0},{"$f":"IF(Dati!E822=\"EA2\",Dati!D822,)","v":0},{"$f":"IF(Dati!E822=\"EA3\",Dati!D822,)","v":0},{"$f":"IF(Dati!E822=\"EA4\",Dati!D822,)","v":0},{"$f":"IF(Dati!E822=\"EA5\",Dati!D822,)","v":0},{"$f":"IF(Dati!E822=\"EA6\",Dati!D822,)","v":0},{"$f":"IF(Dati!E822=\"EB1\",Dati!D822,)","v":0},{"$f":"IF(Dati!E822=\"EB2\",Dati!D822,)","v":0},{"$f":"IF(Dati!E822=\"EC1\",Dati!D822,)","v":0},{"$f":"IF(Dati!E822=\"ED1\",Dati!D822,)","v":0},{"$f":"IF(Dati!E822=\"EE1\",Dati!D822,)","v":0}]
[{"$f":"Dati!C823","v":"00:00:00"},{"$f":"Dati!H823","v":"00:00:00"},{"$f":"IF(Dati!E823=\"EA1\",Dati!D823,)","v":0},{"$f":"IF(Dati!E823=\"EA2\",Dati!D823,)","v":0},{"$f":"IF(Dati!E823=\"EA3\",Dati!D823,)","v":0},{"$f":"IF(Dati!E823=\"EA4\",Dati!D823,)","v":0},{"$f":"IF(Dati!E823=\"EA5\",Dati!D823,)","v":0},{"$f":"IF(Dati!E823=\"EA6\",Dati!D823,)","v":0},{"$f":"IF(Dati!E823=\"EB1\",Dati!D823,)","v":0},{"$f":"IF(Dati!E823=\"EB2\",Dati!D823,)","v":0},{"$f":"IF(Dati!E823=\"EC1\",Dati!D823,)","v":0},{"$f":"IF(Dati!E823=\"ED1\",Dati!D823,)","v":0},{"$f":"IF(Dati!E823=\"EE1\",Dati!D823,)","v":0}]
[{"$f":"Dati!C824","v":"00:00:00"},{"$f":"Dati!H824","v":"00:00:00"},{"$f":"IF(Dati!E824=\"EA1\",Dati!D824,)","v":0},{"$f":"IF(Dati!E824=\"EA2\",Dati!D824,)","v":0},{"$f":"IF(Dati!E824=\"EA3\",Dati!D824,)","v":0},{"$f":"IF(Dati!E824=\"EA4\",Dati!D824,)","v":0},{"$f":"IF(Dati!E824=\"EA5\",Dati!D824,)","v":0},{"$f":"IF(Dati!E824=\"EA6\",Dati!D824,)","v":0},{"$f":"IF(Dati!E824=\"EB1\",Dati!D824,)","v":0},{"$f":"IF(Dati!E824=\"EB2\",Dati!D824,)","v":0},{"$f":"IF(Dati!E824=\"EC1\",Dati!D824,)","v":0},{"$f":"IF(Dati!E824=\"ED1\",Dati!D824,)","v":0},{"$f":"IF(Dati!E824=\"EE1\",Dati!D824,)","v":0}]
[{"$f":"Dati!C825","v":"00:00:00"},{"$f":"Dati!H825","v":"00:00:00"},{"$f":"IF(Dati!E825=\"EA1\",Dati!D825,)","v":0},{"$f":"IF(Dati!E825=\"EA2\",Dati!D825,)","v":0},{"$f":"IF(Dati!E825=\"EA3\",Dati!D825,)","v":0},{"$f":"IF(Dati!E825=\"EA4\",Dati!D825,)","v":0},{"$f":"IF(Dati!E825=\"EA5\",Dati!D825,)","v":0},{"$f":"IF(Dati!E825=\"EA6\",Dati!D825,)","v":0},{"$f":"IF(Dati!E825=\"EB1\",Dati!D825,)","v":0},{"$f":"IF(Dati!E825=\"EB2\",Dati!D825,)","v":0},{"$f":"IF(Dati!E825=\"EC1\",Dati!D825,)","v":0},{"$f":"IF(Dati!E825=\"ED1\",Dati!D825,)","v":0},{"$f":"IF(Dati!E825=\"EE1\",Dati!D825,)","v":0}]
[{"$f":"Dati!C826","v":"00:00:00"},{"$f":"Dati!H826","v":"00:00:00"},{"$f":"IF(Dati!E826=\"EA1\",Dati!D826,)","v":0},{"$f":"IF(Dati!E826=\"EA2\",Dati!D826,)","v":0},{"$f":"IF(Dati!E826=\"EA3\",Dati!D826,)","v":0},{"$f":"IF(Dati!E826=\"EA4\",Dati!D826,)","v":0},{"$f":"IF(Dati!E826=\"EA5\",Dati!D826,)","v":0},{"$f":"IF(Dati!E826=\"EA6\",Dati!D826,)","v":0},{"$f":"IF(Dati!E826=\"EB1\",Dati!D826,)","v":0},{"$f":"IF(Dati!E826=\"EB2\",Dati!D826,)","v":0},{"$f":"IF(Dati!E826=\"EC1\",Dati!D826,)","v":0},{"$f":"IF(Dati!E826=\"ED1\",Dati!D826,)","v":0},{"$f":"IF(Dati!E826=\"EE1\",Dati!D826,)","v":0}]
[{"$f":"Dati!C827","v":"00:00:00"},{"$f":"Dati!H827","v":"00:00:00"},{"$f":"IF(Dati!E827=\"EA1\",Dati!D827,)","v":0},{"$f":"IF(Dati!E827=\"EA2\",Dati!D827,)","v":0},{"$f":"IF(Dati!E827=\"EA3\",Dati!D827,)","v":0},{"$f":"IF(Dati!E827=\"EA4\",Dati!D827,)","v":0},{"$f":"IF(Dati!E827=\"EA5\",Dati!D827,)","v":0},{"$f":"IF(Dati!E827=\"EA6\",Dati!D827,)","v":0},{"$f":"IF(Dati!E827=\"EB1\",Dati!D827,)","v":0},{"$f":"IF(Dati!E827=\"EB2\",Dati!D827,)","v":0},{"$f":"IF(Dati!E827=\"EC1\",Dati!D827,)","v":0},{"$f":"IF(Dati!E827=\"ED1\",Dati!D827,)","v":0},{"$f":"IF(Dati!E827=\"EE1\",Dati!D827,)","v":0}]
[{"$f":"Dati!C828","v":"00:00:00"},{"$f":"Dati!H828","v":"00:00:00"},{"$f":"IF(Dati!E828=\"EA1\",Dati!D828,)","v":0},{"$f":"IF(Dati!E828=\"EA2\",Dati!D828,)","v":0},{"$f":"IF(Dati!E828=\"EA3\",Dati!D828,)","v":0},{"$f":"IF(Dati!E828=\"EA4\",Dati!D828,)","v":0},{"$f":"IF(Dati!E828=\"EA5\",Dati!D828,)","v":0},{"$f":"IF(Dati!E828=\"EA6\",Dati!D828,)","v":0},{"$f":"IF(Dati!E828=\"EB1\",Dati!D828,)","v":0},{"$f":"IF(Dati!E828=\"EB2\",Dati!D828,)","v":0},{"$f":"IF(Dati!E828=\"EC1\",Dati!D828,)","v":0},{"$f":"IF(Dati!E828=\"ED1\",Dati!D828,)","v":0},{"$f":"IF(Dati!E828=\"EE1\",Dati!D828,)","v":0}]
[{"$f":"Dati!C829","v":"00:00:00"},{"$f":"Dati!H829","v":"00:00:00"},{"$f":"IF(Dati!E829=\"EA1\",Dati!D829,)","v":0},{"$f":"IF(Dati!E829=\"EA2\",Dati!D829,)","v":0},{"$f":"IF(Dati!E829=\"EA3\",Dati!D829,)","v":0},{"$f":"IF(Dati!E829=\"EA4\",Dati!D829,)","v":0},{"$f":"IF(Dati!E829=\"EA5\",Dati!D829,)","v":0},{"$f":"IF(Dati!E829=\"EA6\",Dati!D829,)","v":0},{"$f":"IF(Dati!E829=\"EB1\",Dati!D829,)","v":0},{"$f":"IF(Dati!E829=\"EB2\",Dati!D829,)","v":0},{"$f":"IF(Dati!E829=\"EC1\",Dati!D829,)","v":0},{"$f":"IF(Dati!E829=\"ED1\",Dati!D829,)","v":0},{"$f":"IF(Dati!E829=\"EE1\",Dati!D829,)","v":0}]
[{"$f":"Dati!C830","v":"00:00:00"},{"$f":"Dati!H830","v":"00:00:00"},{"$f":"IF(Dati!E830=\"EA1\",Dati!D830,)","v":0},{"$f":"IF(Dati!E830=\"EA2\",Dati!D830,)","v":0},{"$f":"IF(Dati!E830=\"EA3\",Dati!D830,)","v":0},{"$f":"IF(Dati!E830=\"EA4\",Dati!D830,)","v":0},{"$f":"IF(Dati!E830=\"EA5\",Dati!D830,)","v":0},{"$f":"IF(Dati!E830=\"EA6\",Dati!D830,)","v":0},{"$f":"IF(Dati!E830=\"EB1\",Dati!D830,)","v":0},{"$f":"IF(Dati!E830=\"EB2\",Dati!D830,)","v":0},{"$f":"IF(Dati!E830=\"EC1\",Dati!D830,)","v":0},{"$f":"IF(Dati!E830=\"ED1\",Dati!D830,)","v":0},{"$f":"IF(Dati!E830=\"EE1\",Dati!D830,)","v":0}]
[{"$f":"Dati!C831","v":"00:00:00"},{"$f":"Dati!H831","v":"00:00:00"},{"$f":"IF(Dati!E831=\"EA1\",Dati!D831,)","v":0},{"$f":"IF(Dati!E831=\"EA2\",Dati!D831,)","v":0},{"$f":"IF(Dati!E831=\"EA3\",Dati!D831,)","v":0},{"$f":"IF(Dati!E831=\"EA4\",Dati!D831,)","v":0},{"$f":"IF(Dati!E831=\"EA5\",Dati!D831,)","v":0},{"$f":"IF(Dati!E831=\"EA6\",Dati!D831,)","v":0},{"$f":"IF(Dati!E831=\"EB1\",Dati!D831,)","v":0},{"$f":"IF(Dati!E831=\"EB2\",Dati!D831,)","v":0},{"$f":"IF(Dati!E831=\"EC1\",Dati!D831,)","v":0},{"$f":"IF(Dati!E831=\"ED1\",Dati!D831,)","v":0},{"$f":"IF(Dati!E831=\"EE1\",Dati!D831,)","v":0}]
[{"$f":"Dati!C832","v":"00:00:00"},{"$f":"Dati!H832","v":"00:00:00"},{"$f":"IF(Dati!E832=\"EA1\",Dati!D832,)","v":0},{"$f":"IF(Dati!E832=\"EA2\",Dati!D832,)","v":0},{"$f":"IF(Dati!E832=\"EA3\",Dati!D832,)","v":0},{"$f":"IF(Dati!E832=\"EA4\",Dati!D832,)","v":0},{"$f":"IF(Dati!E832=\"EA5\",Dati!D832,)","v":0},{"$f":"IF(Dati!E832=\"EA6\",Dati!D832,)","v":0},{"$f":"IF(Dati!E832=\"EB1\",Dati!D832,)","v":0},{"$f":"IF(Dati!E832=\"EB2\",Dati!D832,)","v":0},{"$f":"IF(Dati!E832=\"EC1\",Dati!D832,)","v":0},{"$f":"IF(Dati!E832=\"ED1\",Dati!D832,)","v":0},{"$f":"IF(Dati!E832=\"EE1\",Dati!D832,)","v":0}]
[{"$f":"Dati!C833","v":"00:00:00"},{"$f":"Dati!H833","v":"00:00:00"},{"$f":"IF(Dati!E833=\"EA1\",Dati!D833,)","v":0},{"$f":"IF(Dati!E833=\"EA2\",Dati!D833,)","v":0},{"$f":"IF(Dati!E833=\"EA3\",Dati!D833,)","v":0},{"$f":"IF(Dati!E833=\"EA4\",Dati!D833,)","v":0},{"$f":"IF(Dati!E833=\"EA5\",Dati!D833,)","v":0},{"$f":"IF(Dati!E833=\"EA6\",Dati!D833,)","v":0},{"$f":"IF(Dati!E833=\"EB1\",Dati!D833,)","v":0},{"$f":"IF(Dati!E833=\"EB2\",Dati!D833,)","v":0},{"$f":"IF(Dati!E833=\"EC1\",Dati!D833,)","v":0},{"$f":"IF(Dati!E833=\"ED1\",Dati!D833,)","v":0},{"$f":"IF(Dati!E833=\"EE1\",Dati!D833,)","v":0}]
[{"$f":"Dati!C834","v":"00:00:00"},{"$f":"Dati!H834","v":"00:00:00"},{"$f":"IF(Dati!E834=\"EA1\",Dati!D834,)","v":0},{"$f":"IF(Dati!E834=\"EA2\",Dati!D834,)","v":0},{"$f":"IF(Dati!E834=\"EA3\",Dati!D834,)","v":0},{"$f":"IF(Dati!E834=\"EA4\",Dati!D834,)","v":0},{"$f":"IF(Dati!E834=\"EA5\",Dati!D834,)","v":0},{"$f":"IF(Dati!E834=\"EA6\",Dati!D834,)","v":0},{"$f":"IF(Dati!E834=\"EB1\",Dati!D834,)","v":0},{"$f":"IF(Dati!E834=\"EB2\",Dati!D834,)","v":0},{"$f":"IF(Dati!E834=\"EC1\",Dati!D834,)","v":0},{"$f":"IF(Dati!E834=\"ED1\",Dati!D834,)","v":0},{"$f":"IF(Dati!E834=\"EE1\",Dati!D834,)","v":0}]
[{"$f":"Dati!C835","v":"00:00:00"},{"$f":"Dati!H835","v":"00:00:00"},{"$f":"IF(Dati!E835=\"EA1\",Dati!D835,)","v":0},{"$f":"IF(Dati!E835=\"EA2\",Dati!D835,)","v":0},{"$f":"IF(Dati!E835=\"EA3\",Dati!D835,)","v":0},{"$f":"IF(Dati!E835=\"EA4\",Dati!D835,)","v":0},{"$f":"IF(Dati!E835=\"EA5\",Dati!D835,)","v":0},{"$f":"IF(Dati!E835=\"EA6\",Dati!D835,)","v":0},{"$f":"IF(Dati!E835=\"EB1\",Dati!D835,)","v":0},{"$f":"IF(Dati!E835=\"EB2\",Dati!D835,)","v":0},{"$f":"IF(Dati!E835=\"EC1\",Dati!D835,)","v":0},{"$f":"IF(Dati!E835=\"ED1\",Dati!D835,)","v":0},{"$f":"IF(Dati!E835=\"EE1\",Dati!D835,)","v":0}]
[{"$f":"Dati!C836","v":"00:00:00"},{"$f":"Dati!H836","v":"00:00:00"},{"$f":"IF(Dati!E836=\"EA1\",Dati!D836,)","v":0},{"$f":"IF(Dati!E836=\"EA2\",Dati!D836,)","v":0},{"$f":"IF(Dati!E836=\"EA3\",Dati!D836,)","v":0},{"$f":"IF(Dati!E836=\"EA4\",Dati!D836,)","v":0},{"$f":"IF(Dati!E836=\"EA5\",Dati!D836,)","v":0},{"$f":"IF(Dati!E836=\"EA6\",Dati!D836,)","v":0},{"$f":"IF(Dati!E836=\"EB1\",Dati!D836,)","v":0},{"$f":"IF(Dati!E836=\"EB2\",Dati!D836,)","v":0},{"$f":"IF(Dati!E836=\"EC1\",Dati!D836,)","v":0},{"$f":"IF(Dati!E836=\"ED1\",Dati!D836,)","v":0},{"$f":"IF(Dati!E836=\"EE1\",Dati!D836,)","v":0}]
[{"$f":"Dati!C837","v":"00:00:00"},{"$f":"Dati!H837","v":"00:00:00"},{"$f":"IF(Dati!E837=\"EA1\",Dati!D837,)","v":0},{"$f":"IF(Dati!E837=\"EA2\",Dati!D837,)","v":0},{"$f":"IF(Dati!E837=\"EA3\",Dati!D837,)","v":0},{"$f":"IF(Dati!E837=\"EA4\",Dati!D837,)","v":0},{"$f":"IF(Dati!E837=\"EA5\",Dati!D837,)","v":0},{"$f":"IF(Dati!E837=\"EA6\",Dati!D837,)","v":0},{"$f":"IF(Dati!E837=\"EB1\",Dati!D837,)","v":0},{"$f":"IF(Dati!E837=\"EB2\",Dati!D837,)","v":0},{"$f":"IF(Dati!E837=\"EC1\",Dati!D837,)","v":0},{"$f":"IF(Dati!E837=\"ED1\",Dati!D837,)","v":0},{"$f":"IF(Dati!E837=\"EE1\",Dati!D837,)","v":0}]
[{"$f":"Dati!C838","v":"00:00:00"},{"$f":"Dati!H838","v":"00:00:00"},{"$f":"IF(Dati!E838=\"EA1\",Dati!D838,)","v":0},{"$f":"IF(Dati!E838=\"EA2\",Dati!D838,)","v":0},{"$f":"IF(Dati!E838=\"EA3\",Dati!D838,)","v":0},{"$f":"IF(Dati!E838=\"EA4\",Dati!D838,)","v":0},{"$f":"IF(Dati!E838=\"EA5\",Dati!D838,)","v":0},{"$f":"IF(Dati!E838=\"EA6\",Dati!D838,)","v":0},{"$f":"IF(Dati!E838=\"EB1\",Dati!D838,)","v":0},{"$f":"IF(Dati!E838=\"EB2\",Dati!D838,)","v":0},{"$f":"IF(Dati!E838=\"EC1\",Dati!D838,)","v":0},{"$f":"IF(Dati!E838=\"ED1\",Dati!D838,)","v":0},{"$f":"IF(Dati!E838=\"EE1\",Dati!D838,)","v":0}]
[{"$f":"Dati!C839","v":"00:00:00"},{"$f":"Dati!H839","v":"00:00:00"},{"$f":"IF(Dati!E839=\"EA1\",Dati!D839,)","v":0},{"$f":"IF(Dati!E839=\"EA2\",Dati!D839,)","v":0},{"$f":"IF(Dati!E839=\"EA3\",Dati!D839,)","v":0},{"$f":"IF(Dati!E839=\"EA4\",Dati!D839,)","v":0},{"$f":"IF(Dati!E839=\"EA5\",Dati!D839,)","v":0},{"$f":"IF(Dati!E839=\"EA6\",Dati!D839,)","v":0},{"$f":"IF(Dati!E839=\"EB1\",Dati!D839,)","v":0},{"$f":"IF(Dati!E839=\"EB2\",Dati!D839,)","v":0},{"$f":"IF(Dati!E839=\"EC1\",Dati!D839,)","v":0},{"$f":"IF(Dati!E839=\"ED1\",Dati!D839,)","v":0},{"$f":"IF(Dati!E839=\"EE1\",Dati!D839,)","v":0}]

{"sheet":"Uscite divise","index":10,"n_rows":855,"n_cols":13,"rows_kept":855,"cut":false,"hidden":true,"merged":[[0,0,0,1],[1,0,2,0],[1,1,2,1]]}
[null,null,"Spese ordinarie","Assicurazioni - tasse","Attività caritative parrocchiali ","Opere e attività","Remunerazioni - stipendi","Varie","Spese manutenzioni straordinarie immobili","Altre uscite straordinarie","passività su c/c, mutui o prestiti","Spese manutenzione ordinaria immobili","Uscite per partite di giro"]
["Data","Ragione ↓                    Totali → ","UA1","UA2","UA3","UA4","UA5","UA6","UB1","UB2","UC1","UD1","UE1"]
[null,null,{"$f":"SUM(C4:C855)","v":{"$error":"#REF!"}},{"$error":"#REF!"},{"$error":"#REF!"},{"$error":"#REF!"},{"$error":"#REF!"},{"$error":"#REF!"},{"$error":"#REF!"},{"$error":"#REF!"},{"$error":"#REF!"},{"$error":"#REF!"},{"$error":"#REF!"}]
[{"$f":"Dati!#REF!","v":{"$error":"#REF!"}},{"$f":"Dati!#REF!","v":{"$error":"#REF!"}},{"$f":"IF(Dati!#REF!=\"UA1\",Dati!#REF!,)","v":{"$error":"#REF!"}},{"$f":"IF(Dati!#REF!=\"UA2\",Dati!#REF!,)","v":{"$error":"#REF!"}},{"$f":"IF(Dati!#REF!=\"UA3\",Dati!#REF!,)","v":{"$error":"#REF!"}},{"$f":"IF(Dati!#REF!=\"UA4\",Dati!#REF!,)","v":{"$error":"#REF!"}},{"$f":"IF(Dati!#REF!=\"UA5\",Dati!#REF!,)","v":{"$error":"#REF!"}},{"$f":"IF(Dati!#REF!=\"UA6\",Dati!#REF!,)","v":{"$error":"#REF!"}},{"$f":"IF(Dati!#REF!=\"UB1\",Dati!#REF!,)","v":{"$error":"#REF!"}},{"$f":"IF(Dati!#REF!=\"UB2\",Dati!#REF!,)","v":{"$error":"#REF!"}},{"$f":"IF(Dati!#REF!=\"UC1\",Dati!#REF!,)","v":{"$error":"#REF!"}},{"$f":"IF(Dati!#REF!=\"UD1\",Dati!#REF!,)","v":{"$error":"#REF!"}},{"$f":"IF(Dati!#REF!=\"UE1\",Dati!#REF!,)","v":{"$error":"#REF!"}}]
[{"$f":"Dati!#REF!","v":{"$error":"#REF!"}},{"$f":"Dati!#REF!","v":{"$error":"#REF!"}},{"$f":"IF(Dati!#REF!=\"UA1\",Dati!#REF!,)","v":{"$error":"#REF!"}},{"$f":"IF(Dati!#REF!=\"UA2\",Dati!#REF!,)","v":{"$error":"#REF!"}},{"$f":"IF(Dati!#REF!=\"UA3\",Dati!#REF!,)","v":{"$error":"#REF!"}},{"$f":"IF(Dati!#REF!=\"UA4\",Dati!#REF!,)","v":{"$error":"#REF!"}},{"$f":"IF(Dati!#REF!=\"UA5\",Dati!#REF!,)","v":{"$error":"#REF!"}},{"$f":"IF(Dati!#REF!=\"UA6\",Dati!#REF!,)","v":{"$error":"#REF!"}},{"$f":"IF(Dati!#REF!=\"UB1\",Dati!#REF!,)","v":{"$error":"#REF!"}},{"$f":"IF(Dati!#REF!=\"UB2\",Dati!#REF!,)","v":{"$error":"#REF!"}},{"$f":"IF(Dati!#REF!=\"UC1\",Dati!#REF!,)","v":{"$error":"#REF!"}},{"$f":"IF(Dati!#REF!=\"UD1\",Dati!#REF!,)","v":{"$error":"#REF!"}},{"$f":"IF(Dati!#REF!=\"UE1\",Dati!#REF!,)","v":{"$error":"#REF!"}}]
[{"$f":"Dati!#REF!","v":{"$error":"#REF!"}},{"$f":"Dati!#REF!","v":{"$error":"#REF!"}},{"$f":"IF(Dati!#REF!=\"UA1\",Dati!#REF!,)","v":{"$error":"#REF!"}},{"$f":"IF(Dati!#REF!=\"UA2\",Dati!#REF!,)","v":{"$error":"#REF!"}},{"$f":"IF(Dati!#REF!=\"UA3\",Dati!#REF!,)","v":{"$error":"#REF!"}},{"$f":"IF(Dati!#REF!=\"UA4\",Dati!#REF!,)","v":{"$error":"#REF!"}},{"$f":"IF(Dati!#REF!=\"UA5\",Dati!#REF!,)","v":{"$error":"#REF!"}},{"$f":"IF(Dati!#REF!=\"UA6\",Dati!#REF!,)","v":{"$error":"#REF!"}},{"$f":"IF(Dati!#REF!=\"UB1\",Dati!#REF!,)","v":{"$error":"#REF!"}},{"$f":"IF(Dati!#REF!=\"UB2\",Dati!#REF!,)","v":{"$error":"#REF!"}},{"$f":"IF(Dati!#REF!=\"UC1\",Dati!#REF!,)","v":{"$error":"#REF!"}},{"$f":"IF(Dati!#REF!=\"UD1\",Dati!#REF!,)","v":{"$error":"#REF!"}},{"$f":"IF(Dati!#REF!=\"UE1\",Dati!#REF!,)","v":{"$error":"#REF!"}}]
[{"$f":"Dati!C6","v":"00:00:00"},{"$f":"Dati!H6","v":"00:00:00"},{"$f":"IF(Dati!E6=\"UA1\",Dati!D6,)","v":0},{"$f":"IF(Dati!E6=\"UA2\",Dati!D6,)","v":0},{"$f":"IF(Dati!E6=\"UA3\",Dati!D6,)","v":0},{"$f":"IF(Dati!E6=\"UA4\",Dati!D6,)","v":0},{"$f":"IF(Dati!E6=\"UA5\",Dati!D6,)","v":0},{"$f":"IF(Dati!E6=\"UA6\",Dati!D6,)","v":0},{"$f":"IF(Dati!E6=\"UB1\",Dati!D6,)","v":0},{"$f":"IF(Dati!E6=\"UB2\",Dati!D6,)","v":0},{"$f":"IF(Dati!E6=\"UC1\",Dati!D6,)","v":0},{"$f":"IF(Dati!E6=\"UD1\",Dati!D6,)","v":0},{"$f":"IF(Dati!E6=\"UE1\",Dati!D6,)","v":0}]
[{"$f":"Dati!C7","v":"00:00:00"},{"$f":"Dati!H7","v":"00:00:00"},{"$f":"IF(Dati!E7=\"UA1\",Dati!D7,)","v":0},{"$f":"IF(Dati!E7=\"UA2\",Dati!D7,)","v":0},{"$f":"IF(Dati!E7=\"UA3\",Dati!D7,)","v":0},{"$f":"IF(Dati!E7=\"UA4\",Dati!D7,)","v":0},{"$f":"IF(Dati!E7=\"UA5\",Dati!D7,)","v":0},{"$f":"IF(Dati!E7=\"UA6\",Dati!D7,)","v":0},{"$f":"IF(Dati!E7=\"UB1\",Dati!D7,)","v":0},{"$f":"IF(Dati!E7=\"UB2\",Dati!D7,)","v":0},{"$f":"IF(Dati!E7=\"UC1\",Dati!D7,)","v":0},{"$f":"IF(Dati!E7=\"UD1\",Dati!D7,)","v":0},{"$f":"IF(Dati!E7=\"UE1\",Dati!D7,)","v":0}]
[{"$f":"Dati!C8","v":"00:00:00"},{"$f":"Dati!H8","v":"00:00:00"},{"$f":"IF(Dati!E8=\"UA1\",Dati!D8,)","v":0},{"$f":"IF(Dati!E8=\"UA2\",Dati!D8,)","v":0},{"$f":"IF(Dati!E8=\"UA3\",Dati!D8,)","v":0},{"$f":"IF(Dati!E8=\"UA4\",Dati!D8,)","v":0},{"$f":"IF(Dati!E8=\"UA5\",Dati!D8,)","v":0},{"$f":"IF(Dati!E8=\"UA6\",Dati!D8,)","v":0},{"$f":"IF(Dati!E8=\"UB1\",Dati!D8,)","v":0},{"$f":"IF(Dati!E8=\"UB2\",Dati!D8,)","v":0},{"$f":"IF(Dati!E8=\"UC1\",Dati!D8,)","v":0},{"$f":"IF(Dati!E8=\"UD1\",Dati!D8,)","v":0},{"$f":"IF(Dati!E8=\"UE1\",Dati!D8,)","v":0}]
[{"$f":"Dati!C9","v":"00:00:00"},{"$f":"Dati!H9","v":"00:00:00"},{"$f":"IF(Dati!E9=\"UA1\",Dati!D9,)","v":0},{"$f":"IF(Dati!E9=\"UA2\",Dati!D9,)","v":0},{"$f":"IF(Dati!E9=\"UA3\",Dati!D9,)","v":0},{"$f":"IF(Dati!E9=\"UA4\",Dati!D9,)","v":0},{"$f":"IF(Dati!E9=\"UA5\",Dati!D9,)","v":0},{"$f":"IF(Dati!E9=\"UA6\",Dati!D9,)","v":0},{"$f":"IF(Dati!E9=\"UB1\",Dati!D9,)","v":0},{"$f":"IF(Dati!E9=\"UB2\",Dati!D9,)","v":0},{"$f":"IF(Dati!E9=\"UC1\",Dati!D9,)","v":0},{"$f":"IF(Dati!E9=\"UD1\",Dati!D9,)","v":0},{"$f":"IF(Dati!E9=\"UE1\",Dati!D9,)","v":0}]
[{"$f":"Dati!#REF!","v":{"$error":"#REF!"}},{"$f":"Dati!#REF!","v":{"$error":"#REF!"}},{"$f":"IF(Dati!#REF!=\"UA1\",Dati!#REF!,)","v":{"$error":"#REF!"}},{"$f":"IF(Dati!#REF!=\"UA2\",Dati!#REF!,)","v":{"$error":"#REF!"}},{"$f":"IF(Dati!#REF!=\"UA3\",Dati!#REF!,)","v":{"$error":"#REF!"}},{"$f":"IF(Dati!#REF!=\"UA4\",Dati!#REF!,)","v":{"$error":"#REF!"}},{"$f":"IF(Dati!#REF!=\"UA5\",Dati!#REF!,)","v":{"$error":"#REF!"}},{"$f":"IF(Dati!#REF!=\"UA6\",Dati!#REF!,)","v":{"$error":"#REF!"}},{"$f":"IF(Dati!#REF!=\"UB1\",Dati!#REF!,)","v":{"$error":"#REF!"}},{"$f":"IF(Dati!#REF!=\"UB2\",Dati!#REF!,)","v":{"$error":"#REF!"}},{"$f":"IF(Dati!#REF!=\"UC1\",Dati!#REF!,)","v":{"$error":"#REF!"}},{"$f":"IF(Dati!#REF!=\"UD1\",Dati!#REF!,)","v":{"$error":"#REF!"}},{"$f":"IF(Dati!#REF!=\"UE1\",Dati!#REF!,)","v":{"$error":"#REF!"}}]
[{"$f":"Dati!C10","v":"00:00:00"},{"$f":"Dati!H10","v":"00:00:00"},{"$f":"IF(Dati!E10=\"UA1\",Dati!D10,)","v":0},{"$f":"IF(Dati!E10=\"UA2\",Dati!D10,)","v":0},{"$f":"IF(Dati!E10=\"UA3\",Dati!D10,)","v":0},{"$f":"IF(Dati!E10=\"UA4\",Dati!D10,)","v":0},{"$f":"IF(Dati!E10=\"UA5\",Dati!D10,)","v":0},{"$f":"IF(Dati!E10=\"UA6\",Dati!D10,)","v":0},{"$f":"IF(Dati!E10=\"UB1\",Dati!D10,)","v":0},{"$f":"IF(Dati!E10=\"UB2\",Dati!D10,)","v":0},{"$f":"IF(Dati!E10=\"UC1\",Dati!D10,)","v":0},{"$f":"IF(Dati!E10=\"UD1\",Dati!D10,)","v":0},{"$f":"IF(Dati!E10=\"UE1\",Dati!D10,)","v":0}]
[{"$f":"Dati!#REF!","v":{"$error":"#REF!"}},{"$f":"Dati!#REF!","v":{"$error":"#REF!"}},{"$f":"IF(Dati!#REF!=\"UA1\",Dati!#REF!,)","v":{"$error":"#REF!"}},{"$f":"IF(Dati!#REF!=\"UA2\",Dati!#REF!,)","v":{"$error":"#REF!"}},{"$f":"IF(Dati!#REF!=\"UA3\",Dati!#REF!,)","v":{"$error":"#REF!"}},{"$f":"IF(Dati!#REF!=\"UA4\",Dati!#REF!,)","v":{"$error":"#REF!"}},{"$f":"IF(Dati!#REF!=\"UA5\",Dati!#REF!,)","v":{"$error":"#REF!"}},{"$f":"IF(Dati!#REF!=\"UA6\",Dati!#REF!,)","v":{"$error":"#REF!"}},{"$f":"IF(Dati!#REF!=\"UB1\",Dati!#REF!,)","v":{"$error":"#REF!"}},{"$f":"IF(Dati!#REF!=\"UB2\",Dati!#REF!,)","v":{"$error":"#REF!"}},{"$f":"IF(Dati!#REF!=\"UC1\",Dati!#REF!,)","v":{"$error":"#REF!"}},{"$f":"IF(Dati!#REF!=\"UD1\",Dati!#REF!,)","v":{"$error":"#REF!"}},{"$f":"IF(Dati!#REF!=\"UE1\",Dati!#REF!,)","v":{"$error":"#REF!"}}]
[{"$f":"Dati!#REF!","v":{"$error":"#REF!"}},{"$f":"Dati!#REF!","v":{"$error":"#REF!"}},{"$f":"IF(Dati!#REF!=\"UA1\",Dati!#REF!,)","v":{"$error":"#REF!"}},{"$f":"IF(Dati!#REF!=\"UA2\",Dati!#REF!,)","v":{"$error":"#REF!"}},{"$f":"IF(Dati!#REF!=\"UA3\",Dati!#REF!,)","v":{"$error":"#REF!"}},{"$f":"IF(Dati!#REF!=\"UA4\",Dati!#REF!,)","v":{"$error":"#REF!"}},{"$f":"IF(Dati!#REF!=\"UA5\",Dati!#REF!,)","v":{"$error":"#REF!"}},{"$f":"IF(Dati!#REF!=\"UA6\",Dati!#REF!,)","v":{"$error":"#REF!"}},{"$f":"IF(Dati!#REF!=\"UB1\",Dati!#REF!,)","v":{"$error":"#REF!"}},{"$f":"IF(Dati!#REF!=\"UB2\",Dati!#REF!,)","v":{"$error":"#REF!"}},{"$f":"IF(Dati!#REF!=\"UC1\",Dati!#REF!,)","v":{"$error":"#REF!"}},{"$f":"IF(Dati!#REF!=\"UD1\",Dati!#REF!,)","v":{"$error":"#REF!"}},{"$f":"IF(Dati!#REF!=\"UE1\",Dati!#REF!,)","v":{"$error":"#REF!"}}]
[{"$f":"Dati!#REF!","v":{"$error":"#REF!"}},{"$f":"Dati!#REF!","v":{"$error":"#REF!"}},{"$f":"IF(Dati!#REF!=\"UA1\",Dati!#REF!,)","v":{"$error":"#REF!"}},{"$f":"IF(Dati!#REF!=\"UA2\",Dati!#REF!,)","v":{"$error":"#REF!"}},{"$f":"IF(Dati!#REF!=\"UA3\",Dati!#REF!,)","v":{"$error":"#REF!"}},{"$f":"IF(Dati!#REF!=\"UA4\",Dati!#REF!,)","v":{"$error":"#REF!"}},{"$f":"IF(Dati!#REF!=\"UA5\",Dati!#REF!,)","v":{"$error":"#REF!"}},{"$f":"IF(Dati!#REF!=\"UA6\",Dati!#REF!,)","v":{"$error":"#REF!"}},{"$f":"IF(Dati!#REF!=\"UB1\",Dati!#REF!,)","v":{"$error":"#REF!"}},{"$f":"IF(Dati!#REF!=\"UB2\",Dati!#REF!,)","v":{"$error":"#REF!"}},{"$f":"IF(Dati!#REF!=\"UC1\",Dati!#REF!,)","v":{"$error":"#REF!"}},{"$f":"IF(Dati!#REF!=\"UD1\",Dati!#REF!,)","v":{"$error":"#REF!"}},{"$f":"IF(Dati!#REF!=\"UE1\",Dati!#REF!,)","v":{"$error":"#REF!"}}]
[{"$f":"Dati!C11","v":"00:00:00"},{"$f":"Dati!H11","v":"00:00:00"},{"$f":"IF(Dati!E11=\"UA1\",Dati!D11,)","v":0},{"$f":"IF(Dati!E11=\"UA2\",Dati!D11,)","v":0},{"$f":"IF(Dati!E11=\"UA3\",Dati!D11,)","v":0},{"$f":"IF(Dati!E11=\"UA4\",Dati!D11,)","v":0},{"$f":"IF(Dati!E11=\"UA5\",Dati!D11,)","v":0},{"$f":"IF(Dati!E11=\"UA6\",Dati!D11,)","v":0},{"$f":"IF(Dati!E11=\"UB1\",Dati!D11,)","v":0},{"$f":"IF(Dati!E11=\"UB2\",Dati!D11,)","v":0},{"$f":"IF(Dati!E11=\"UC1\",Dati!D11,)","v":0},{"$f":"IF(Dati!E11=\"UD1\",Dati!D11,)","v":0},{"$f":"IF(Dati!E11=\"UE1\",Dati!D11,)","v":0}]
[{"$f":"Dati!C12","v":"00:00:00"},{"$f":"Dati!H12","v":"00:00:00"},{"$f":"IF(Dati!E12=\"UA1\",Dati!D12,)","v":0},{"$f":"IF(Dati!E12=\"UA2\",Dati!D12,)","v":0},{"$f":"IF(Dati!E12=\"UA3\",Dati!D12,)","v":0},{"$f":"IF(Dati!E12=\"UA4\",Dati!D12,)","v":0},{"$f":"IF(Dati!E12=\"UA5\",Dati!D12,)","v":0},{"$f":"IF(Dati!E12=\"UA6\",Dati!D12,)","v":0},{"$f":"IF(Dati!E12=\"UB1\",Dati!D12,)","v":0},{"$f":"IF(Dati!E12=\"UB2\",Dati!D12,)","v":0},{"$f":"IF(Dati!E12=\"UC1\",Dati!D12,)","v":0},{"$f":"IF(Dati!E12=\"UD1\",Dati!D12,)","v":0},{"$f":"IF(Dati!E12=\"UE1\",Dati!D12,)","v":0}]
[{"$f":"Dati!C13","v":"00:00:00"},{"$f":"Dati!H13","v":"00:00:00"},{"$f":"IF(Dati!E13=\"UA1\",Dati!D13,)","v":0},{"$f":"IF(Dati!E13=\"UA2\",Dati!D13,)","v":0},{"$f":"IF(Dati!E13=\"UA3\",Dati!D13,)","v":0},{"$f":"IF(Dati!E13=\"UA4\",Dati!D13,)","v":0},{"$f":"IF(Dati!E13=\"UA5\",Dati!D13,)","v":0},{"$f":"IF(Dati!E13=\"UA6\",Dati!D13,)","v":0},{"$f":"IF(Dati!E13=\"UB1\",Dati!D13,)","v":0},{"$f":"IF(Dati!E13=\"UB2\",Dati!D13,)","v":0},{"$f":"IF(Dati!E13=\"UC1\",Dati!D13,)","v":0},{"$f":"IF(Dati!E13=\"UD1\",Dati!D13,)","v":0},{"$f":"IF(Dati!E13=\"UE1\",Dati!D13,)","v":0}]
[{"$f":"Dati!C14","v":"00:00:00"},{"$f":"Dati!H14","v":"00:00:00"},{"$f":"IF(Dati!E14=\"UA1\",Dati!D14,)","v":0},{"$f":"IF(Dati!E14=\"UA2\",Dati!D14,)","v":0},{"$f":"IF(Dati!E14=\"UA3\",Dati!D14,)","v":0},{"$f":"IF(Dati!E14=\"UA4\",Dati!D14,)","v":0},{"$f":"IF(Dati!E14=\"UA5\",Dati!D14,)","v":0},{"$f":"IF(Dati!E14=\"UA6\",Dati!D14,)","v":0},{"$f":"IF(Dati!E14=\"UB1\",Dati!D14,)","v":0},{"$f":"IF(Dati!E14=\"UB2\",Dati!D14,)","v":0},{"$f":"IF(Dati!E14=\"UC1\",Dati!D14,)","v":0},{"$f":"IF(Dati!E14=\"UD1\",Dati!D14,)","v":0},{"$f":"IF(Dati!E14=\"UE1\",Dati!D14,)","v":0}]
[{"$f":"Dati!C15","v":"00:00:00"},{"$f":"Dati!H15","v":"00:00:00"},{"$f":"IF(Dati!E15=\"UA1\",Dati!D15,)","v":0},{"$f":"IF(Dati!E15=\"UA2\",Dati!D15,)","v":0},{"$f":"IF(Dati!E15=\"UA3\",Dati!D15,)","v":0},{"$f":"IF(Dati!E15=\"UA4\",Dati!D15,)","v":0},{"$f":"IF(Dati!E15=\"UA5\",Dati!D15,)","v":0},{"$f":"IF(Dati!E15=\"UA6\",Dati!D15,)","v":0},{"$f":"IF(Dati!E15=\"UB1\",Dati!D15,)","v":0},{"$f":"IF(Dati!E15=\"UB2\",Dati!D15,)","v":0},{"$f":"IF(Dati!E15=\"UC1\",Dati!D15,)","v":0},{"$f":"IF(Dati!E15=\"UD1\",Dati!D15,)","v":0},{"$f":"IF(Dati!E15=\"UE1\",Dati!D15,)","v":0}]
[{"$f":"Dati!C16","v":"00:00:00"},{"$f":"Dati!H16","v":"00:00:00"},{"$f":"IF(Dati!E16=\"UA1\",Dati!D16,)","v":0},{"$f":"IF(Dati!E16=\"UA2\",Dati!D16,)","v":0},{"$f":"IF(Dati!E16=\"UA3\",Dati!D16,)","v":0},{"$f":"IF(Dati!E16=\"UA4\",Dati!D16,)","v":0},{"$f":"IF(Dati!E16=\"UA5\",Dati!D16,)","v":0},{"$f":"IF(Dati!E16=\"UA6\",Dati!D16,)","v":0},{"$f":"IF(Dati!E16=\"UB1\",Dati!D16,)","v":0},{"$f":"IF(Dati!E16=\"UB2\",Dati!D16,)","v":0},{"$f":"IF(Dati!E16=\"UC1\",Dati!D16,)","v":0},{"$f":"IF(Dati!E16=\"UD1\",Dati!D16,)","v":0},{"$f":"IF(Dati!E16=\"UE1\",Dati!D16,)","v":0}]
[{"$f":"Dati!C17","v":"00:00:00"},{"$f":"Dati!H17","v":"00:00:00"},{"$f":"IF(Dati!E17=\"UA1\",Dati!D17,)","v":0},{"$f":"IF(Dati!E17=\"UA2\",Dati!D17,)","v":0},{"$f":"IF(Dati!E17=\"UA3\",Dati!D17,)","v":0},{"$f":"IF(Dati!E17=\"UA4\",Dati!D17,)","v":0},{"$f":"IF(Dati!E17=\"UA5\",Dati!D17,)","v":0},{"$f":"IF(Dati!E17=\"UA6\",Dati!D17,)","v":0},{"$f":"IF(Dati!E17=\"UB1\",Dati!D17,)","v":0},{"$f":"IF(Dati!E17=\"UB2\",Dati!D17,)","v":0},{"$f":"IF(Dati!E17=\"UC1\",Dati!D17,)","v":0},{"$f":"IF(Dati!E17=\"UD1\",Dati!D17,)","v":0},{"$f":"IF(Dati!E17=\"UE1\",Dati!D17,)","v":0}]
[{"$f":"Dati!C18","v":"00:00:00"},{"$f":"Dati!H18","v":"00:00:00"},{"$f":"IF(Dati!E18=\"UA1\",Dati!D18,)","v":0},{"$f":"IF(Dati!E18=\"UA2\",Dati!D18,)","v":0},{"$f":"IF(Dati!E18=\"UA3\",Dati!D18,)","v":0},{"$f":"IF(Dati!E18=\"UA4\",Dati!D18,)","v":0},{"$f":"IF(Dati!E18=\"UA5\",Dati!D18,)","v":0},{"$f":"IF(Dati!E18=\"UA6\",Dati!D18,)","v":0},{"$f":"IF(Dati!E18=\"UB1\",Dati!D18,)","v":0},{"$f":"IF(Dati!E18=\"UB2\",Dati!D18,)","v":0},{"$f":"IF(Dati!E18=\"UC1\",Dati!D18,)","v":0},{"$f":"IF(Dati!E18=\"UD1\",Dati!D18,)","v":0},{"$f":"IF(Dati!E18=\"UE1\",Dati!D18,)","v":0}]
[{"$f":"Dati!C19","v":"00:00:00"},{"$f":"Dati!H19","v":"00:00:00"},{"$f":"IF(Dati!E19=\"UA1\",Dati!D19,)","v":0},{"$f":"IF(Dati!E19=\"UA2\",Dati!D19,)","v":0},{"$f":"IF(Dati!E19=\"UA3\",Dati!D19,)","v":0},{"$f":"IF(Dati!E19=\"UA4\",Dati!D19,)","v":0},{"$f":"IF(Dati!E19=\"UA5\",Dati!D19,)","v":0},{"$f":"IF(Dati!E19=\"UA6\",Dati!D19,)","v":0},{"$f":"IF(Dati!E19=\"UB1\",Dati!D19,)","v":0},{"$f":"IF(Dati!E19=\"UB2\",Dati!D19,)","v":0},{"$f":"IF(Dati!E19=\"UC1\",Dati!D19,)","v":0},{"$f":"IF(Dati!E19=\"UD1\",Dati!D19,)","v":0},{"$f":"IF(Dati!E19=\"UE1\",Dati!D19,)","v":0}]
[{"$f":"Dati!C20","v":"00:00:00"},{"$f":"Dati!H20","v":"00:00:00"},{"$f":"IF(Dati!E20=\"UA1\",Dati!D20,)","v":0},{"$f":"IF(Dati!E20=\"UA2\",Dati!D20,)","v":0},{"$f":"IF(Dati!E20=\"UA3\",Dati!D20,)","v":0},{"$f":"IF(Dati!E20=\"UA4\",Dati!D20,)","v":0},{"$f":"IF(Dati!E20=\"UA5\",Dati!D20,)","v":0},{"$f":"IF(Dati!E20=\"UA6\",Dati!D20,)","v":0},{"$f":"IF(Dati!E20=\"UB1\",Dati!D20,)","v":0},{"$f":"IF(Dati!E20=\"UB2\",Dati!D20,)","v":0},{"$f":"IF(Dati!E20=\"UC1\",Dati!D20,)","v":0},{"$f":"IF(Dati!E20=\"UD1\",Dati!D20,)","v":0},{"$f":"IF(Dati!E20=\"UE1\",Dati!D20,)","v":0}]
[{"$f":"Dati!C21","v":"00:00:00"},{"$f":"Dati!H21","v":"00:00:00"},{"$f":"IF(Dati!E21=\"UA1\",Dati!D21,)","v":0},{"$f":"IF(Dati!E21=\"UA2\",Dati!D21,)","v":0},{"$f":"IF(Dati!E21=\"UA3\",Dati!D21,)","v":0},{"$f":"IF(Dati!E21=\"UA4\",Dati!D21,)","v":0},{"$f":"IF(Dati!E21=\"UA5\",Dati!D21,)","v":0},{"$f":"IF(Dati!E21=\"UA6\",Dati!D21,)","v":0},{"$f":"IF(Dati!E21=\"UB1\",Dati!D21,)","v":0},{"$f":"IF(Dati!E21=\"UB2\",Dati!D21,)","v":0},{"$f":"IF(Dati!E21=\"UC1\",Dati!D21,)","v":0},{"$f":"IF(Dati!E21=\"UD1\",Dati!D21,)","v":0},{"$f":"IF(Dati!E21=\"UE1\",Dati!D21,)","v":0}]
[{"$f":"Dati!C22","v":"00:00:00"},{"$f":"Dati!H22","v":"00:00:00"},{"$f":"IF(Dati!E22=\"UA1\",Dati!D22,)","v":0},{"$f":"IF(Dati!E22=\"UA2\",Dati!D22,)","v":0},{"$f":"IF(Dati!E22=\"UA3\",Dati!D22,)","v":0},{"$f":"IF(Dati!E22=\"UA4\",Dati!D22,)","v":0},{"$f":"IF(Dati!E22=\"UA5\",Dati!D22,)","v":0},{"$f":"IF(Dati!E22=\"UA6\",Dati!D22,)","v":0},{"$f":"IF(Dati!E22=\"UB1\",Dati!D22,)","v":0},{"$f":"IF(Dati!E22=\"UB2\",Dati!D22,)","v":0},{"$f":"IF(Dati!E22=\"UC1\",Dati!D22,)","v":0},{"$f":"IF(Dati!E22=\"UD1\",Dati!D22,)","v":0},{"$f":"IF(Dati!E22=\"UE1\",Dati!D22,)","v":0}]
[{"$f":"Dati!C23","v":"00:00:00"},{"$f":"Dati!H23","v":"00:00:00"},{"$f":"IF(Dati!E23=\"UA1\",Dati!D23,)","v":0},{"$f":"IF(Dati!E23=\"UA2\",Dati!D23,)","v":0},{"$f":"IF(Dati!E23=\"UA3\",Dati!D23,)","v":0},{"$f":"IF(Dati!E23=\"UA4\",Dati!D23,)","v":0},{"$f":"IF(Dati!E23=\"UA5\",Dati!D23,)","v":0},{"$f":"IF(Dati!E23=\"UA6\",Dati!D23,)","v":0},{"$f":"IF(Dati!E23=\"UB1\",Dati!D23,)","v":0},{"$f":"IF(Dati!E23=\"UB2\",Dati!D23,)","v":0},{"$f":"IF(Dati!E23=\"UC1\",Dati!D23,)","v":0},{"$f":"IF(Dati!E23=\"UD1\",Dati!D23,)","v":0},{"$f":"IF(Dati!E23=\"UE1\",Dati!D23,)","v":0}]
[{"$f":"Dati!C24","v":"00:00:00"},{"$f":"Dati!H24","v":"00:00:00"},{"$f":"IF(Dati!E24=\"UA1\",Dati!D24,)","v":0},{"$f":"IF(Dati!E24=\"UA2\",Dati!D24,)","v":0},{"$f":"IF(Dati!E24=\"UA3\",Dati!D24,)","v":0},{"$f":"IF(Dati!E24=\"UA4\",Dati!D24,)","v":0},{"$f":"IF(Dati!E24=\"UA5\",Dati!D24,)","v":0},{"$f":"IF(Dati!E24=\"UA6\",Dati!D24,)","v":0},{"$f":"IF(Dati!E24=\"UB1\",Dati!D24,)","v":0},{"$f":"IF(Dati!E24=\"UB2\",Dati!D24,)","v":0},{"$f":"IF(Dati!E24=\"UC1\",Dati!D24,)","v":0},{"$f":"IF(Dati!E24=\"UD1\",Dati!D24,)","v":0},{"$f":"IF(Dati!E24=\"UE1\",Dati!D24,)","v":0}]
[{"$f":"Dati!C25","v":"00:00:00"},{"$f":"Dati!H25","v":"00:00:00"},{"$f":"IF(Dati!E25=\"UA1\",Dati!D25,)","v":0},{"$f":"IF(Dati!E25=\"UA2\",Dati!D25,)","v":0},{"$f":"IF(Dati!E25=\"UA3\",Dati!D25,)","v":0},{"$f":"IF(Dati!E25=\"UA4\",Dati!D25,)","v":0},{"$f":"IF(Dati!E25=\"UA5\",Dati!D25,)","v":0},{"$f":"IF(Dati!E25=\"UA6\",Dati!D25,)","v":0},{"$f":"IF(Dati!E25=\"UB1\",Dati!D25,)","v":0},{"$f":"IF(Dati!E25=\"UB2\",Dati!D25,)","v":0},{"$f":"IF(Dati!E25=\"UC1\",Dati!D25,)","v":0},{"$f":"IF(Dati!E25=\"UD1\",Dati!D25,)","v":0},{"$f":"IF(Dati!E25=\"UE1\",Dati!D25,)","v":0}]
[{"$f":"Dati!C26","v":"00:00:00"},{"$f":"Dati!H26","v":"00:00:00"},{"$f":"IF(Dati!E26=\"UA1\",Dati!D26,)","v":0},{"$f":"IF(Dati!E26=\"UA2\",Dati!D26,)","v":0},{"$f":"IF(Dati!E26=\"UA3\",Dati!D26,)","v":0},{"$f":"IF(Dati!E26=\"UA4\",Dati!D26,)","v":0},{"$f":"IF(Dati!E26=\"UA5\",Dati!D26,)","v":0},{"$f":"IF(Dati!E26=\"UA6\",Dati!D26,)","v":0},{"$f":"IF(Dati!E26=\"UB1\",Dati!D26,)","v":0},{"$f":"IF(Dati!E26=\"UB2\",Dati!D26,)","v":0},{"$f":"IF(Dati!E26=\"UC1\",Dati!D26,)","v":0},{"$f":"IF(Dati!E26=\"UD1\",Dati!D26,)","v":0},{"$f":"IF(Dati!E26=\"UE1\",Dati!D26,)","v":0}]
[{"$f":"Dati!C27","v":"00:00:00"},{"$f":"Dati!H27","v":"00:00:00"},{"$f":"IF(Dati!E27=\"UA1\",Dati!D27,)","v":0},{"$f":"IF(Dati!E27=\"UA2\",Dati!D27,)","v":0},{"$f":"IF(Dati!E27=\"UA3\",Dati!D27,)","v":0},{"$f":"IF(Dati!E27=\"UA4\",Dati!D27,)","v":0},{"$f":"IF(Dati!E27=\"UA5\",Dati!D27,)","v":0},{"$f":"IF(Dati!E27=\"UA6\",Dati!D27,)","v":0},{"$f":"IF(Dati!E27=\"UB1\",Dati!D27,)","v":0},{"$f":"IF(Dati!E27=\"UB2\",Dati!D27,)","v":0},{"$f":"IF(Dati!E27=\"UC1\",Dati!D27,)","v":0},{"$f":"IF(Dati!E27=\"UD1\",Dati!D27,)","v":0},{"$f":"IF(Dati!E27=\"UE1\",Dati!D27,)","v":0}]
[{"$f":"Dati!C28","v":"00:00:00"},{"$f":"Dati!H28","v":"00:00:00"},{"$f":"IF(Dati!E28=\"UA1\",Dati!D28,)","v":0},{"$f":"IF(Dati!E28=\"UA2\",Dati!D28,)","v":0},{"$f":"IF(Dati!E28=\"UA3\",Dati!D28,)","v":0},{"$f":"IF(Dati!E28=\"UA4\",Dati!D28,)","v":0},{"$f":"IF(Dati!E28=\"UA5\",Dati!D28,)","v":0},{"$f":"IF(Dati!E28=\"UA6\",Dati!D28,)","v":0},{"$f":"IF(Dati!E28=\"UB1\",Dati!D28,)","v":0},{"$f":"IF(Dati!E28=\"UB2\",Dati!D28,)","v":0},{"$f":"IF(Dati!E28=\"UC1\",Dati!D28,)","v":0},{"$f":"IF(Dati!E28=\"UD1\",Dati!D28,)","v":0},{"$f":"IF(Dati!E28=\"UE1\",Dati!D28,)","v":0}]
[{"$f":"Dati!C29","v":"00:00:00"},{"$f":"Dati!H29","v":"00:00:00"},{"$f":"IF(Dati!E29=\"UA1\",Dati!D29,)","v":0},{"$f":"IF(Dati!E29=\"UA2\",Dati!D29,)","v":0},{"$f":"IF(Dati!E29=\"UA3\",Dati!D29,)","v":0},{"$f":"IF(Dati!E29=\"UA4\",Dati!D29,)","v":0},{"$f":"IF(Dati!E29=\"UA5\",Dati!D29,)","v":0},{"$f":"IF(Dati!E29=\"UA6\",Dati!D29,)","v":0},{"$f":"IF(Dati!E29=\"UB1\",Dati!D29,)","v":0},{"$f":"IF(Dati!E29=\"UB2\",Dati!D29,)","v":0},{"$f":"IF(Dati!E29=\"UC1\",Dati!D29,)","v":0},{"$f":"IF(Dati!E29=\"UD1\",Dati!D29,)","v":0},{"$f":"IF(Dati!E29=\"UE1\",Dati!D29,)","v":0}]
[{"$f":"Dati!C30","v":"00:00:00"},{"$f":"Dati!H30","v":"00:00:00"},{"$f":"IF(Dati!E30=\"UA1\",Dati!D30,)","v":0},{"$f":"IF(Dati!E30=\"UA2\",Dati!D30,)","v":0},{"$f":"IF(Dati!E30=\"UA3\",Dati!D30,)","v":0},{"$f":"IF(Dati!E30=\"UA4\",Dati!D30,)","v":0},{"$f":"IF(Dati!E30=\"UA5\",Dati!D30,)","v":0},{"$f":"IF(Dati!E30=\"UA6\",Dati!D30,)","v":0},{"$f":"IF(Dati!E30=\"UB1\",Dati!D30,)","v":0},{"$f":"IF(Dati!E30=\"UB2\",Dati!D30,)","v":0},{"$f":"IF(Dati!E30=\"UC1\",Dati!D30,)","v":0},{"$f":"IF(Dati!E30=\"UD1\",Dati!D30,)","v":0},{"$f":"IF(Dati!E30=\"UE1\",Dati!D30,)","v":0}]
[{"$f":"Dati!C31","v":"00:00:00"},{"$f":"Dati!H31","v":"00:00:00"},{"$f":"IF(Dati!E31=\"UA1\",Dati!D31,)","v":0},{"$f":"IF(Dati!E31=\"UA2\",Dati!D31,)","v":0},{"$f":"IF(Dati!E31=\"UA3\",Dati!D31,)","v":0},{"$f":"IF(Dati!E31=\"UA4\",Dati!D31,)","v":0},{"$f":"IF(Dati!E31=\"UA5\",Dati!D31,)","v":0},{"$f":"IF(Dati!E31=\"UA6\",Dati!D31,)","v":0},{"$f":"IF(Dati!E31=\"UB1\",Dati!D31,)","v":0},{"$f":"IF(Dati!E31=\"UB2\",Dati!D31,)","v":0},{"$f":"IF(Dati!E31=\"UC1\",Dati!D31,)","v":0},{"$f":"IF(Dati!E31=\"UD1\",Dati!D31,)","v":0},{"$f":"IF(Dati!E31=\"UE1\",Dati!D31,)","v":0}]
[{"$f":"Dati!C32","v":"00:00:00"},{"$f":"Dati!H32","v":"00:00:00"},{"$f":"IF(Dati!E32=\"UA1\",Dati!D32,)","v":0},{"$f":"IF(Dati!E32=\"UA2\",Dati!D32,)","v":0},{"$f":"IF(Dati!E32=\"UA3\",Dati!D32,)","v":0},{"$f":"IF(Dati!E32=\"UA4\",Dati!D32,)","v":0},{"$f":"IF(Dati!E32=\"UA5\",Dati!D32,)","v":0},{"$f":"IF(Dati!E32=\"UA6\",Dati!D32,)","v":0},{"$f":"IF(Dati!E32=\"UB1\",Dati!D32,)","v":0},{"$f":"IF(Dati!E32=\"UB2\",Dati!D32,)","v":0},{"$f":"IF(Dati!E32=\"UC1\",Dati!D32,)","v":0},{"$f":"IF(Dati!E32=\"UD1\",Dati!D32,)","v":0},{"$f":"IF(Dati!E32=\"UE1\",Dati!D32,)","v":0}]
[{"$f":"Dati!C33","v":"00:00:00"},{"$f":"Dati!H33","v":"00:00:00"},{"$f":"IF(Dati!E33=\"UA1\",Dati!D33,)","v":0},{"$f":"IF(Dati!E33=\"UA2\",Dati!D33,)","v":0},{"$f":"IF(Dati!E33=\"UA3\",Dati!D33,)","v":0},{"$f":"IF(Dati!E33=\"UA4\",Dati!D33,)","v":0},{"$f":"IF(Dati!E33=\"UA5\",Dati!D33,)","v":0},{"$f":"IF(Dati!E33=\"UA6\",Dati!D33,)","v":0},{"$f":"IF(Dati!E33=\"UB1\",Dati!D33,)","v":0},{"$f":"IF(Dati!E33=\"UB2\",Dati!D33,)","v":0},{"$f":"IF(Dati!E33=\"UC1\",Dati!D33,)","v":0},{"$f":"IF(Dati!E33=\"UD1\",Dati!D33,)","v":0},{"$f":"IF(Dati!E33=\"UE1\",Dati!D33,)","v":0}]
[{"$f":"Dati!C34","v":"00:00:00"},{"$f":"Dati!H34","v":"00:00:00"},{"$f":"IF(Dati!E34=\"UA1\",Dati!D34,)","v":0},{"$f":"IF(Dati!E34=\"UA2\",Dati!D34,)","v":0},{"$f":"IF(Dati!E34=\"UA3\",Dati!D34,)","v":0},{"$f":"IF(Dati!E34=\"UA4\",Dati!D34,)","v":0},{"$f":"IF(Dati!E34=\"UA5\",Dati!D34,)","v":0},{"$f":"IF(Dati!E34=\"UA6\",Dati!D34,)","v":0},{"$f":"IF(Dati!E34=\"UB1\",Dati!D34,)","v":0},{"$f":"IF(Dati!E34=\"UB2\",Dati!D34,)","v":0},{"$f":"IF(Dati!E34=\"UC1\",Dati!D34,)","v":0},{"$f":"IF(Dati!E34=\"UD1\",Dati!D34,)","v":0},{"$f":"IF(Dati!E34=\"UE1\",Dati!D34,)","v":0}]
[{"$f":"Dati!C35","v":"00:00:00"},{"$f":"Dati!H35","v":"00:00:00"},{"$f":"IF(Dati!E35=\"UA1\",Dati!D35,)","v":0},{"$f":"IF(Dati!E35=\"UA2\",Dati!D35,)","v":0},{"$f":"IF(Dati!E35=\"UA3\",Dati!D35,)","v":0},{"$f":"IF(Dati!E35=\"UA4\",Dati!D35,)","v":0},{"$f":"IF(Dati!E35=\"UA5\",Dati!D35,)","v":0},{"$f":"IF(Dati!E35=\"UA6\",Dati!D35,)","v":0},{"$f":"IF(Dati!E35=\"UB1\",Dati!D35,)","v":0},{"$f":"IF(Dati!E35=\"UB2\",Dati!D35,)","v":0},{"$f":"IF(Dati!E35=\"UC1\",Dati!D35,)","v":0},{"$f":"IF(Dati!E35=\"UD1\",Dati!D35,)","v":0},{"$f":"IF(Dati!E35=\"UE1\",Dati!D35,)","v":0}]
[{"$f":"Dati!C36","v":"00:00:00"},{"$f":"Dati!H36","v":"00:00:00"},{"$f":"IF(Dati!E36=\"UA1\",Dati!D36,)","v":0},{"$f":"IF(Dati!E36=\"UA2\",Dati!D36,)","v":0},{"$f":"IF(Dati!E36=\"UA3\",Dati!D36,)","v":0},{"$f":"IF(Dati!E36=\"UA4\",Dati!D36,)","v":0},{"$f":"IF(Dati!E36=\"UA5\",Dati!D36,)","v":0},{"$f":"IF(Dati!E36=\"UA6\",Dati!D36,)","v":0},{"$f":"IF(Dati!E36=\"UB1\",Dati!D36,)","v":0},{"$f":"IF(Dati!E36=\"UB2\",Dati!D36,)","v":0},{"$f":"IF(Dati!E36=\"UC1\",Dati!D36,)","v":0},{"$f":"IF(Dati!E36=\"UD1\",Dati!D36,)","v":0},{"$f":"IF(Dati!E36=\"UE1\",Dati!D36,)","v":0}]
[{"$f":"Dati!C37","v":"00:00:00"},{"$f":"Dati!H37","v":"00:00:00"},{"$f":"IF(Dati!E37=\"UA1\",Dati!D37,)","v":0},{"$f":"IF(Dati!E37=\"UA2\",Dati!D37,)","v":0},{"$f":"IF(Dati!E37=\"UA3\",Dati!D37,)","v":0},{"$f":"IF(Dati!E37=\"UA4\",Dati!D37,)","v":0},{"$f":"IF(Dati!E37=\"UA5\",Dati!D37,)","v":0},{"$f":"IF(Dati!E37=\"UA6\",Dati!D37,)","v":0},{"$f":"IF(Dati!E37=\"UB1\",Dati!D37,)","v":0},{"$f":"IF(Dati!E37=\"UB2\",Dati!D37,)","v":0},{"$f":"IF(Dati!E37=\"UC1\",Dati!D37,)","v":0},{"$f":"IF(Dati!E37=\"UD1\",Dati!D37,)","v":0},{"$f":"IF(Dati!E37=\"UE1\",Dati!D37,)","v":0}]
[{"$f":"Dati!C38","v":"00:00:00"},{"$f":"Dati!H38","v":"00:00:00"},{"$f":"IF(Dati!E38=\"UA1\",Dati!D38,)","v":0},{"$f":"IF(Dati!E38=\"UA2\",Dati!D38,)","v":0},{"$f":"IF(Dati!E38=\"UA3\",Dati!D38,)","v":0},{"$f":"IF(Dati!E38=\"UA4\",Dati!D38,)","v":0},{"$f":"IF(Dati!E38=\"UA5\",Dati!D38,)","v":0},{"$f":"IF(Dati!E38=\"UA6\",Dati!D38,)","v":0},{"$f":"IF(Dati!E38=\"UB1\",Dati!D38,)","v":0},{"$f":"IF(Dati!E38=\"UB2\",Dati!D38,)","v":0},{"$f":"IF(Dati!E38=\"UC1\",Dati!D38,)","v":0},{"$f":"IF(Dati!E38=\"UD1\",Dati!D38,)","v":0},{"$f":"IF(Dati!E38=\"UE1\",Dati!D38,)","v":0}]
[{"$f":"Dati!C39","v":"00:00:00"},{"$f":"Dati!H39","v":"00:00:00"},{"$f":"IF(Dati!E39=\"UA1\",Dati!D39,)","v":0},{"$f":"IF(Dati!E39=\"UA2\",Dati!D39,)","v":0},{"$f":"IF(Dati!E39=\"UA3\",Dati!D39,)","v":0},{"$f":"IF(Dati!E39=\"UA4\",Dati!D39,)","v":0},{"$f":"IF(Dati!E39=\"UA5\",Dati!D39,)","v":0},{"$f":"IF(Dati!E39=\"UA6\",Dati!D39,)","v":0},{"$f":"IF(Dati!E39=\"UB1\",Dati!D39,)","v":0},{"$f":"IF(Dati!E39=\"UB2\",Dati!D39,)","v":0},{"$f":"IF(Dati!E39=\"UC1\",Dati!D39,)","v":0},{"$f":"IF(Dati!E39=\"UD1\",Dati!D39,)","v":0},{"$f":"IF(Dati!E39=\"UE1\",Dati!D39,)","v":0}]
[{"$f":"Dati!C40","v":"00:00:00"},{"$f":"Dati!H40","v":"00:00:00"},{"$f":"IF(Dati!E40=\"UA1\",Dati!D40,)","v":0},{"$f":"IF(Dati!E40=\"UA2\",Dati!D40,)","v":0},{"$f":"IF(Dati!E40=\"UA3\",Dati!D40,)","v":0},{"$f":"IF(Dati!E40=\"UA4\",Dati!D40,)","v":0},{"$f":"IF(Dati!E40=\"UA5\",Dati!D40,)","v":0},{"$f":"IF(Dati!E40=\"UA6\",Dati!D40,)","v":0},{"$f":"IF(Dati!E40=\"UB1\",Dati!D40,)","v":0},{"$f":"IF(Dati!E40=\"UB2\",Dati!D40,)","v":0},{"$f":"IF(Dati!E40=\"UC1\",Dati!D40,)","v":0},{"$f":"IF(Dati!E40=\"UD1\",Dati!D40,)","v":0},{"$f":"IF(Dati!E40=\"UE1\",Dati!D40,)","v":0}]
[{"$f":"Dati!C41","v":"00:00:00"},{"$f":"Dati!H41","v":"00:00:00"},{"$f":"IF(Dati!E41=\"UA1\",Dati!D41,)","v":0},{"$f":"IF(Dati!E41=\"UA2\",Dati!D41,)","v":0},{"$f":"IF(Dati!E41=\"UA3\",Dati!D41,)","v":0},{"$f":"IF(Dati!E41=\"UA4\",Dati!D41,)","v":0},{"$f":"IF(Dati!E41=\"UA5\",Dati!D41,)","v":0},{"$f":"IF(Dati!E41=\"UA6\",Dati!D41,)","v":0},{"$f":"IF(Dati!E41=\"UB1\",Dati!D41,)","v":0},{"$f":"IF(Dati!E41=\"UB2\",Dati!D41,)","v":0},{"$f":"IF(Dati!E41=\"UC1\",Dati!D41,)","v":0},{"$f":"IF(Dati!E41=\"UD1\",Dati!D41,)","v":0},{"$f":"IF(Dati!E41=\"UE1\",Dati!D41,)","v":0}]
[{"$f":"Dati!C42","v":"00:00:00"},{"$f":"Dati!H42","v":"00:00:00"},{"$f":"IF(Dati!E42=\"UA1\",Dati!D42,)","v":0},{"$f":"IF(Dati!E42=\"UA2\",Dati!D42,)","v":0},{"$f":"IF(Dati!E42=\"UA3\",Dati!D42,)","v":0},{"$f":"IF(Dati!E42=\"UA4\",Dati!D42,)","v":0},{"$f":"IF(Dati!E42=\"UA5\",Dati!D42,)","v":0},{"$f":"IF(Dati!E42=\"UA6\",Dati!D42,)","v":0},{"$f":"IF(Dati!E42=\"UB1\",Dati!D42,)","v":0},{"$f":"IF(Dati!E42=\"UB2\",Dati!D42,)","v":0},{"$f":"IF(Dati!E42=\"UC1\",Dati!D42,)","v":0},{"$f":"IF(Dati!E42=\"UD1\",Dati!D42,)","v":0},{"$f":"IF(Dati!E42=\"UE1\",Dati!D42,)","v":0}]
[{"$f":"Dati!C43","v":"00:00:00"},{"$f":"Dati!H43","v":"00:00:00"},{"$f":"IF(Dati!E43=\"UA1\",Dati!D43,)","v":0},{"$f":"IF(Dati!E43=\"UA2\",Dati!D43,)","v":0},{"$f":"IF(Dati!E43=\"UA3\",Dati!D43,)","v":0},{"$f":"IF(Dati!E43=\"UA4\",Dati!D43,)","v":0},{"$f":"IF(Dati!E43=\"UA5\",Dati!D43,)","v":0},{"$f":"IF(Dati!E43=\"UA6\",Dati!D43,)","v":0},{"$f":"IF(Dati!E43=\"UB1\",Dati!D43,)","v":0},{"$f":"IF(Dati!E43=\"UB2\",Dati!D43,)","v":0},{"$f":"IF(Dati!E43=\"UC1\",Dati!D43,)","v":0},{"$f":"IF(Dati!E43=\"UD1\",Dati!D43,)","v":0},{"$f":"IF(Dati!E43=\"UE1\",Dati!D43,)","v":0}]
[{"$f":"Dati!C44","v":"00:00:00"},{"$f":"Dati!H44","v":"00:00:00"},{"$f":"IF(Dati!E44=\"UA1\",Dati!D44,)","v":0},{"$f":"IF(Dati!E44=\"UA2\",Dati!D44,)","v":0},{"$f":"IF(Dati!E44=\"UA3\",Dati!D44,)","v":0},{"$f":"IF(Dati!E44=\"UA4\",Dati!D44,)","v":0},{"$f":"IF(Dati!E44=\"UA5\",Dati!D44,)","v":0},{"$f":"IF(Dati!E44=\"UA6\",Dati!D44,)","v":0},{"$f":"IF(Dati!E44=\"UB1\",Dati!D44,)","v":0},{"$f":"IF(Dati!E44=\"UB2\",Dati!D44,)","v":0},{"$f":"IF(Dati!E44=\"UC1\",Dati!D44,)","v":0},{"$f":"IF(Dati!E44=\"UD1\",Dati!D44,)","v":0},{"$f":"IF(Dati!E44=\"UE1\",Dati!D44,)","v":0}]
[{"$f":"Dati!C45","v":"00:00:00"},{"$f":"Dati!H45","v":"00:00:00"},{"$f":"IF(Dati!E45=\"UA1\",Dati!D45,)","v":0},{"$f":"IF(Dati!E45=\"UA2\",Dati!D45,)","v":0},{"$f":"IF(Dati!E45=\"UA3\",Dati!D45,)","v":0},{"$f":"IF(Dati!E45=\"UA4\",Dati!D45,)","v":0},{"$f":"IF(Dati!E45=\"UA5\",Dati!D45,)","v":0},{"$f":"IF(Dati!E45=\"UA6\",Dati!D45,)","v":0},{"$f":"IF(Dati!E45=\"UB1\",Dati!D45,)","v":0},{"$f":"IF(Dati!E45=\"UB2\",Dati!D45,)","v":0},{"$f":"IF(Dati!E45=\"UC1\",Dati!D45,)","v":0},{"$f":"IF(Dati!E45=\"UD1\",Dati!D45,)","v":0},{"$f":"IF(Dati!E45=\"UE1\",Dati!D45,)","v":0}]
[{"$f":"Dati!C46","v":"00:00:00"},{"$f":"Dati!H46","v":"00:00:00"},{"$f":"IF(Dati!E46=\"UA1\",Dati!D46,)","v":0},{"$f":"IF(Dati!E46=\"UA2\",Dati!D46,)","v":0},{"$f":"IF(Dati!E46=\"UA3\",Dati!D46,)","v":0},{"$f":"IF(Dati!E46=\"UA4\",Dati!D46,)","v":0},{"$f":"IF(Dati!E46=\"UA5\",Dati!D46,)","v":0},{"$f":"IF(Dati!E46=\"UA6\",Dati!D46,)","v":0},{"$f":"IF(Dati!E46=\"UB1\",Dati!D46,)","v":0},{"$f":"IF(Dati!E46=\"UB2\",Dati!D46,)","v":0},{"$f":"IF(Dati!E46=\"UC1\",Dati!D46,)","v":0},{"$f":"IF(Dati!E46=\"UD1\",Dati!D46,)","v":0},{"$f":"IF(Dati!E46=\"UE1\",Dati!D46,)","v":0}]
[{"$f":"Dati!C47","v":"00:00:00"},{"$f":"Dati!H47","v":"00:00:00"},{"$f":"IF(Dati!E47=\"UA1\",Dati!D47,)","v":0},{"$f":"IF(Dati!E47=\"UA2\",Dati!D47,)","v":0},{"$f":"IF(Dati!E47=\"UA3\",Dati!D47,)","v":0},{"$f":"IF(Dati!E47=\"UA4\",Dati!D47,)","v":0},{"$f":"IF(Dati!E47=\"UA5\",Dati!D47,)","v":0},{"$f":"IF(Dati!E47=\"UA6\",Dati!D47,)","v":0},{"$f":"IF(Dati!E47=\"UB1\",Dati!D47,)","v":0},{"$f":"IF(Dati!E47=\"UB2\",Dati!D47,)","v":0},{"$f":"IF(Dati!E47=\"UC1\",Dati!D47,)","v":0},{"$f":"IF(Dati!E47=\"UD1\",Dati!D47,)","v":0},{"$f":"IF(Dati!E47=\"UE1\",Dati!D47,)","v":0}]
[{"$f":"Dati!C48","v":"00:00:00"},{"$f":"Dati!H48","v":"00:00:00"},{"$f":"IF(Dati!E48=\"UA1\",Dati!D48,)","v":0},{"$f":"IF(Dati!E48=\"UA2\",Dati!D48,)","v":0},{"$f":"IF(Dati!E48=\"UA3\",Dati!D48,)","v":0},{"$f":"IF(Dati!E48=\"UA4\",Dati!D48,)","v":0},{"$f":"IF(Dati!E48=\"UA5\",Dati!D48,)","v":0},{"$f":"IF(Dati!E48=\"UA6\",Dati!D48,)","v":0},{"$f":"IF(Dati!E48=\"UB1\",Dati!D48,)","v":0},{"$f":"IF(Dati!E48=\"UB2\",Dati!D48,)","v":0},{"$f":"IF(Dati!E48=\"UC1\",Dati!D48,)","v":0},{"$f":"IF(Dati!E48=\"UD1\",Dati!D48,)","v":0},{"$f":"IF(Dati!E48=\"UE1\",Dati!D48,)","v":0}]
[{"$f":"Dati!C49","v":"00:00:00"},{"$f":"Dati!H49","v":"00:00:00"},{"$f":"IF(Dati!E49=\"UA1\",Dati!D49,)","v":0},{"$f":"IF(Dati!E49=\"UA2\",Dati!D49,)","v":0},{"$f":"IF(Dati!E49=\"UA3\",Dati!D49,)","v":0},{"$f":"IF(Dati!E49=\"UA4\",Dati!D49,)","v":0},{"$f":"IF(Dati!E49=\"UA5\",Dati!D49,)","v":0},{"$f":"IF(Dati!E49=\"UA6\",Dati!D49,)","v":0},{"$f":"IF(Dati!E49=\"UB1\",Dati!D49,)","v":0},{"$f":"IF(Dati!E49=\"UB2\",Dati!D49,)","v":0},{"$f":"IF(Dati!E49=\"UC1\",Dati!D49,)","v":0},{"$f":"IF(Dati!E49=\"UD1\",Dati!D49,)","v":0},{"$f":"IF(Dati!E49=\"UE1\",Dati!D49,)","v":0}]
[{"$f":"Dati!C50","v":"00:00:00"},{"$f":"Dati!H50","v":"00:00:00"},{"$f":"IF(Dati!E50=\"UA1\",Dati!D50,)","v":0},{"$f":"IF(Dati!E50=\"UA2\",Dati!D50,)","v":0},{"$f":"IF(Dati!E50=\"UA3\",Dati!D50,)","v":0},{"$f":"IF(Dati!E50=\"UA4\",Dati!D50,)","v":0},{"$f":"IF(Dati!E50=\"UA5\",Dati!D50,)","v":0},{"$f":"IF(Dati!E50=\"UA6\",Dati!D50,)","v":0},{"$f":"IF(Dati!E50=\"UB1\",Dati!D50,)","v":0},{"$f":"IF(Dati!E50=\"UB2\",Dati!D50,)","v":0},{"$f":"IF(Dati!E50=\"UC1\",Dati!D50,)","v":0},{"$f":"IF(Dati!E50=\"UD1\",Dati!D50,)","v":0},{"$f":"IF(Dati!E50=\"UE1\",Dati!D50,)","v":0}]
[{"$f":"Dati!C51","v":"00:00:00"},{"$f":"Dati!H51","v":"00:00:00"},{"$f":"IF(Dati!E51=\"UA1\",Dati!D51,)","v":0},{"$f":"IF(Dati!E51=\"UA2\",Dati!D51,)","v":0},{"$f":"IF(Dati!E51=\"UA3\",Dati!D51,)","v":0},{"$f":"IF(Dati!E51=\"UA4\",Dati!D51,)","v":0},{"$f":"IF(Dati!E51=\"UA5\",Dati!D51,)","v":0},{"$f":"IF(Dati!E51=\"UA6\",Dati!D51,)","v":0},{"$f":"IF(Dati!E51=\"UB1\",Dati!D51,)","v":0},{"$f":"IF(Dati!E51=\"UB2\",Dati!D51,)","v":0},{"$f":"IF(Dati!E51=\"UC1\",Dati!D51,)","v":0},{"$f":"IF(Dati!E51=\"UD1\",Dati!D51,)","v":0},{"$f":"IF(Dati!E51=\"UE1\",Dati!D51,)","v":0}]
[{"$f":"Dati!C52","v":"00:00:00"},{"$f":"Dati!H52","v":"00:00:00"},{"$f":"IF(Dati!E52=\"UA1\",Dati!D52,)","v":0},{"$f":"IF(Dati!E52=\"UA2\",Dati!D52,)","v":0},{"$f":"IF(Dati!E52=\"UA3\",Dati!D52,)","v":0},{"$f":"IF(Dati!E52=\"UA4\",Dati!D52,)","v":0},{"$f":"IF(Dati!E52=\"UA5\",Dati!D52,)","v":0},{"$f":"IF(Dati!E52=\"UA6\",Dati!D52,)","v":0},{"$f":"IF(Dati!E52=\"UB1\",Dati!D52,)","v":0},{"$f":"IF(Dati!E52=\"UB2\",Dati!D52,)","v":0},{"$f":"IF(Dati!E52=\"UC1\",Dati!D52,)","v":0},{"$f":"IF(Dati!E52=\"UD1\",Dati!D52,)","v":0},{"$f":"IF(Dati!E52=\"UE1\",Dati!D52,)","v":0}]
[{"$f":"Dati!C53","v":"00:00:00"},{"$f":"Dati!H53","v":"00:00:00"},{"$f":"IF(Dati!E53=\"UA1\",Dati!D53,)","v":0},{"$f":"IF(Dati!E53=\"UA2\",Dati!D53,)","v":0},{"$f":"IF(Dati!E53=\"UA3\",Dati!D53,)","v":0},{"$f":"IF(Dati!E53=\"UA4\",Dati!D53,)","v":0},{"$f":"IF(Dati!E53=\"UA5\",Dati!D53,)","v":0},{"$f":"IF(Dati!E53=\"UA6\",Dati!D53,)","v":0},{"$f":"IF(Dati!E53=\"UB1\",Dati!D53,)","v":0},{"$f":"IF(Dati!E53=\"UB2\",Dati!D53,)","v":0},{"$f":"IF(Dati!E53=\"UC1\",Dati!D53,)","v":0},{"$f":"IF(Dati!E53=\"UD1\",Dati!D53,)","v":0},{"$f":"IF(Dati!E53=\"UE1\",Dati!D53,)","v":0}]
[{"$f":"Dati!C54","v":"00:00:00"},{"$f":"Dati!H54","v":"00:00:00"},{"$f":"IF(Dati!E54=\"UA1\",Dati!D54,)","v":0},{"$f":"IF(Dati!E54=\"UA2\",Dati!D54,)","v":0},{"$f":"IF(Dati!E54=\"UA3\",Dati!D54,)","v":0},{"$f":"IF(Dati!E54=\"UA4\",Dati!D54,)","v":0},{"$f":"IF(Dati!E54=\"UA5\",Dati!D54,)","v":0},{"$f":"IF(Dati!E54=\"UA6\",Dati!D54,)","v":0},{"$f":"IF(Dati!E54=\"UB1\",Dati!D54,)","v":0},{"$f":"IF(Dati!E54=\"UB2\",Dati!D54,)","v":0},{"$f":"IF(Dati!E54=\"UC1\",Dati!D54,)","v":0},{"$f":"IF(Dati!E54=\"UD1\",Dati!D54,)","v":0},{"$f":"IF(Dati!E54=\"UE1\",Dati!D54,)","v":0}]
[{"$f":"Dati!C55","v":"00:00:00"},{"$f":"Dati!H55","v":"00:00:00"},{"$f":"IF(Dati!E55=\"UA1\",Dati!D55,)","v":0},{"$f":"IF(Dati!E55=\"UA2\",Dati!D55,)","v":0},{"$f":"IF(Dati!E55=\"UA3\",Dati!D55,)","v":0},{"$f":"IF(Dati!E55=\"UA4\",Dati!D55,)","v":0},{"$f":"IF(Dati!E55=\"UA5\",Dati!D55,)","v":0},{"$f":"IF(Dati!E55=\"UA6\",Dati!D55,)","v":0},{"$f":"IF(Dati!E55=\"UB1\",Dati!D55,)","v":0},{"$f":"IF(Dati!E55=\"UB2\",Dati!D55,)","v":0},{"$f":"IF(Dati!E55=\"UC1\",Dati!D55,)","v":0},{"$f":"IF(Dati!E55=\"UD1\",Dati!D55,)","v":0},{"$f":"IF(Dati!E55=\"UE1\",Dati!D55,)","v":0}]
[{"$f":"Dati!C56","v":"00:00:00"},{"$f":"Dati!H56","v":"00:00:00"},{"$f":"IF(Dati!E56=\"UA1\",Dati!D56,)","v":0},{"$f":"IF(Dati!E56=\"UA2\",Dati!D56,)","v":0},{"$f":"IF(Dati!E56=\"UA3\",Dati!D56,)","v":0},{"$f":"IF(Dati!E56=\"UA4\",Dati!D56,)","v":0},{"$f":"IF(Dati!E56=\"UA5\",Dati!D56,)","v":0},{"$f":"IF(Dati!E56=\"UA6\",Dati!D56,)","v":0},{"$f":"IF(Dati!E56=\"UB1\",Dati!D56,)","v":0},{"$f":"IF(Dati!E56=\"UB2\",Dati!D56,)","v":0},{"$f":"IF(Dati!E56=\"UC1\",Dati!D56,)","v":0},{"$f":"IF(Dati!E56=\"UD1\",Dati!D56,)","v":0},{"$f":"IF(Dati!E56=\"UE1\",Dati!D56,)","v":0}]
[{"$f":"Dati!C57","v":"00:00:00"},{"$f":"Dati!H57","v":"00:00:00"},{"$f":"IF(Dati!E57=\"UA1\",Dati!D57,)","v":0},{"$f":"IF(Dati!E57=\"UA2\",Dati!D57,)","v":0},{"$f":"IF(Dati!E57=\"UA3\",Dati!D57,)","v":0},{"$f":"IF(Dati!E57=\"UA4\",Dati!D57,)","v":0},{"$f":"IF(Dati!E57=\"UA5\",Dati!D57,)","v":0},{"$f":"IF(Dati!E57=\"UA6\",Dati!D57,)","v":0},{"$f":"IF(Dati!E57=\"UB1\",Dati!D57,)","v":0},{"$f":"IF(Dati!E57=\"UB2\",Dati!D57,)","v":0},{"$f":"IF(Dati!E57=\"UC1\",Dati!D57,)","v":0},{"$f":"IF(Dati!E57=\"UD1\",Dati!D57,)","v":0},{"$f":"IF(Dati!E57=\"UE1\",Dati!D57,)","v":0}]
[{"$f":"Dati!C58","v":"00:00:00"},{"$f":"Dati!H58","v":"00:00:00"},{"$f":"IF(Dati!E58=\"UA1\",Dati!D58,)","v":0},{"$f":"IF(Dati!E58=\"UA2\",Dati!D58,)","v":0},{"$f":"IF(Dati!E58=\"UA3\",Dati!D58,)","v":0},{"$f":"IF(Dati!E58=\"UA4\",Dati!D58,)","v":0},{"$f":"IF(Dati!E58=\"UA5\",Dati!D58,)","v":0},{"$f":"IF(Dati!E58=\"UA6\",Dati!D58,)","v":0},{"$f":"IF(Dati!E58=\"UB1\",Dati!D58,)","v":0},{"$f":"IF(Dati!E58=\"UB2\",Dati!D58,)","v":0},{"$f":"IF(Dati!E58=\"UC1\",Dati!D58,)","v":0},{"$f":"IF(Dati!E58=\"UD1\",Dati!D58,)","v":0},{"$f":"IF(Dati!E58=\"UE1\",Dati!D58,)","v":0}]
[{"$f":"Dati!C59","v":"00:00:00"},{"$f":"Dati!H59","v":"00:00:00"},{"$f":"IF(Dati!E59=\"UA1\",Dati!D59,)","v":0},{"$f":"IF(Dati!E59=\"UA2\",Dati!D59,)","v":0},{"$f":"IF(Dati!E59=\"UA3\",Dati!D59,)","v":0},{"$f":"IF(Dati!E59=\"UA4\",Dati!D59,)","v":0},{"$f":"IF(Dati!E59=\"UA5\",Dati!D59,)","v":0},{"$f":"IF(Dati!E59=\"UA6\",Dati!D59,)","v":0},{"$f":"IF(Dati!E59=\"UB1\",Dati!D59,)","v":0},{"$f":"IF(Dati!E59=\"UB2\",Dati!D59,)","v":0},{"$f":"IF(Dati!E59=\"UC1\",Dati!D59,)","v":0},{"$f":"IF(Dati!E59=\"UD1\",Dati!D59,)","v":0},{"$f":"IF(Dati!E59=\"UE1\",Dati!D59,)","v":0}]
[{"$f":"Dati!C60","v":"00:00:00"},{"$f":"Dati!H60","v":"00:00:00"},{"$f":"IF(Dati!E60=\"UA1\",Dati!D60,)","v":0},{"$f":"IF(Dati!E60=\"UA2\",Dati!D60,)","v":0},{"$f":"IF(Dati!E60=\"UA3\",Dati!D60,)","v":0},{"$f":"IF(Dati!E60=\"UA4\",Dati!D60,)","v":0},{"$f":"IF(Dati!E60=\"UA5\",Dati!D60,)","v":0},{"$f":"IF(Dati!E60=\"UA6\",Dati!D60,)","v":0},{"$f":"IF(Dati!E60=\"UB1\",Dati!D60,)","v":0},{"$f":"IF(Dati!E60=\"UB2\",Dati!D60,)","v":0},{"$f":"IF(Dati!E60=\"UC1\",Dati!D60,)","v":0},{"$f":"IF(Dati!E60=\"UD1\",Dati!D60,)","v":0},{"$f":"IF(Dati!E60=\"UE1\",Dati!D60,)","v":0}]
[{"$f":"Dati!C61","v":"00:00:00"},{"$f":"Dati!H61","v":"00:00:00"},{"$f":"IF(Dati!E61=\"UA1\",Dati!D61,)","v":0},{"$f":"IF(Dati!E61=\"UA2\",Dati!D61,)","v":0},{"$f":"IF(Dati!E61=\"UA3\",Dati!D61,)","v":0},{"$f":"IF(Dati!E61=\"UA4\",Dati!D61,)","v":0},{"$f":"IF(Dati!E61=\"UA5\",Dati!D61,)","v":0},{"$f":"IF(Dati!E61=\"UA6\",Dati!D61,)","v":0},{"$f":"IF(Dati!E61=\"UB1\",Dati!D61,)","v":0},{"$f":"IF(Dati!E61=\"UB2\",Dati!D61,)","v":0},{"$f":"IF(Dati!E61=\"UC1\",Dati!D61,)","v":0},{"$f":"IF(Dati!E61=\"UD1\",Dati!D61,)","v":0},{"$f":"IF(Dati!E61=\"UE1\",Dati!D61,)","v":0}]
[{"$f":"Dati!C62","v":"00:00:00"},{"$f":"Dati!H62","v":"00:00:00"},{"$f":"IF(Dati!E62=\"UA1\",Dati!D62,)","v":0},{"$f":"IF(Dati!E62=\"UA2\",Dati!D62,)","v":0},{"$f":"IF(Dati!E62=\"UA3\",Dati!D62,)","v":0},{"$f":"IF(Dati!E62=\"UA4\",Dati!D62,)","v":0},{"$f":"IF(Dati!E62=\"UA5\",Dati!D62,)","v":0},{"$f":"IF(Dati!E62=\"UA6\",Dati!D62,)","v":0},{"$f":"IF(Dati!E62=\"UB1\",Dati!D62,)","v":0},{"$f":"IF(Dati!E62=\"UB2\",Dati!D62,)","v":0},{"$f":"IF(Dati!E62=\"UC1\",Dati!D62,)","v":0},{"$f":"IF(Dati!E62=\"UD1\",Dati!D62,)","v":0},{"$f":"IF(Dati!E62=\"UE1\",Dati!D62,)","v":0}]
[{"$f":"Dati!C63","v":"00:00:00"},{"$f":"Dati!H63","v":"00:00:00"},{"$f":"IF(Dati!E63=\"UA1\",Dati!D63,)","v":0},{"$f":"IF(Dati!E63=\"UA2\",Dati!D63,)","v":0},{"$f":"IF(Dati!E63=\"UA3\",Dati!D63,)","v":0},{"$f":"IF(Dati!E63=\"UA4\",Dati!D63,)","v":0},{"$f":"IF(Dati!E63=\"UA5\",Dati!D63,)","v":0},{"$f":"IF(Dati!E63=\"UA6\",Dati!D63,)","v":0},{"$f":"IF(Dati!E63=\"UB1\",Dati!D63,)","v":0},{"$f":"IF(Dati!E63=\"UB2\",Dati!D63,)","v":0},{"$f":"IF(Dati!E63=\"UC1\",Dati!D63,)","v":0},{"$f":"IF(Dati!E63=\"UD1\",Dati!D63,)","v":0},{"$f":"IF(Dati!E63=\"UE1\",Dati!D63,)","v":0}]
[{"$f":"Dati!C64","v":"00:00:00"},{"$f":"Dati!H64","v":"00:00:00"},{"$f":"IF(Dati!E64=\"UA1\",Dati!D64,)","v":0},{"$f":"IF(Dati!E64=\"UA2\",Dati!D64,)","v":0},{"$f":"IF(Dati!E64=\"UA3\",Dati!D64,)","v":0},{"$f":"IF(Dati!E64=\"UA4\",Dati!D64,)","v":0},{"$f":"IF(Dati!E64=\"UA5\",Dati!D64,)","v":0},{"$f":"IF(Dati!E64=\"UA6\",Dati!D64,)","v":0},{"$f":"IF(Dati!E64=\"UB1\",Dati!D64,)","v":0},{"$f":"IF(Dati!E64=\"UB2\",Dati!D64,)","v":0},{"$f":"IF(Dati!E64=\"UC1\",Dati!D64,)","v":0},{"$f":"IF(Dati!E64=\"UD1\",Dati!D64,)","v":0},{"$f":"IF(Dati!E64=\"UE1\",Dati!D64,)","v":0}]
[{"$f":"Dati!C65","v":"00:00:00"},{"$f":"Dati!H65","v":"00:00:00"},{"$f":"IF(Dati!E65=\"UA1\",Dati!D65,)","v":0},{"$f":"IF(Dati!E65=\"UA2\",Dati!D65,)","v":0},{"$f":"IF(Dati!E65=\"UA3\",Dati!D65,)","v":0},{"$f":"IF(Dati!E65=\"UA4\",Dati!D65,)","v":0},{"$f":"IF(Dati!E65=\"UA5\",Dati!D65,)","v":0},{"$f":"IF(Dati!E65=\"UA6\",Dati!D65,)","v":0},{"$f":"IF(Dati!E65=\"UB1\",Dati!D65,)","v":0},{"$f":"IF(Dati!E65=\"UB2\",Dati!D65,)","v":0},{"$f":"IF(Dati!E65=\"UC1\",Dati!D65,)","v":0},{"$f":"IF(Dati!E65=\"UD1\",Dati!D65,)","v":0},{"$f":"IF(Dati!E65=\"UE1\",Dati!D65,)","v":0}]
[{"$f":"Dati!C66","v":"00:00:00"},{"$f":"Dati!H66","v":"00:00:00"},{"$f":"IF(Dati!E66=\"UA1\",Dati!D66,)","v":0},{"$f":"IF(Dati!E66=\"UA2\",Dati!D66,)","v":0},{"$f":"IF(Dati!E66=\"UA3\",Dati!D66,)","v":0},{"$f":"IF(Dati!E66=\"UA4\",Dati!D66,)","v":0},{"$f":"IF(Dati!E66=\"UA5\",Dati!D66,)","v":0},{"$f":"IF(Dati!E66=\"UA6\",Dati!D66,)","v":0},{"$f":"IF(Dati!E66=\"UB1\",Dati!D66,)","v":0},{"$f":"IF(Dati!E66=\"UB2\",Dati!D66,)","v":0},{"$f":"IF(Dati!E66=\"UC1\",Dati!D66,)","v":0},{"$f":"IF(Dati!E66=\"UD1\",Dati!D66,)","v":0},{"$f":"IF(Dati!E66=\"UE1\",Dati!D66,)","v":0}]
[{"$f":"Dati!C67","v":"00:00:00"},{"$f":"Dati!H67","v":"00:00:00"},{"$f":"IF(Dati!E67=\"UA1\",Dati!D67,)","v":0},{"$f":"IF(Dati!E67=\"UA2\",Dati!D67,)","v":0},{"$f":"IF(Dati!E67=\"UA3\",Dati!D67,)","v":0},{"$f":"IF(Dati!E67=\"UA4\",Dati!D67,)","v":0},{"$f":"IF(Dati!E67=\"UA5\",Dati!D67,)","v":0},{"$f":"IF(Dati!E67=\"UA6\",Dati!D67,)","v":0},{"$f":"IF(Dati!E67=\"UB1\",Dati!D67,)","v":0},{"$f":"IF(Dati!E67=\"UB2\",Dati!D67,)","v":0},{"$f":"IF(Dati!E67=\"UC1\",Dati!D67,)","v":0},{"$f":"IF(Dati!E67=\"UD1\",Dati!D67,)","v":0},{"$f":"IF(Dati!E67=\"UE1\",Dati!D67,)","v":0}]
[{"$f":"Dati!C68","v":"00:00:00"},{"$f":"Dati!H68","v":"00:00:00"},{"$f":"IF(Dati!E68=\"UA1\",Dati!D68,)","v":0},{"$f":"IF(Dati!E68=\"UA2\",Dati!D68,)","v":0},{"$f":"IF(Dati!E68=\"UA3\",Dati!D68,)","v":0},{"$f":"IF(Dati!E68=\"UA4\",Dati!D68,)","v":0},{"$f":"IF(Dati!E68=\"UA5\",Dati!D68,)","v":0},{"$f":"IF(Dati!E68=\"UA6\",Dati!D68,)","v":0},{"$f":"IF(Dati!E68=\"UB1\",Dati!D68,)","v":0},{"$f":"IF(Dati!E68=\"UB2\",Dati!D68,)","v":0},{"$f":"IF(Dati!E68=\"UC1\",Dati!D68,)","v":0},{"$f":"IF(Dati!E68=\"UD1\",Dati!D68,)","v":0},{"$f":"IF(Dati!E68=\"UE1\",Dati!D68,)","v":0}]
[{"$f":"Dati!C69","v":"00:00:00"},{"$f":"Dati!H69","v":"00:00:00"},{"$f":"IF(Dati!E69=\"UA1\",Dati!D69,)","v":0},{"$f":"IF(Dati!E69=\"UA2\",Dati!D69,)","v":0},{"$f":"IF(Dati!E69=\"UA3\",Dati!D69,)","v":0},{"$f":"IF(Dati!E69=\"UA4\",Dati!D69,)","v":0},{"$f":"IF(Dati!E69=\"UA5\",Dati!D69,)","v":0},{"$f":"IF(Dati!E69=\"UA6\",Dati!D69,)","v":0},{"$f":"IF(Dati!E69=\"UB1\",Dati!D69,)","v":0},{"$f":"IF(Dati!E69=\"UB2\",Dati!D69,)","v":0},{"$f":"IF(Dati!E69=\"UC1\",Dati!D69,)","v":0},{"$f":"IF(Dati!E69=\"UD1\",Dati!D69,)","v":0},{"$f":"IF(Dati!E69=\"UE1\",Dati!D69,)","v":0}]
[{"$f":"Dati!C70","v":"00:00:00"},{"$f":"Dati!H70","v":"00:00:00"},{"$f":"IF(Dati!E70=\"UA1\",Dati!D70,)","v":0},{"$f":"IF(Dati!E70=\"UA2\",Dati!D70,)","v":0},{"$f":"IF(Dati!E70=\"UA3\",Dati!D70,)","v":0},{"$f":"IF(Dati!E70=\"UA4\",Dati!D70,)","v":0},{"$f":"IF(Dati!E70=\"UA5\",Dati!D70,)","v":0},{"$f":"IF(Dati!E70=\"UA6\",Dati!D70,)","v":0},{"$f":"IF(Dati!E70=\"UB1\",Dati!D70,)","v":0},{"$f":"IF(Dati!E70=\"UB2\",Dati!D70,)","v":0},{"$f":"IF(Dati!E70=\"UC1\",Dati!D70,)","v":0},{"$f":"IF(Dati!E70=\"UD1\",Dati!D70,)","v":0},{"$f":"IF(Dati!E70=\"UE1\",Dati!D70,)","v":0}]
[{"$f":"Dati!C71","v":"00:00:00"},{"$f":"Dati!H71","v":"00:00:00"},{"$f":"IF(Dati!E71=\"UA1\",Dati!D71,)","v":0},{"$f":"IF(Dati!E71=\"UA2\",Dati!D71,)","v":0},{"$f":"IF(Dati!E71=\"UA3\",Dati!D71,)","v":0},{"$f":"IF(Dati!E71=\"UA4\",Dati!D71,)","v":0},{"$f":"IF(Dati!E71=\"UA5\",Dati!D71,)","v":0},{"$f":"IF(Dati!E71=\"UA6\",Dati!D71,)","v":0},{"$f":"IF(Dati!E71=\"UB1\",Dati!D71,)","v":0},{"$f":"IF(Dati!E71=\"UB2\",Dati!D71,)","v":0},{"$f":"IF(Dati!E71=\"UC1\",Dati!D71,)","v":0},{"$f":"IF(Dati!E71=\"UD1\",Dati!D71,)","v":0},{"$f":"IF(Dati!E71=\"UE1\",Dati!D71,)","v":0}]
[{"$f":"Dati!C72","v":"00:00:00"},{"$f":"Dati!H72","v":"00:00:00"},{"$f":"IF(Dati!E72=\"UA1\",Dati!D72,)","v":0},{"$f":"IF(Dati!E72=\"UA2\",Dati!D72,)","v":0},{"$f":"IF(Dati!E72=\"UA3\",Dati!D72,)","v":0},{"$f":"IF(Dati!E72=\"UA4\",Dati!D72,)","v":0},{"$f":"IF(Dati!E72=\"UA5\",Dati!D72,)","v":0},{"$f":"IF(Dati!E72=\"UA6\",Dati!D72,)","v":0},{"$f":"IF(Dati!E72=\"UB1\",Dati!D72,)","v":0},{"$f":"IF(Dati!E72=\"UB2\",Dati!D72,)","v":0},{"$f":"IF(Dati!E72=\"UC1\",Dati!D72,)","v":0},{"$f":"IF(Dati!E72=\"UD1\",Dati!D72,)","v":0},{"$f":"IF(Dati!E72=\"UE1\",Dati!D72,)","v":0}]
[{"$f":"Dati!C73","v":"00:00:00"},{"$f":"Dati!H73","v":"00:00:00"},{"$f":"IF(Dati!E73=\"UA1\",Dati!D73,)","v":0},{"$f":"IF(Dati!E73=\"UA2\",Dati!D73,)","v":0},{"$f":"IF(Dati!E73=\"UA3\",Dati!D73,)","v":0},{"$f":"IF(Dati!E73=\"UA4\",Dati!D73,)","v":0},{"$f":"IF(Dati!E73=\"UA5\",Dati!D73,)","v":0},{"$f":"IF(Dati!E73=\"UA6\",Dati!D73,)","v":0},{"$f":"IF(Dati!E73=\"UB1\",Dati!D73,)","v":0},{"$f":"IF(Dati!E73=\"UB2\",Dati!D73,)","v":0},{"$f":"IF(Dati!E73=\"UC1\",Dati!D73,)","v":0},{"$f":"IF(Dati!E73=\"UD1\",Dati!D73,)","v":0},{"$f":"IF(Dati!E73=\"UE1\",Dati!D73,)","v":0}]
[{"$f":"Dati!C74","v":"00:00:00"},{"$f":"Dati!H74","v":"00:00:00"},{"$f":"IF(Dati!E74=\"UA1\",Dati!D74,)","v":0},{"$f":"IF(Dati!E74=\"UA2\",Dati!D74,)","v":0},{"$f":"IF(Dati!E74=\"UA3\",Dati!D74,)","v":0},{"$f":"IF(Dati!E74=\"UA4\",Dati!D74,)","v":0},{"$f":"IF(Dati!E74=\"UA5\",Dati!D74,)","v":0},{"$f":"IF(Dati!E74=\"UA6\",Dati!D74,)","v":0},{"$f":"IF(Dati!E74=\"UB1\",Dati!D74,)","v":0},{"$f":"IF(Dati!E74=\"UB2\",Dati!D74,)","v":0},{"$f":"IF(Dati!E74=\"UC1\",Dati!D74,)","v":0},{"$f":"IF(Dati!E74=\"UD1\",Dati!D74,)","v":0},{"$f":"IF(Dati!E74=\"UE1\",Dati!D74,)","v":0}]
[{"$f":"Dati!C75","v":"00:00:00"},{"$f":"Dati!H75","v":"00:00:00"},{"$f":"IF(Dati!E75=\"UA1\",Dati!D75,)","v":0},{"$f":"IF(Dati!E75=\"UA2\",Dati!D75,)","v":0},{"$f":"IF(Dati!E75=\"UA3\",Dati!D75,)","v":0},{"$f":"IF(Dati!E75=\"UA4\",Dati!D75,)","v":0},{"$f":"IF(Dati!E75=\"UA5\",Dati!D75,)","v":0},{"$f":"IF(Dati!E75=\"UA6\",Dati!D75,)","v":0},{"$f":"IF(Dati!E75=\"UB1\",Dati!D75,)","v":0},{"$f":"IF(Dati!E75=\"UB2\",Dati!D75,)","v":0},{"$f":"IF(Dati!E75=\"UC1\",Dati!D75,)","v":0},{"$f":"IF(Dati!E75=\"UD1\",Dati!D75,)","v":0},{"$f":"IF(Dati!E75=\"UE1\",Dati!D75,)","v":0}]
[{"$f":"Dati!C76","v":"00:00:00"},{"$f":"Dati!H76","v":"00:00:00"},{"$f":"IF(Dati!E76=\"UA1\",Dati!D76,)","v":0},{"$f":"IF(Dati!E76=\"UA2\",Dati!D76,)","v":0},{"$f":"IF(Dati!E76=\"UA3\",Dati!D76,)","v":0},{"$f":"IF(Dati!E76=\"UA4\",Dati!D76,)","v":0},{"$f":"IF(Dati!E76=\"UA5\",Dati!D76,)","v":0},{"$f":"IF(Dati!E76=\"UA6\",Dati!D76,)","v":0},{"$f":"IF(Dati!E76=\"UB1\",Dati!D76,)","v":0},{"$f":"IF(Dati!E76=\"UB2\",Dati!D76,)","v":0},{"$f":"IF(Dati!E76=\"UC1\",Dati!D76,)","v":0},{"$f":"IF(Dati!E76=\"UD1\",Dati!D76,)","v":0},{"$f":"IF(Dati!E76=\"UE1\",Dati!D76,)","v":0}]
[{"$f":"Dati!C77","v":"00:00:00"},{"$f":"Dati!H77","v":"00:00:00"},{"$f":"IF(Dati!E77=\"UA1\",Dati!D77,)","v":0},{"$f":"IF(Dati!E77=\"UA2\",Dati!D77,)","v":0},{"$f":"IF(Dati!E77=\"UA3\",Dati!D77,)","v":0},{"$f":"IF(Dati!E77=\"UA4\",Dati!D77,)","v":0},{"$f":"IF(Dati!E77=\"UA5\",Dati!D77,)","v":0},{"$f":"IF(Dati!E77=\"UA6\",Dati!D77,)","v":0},{"$f":"IF(Dati!E77=\"UB1\",Dati!D77,)","v":0},{"$f":"IF(Dati!E77=\"UB2\",Dati!D77,)","v":0},{"$f":"IF(Dati!E77=\"UC1\",Dati!D77,)","v":0},{"$f":"IF(Dati!E77=\"UD1\",Dati!D77,)","v":0},{"$f":"IF(Dati!E77=\"UE1\",Dati!D77,)","v":0}]
[{"$f":"Dati!C78","v":"00:00:00"},{"$f":"Dati!H78","v":"00:00:00"},{"$f":"IF(Dati!E78=\"UA1\",Dati!D78,)","v":0},{"$f":"IF(Dati!E78=\"UA2\",Dati!D78,)","v":0},{"$f":"IF(Dati!E78=\"UA3\",Dati!D78,)","v":0},{"$f":"IF(Dati!E78=\"UA4\",Dati!D78,)","v":0},{"$f":"IF(Dati!E78=\"UA5\",Dati!D78,)","v":0},{"$f":"IF(Dati!E78=\"UA6\",Dati!D78,)","v":0},{"$f":"IF(Dati!E78=\"UB1\",Dati!D78,)","v":0},{"$f":"IF(Dati!E78=\"UB2\",Dati!D78,)","v":0},{"$f":"IF(Dati!E78=\"UC1\",Dati!D78,)","v":0},{"$f":"IF(Dati!E78=\"UD1\",Dati!D78,)","v":0},{"$f":"IF(Dati!E78=\"UE1\",Dati!D78,)","v":0}]
[{"$f":"Dati!C79","v":"00:00:00"},{"$f":"Dati!H79","v":"00:00:00"},{"$f":"IF(Dati!E79=\"UA1\",Dati!D79,)","v":0},{"$f":"IF(Dati!E79=\"UA2\",Dati!D79,)","v":0},{"$f":"IF(Dati!E79=\"UA3\",Dati!D79,)","v":0},{"$f":"IF(Dati!E79=\"UA4\",Dati!D79,)","v":0},{"$f":"IF(Dati!E79=\"UA5\",Dati!D79,)","v":0},{"$f":"IF(Dati!E79=\"UA6\",Dati!D79,)","v":0},{"$f":"IF(Dati!E79=\"UB1\",Dati!D79,)","v":0},{"$f":"IF(Dati!E79=\"UB2\",Dati!D79,)","v":0},{"$f":"IF(Dati!E79=\"UC1\",Dati!D79,)","v":0},{"$f":"IF(Dati!E79=\"UD1\",Dati!D79,)","v":0},{"$f":"IF(Dati!E79=\"UE1\",Dati!D79,)","v":0}]
[{"$f":"Dati!C80","v":"00:00:00"},{"$f":"Dati!H80","v":"00:00:00"},{"$f":"IF(Dati!E80=\"UA1\",Dati!D80,)","v":0},{"$f":"IF(Dati!E80=\"UA2\",Dati!D80,)","v":0},{"$f":"IF(Dati!E80=\"UA3\",Dati!D80,)","v":0},{"$f":"IF(Dati!E80=\"UA4\",Dati!D80,)","v":0},{"$f":"IF(Dati!E80=\"UA5\",Dati!D80,)","v":0},{"$f":"IF(Dati!E80=\"UA6\",Dati!D80,)","v":0},{"$f":"IF(Dati!E80=\"UB1\",Dati!D80,)","v":0},{"$f":"IF(Dati!E80=\"UB2\",Dati!D80,)","v":0},{"$f":"IF(Dati!E80=\"UC1\",Dati!D80,)","v":0},{"$f":"IF(Dati!E80=\"UD1\",Dati!D80,)","v":0},{"$f":"IF(Dati!E80=\"UE1\",Dati!D80,)","v":0}]
[{"$f":"Dati!C81","v":"00:00:00"},{"$f":"Dati!H81","v":"00:00:00"},{"$f":"IF(Dati!E81=\"UA1\",Dati!D81,)","v":0},{"$f":"IF(Dati!E81=\"UA2\",Dati!D81,)","v":0},{"$f":"IF(Dati!E81=\"UA3\",Dati!D81,)","v":0},{"$f":"IF(Dati!E81=\"UA4\",Dati!D81,)","v":0},{"$f":"IF(Dati!E81=\"UA5\",Dati!D81,)","v":0},{"$f":"IF(Dati!E81=\"UA6\",Dati!D81,)","v":0},{"$f":"IF(Dati!E81=\"UB1\",Dati!D81,)","v":0},{"$f":"IF(Dati!E81=\"UB2\",Dati!D81,)","v":0},{"$f":"IF(Dati!E81=\"UC1\",Dati!D81,)","v":0},{"$f":"IF(Dati!E81=\"UD1\",Dati!D81,)","v":0},{"$f":"IF(Dati!E81=\"UE1\",Dati!D81,)","v":0}]
[{"$f":"Dati!C82","v":"00:00:00"},{"$f":"Dati!H82","v":"00:00:00"},{"$f":"IF(Dati!E82=\"UA1\",Dati!D82,)","v":0},{"$f":"IF(Dati!E82=\"UA2\",Dati!D82,)","v":0},{"$f":"IF(Dati!E82=\"UA3\",Dati!D82,)","v":0},{"$f":"IF(Dati!E82=\"UA4\",Dati!D82,)","v":0},{"$f":"IF(Dati!E82=\"UA5\",Dati!D82,)","v":0},{"$f":"IF(Dati!E82=\"UA6\",Dati!D82,)","v":0},{"$f":"IF(Dati!E82=\"UB1\",Dati!D82,)","v":0},{"$f":"IF(Dati!E82=\"UB2\",Dati!D82,)","v":0},{"$f":"IF(Dati!E82=\"UC1\",Dati!D82,)","v":0},{"$f":"IF(Dati!E82=\"UD1\",Dati!D82,)","v":0},{"$f":"IF(Dati!E82=\"UE1\",Dati!D82,)","v":0}]
[{"$f":"Dati!C83","v":"00:00:00"},{"$f":"Dati!H83","v":"00:00:00"},{"$f":"IF(Dati!E83=\"UA1\",Dati!D83,)","v":0},{"$f":"IF(Dati!E83=\"UA2\",Dati!D83,)","v":0},{"$f":"IF(Dati!E83=\"UA3\",Dati!D83,)","v":0},{"$f":"IF(Dati!E83=\"UA4\",Dati!D83,)","v":0},{"$f":"IF(Dati!E83=\"UA5\",Dati!D83,)","v":0},{"$f":"IF(Dati!E83=\"UA6\",Dati!D83,)","v":0},{"$f":"IF(Dati!E83=\"UB1\",Dati!D83,)","v":0},{"$f":"IF(Dati!E83=\"UB2\",Dati!D83,)","v":0},{"$f":"IF(Dati!E83=\"UC1\",Dati!D83,)","v":0},{"$f":"IF(Dati!E83=\"UD1\",Dati!D83,)","v":0},{"$f":"IF(Dati!E83=\"UE1\",Dati!D83,)","v":0}]
[{"$f":"Dati!C84","v":"00:00:00"},{"$f":"Dati!H84","v":"00:00:00"},{"$f":"IF(Dati!E84=\"UA1\",Dati!D84,)","v":0},{"$f":"IF(Dati!E84=\"UA2\",Dati!D84,)","v":0},{"$f":"IF(Dati!E84=\"UA3\",Dati!D84,)","v":0},{"$f":"IF(Dati!E84=\"UA4\",Dati!D84,)","v":0},{"$f":"IF(Dati!E84=\"UA5\",Dati!D84,)","v":0},{"$f":"IF(Dati!E84=\"UA6\",Dati!D84,)","v":0},{"$f":"IF(Dati!E84=\"UB1\",Dati!D84,)","v":0},{"$f":"IF(Dati!E84=\"UB2\",Dati!D84,)","v":0},{"$f":"IF(Dati!E84=\"UC1\",Dati!D84,)","v":0},{"$f":"IF(Dati!E84=\"UD1\",Dati!D84,)","v":0},{"$f":"IF(Dati!E84=\"UE1\",Dati!D84,)","v":0}]
[{"$f":"Dati!C85","v":"00:00:00"},{"$f":"Dati!H85","v":"00:00:00"},{"$f":"IF(Dati!E85=\"UA1\",Dati!D85,)","v":0},{"$f":"IF(Dati!E85=\"UA2\",Dati!D85,)","v":0},{"$f":"IF(Dati!E85=\"UA3\",Dati!D85,)","v":0},{"$f":"IF(Dati!E85=\"UA4\",Dati!D85,)","v":0},{"$f":"IF(Dati!E85=\"UA5\",Dati!D85,)","v":0},{"$f":"IF(Dati!E85=\"UA6\",Dati!D85,)","v":0},{"$f":"IF(Dati!E85=\"UB1\",Dati!D85,)","v":0},{"$f":"IF(Dati!E85=\"UB2\",Dati!D85,)","v":0},{"$f":"IF(Dati!E85=\"UC1\",Dati!D85,)","v":0},{"$f":"IF(Dati!E85=\"UD1\",Dati!D85,)","v":0},{"$f":"IF(Dati!E85=\"UE1\",Dati!D85,)","v":0}]
[{"$f":"Dati!C86","v":"00:00:00"},{"$f":"Dati!H86","v":"00:00:00"},{"$f":"IF(Dati!E86=\"UA1\",Dati!D86,)","v":0},{"$f":"IF(Dati!E86=\"UA2\",Dati!D86,)","v":0},{"$f":"IF(Dati!E86=\"UA3\",Dati!D86,)","v":0},{"$f":"IF(Dati!E86=\"UA4\",Dati!D86,)","v":0},{"$f":"IF(Dati!E86=\"UA5\",Dati!D86,)","v":0},{"$f":"IF(Dati!E86=\"UA6\",Dati!D86,)","v":0},{"$f":"IF(Dati!E86=\"UB1\",Dati!D86,)","v":0},{"$f":"IF(Dati!E86=\"UB2\",Dati!D86,)","v":0},{"$f":"IF(Dati!E86=\"UC1\",Dati!D86,)","v":0},{"$f":"IF(Dati!E86=\"UD1\",Dati!D86,)","v":0},{"$f":"IF(Dati!E86=\"UE1\",Dati!D86,)","v":0}]
[{"$f":"Dati!C87","v":"00:00:00"},{"$f":"Dati!H87","v":"00:00:00"},{"$f":"IF(Dati!E87=\"UA1\",Dati!D87,)","v":0},{"$f":"IF(Dati!E87=\"UA2\",Dati!D87,)","v":0},{"$f":"IF(Dati!E87=\"UA3\",Dati!D87,)","v":0},{"$f":"IF(Dati!E87=\"UA4\",Dati!D87,)","v":0},{"$f":"IF(Dati!E87=\"UA5\",Dati!D87,)","v":0},{"$f":"IF(Dati!E87=\"UA6\",Dati!D87,)","v":0},{"$f":"IF(Dati!E87=\"UB1\",Dati!D87,)","v":0},{"$f":"IF(Dati!E87=\"UB2\",Dati!D87,)","v":0},{"$f":"IF(Dati!E87=\"UC1\",Dati!D87,)","v":0},{"$f":"IF(Dati!E87=\"UD1\",Dati!D87,)","v":0},{"$f":"IF(Dati!E87=\"UE1\",Dati!D87,)","v":0}]
[{"$f":"Dati!C88","v":"00:00:00"},{"$f":"Dati!H88","v":"00:00:00"},{"$f":"IF(Dati!E88=\"UA1\",Dati!D88,)","v":0},{"$f":"IF(Dati!E88=\"UA2\",Dati!D88,)","v":0},{"$f":"IF(Dati!E88=\"UA3\",Dati!D88,)","v":0},{"$f":"IF(Dati!E88=\"UA4\",Dati!D88,)","v":0},{"$f":"IF(Dati!E88=\"UA5\",Dati!D88,)","v":0},{"$f":"IF(Dati!E88=\"UA6\",Dati!D88,)","v":0},{"$f":"IF(Dati!E88=\"UB1\",Dati!D88,)","v":0},{"$f":"IF(Dati!E88=\"UB2\",Dati!D88,)","v":0},{"$f":"IF(Dati!E88=\"UC1\",Dati!D88,)","v":0},{"$f":"IF(Dati!E88=\"UD1\",Dati!D88,)","v":0},{"$f":"IF(Dati!E88=\"UE1\",Dati!D88,)","v":0}]
[{"$f":"Dati!C89","v":"00:00:00"},{"$f":"Dati!H89","v":"00:00:00"},{"$f":"IF(Dati!E89=\"UA1\",Dati!D89,)","v":0},{"$f":"IF(Dati!E89=\"UA2\",Dati!D89,)","v":0},{"$f":"IF(Dati!E89=\"UA3\",Dati!D89,)","v":0},{"$f":"IF(Dati!E89=\"UA4\",Dati!D89,)","v":0},{"$f":"IF(Dati!E89=\"UA5\",Dati!D89,)","v":0},{"$f":"IF(Dati!E89=\"UA6\",Dati!D89,)","v":0},{"$f":"IF(Dati!E89=\"UB1\",Dati!D89,)","v":0},{"$f":"IF(Dati!E89=\"UB2\",Dati!D89,)","v":0},{"$f":"IF(Dati!E89=\"UC1\",Dati!D89,)","v":0},{"$f":"IF(Dati!E89=\"UD1\",Dati!D89,)","v":0},{"$f":"IF(Dati!E89=\"UE1\",Dati!D89,)","v":0}]
[{"$f":"Dati!C90","v":"00:00:00"},{"$f":"Dati!H90","v":"00:00:00"},{"$f":"IF(Dati!E90=\"UA1\",Dati!D90,)","v":0},{"$f":"IF(Dati!E90=\"UA2\",Dati!D90,)","v":0},{"$f":"IF(Dati!E90=\"UA3\",Dati!D90,)","v":0},{"$f":"IF(Dati!E90=\"UA4\",Dati!D90,)","v":0},{"$f":"IF(Dati!E90=\"UA5\",Dati!D90,)","v":0},{"$f":"IF(Dati!E90=\"UA6\",Dati!D90,)","v":0},{"$f":"IF(Dati!E90=\"UB1\",Dati!D90,)","v":0},{"$f":"IF(Dati!E90=\"UB2\",Dati!D90,)","v":0},{"$f":"IF(Dati!E90=\"UC1\",Dati!D90,)","v":0},{"$f":"IF(Dati!E90=\"UD1\",Dati!D90,)","v":0},{"$f":"IF(Dati!E90=\"UE1\",Dati!D90,)","v":0}]
[{"$f":"Dati!C91","v":"00:00:00"},{"$f":"Dati!H91","v":"00:00:00"},{"$f":"IF(Dati!E91=\"UA1\",Dati!D91,)","v":0},{"$f":"IF(Dati!E91=\"UA2\",Dati!D91,)","v":0},{"$f":"IF(Dati!E91=\"UA3\",Dati!D91,)","v":0},{"$f":"IF(Dati!E91=\"UA4\",Dati!D91,)","v":0},{"$f":"IF(Dati!E91=\"UA5\",Dati!D91,)","v":0},{"$f":"IF(Dati!E91=\"UA6\",Dati!D91,)","v":0},{"$f":"IF(Dati!E91=\"UB1\",Dati!D91,)","v":0},{"$f":"IF(Dati!E91=\"UB2\",Dati!D91,)","v":0},{"$f":"IF(Dati!E91=\"UC1\",Dati!D91,)","v":0},{"$f":"IF(Dati!E91=\"UD1\",Dati!D91,)","v":0},{"$f":"IF(Dati!E91=\"UE1\",Dati!D91,)","v":0}]
[{"$f":"Dati!C92","v":"00:00:00"},{"$f":"Dati!H92","v":"00:00:00"},{"$f":"IF(Dati!E92=\"UA1\",Dati!D92,)","v":0},{"$f":"IF(Dati!E92=\"UA2\",Dati!D92,)","v":0},{"$f":"IF(Dati!E92=\"UA3\",Dati!D92,)","v":0},{"$f":"IF(Dati!E92=\"UA4\",Dati!D92,)","v":0},{"$f":"IF(Dati!E92=\"UA5\",Dati!D92,)","v":0},{"$f":"IF(Dati!E92=\"UA6\",Dati!D92,)","v":0},{"$f":"IF(Dati!E92=\"UB1\",Dati!D92,)","v":0},{"$f":"IF(Dati!E92=\"UB2\",Dati!D92,)","v":0},{"$f":"IF(Dati!E92=\"UC1\",Dati!D92,)","v":0},{"$f":"IF(Dati!E92=\"UD1\",Dati!D92,)","v":0},{"$f":"IF(Dati!E92=\"UE1\",Dati!D92,)","v":0}]
[{"$f":"Dati!C93","v":"00:00:00"},{"$f":"Dati!H93","v":"00:00:00"},{"$f":"IF(Dati!E93=\"UA1\",Dati!D93,)","v":0},{"$f":"IF(Dati!E93=\"UA2\",Dati!D93,)","v":0},{"$f":"IF(Dati!E93=\"UA3\",Dati!D93,)","v":0},{"$f":"IF(Dati!E93=\"UA4\",Dati!D93,)","v":0},{"$f":"IF(Dati!E93=\"UA5\",Dati!D93,)","v":0},{"$f":"IF(Dati!E93=\"UA6\",Dati!D93,)","v":0},{"$f":"IF(Dati!E93=\"UB1\",Dati!D93,)","v":0},{"$f":"IF(Dati!E93=\"UB2\",Dati!D93,)","v":0},{"$f":"IF(Dati!E93=\"UC1\",Dati!D93,)","v":0},{"$f":"IF(Dati!E93=\"UD1\",Dati!D93,)","v":0},{"$f":"IF(Dati!E93=\"UE1\",Dati!D93,)","v":0}]
[{"$f":"Dati!C94","v":"00:00:00"},{"$f":"Dati!H94","v":"00:00:00"},{"$f":"IF(Dati!E94=\"UA1\",Dati!D94,)","v":0},{"$f":"IF(Dati!E94=\"UA2\",Dati!D94,)","v":0},{"$f":"IF(Dati!E94=\"UA3\",Dati!D94,)","v":0},{"$f":"IF(Dati!E94=\"UA4\",Dati!D94,)","v":0},{"$f":"IF(Dati!E94=\"UA5\",Dati!D94,)","v":0},{"$f":"IF(Dati!E94=\"UA6\",Dati!D94,)","v":0},{"$f":"IF(Dati!E94=\"UB1\",Dati!D94,)","v":0},{"$f":"IF(Dati!E94=\"UB2\",Dati!D94,)","v":0},{"$f":"IF(Dati!E94=\"UC1\",Dati!D94,)","v":0},{"$f":"IF(Dati!E94=\"UD1\",Dati!D94,)","v":0},{"$f":"IF(Dati!E94=\"UE1\",Dati!D94,)","v":0}]
[{"$f":"Dati!C95","v":"00:00:00"},{"$f":"Dati!H95","v":"00:00:00"},{"$f":"IF(Dati!E95=\"UA1\",Dati!D95,)","v":0},{"$f":"IF(Dati!E95=\"UA2\",Dati!D95,)","v":0},{"$f":"IF(Dati!E95=\"UA3\",Dati!D95,)","v":0},{"$f":"IF(Dati!E95=\"UA4\",Dati!D95,)","v":0},{"$f":"IF(Dati!E95=\"UA5\",Dati!D95,)","v":0},{"$f":"IF(Dati!E95=\"UA6\",Dati!D95,)","v":0},{"$f":"IF(Dati!E95=\"UB1\",Dati!D95,)","v":0},{"$f":"IF(Dati!E95=\"UB2\",Dati!D95,)","v":0},{"$f":"IF(Dati!E95=\"UC1\",Dati!D95,)","v":0},{"$f":"IF(Dati!E95=\"UD1\",Dati!D95,)","v":0},{"$f":"IF(Dati!E95=\"UE1\",Dati!D95,)","v":0}]
[{"$f":"Dati!C96","v":"00:00:00"},{"$f":"Dati!H96","v":"00:00:00"},{"$f":"IF(Dati!E96=\"UA1\",Dati!D96,)","v":0},{"$f":"IF(Dati!E96=\"UA2\",Dati!D96,)","v":0},{"$f":"IF(Dati!E96=\"UA3\",Dati!D96,)","v":0},{"$f":"IF(Dati!E96=\"UA4\",Dati!D96,)","v":0},{"$f":"IF(Dati!E96=\"UA5\",Dati!D96,)","v":0},{"$f":"IF(Dati!E96=\"UA6\",Dati!D96,)","v":0},{"$f":"IF(Dati!E96=\"UB1\",Dati!D96,)","v":0},{"$f":"IF(Dati!E96=\"UB2\",Dati!D96,)","v":0},{"$f":"IF(Dati!E96=\"UC1\",Dati!D96,)","v":0},{"$f":"IF(Dati!E96=\"UD1\",Dati!D96,)","v":0},{"$f":"IF(Dati!E96=\"UE1\",Dati!D96,)","v":0}]
[{"$f":"Dati!C97","v":"00:00:00"},{"$f":"Dati!H97","v":"00:00:00"},{"$f":"IF(Dati!E97=\"UA1\",Dati!D97,)","v":0},{"$f":"IF(Dati!E97=\"UA2\",Dati!D97,)","v":0},{"$f":"IF(Dati!E97=\"UA3\",Dati!D97,)","v":0},{"$f":"IF(Dati!E97=\"UA4\",Dati!D97,)","v":0},{"$f":"IF(Dati!E97=\"UA5\",Dati!D97,)","v":0},{"$f":"IF(Dati!E97=\"UA6\",Dati!D97,)","v":0},{"$f":"IF(Dati!E97=\"UB1\",Dati!D97,)","v":0},{"$f":"IF(Dati!E97=\"UB2\",Dati!D97,)","v":0},{"$f":"IF(Dati!E97=\"UC1\",Dati!D97,)","v":0},{"$f":"IF(Dati!E97=\"UD1\",Dati!D97,)","v":0},{"$f":"IF(Dati!E97=\"UE1\",Dati!D97,)","v":0}]
[{"$f":"Dati!C98","v":"00:00:00"},{"$f":"Dati!H98","v":"00:00:00"},{"$f":"IF(Dati!E98=\"UA1\",Dati!D98,)","v":0},{"$f":"IF(Dati!E98=\"UA2\",Dati!D98,)","v":0},{"$f":"IF(Dati!E98=\"UA3\",Dati!D98,)","v":0},{"$f":"IF(Dati!E98=\"UA4\",Dati!D98,)","v":0},{"$f":"IF(Dati!E98=\"UA5\",Dati!D98,)","v":0},{"$f":"IF(Dati!E98=\"UA6\",Dati!D98,)","v":0},{"$f":"IF(Dati!E98=\"UB1\",Dati!D98,)","v":0},{"$f":"IF(Dati!E98=\"UB2\",Dati!D98,)","v":0},{"$f":"IF(Dati!E98=\"UC1\",Dati!D98,)","v":0},{"$f":"IF(Dati!E98=\"UD1\",Dati!D98,)","v":0},{"$f":"IF(Dati!E98=\"UE1\",Dati!D98,)","v":0}]
[{"$f":"Dati!C99","v":"00:00:00"},{"$f":"Dati!H99","v":"00:00:00"},{"$f":"IF(Dati!E99=\"UA1\",Dati!D99,)","v":0},{"$f":"IF(Dati!E99=\"UA2\",Dati!D99,)","v":0},{"$f":"IF(Dati!E99=\"UA3\",Dati!D99,)","v":0},{"$f":"IF(Dati!E99=\"UA4\",Dati!D99,)","v":0},{"$f":"IF(Dati!E99=\"UA5\",Dati!D99,)","v":0},{"$f":"IF(Dati!E99=\"UA6\",Dati!D99,)","v":0},{"$f":"IF(Dati!E99=\"UB1\",Dati!D99,)","v":0},{"$f":"IF(Dati!E99=\"UB2\",Dati!D99,)","v":0},{"$f":"IF(Dati!E99=\"UC1\",Dati!D99,)","v":0},{"$f":"IF(Dati!E99=\"UD1\",Dati!D99,)","v":0},{"$f":"IF(Dati!E99=\"UE1\",Dati!D99,)","v":0}]
[{"$f":"Dati!C100","v":"00:00:00"},{"$f":"Dati!H100","v":"00:00:00"},{"$f":"IF(Dati!E100=\"UA1\",Dati!D100,)","v":0},{"$f":"IF(Dati!E100=\"UA2\",Dati!D100,)","v":0},{"$f":"IF(Dati!E100=\"UA3\",Dati!D100,)","v":0},{"$f":"IF(Dati!E100=\"UA4\",Dati!D100,)","v":0},{"$f":"IF(Dati!E100=\"UA5\",Dati!D100,)","v":0},{"$f":"IF(Dati!E100=\"UA6\",Dati!D100,)","v":0},{"$f":"IF(Dati!E100=\"UB1\",Dati!D100,)","v":0},{"$f":"IF(Dati!E100=\"UB2\",Dati!D100,)","v":0},{"$f":"IF(Dati!E100=\"UC1\",Dati!D100,)","v":0},{"$f":"IF(Dati!E100=\"UD1\",Dati!D100,)","v":0},{"$f":"IF(Dati!E100=\"UE1\",Dati!D100,)","v":0}]
[{"$f":"Dati!C101","v":"00:00:00"},{"$f":"Dati!H101","v":"00:00:00"},{"$f":"IF(Dati!E101=\"UA1\",Dati!D101,)","v":0},{"$f":"IF(Dati!E101=\"UA2\",Dati!D101,)","v":0},{"$f":"IF(Dati!E101=\"UA3\",Dati!D101,)","v":0},{"$f":"IF(Dati!E101=\"UA4\",Dati!D101,)","v":0},{"$f":"IF(Dati!E101=\"UA5\",Dati!D101,)","v":0},{"$f":"IF(Dati!E101=\"UA6\",Dati!D101,)","v":0},{"$f":"IF(Dati!E101=\"UB1\",Dati!D101,)","v":0},{"$f":"IF(Dati!E101=\"UB2\",Dati!D101,)","v":0},{"$f":"IF(Dati!E101=\"UC1\",Dati!D101,)","v":0},{"$f":"IF(Dati!E101=\"UD1\",Dati!D101,)","v":0},{"$f":"IF(Dati!E101=\"UE1\",Dati!D101,)","v":0}]
[{"$f":"Dati!C102","v":"00:00:00"},{"$f":"Dati!H102","v":"00:00:00"},{"$f":"IF(Dati!E102=\"UA1\",Dati!D102,)","v":0},{"$f":"IF(Dati!E102=\"UA2\",Dati!D102,)","v":0},{"$f":"IF(Dati!E102=\"UA3\",Dati!D102,)","v":0},{"$f":"IF(Dati!E102=\"UA4\",Dati!D102,)","v":0},{"$f":"IF(Dati!E102=\"UA5\",Dati!D102,)","v":0},{"$f":"IF(Dati!E102=\"UA6\",Dati!D102,)","v":0},{"$f":"IF(Dati!E102=\"UB1\",Dati!D102,)","v":0},{"$f":"IF(Dati!E102=\"UB2\",Dati!D102,)","v":0},{"$f":"IF(Dati!E102=\"UC1\",Dati!D102,)","v":0},{"$f":"IF(Dati!E102=\"UD1\",Dati!D102,)","v":0},{"$f":"IF(Dati!E102=\"UE1\",Dati!D102,)","v":0}]
[{"$f":"Dati!C103","v":"00:00:00"},{"$f":"Dati!H103","v":"00:00:00"},{"$f":"IF(Dati!E103=\"UA1\",Dati!D103,)","v":0},{"$f":"IF(Dati!E103=\"UA2\",Dati!D103,)","v":0},{"$f":"IF(Dati!E103=\"UA3\",Dati!D103,)","v":0},{"$f":"IF(Dati!E103=\"UA4\",Dati!D103,)","v":0},{"$f":"IF(Dati!E103=\"UA5\",Dati!D103,)","v":0},{"$f":"IF(Dati!E103=\"UA6\",Dati!D103,)","v":0},{"$f":"IF(Dati!E103=\"UB1\",Dati!D103,)","v":0},{"$f":"IF(Dati!E103=\"UB2\",Dati!D103,)","v":0},{"$f":"IF(Dati!E103=\"UC1\",Dati!D103,)","v":0},{"$f":"IF(Dati!E103=\"UD1\",Dati!D103,)","v":0},{"$f":"IF(Dati!E103=\"UE1\",Dati!D103,)","v":0}]
[{"$f":"Dati!C104","v":"00:00:00"},{"$f":"Dati!H104","v":"00:00:00"},{"$f":"IF(Dati!E104=\"UA1\",Dati!D104,)","v":0},{"$f":"IF(Dati!E104=\"UA2\",Dati!D104,)","v":0},{"$f":"IF(Dati!E104=\"UA3\",Dati!D104,)","v":0},{"$f":"IF(Dati!E104=\"UA4\",Dati!D104,)","v":0},{"$f":"IF(Dati!E104=\"UA5\",Dati!D104,)","v":0},{"$f":"IF(Dati!E104=\"UA6\",Dati!D104,)","v":0},{"$f":"IF(Dati!E104=\"UB1\",Dati!D104,)","v":0},{"$f":"IF(Dati!E104=\"UB2\",Dati!D104,)","v":0},{"$f":"IF(Dati!E104=\"UC1\",Dati!D104,)","v":0},{"$f":"IF(Dati!E104=\"UD1\",Dati!D104,)","v":0},{"$f":"IF(Dati!E104=\"UE1\",Dati!D104,)","v":0}]
[{"$f":"Dati!C105","v":"00:00:00"},{"$f":"Dati!H105","v":"00:00:00"},{"$f":"IF(Dati!E105=\"UA1\",Dati!D105,)","v":0},{"$f":"IF(Dati!E105=\"UA2\",Dati!D105,)","v":0},{"$f":"IF(Dati!E105=\"UA3\",Dati!D105,)","v":0},{"$f":"IF(Dati!E105=\"UA4\",Dati!D105,)","v":0},{"$f":"IF(Dati!E105=\"UA5\",Dati!D105,)","v":0},{"$f":"IF(Dati!E105=\"UA6\",Dati!D105,)","v":0},{"$f":"IF(Dati!E105=\"UB1\",Dati!D105,)","v":0},{"$f":"IF(Dati!E105=\"UB2\",Dati!D105,)","v":0},{"$f":"IF(Dati!E105=\"UC1\",Dati!D105,)","v":0},{"$f":"IF(Dati!E105=\"UD1\",Dati!D105,)","v":0},{"$f":"IF(Dati!E105=\"UE1\",Dati!D105,)","v":0}]
[{"$f":"Dati!C106","v":"00:00:00"},{"$f":"Dati!H106","v":"00:00:00"},{"$f":"IF(Dati!E106=\"UA1\",Dati!D106,)","v":0},{"$f":"IF(Dati!E106=\"UA2\",Dati!D106,)","v":0},{"$f":"IF(Dati!E106=\"UA3\",Dati!D106,)","v":0},{"$f":"IF(Dati!E106=\"UA4\",Dati!D106,)","v":0},{"$f":"IF(Dati!E106=\"UA5\",Dati!D106,)","v":0},{"$f":"IF(Dati!E106=\"UA6\",Dati!D106,)","v":0},{"$f":"IF(Dati!E106=\"UB1\",Dati!D106,)","v":0},{"$f":"IF(Dati!E106=\"UB2\",Dati!D106,)","v":0},{"$f":"IF(Dati!E106=\"UC1\",Dati!D106,)","v":0},{"$f":"IF(Dati!E106=\"UD1\",Dati!D106,)","v":0},{"$f":"IF(Dati!E106=\"UE1\",Dati!D106,)","v":0}]
[{"$f":"Dati!C107","v":"00:00:00"},{"$f":"Dati!H107","v":"00:00:00"},{"$f":"IF(Dati!E107=\"UA1\",Dati!D107,)","v":0},{"$f":"IF(Dati!E107=\"UA2\",Dati!D107,)","v":0},{"$f":"IF(Dati!E107=\"UA3\",Dati!D107,)","v":0},{"$f":"IF(Dati!E107=\"UA4\",Dati!D107,)","v":0},{"$f":"IF(Dati!E107=\"UA5\",Dati!D107,)","v":0},{"$f":"IF(Dati!E107=\"UA6\",Dati!D107,)","v":0},{"$f":"IF(Dati!E107=\"UB1\",Dati!D107,)","v":0},{"$f":"IF(Dati!E107=\"UB2\",Dati!D107,)","v":0},{"$f":"IF(Dati!E107=\"UC1\",Dati!D107,)","v":0},{"$f":"IF(Dati!E107=\"UD1\",Dati!D107,)","v":0},{"$f":"IF(Dati!E107=\"UE1\",Dati!D107,)","v":0}]
[{"$f":"Dati!C108","v":"00:00:00"},{"$f":"Dati!H108","v":"00:00:00"},{"$f":"IF(Dati!E108=\"UA1\",Dati!D108,)","v":0},{"$f":"IF(Dati!E108=\"UA2\",Dati!D108,)","v":0},{"$f":"IF(Dati!E108=\"UA3\",Dati!D108,)","v":0},{"$f":"IF(Dati!E108=\"UA4\",Dati!D108,)","v":0},{"$f":"IF(Dati!E108=\"UA5\",Dati!D108,)","v":0},{"$f":"IF(Dati!E108=\"UA6\",Dati!D108,)","v":0},{"$f":"IF(Dati!E108=\"UB1\",Dati!D108,)","v":0},{"$f":"IF(Dati!E108=\"UB2\",Dati!D108,)","v":0},{"$f":"IF(Dati!E108=\"UC1\",Dati!D108,)","v":0},{"$f":"IF(Dati!E108=\"UD1\",Dati!D108,)","v":0},{"$f":"IF(Dati!E108=\"UE1\",Dati!D108,)","v":0}]
[{"$f":"Dati!C109","v":"00:00:00"},{"$f":"Dati!H109","v":"00:00:00"},{"$f":"IF(Dati!E109=\"UA1\",Dati!D109,)","v":0},{"$f":"IF(Dati!E109=\"UA2\",Dati!D109,)","v":0},{"$f":"IF(Dati!E109=\"UA3\",Dati!D109,)","v":0},{"$f":"IF(Dati!E109=\"UA4\",Dati!D109,)","v":0},{"$f":"IF(Dati!E109=\"UA5\",Dati!D109,)","v":0},{"$f":"IF(Dati!E109=\"UA6\",Dati!D109,)","v":0},{"$f":"IF(Dati!E109=\"UB1\",Dati!D109,)","v":0},{"$f":"IF(Dati!E109=\"UB2\",Dati!D109,)","v":0},{"$f":"IF(Dati!E109=\"UC1\",Dati!D109,)","v":0},{"$f":"IF(Dati!E109=\"UD1\",Dati!D109,)","v":0},{"$f":"IF(Dati!E109=\"UE1\",Dati!D109,)","v":0}]
[{"$f":"Dati!C110","v":"00:00:00"},{"$f":"Dati!H110","v":"00:00:00"},{"$f":"IF(Dati!E110=\"UA1\",Dati!D110,)","v":0},{"$f":"IF(Dati!E110=\"UA2\",Dati!D110,)","v":0},{"$f":"IF(Dati!E110=\"UA3\",Dati!D110,)","v":0},{"$f":"IF(Dati!E110=\"UA4\",Dati!D110,)","v":0},{"$f":"IF(Dati!E110=\"UA5\",Dati!D110,)","v":0},{"$f":"IF(Dati!E110=\"UA6\",Dati!D110,)","v":0},{"$f":"IF(Dati!E110=\"UB1\",Dati!D110,)","v":0},{"$f":"IF(Dati!E110=\"UB2\",Dati!D110,)","v":0},{"$f":"IF(Dati!E110=\"UC1\",Dati!D110,)","v":0},{"$f":"IF(Dati!E110=\"UD1\",Dati!D110,)","v":0},{"$f":"IF(Dati!E110=\"UE1\",Dati!D110,)","v":0}]
[{"$f":"Dati!C111","v":"00:00:00"},{"$f":"Dati!H111","v":"00:00:00"},{"$f":"IF(Dati!E111=\"UA1\",Dati!D111,)","v":0},{"$f":"IF(Dati!E111=\"UA2\",Dati!D111,)","v":0},{"$f":"IF(Dati!E111=\"UA3\",Dati!D111,)","v":0},{"$f":"IF(Dati!E111=\"UA4\",Dati!D111,)","v":0},{"$f":"IF(Dati!E111=\"UA5\",Dati!D111,)","v":0},{"$f":"IF(Dati!E111=\"UA6\",Dati!D111,)","v":0},{"$f":"IF(Dati!E111=\"UB1\",Dati!D111,)","v":0},{"$f":"IF(Dati!E111=\"UB2\",Dati!D111,)","v":0},{"$f":"IF(Dati!E111=\"UC1\",Dati!D111,)","v":0},{"$f":"IF(Dati!E111=\"UD1\",Dati!D111,)","v":0},{"$f":"IF(Dati!E111=\"UE1\",Dati!D111,)","v":0}]
[{"$f":"Dati!C112","v":"00:00:00"},{"$f":"Dati!H112","v":"00:00:00"},{"$f":"IF(Dati!E112=\"UA1\",Dati!D112,)","v":0},{"$f":"IF(Dati!E112=\"UA2\",Dati!D112,)","v":0},{"$f":"IF(Dati!E112=\"UA3\",Dati!D112,)","v":0},{"$f":"IF(Dati!E112=\"UA4\",Dati!D112,)","v":0},{"$f":"IF(Dati!E112=\"UA5\",Dati!D112,)","v":0},{"$f":"IF(Dati!E112=\"UA6\",Dati!D112,)","v":0},{"$f":"IF(Dati!E112=\"UB1\",Dati!D112,)","v":0},{"$f":"IF(Dati!E112=\"UB2\",Dati!D112,)","v":0},{"$f":"IF(Dati!E112=\"UC1\",Dati!D112,)","v":0},{"$f":"IF(Dati!E112=\"UD1\",Dati!D112,)","v":0},{"$f":"IF(Dati!E112=\"UE1\",Dati!D112,)","v":0}]
[{"$f":"Dati!C113","v":"00:00:00"},{"$f":"Dati!H113","v":"00:00:00"},{"$f":"IF(Dati!E113=\"UA1\",Dati!D113,)","v":0},{"$f":"IF(Dati!E113=\"UA2\",Dati!D113,)","v":0},{"$f":"IF(Dati!E113=\"UA3\",Dati!D113,)","v":0},{"$f":"IF(Dati!E113=\"UA4\",Dati!D113,)","v":0},{"$f":"IF(Dati!E113=\"UA5\",Dati!D113,)","v":0},{"$f":"IF(Dati!E113=\"UA6\",Dati!D113,)","v":0},{"$f":"IF(Dati!E113=\"UB1\",Dati!D113,)","v":0},{"$f":"IF(Dati!E113=\"UB2\",Dati!D113,)","v":0},{"$f":"IF(Dati!E113=\"UC1\",Dati!D113,)","v":0},{"$f":"IF(Dati!E113=\"UD1\",Dati!D113,)","v":0},{"$f":"IF(Dati!E113=\"UE1\",Dati!D113,)","v":0}]
[{"$f":"Dati!C114","v":"00:00:00"},{"$f":"Dati!H114","v":"00:00:00"},{"$f":"IF(Dati!E114=\"UA1\",Dati!D114,)","v":0},{"$f":"IF(Dati!E114=\"UA2\",Dati!D114,)","v":0},{"$f":"IF(Dati!E114=\"UA3\",Dati!D114,)","v":0},{"$f":"IF(Dati!E114=\"UA4\",Dati!D114,)","v":0},{"$f":"IF(Dati!E114=\"UA5\",Dati!D114,)","v":0},{"$f":"IF(Dati!E114=\"UA6\",Dati!D114,)","v":0},{"$f":"IF(Dati!E114=\"UB1\",Dati!D114,)","v":0},{"$f":"IF(Dati!E114=\"UB2\",Dati!D114,)","v":0},{"$f":"IF(Dati!E114=\"UC1\",Dati!D114,)","v":0},{"$f":"IF(Dati!E114=\"UD1\",Dati!D114,)","v":0},{"$f":"IF(Dati!E114=\"UE1\",Dati!D114,)","v":0}]
[{"$f":"Dati!C115","v":"00:00:00"},{"$f":"Dati!H115","v":"00:00:00"},{"$f":"IF(Dati!E115=\"UA1\",Dati!D115,)","v":0},{"$f":"IF(Dati!E115=\"UA2\",Dati!D115,)","v":0},{"$f":"IF(Dati!E115=\"UA3\",Dati!D115,)","v":0},{"$f":"IF(Dati!E115=\"UA4\",Dati!D115,)","v":0},{"$f":"IF(Dati!E115=\"UA5\",Dati!D115,)","v":0},{"$f":"IF(Dati!E115=\"UA6\",Dati!D115,)","v":0},{"$f":"IF(Dati!E115=\"UB1\",Dati!D115,)","v":0},{"$f":"IF(Dati!E115=\"UB2\",Dati!D115,)","v":0},{"$f":"IF(Dati!E115=\"UC1\",Dati!D115,)","v":0},{"$f":"IF(Dati!E115=\"UD1\",Dati!D115,)","v":0},{"$f":"IF(Dati!E115=\"UE1\",Dati!D115,)","v":0}]
[{"$f":"Dati!C116","v":"00:00:00"},{"$f":"Dati!H116","v":"00:00:00"},{"$f":"IF(Dati!E116=\"UA1\",Dati!D116,)","v":0},{"$f":"IF(Dati!E116=\"UA2\",Dati!D116,)","v":0},{"$f":"IF(Dati!E116=\"UA3\",Dati!D116,)","v":0},{"$f":"IF(Dati!E116=\"UA4\",Dati!D116,)","v":0},{"$f":"IF(Dati!E116=\"UA5\",Dati!D116,)","v":0},{"$f":"IF(Dati!E116=\"UA6\",Dati!D116,)","v":0},{"$f":"IF(Dati!E116=\"UB1\",Dati!D116,)","v":0},{"$f":"IF(Dati!E116=\"UB2\",Dati!D116,)","v":0},{"$f":"IF(Dati!E116=\"UC1\",Dati!D116,)","v":0},{"$f":"IF(Dati!E116=\"UD1\",Dati!D116,)","v":0},{"$f":"IF(Dati!E116=\"UE1\",Dati!D116,)","v":0}]
[{"$f":"Dati!C117","v":"00:00:00"},{"$f":"Dati!H117","v":"00:00:00"},{"$f":"IF(Dati!E117=\"UA1\",Dati!D117,)","v":0},{"$f":"IF(Dati!E117=\"UA2\",Dati!D117,)","v":0},{"$f":"IF(Dati!E117=\"UA3\",Dati!D117,)","v":0},{"$f":"IF(Dati!E117=\"UA4\",Dati!D117,)","v":0},{"$f":"IF(Dati!E117=\"UA5\",Dati!D117,)","v":0},{"$f":"IF(Dati!E117=\"UA6\",Dati!D117,)","v":0},{"$f":"IF(Dati!E117=\"UB1\",Dati!D117,)","v":0},{"$f":"IF(Dati!E117=\"UB2\",Dati!D117,)","v":0},{"$f":"IF(Dati!E117=\"UC1\",Dati!D117,)","v":0},{"$f":"IF(Dati!E117=\"UD1\",Dati!D117,)","v":0},{"$f":"IF(Dati!E117=\"UE1\",Dati!D117,)","v":0}]
[{"$f":"Dati!C118","v":"00:00:00"},{"$f":"Dati!H118","v":"00:00:00"},{"$f":"IF(Dati!E118=\"UA1\",Dati!D118,)","v":0},{"$f":"IF(Dati!E118=\"UA2\",Dati!D118,)","v":0},{"$f":"IF(Dati!E118=\"UA3\",Dati!D118,)","v":0},{"$f":"IF(Dati!E118=\"UA4\",Dati!D118,)","v":0},{"$f":"IF(Dati!E118=\"UA5\",Dati!D118,)","v":0},{"$f":"IF(Dati!E118=\"UA6\",Dati!D118,)","v":0},{"$f":"IF(Dati!E118=\"UB1\",Dati!D118,)","v":0},{"$f":"IF(Dati!E118=\"UB2\",Dati!D118,)","v":0},{"$f":"IF(Dati!E118=\"UC1\",Dati!D118,)","v":0},{"$f":"IF(Dati!E118=\"UD1\",Dati!D118,)","v":0},{"$f":"IF(Dati!E118=\"UE1\",Dati!D118,)","v":0}]
[{"$f":"Dati!C119","v":"00:00:00"},{"$f":"Dati!H119","v":"00:00:00"},{"$f":"IF(Dati!E119=\"UA1\",Dati!D119,)","v":0},{"$f":"IF(Dati!E119=\"UA2\",Dati!D119,)","v":0},{"$f":"IF(Dati!E119=\"UA3\",Dati!D119,)","v":0},{"$f":"IF(Dati!E119=\"UA4\",Dati!D119,)","v":0},{"$f":"IF(Dati!E119=\"UA5\",Dati!D119,)","v":0},{"$f":"IF(Dati!E119=\"UA6\",Dati!D119,)","v":0},{"$f":"IF(Dati!E119=\"UB1\",Dati!D119,)","v":0},{"$f":"IF(Dati!E119=\"UB2\",Dati!D119,)","v":0},{"$f":"IF(Dati!E119=\"UC1\",Dati!D119,)","v":0},{"$f":"IF(Dati!E119=\"UD1\",Dati!D119,)","v":0},{"$f":"IF(Dati!E119=\"UE1\",Dati!D119,)","v":0}]
[{"$f":"Dati!C120","v":"00:00:00"},{"$f":"Dati!H120","v":"00:00:00"},{"$f":"IF(Dati!E120=\"UA1\",Dati!D120,)","v":0},{"$f":"IF(Dati!E120=\"UA2\",Dati!D120,)","v":0},{"$f":"IF(Dati!E120=\"UA3\",Dati!D120,)","v":0},{"$f":"IF(Dati!E120=\"UA4\",Dati!D120,)","v":0},{"$f":"IF(Dati!E120=\"UA5\",Dati!D120,)","v":0},{"$f":"IF(Dati!E120=\"UA6\",Dati!D120,)","v":0},{"$f":"IF(Dati!E120=\"UB1\",Dati!D120,)","v":0},{"$f":"IF(Dati!E120=\"UB2\",Dati!D120,)","v":0},{"$f":"IF(Dati!E120=\"UC1\",Dati!D120,)","v":0},{"$f":"IF(Dati!E120=\"UD1\",Dati!D120,)","v":0},{"$f":"IF(Dati!E120=\"UE1\",Dati!D120,)","v":0}]
[{"$f":"Dati!C121","v":"00:00:00"},{"$f":"Dati!H121","v":"00:00:00"},{"$f":"IF(Dati!E121=\"UA1\",Dati!D121,)","v":0},{"$f":"IF(Dati!E121=\"UA2\",Dati!D121,)","v":0},{"$f":"IF(Dati!E121=\"UA3\",Dati!D121,)","v":0},{"$f":"IF(Dati!E121=\"UA4\",Dati!D121,)","v":0},{"$f":"IF(Dati!E121=\"UA5\",Dati!D121,)","v":0},{"$f":"IF(Dati!E121=\"UA6\",Dati!D121,)","v":0},{"$f":"IF(Dati!E121=\"UB1\",Dati!D121,)","v":0},{"$f":"IF(Dati!E121=\"UB2\",Dati!D121,)","v":0},{"$f":"IF(Dati!E121=\"UC1\",Dati!D121,)","v":0},{"$f":"IF(Dati!E121=\"UD1\",Dati!D121,)","v":0},{"$f":"IF(Dati!E121=\"UE1\",Dati!D121,)","v":0}]
[{"$f":"Dati!C122","v":"00:00:00"},{"$f":"Dati!H122","v":"00:00:00"},{"$f":"IF(Dati!E122=\"UA1\",Dati!D122,)","v":0},{"$f":"IF(Dati!E122=\"UA2\",Dati!D122,)","v":0},{"$f":"IF(Dati!E122=\"UA3\",Dati!D122,)","v":0},{"$f":"IF(Dati!E122=\"UA4\",Dati!D122,)","v":0},{"$f":"IF(Dati!E122=\"UA5\",Dati!D122,)","v":0},{"$f":"IF(Dati!E122=\"UA6\",Dati!D122,)","v":0},{"$f":"IF(Dati!E122=\"UB1\",Dati!D122,)","v":0},{"$f":"IF(Dati!E122=\"UB2\",Dati!D122,)","v":0},{"$f":"IF(Dati!E122=\"UC1\",Dati!D122,)","v":0},{"$f":"IF(Dati!E122=\"UD1\",Dati!D122,)","v":0},{"$f":"IF(Dati!E122=\"UE1\",Dati!D122,)","v":0}]
[{"$f":"Dati!C123","v":"00:00:00"},{"$f":"Dati!H123","v":"00:00:00"},{"$f":"IF(Dati!E123=\"UA1\",Dati!D123,)","v":0},{"$f":"IF(Dati!E123=\"UA2\",Dati!D123,)","v":0},{"$f":"IF(Dati!E123=\"UA3\",Dati!D123,)","v":0},{"$f":"IF(Dati!E123=\"UA4\",Dati!D123,)","v":0},{"$f":"IF(Dati!E123=\"UA5\",Dati!D123,)","v":0},{"$f":"IF(Dati!E123=\"UA6\",Dati!D123,)","v":0},{"$f":"IF(Dati!E123=\"UB1\",Dati!D123,)","v":0},{"$f":"IF(Dati!E123=\"UB2\",Dati!D123,)","v":0},{"$f":"IF(Dati!E123=\"UC1\",Dati!D123,)","v":0},{"$f":"IF(Dati!E123=\"UD1\",Dati!D123,)","v":0},{"$f":"IF(Dati!E123=\"UE1\",Dati!D123,)","v":0}]
[{"$f":"Dati!C124","v":"00:00:00"},{"$f":"Dati!H124","v":"00:00:00"},{"$f":"IF(Dati!E124=\"UA1\",Dati!D124,)","v":0},{"$f":"IF(Dati!E124=\"UA2\",Dati!D124,)","v":0},{"$f":"IF(Dati!E124=\"UA3\",Dati!D124,)","v":0},{"$f":"IF(Dati!E124=\"UA4\",Dati!D124,)","v":0},{"$f":"IF(Dati!E124=\"UA5\",Dati!D124,)","v":0},{"$f":"IF(Dati!E124=\"UA6\",Dati!D124,)","v":0},{"$f":"IF(Dati!E124=\"UB1\",Dati!D124,)","v":0},{"$f":"IF(Dati!E124=\"UB2\",Dati!D124,)","v":0},{"$f":"IF(Dati!E124=\"UC1\",Dati!D124,)","v":0},{"$f":"IF(Dati!E124=\"UD1\",Dati!D124,)","v":0},{"$f":"IF(Dati!E124=\"UE1\",Dati!D124,)","v":0}]
[{"$f":"Dati!C125","v":"00:00:00"},{"$f":"Dati!H125","v":"00:00:00"},{"$f":"IF(Dati!E125=\"UA1\",Dati!D125,)","v":0},{"$f":"IF(Dati!E125=\"UA2\",Dati!D125,)","v":0},{"$f":"IF(Dati!E125=\"UA3\",Dati!D125,)","v":0},{"$f":"IF(Dati!E125=\"UA4\",Dati!D125,)","v":0},{"$f":"IF(Dati!E125=\"UA5\",Dati!D125,)","v":0},{"$f":"IF(Dati!E125=\"UA6\",Dati!D125,)","v":0},{"$f":"IF(Dati!E125=\"UB1\",Dati!D125,)","v":0},{"$f":"IF(Dati!E125=\"UB2\",Dati!D125,)","v":0},{"$f":"IF(Dati!E125=\"UC1\",Dati!D125,)","v":0},{"$f":"IF(Dati!E125=\"UD1\",Dati!D125,)","v":0},{"$f":"IF(Dati!E125=\"UE1\",Dati!D125,)","v":0}]
[{"$f":"Dati!C126","v":"00:00:00"},{"$f":"Dati!H126","v":"00:00:00"},{"$f":"IF(Dati!E126=\"UA1\",Dati!D126,)","v":0},{"$f":"IF(Dati!E126=\"UA2\",Dati!D126,)","v":0},{"$f":"IF(Dati!E126=\"UA3\",Dati!D126,)","v":0},{"$f":"IF(Dati!E126=\"UA4\",Dati!D126,)","v":0},{"$f":"IF(Dati!E126=\"UA5\",Dati!D126,)","v":0},{"$f":"IF(Dati!E126=\"UA6\",Dati!D126,)","v":0},{"$f":"IF(Dati!E126=\"UB1\",Dati!D126,)","v":0},{"$f":"IF(Dati!E126=\"UB2\",Dati!D126,)","v":0},{"$f":"IF(Dati!E126=\"UC1\",Dati!D126,)","v":0},{"$f":"IF(Dati!E126=\"UD1\",Dati!D126,)","v":0},{"$f":"IF(Dati!E126=\"UE1\",Dati!D126,)","v":0}]
[{"$f":"Dati!C127","v":"00:00:00"},{"$f":"Dati!H127","v":"00:00:00"},{"$f":"IF(Dati!E127=\"UA1\",Dati!D127,)","v":0},{"$f":"IF(Dati!E127=\"UA2\",Dati!D127,)","v":0},{"$f":"IF(Dati!E127=\"UA3\",Dati!D127,)","v":0},{"$f":"IF(Dati!E127=\"UA4\",Dati!D127,)","v":0},{"$f":"IF(Dati!E127=\"UA5\",Dati!D127,)","v":0},{"$f":"IF(Dati!E127=\"UA6\",Dati!D127,)","v":0},{"$f":"IF(Dati!E127=\"UB1\",Dati!D127,)","v":0},{"$f":"IF(Dati!E127=\"UB2\",Dati!D127,)","v":0},{"$f":"IF(Dati!E127=\"UC1\",Dati!D127,)","v":0},{"$f":"IF(Dati!E127=\"UD1\",Dati!D127,)","v":0},{"$f":"IF(Dati!E127=\"UE1\",Dati!D127,)","v":0}]
[{"$f":"Dati!C128","v":"00:00:00"},{"$f":"Dati!H128","v":"00:00:00"},{"$f":"IF(Dati!E128=\"UA1\",Dati!D128,)","v":0},{"$f":"IF(Dati!E128=\"UA2\",Dati!D128,)","v":0},{"$f":"IF(Dati!E128=\"UA3\",Dati!D128,)","v":0},{"$f":"IF(Dati!E128=\"UA4\",Dati!D128,)","v":0},{"$f":"IF(Dati!E128=\"UA5\",Dati!D128,)","v":0},{"$f":"IF(Dati!E128=\"UA6\",Dati!D128,)","v":0},{"$f":"IF(Dati!E128=\"UB1\",Dati!D128,)","v":0},{"$f":"IF(Dati!E128=\"UB2\",Dati!D128,)","v":0},{"$f":"IF(Dati!E128=\"UC1\",Dati!D128,)","v":0},{"$f":"IF(Dati!E128=\"UD1\",Dati!D128,)","v":0},{"$f":"IF(Dati!E128=\"UE1\",Dati!D128,)","v":0}]
[{"$f":"Dati!C129","v":"00:00:00"},{"$f":"Dati!H129","v":"00:00:00"},{"$f":"IF(Dati!E129=\"UA1\",Dati!D129,)","v":0},{"$f":"IF(Dati!E129=\"UA2\",Dati!D129,)","v":0},{"$f":"IF(Dati!E129=\"UA3\",Dati!D129,)","v":0},{"$f":"IF(Dati!E129=\"UA4\",Dati!D129,)","v":0},{"$f":"IF(Dati!E129=\"UA5\",Dati!D129,)","v":0},{"$f":"IF(Dati!E129=\"UA6\",Dati!D129,)","v":0},{"$f":"IF(Dati!E129=\"UB1\",Dati!D129,)","v":0},{"$f":"IF(Dati!E129=\"UB2\",Dati!D129,)","v":0},{"$f":"IF(Dati!E129=\"UC1\",Dati!D129,)","v":0},{"$f":"IF(Dati!E129=\"UD1\",Dati!D129,)","v":0},{"$f":"IF(Dati!E129=\"UE1\",Dati!D129,)","v":0}]
[{"$f":"Dati!C130","v":"00:00:00"},{"$f":"Dati!H130","v":"00:00:00"},{"$f":"IF(Dati!E130=\"UA1\",Dati!D130,)","v":0},{"$f":"IF(Dati!E130=\"UA2\",Dati!D130,)","v":0},{"$f":"IF(Dati!E130=\"UA3\",Dati!D130,)","v":0},{"$f":"IF(Dati!E130=\"UA4\",Dati!D130,)","v":0},{"$f":"IF(Dati!E130=\"UA5\",Dati!D130,)","v":0},{"$f":"IF(Dati!E130=\"UA6\",Dati!D130,)","v":0},{"$f":"IF(Dati!E130=\"UB1\",Dati!D130,)","v":0},{"$f":"IF(Dati!E130=\"UB2\",Dati!D130,)","v":0},{"$f":"IF(Dati!E130=\"UC1\",Dati!D130,)","v":0},{"$f":"IF(Dati!E130=\"UD1\",Dati!D130,)","v":0},{"$f":"IF(Dati!E130=\"UE1\",Dati!D130,)","v":0}]
[{"$f":"Dati!C131","v":"00:00:00"},{"$f":"Dati!H131","v":"00:00:00"},{"$f":"IF(Dati!E131=\"UA1\",Dati!D131,)","v":0},{"$f":"IF(Dati!E131=\"UA2\",Dati!D131,)","v":0},{"$f":"IF(Dati!E131=\"UA3\",Dati!D131,)","v":0},{"$f":"IF(Dati!E131=\"UA4\",Dati!D131,)","v":0},{"$f":"IF(Dati!E131=\"UA5\",Dati!D131,)","v":0},{"$f":"IF(Dati!E131=\"UA6\",Dati!D131,)","v":0},{"$f":"IF(Dati!E131=\"UB1\",Dati!D131,)","v":0},{"$f":"IF(Dati!E131=\"UB2\",Dati!D131,)","v":0},{"$f":"IF(Dati!E131=\"UC1\",Dati!D131,)","v":0},{"$f":"IF(Dati!E131=\"UD1\",Dati!D131,)","v":0},{"$f":"IF(Dati!E131=\"UE1\",Dati!D131,)","v":0}]
[{"$f":"Dati!C132","v":"00:00:00"},{"$f":"Dati!H132","v":"00:00:00"},{"$f":"IF(Dati!E132=\"UA1\",Dati!D132,)","v":0},{"$f":"IF(Dati!E132=\"UA2\",Dati!D132,)","v":0},{"$f":"IF(Dati!E132=\"UA3\",Dati!D132,)","v":0},{"$f":"IF(Dati!E132=\"UA4\",Dati!D132,)","v":0},{"$f":"IF(Dati!E132=\"UA5\",Dati!D132,)","v":0},{"$f":"IF(Dati!E132=\"UA6\",Dati!D132,)","v":0},{"$f":"IF(Dati!E132=\"UB1\",Dati!D132,)","v":0},{"$f":"IF(Dati!E132=\"UB2\",Dati!D132,)","v":0},{"$f":"IF(Dati!E132=\"UC1\",Dati!D132,)","v":0},{"$f":"IF(Dati!E132=\"UD1\",Dati!D132,)","v":0},{"$f":"IF(Dati!E132=\"UE1\",Dati!D132,)","v":0}]
[{"$f":"Dati!C133","v":"00:00:00"},{"$f":"Dati!H133","v":"00:00:00"},{"$f":"IF(Dati!E133=\"UA1\",Dati!D133,)","v":0},{"$f":"IF(Dati!E133=\"UA2\",Dati!D133,)","v":0},{"$f":"IF(Dati!E133=\"UA3\",Dati!D133,)","v":0},{"$f":"IF(Dati!E133=\"UA4\",Dati!D133,)","v":0},{"$f":"IF(Dati!E133=\"UA5\",Dati!D133,)","v":0},{"$f":"IF(Dati!E133=\"UA6\",Dati!D133,)","v":0},{"$f":"IF(Dati!E133=\"UB1\",Dati!D133,)","v":0},{"$f":"IF(Dati!E133=\"UB2\",Dati!D133,)","v":0},{"$f":"IF(Dati!E133=\"UC1\",Dati!D133,)","v":0},{"$f":"IF(Dati!E133=\"UD1\",Dati!D133,)","v":0},{"$f":"IF(Dati!E133=\"UE1\",Dati!D133,)","v":0}]
[{"$f":"Dati!C134","v":"00:00:00"},{"$f":"Dati!H134","v":"00:00:00"},{"$f":"IF(Dati!E134=\"UA1\",Dati!D134,)","v":0},{"$f":"IF(Dati!E134=\"UA2\",Dati!D134,)","v":0},{"$f":"IF(Dati!E134=\"UA3\",Dati!D134,)","v":0},{"$f":"IF(Dati!E134=\"UA4\",Dati!D134,)","v":0},{"$f":"IF(Dati!E134=\"UA5\",Dati!D134,)","v":0},{"$f":"IF(Dati!E134=\"UA6\",Dati!D134,)","v":0},{"$f":"IF(Dati!E134=\"UB1\",Dati!D134,)","v":0},{"$f":"IF(Dati!E134=\"UB2\",Dati!D134,)","v":0},{"$f":"IF(Dati!E134=\"UC1\",Dati!D134,)","v":0},{"$f":"IF(Dati!E134=\"UD1\",Dati!D134,)","v":0},{"$f":"IF(Dati!E134=\"UE1\",Dati!D134,)","v":0}]
[{"$f":"Dati!C135","v":"00:00:00"},{"$f":"Dati!H135","v":"00:00:00"},{"$f":"IF(Dati!E135=\"UA1\",Dati!D135,)","v":0},{"$f":"IF(Dati!E135=\"UA2\",Dati!D135,)","v":0},{"$f":"IF(Dati!E135=\"UA3\",Dati!D135,)","v":0},{"$f":"IF(Dati!E135=\"UA4\",Dati!D135,)","v":0},{"$f":"IF(Dati!E135=\"UA5\",Dati!D135,)","v":0},{"$f":"IF(Dati!E135=\"UA6\",Dati!D135,)","v":0},{"$f":"IF(Dati!E135=\"UB1\",Dati!D135,)","v":0},{"$f":"IF(Dati!E135=\"UB2\",Dati!D135,)","v":0},{"$f":"IF(Dati!E135=\"UC1\",Dati!D135,)","v":0},{"$f":"IF(Dati!E135=\"UD1\",Dati!D135,)","v":0},{"$f":"IF(Dati!E135=\"UE1\",Dati!D135,)","v":0}]
[{"$f":"Dati!C136","v":"00:00:00"},{"$f":"Dati!H136","v":"00:00:00"},{"$f":"IF(Dati!E136=\"UA1\",Dati!D136,)","v":0},{"$f":"IF(Dati!E136=\"UA2\",Dati!D136,)","v":0},{"$f":"IF(Dati!E136=\"UA3\",Dati!D136,)","v":0},{"$f":"IF(Dati!E136=\"UA4\",Dati!D136,)","v":0},{"$f":"IF(Dati!E136=\"UA5\",Dati!D136,)","v":0},{"$f":"IF(Dati!E136=\"UA6\",Dati!D136,)","v":0},{"$f":"IF(Dati!E136=\"UB1\",Dati!D136,)","v":0},{"$f":"IF(Dati!E136=\"UB2\",Dati!D136,)","v":0},{"$f":"IF(Dati!E136=\"UC1\",Dati!D136,)","v":0},{"$f":"IF(Dati!E136=\"UD1\",Dati!D136,)","v":0},{"$f":"IF(Dati!E136=\"UE1\",Dati!D136,)","v":0}]
[{"$f":"Dati!C137","v":"00:00:00"},{"$f":"Dati!H137","v":"00:00:00"},{"$f":"IF(Dati!E137=\"UA1\",Dati!D137,)","v":0},{"$f":"IF(Dati!E137=\"UA2\",Dati!D137,)","v":0},{"$f":"IF(Dati!E137=\"UA3\",Dati!D137,)","v":0},{"$f":"IF(Dati!E137=\"UA4\",Dati!D137,)","v":0},{"$f":"IF(Dati!E137=\"UA5\",Dati!D137,)","v":0},{"$f":"IF(Dati!E137=\"UA6\",Dati!D137,)","v":0},{"$f":"IF(Dati!E137=\"UB1\",Dati!D137,)","v":0},{"$f":"IF(Dati!E137=\"UB2\",Dati!D137,)","v":0},{"$f":"IF(Dati!E137=\"UC1\",Dati!D137,)","v":0},{"$f":"IF(Dati!E137=\"UD1\",Dati!D137,)","v":0},{"$f":"IF(Dati!E137=\"UE1\",Dati!D137,)","v":0}]
[{"$f":"Dati!C138","v":"00:00:00"},{"$f":"Dati!H138","v":"00:00:00"},{"$f":"IF(Dati!E138=\"UA1\",Dati!D138,)","v":0},{"$f":"IF(Dati!E138=\"UA2\",Dati!D138,)","v":0},{"$f":"IF(Dati!E138=\"UA3\",Dati!D138,)","v":0},{"$f":"IF(Dati!E138=\"UA4\",Dati!D138,)","v":0},{"$f":"IF(Dati!E138=\"UA5\",Dati!D138,)","v":0},{"$f":"IF(Dati!E138=\"UA6\",Dati!D138,)","v":0},{"$f":"IF(Dati!E138=\"UB1\",Dati!D138,)","v":0},{"$f":"IF(Dati!E138=\"UB2\",Dati!D138,)","v":0},{"$f":"IF(Dati!E138=\"UC1\",Dati!D138,)","v":0},{"$f":"IF(Dati!E138=\"UD1\",Dati!D138,)","v":0},{"$f":"IF(Dati!E138=\"UE1\",Dati!D138,)","v":0}]
[{"$f":"Dati!C139","v":"00:00:00"},{"$f":"Dati!H139","v":"00:00:00"},{"$f":"IF(Dati!E139=\"UA1\",Dati!D139,)","v":0},{"$f":"IF(Dati!E139=\"UA2\",Dati!D139,)","v":0},{"$f":"IF(Dati!E139=\"UA3\",Dati!D139,)","v":0},{"$f":"IF(Dati!E139=\"UA4\",Dati!D139,)","v":0},{"$f":"IF(Dati!E139=\"UA5\",Dati!D139,)","v":0},{"$f":"IF(Dati!E139=\"UA6\",Dati!D139,)","v":0},{"$f":"IF(Dati!E139=\"UB1\",Dati!D139,)","v":0},{"$f":"IF(Dati!E139=\"UB2\",Dati!D139,)","v":0},{"$f":"IF(Dati!E139=\"UC1\",Dati!D139,)","v":0},{"$f":"IF(Dati!E139=\"UD1\",Dati!D139,)","v":0},{"$f":"IF(Dati!E139=\"UE1\",Dati!D139,)","v":0}]
[{"$f":"Dati!C140","v":"00:00:00"},{"$f":"Dati!H140","v":"00:00:00"},{"$f":"IF(Dati!E140=\"UA1\",Dati!D140,)","v":0},{"$f":"IF(Dati!E140=\"UA2\",Dati!D140,)","v":0},{"$f":"IF(Dati!E140=\"UA3\",Dati!D140,)","v":0},{"$f":"IF(Dati!E140=\"UA4\",Dati!D140,)","v":0},{"$f":"IF(Dati!E140=\"UA5\",Dati!D140,)","v":0},{"$f":"IF(Dati!E140=\"UA6\",Dati!D140,)","v":0},{"$f":"IF(Dati!E140=\"UB1\",Dati!D140,)","v":0},{"$f":"IF(Dati!E140=\"UB2\",Dati!D140,)","v":0},{"$f":"IF(Dati!E140=\"UC1\",Dati!D140,)","v":0},{"$f":"IF(Dati!E140=\"UD1\",Dati!D140,)","v":0},{"$f":"IF(Dati!E140=\"UE1\",Dati!D140,)","v":0}]
[{"$f":"Dati!C141","v":"00:00:00"},{"$f":"Dati!H141","v":"00:00:00"},{"$f":"IF(Dati!E141=\"UA1\",Dati!D141,)","v":0},{"$f":"IF(Dati!E141=\"UA2\",Dati!D141,)","v":0},{"$f":"IF(Dati!E141=\"UA3\",Dati!D141,)","v":0},{"$f":"IF(Dati!E141=\"UA4\",Dati!D141,)","v":0},{"$f":"IF(Dati!E141=\"UA5\",Dati!D141,)","v":0},{"$f":"IF(Dati!E141=\"UA6\",Dati!D141,)","v":0},{"$f":"IF(Dati!E141=\"UB1\",Dati!D141,)","v":0},{"$f":"IF(Dati!E141=\"UB2\",Dati!D141,)","v":0},{"$f":"IF(Dati!E141=\"UC1\",Dati!D141,)","v":0},{"$f":"IF(Dati!E141=\"UD1\",Dati!D141,)","v":0},{"$f":"IF(Dati!E141=\"UE1\",Dati!D141,)","v":0}]
[{"$f":"Dati!C142","v":"00:00:00"},{"$f":"Dati!H142","v":"00:00:00"},{"$f":"IF(Dati!E142=\"UA1\",Dati!D142,)","v":0},{"$f":"IF(Dati!E142=\"UA2\",Dati!D142,)","v":0},{"$f":"IF(Dati!E142=\"UA3\",Dati!D142,)","v":0},{"$f":"IF(Dati!E142=\"UA4\",Dati!D142,)","v":0},{"$f":"IF(Dati!E142=\"UA5\",Dati!D142,)","v":0},{"$f":"IF(Dati!E142=\"UA6\",Dati!D142,)","v":0},{"$f":"IF(Dati!E142=\"UB1\",Dati!D142,)","v":0},{"$f":"IF(Dati!E142=\"UB2\",Dati!D142,)","v":0},{"$f":"IF(Dati!E142=\"UC1\",Dati!D142,)","v":0},{"$f":"IF(Dati!E142=\"UD1\",Dati!D142,)","v":0},{"$f":"IF(Dati!E142=\"UE1\",Dati!D142,)","v":0}]
[{"$f":"Dati!C143","v":"00:00:00"},{"$f":"Dati!H143","v":"00:00:00"},{"$f":"IF(Dati!E143=\"UA1\",Dati!D143,)","v":0},{"$f":"IF(Dati!E143=\"UA2\",Dati!D143,)","v":0},{"$f":"IF(Dati!E143=\"UA3\",Dati!D143,)","v":0},{"$f":"IF(Dati!E143=\"UA4\",Dati!D143,)","v":0},{"$f":"IF(Dati!E143=\"UA5\",Dati!D143,)","v":0},{"$f":"IF(Dati!E143=\"UA6\",Dati!D143,)","v":0},{"$f":"IF(Dati!E143=\"UB1\",Dati!D143,)","v":0},{"$f":"IF(Dati!E143=\"UB2\",Dati!D143,)","v":0},{"$f":"IF(Dati!E143=\"UC1\",Dati!D143,)","v":0},{"$f":"IF(Dati!E143=\"UD1\",Dati!D143,)","v":0},{"$f":"IF(Dati!E143=\"UE1\",Dati!D143,)","v":0}]
[{"$f":"Dati!C144","v":"00:00:00"},{"$f":"Dati!H144","v":"00:00:00"},{"$f":"IF(Dati!E144=\"UA1\",Dati!D144,)","v":0},{"$f":"IF(Dati!E144=\"UA2\",Dati!D144,)","v":0},{"$f":"IF(Dati!E144=\"UA3\",Dati!D144,)","v":0},{"$f":"IF(Dati!E144=\"UA4\",Dati!D144,)","v":0},{"$f":"IF(Dati!E144=\"UA5\",Dati!D144,)","v":0},{"$f":"IF(Dati!E144=\"UA6\",Dati!D144,)","v":0},{"$f":"IF(Dati!E144=\"UB1\",Dati!D144,)","v":0},{"$f":"IF(Dati!E144=\"UB2\",Dati!D144,)","v":0},{"$f":"IF(Dati!E144=\"UC1\",Dati!D144,)","v":0},{"$f":"IF(Dati!E144=\"UD1\",Dati!D144,)","v":0},{"$f":"IF(Dati!E144=\"UE1\",Dati!D144,)","v":0}]
[{"$f":"Dati!C145","v":"00:00:00"},{"$f":"Dati!H145","v":"00:00:00"},{"$f":"IF(Dati!E145=\"UA1\",Dati!D145,)","v":0},{"$f":"IF(Dati!E145=\"UA2\",Dati!D145,)","v":0},{"$f":"IF(Dati!E145=\"UA3\",Dati!D145,)","v":0},{"$f":"IF(Dati!E145=\"UA4\",Dati!D145,)","v":0},{"$f":"IF(Dati!E145=\"UA5\",Dati!D145,)","v":0},{"$f":"IF(Dati!E145=\"UA6\",Dati!D145,)","v":0},{"$f":"IF(Dati!E145=\"UB1\",Dati!D145,)","v":0},{"$f":"IF(Dati!E145=\"UB2\",Dati!D145,)","v":0},{"$f":"IF(Dati!E145=\"UC1\",Dati!D145,)","v":0},{"$f":"IF(Dati!E145=\"UD1\",Dati!D145,)","v":0},{"$f":"IF(Dati!E145=\"UE1\",Dati!D145,)","v":0}]
[{"$f":"Dati!C146","v":"00:00:00"},{"$f":"Dati!H146","v":"00:00:00"},{"$f":"IF(Dati!E146=\"UA1\",Dati!D146,)","v":0},{"$f":"IF(Dati!E146=\"UA2\",Dati!D146,)","v":0},{"$f":"IF(Dati!E146=\"UA3\",Dati!D146,)","v":0},{"$f":"IF(Dati!E146=\"UA4\",Dati!D146,)","v":0},{"$f":"IF(Dati!E146=\"UA5\",Dati!D146,)","v":0},{"$f":"IF(Dati!E146=\"UA6\",Dati!D146,)","v":0},{"$f":"IF(Dati!E146=\"UB1\",Dati!D146,)","v":0},{"$f":"IF(Dati!E146=\"UB2\",Dati!D146,)","v":0},{"$f":"IF(Dati!E146=\"UC1\",Dati!D146,)","v":0},{"$f":"IF(Dati!E146=\"UD1\",Dati!D146,)","v":0},{"$f":"IF(Dati!E146=\"UE1\",Dati!D146,)","v":0}]
[{"$f":"Dati!C147","v":"00:00:00"},{"$f":"Dati!H147","v":"00:00:00"},{"$f":"IF(Dati!E147=\"UA1\",Dati!D147,)","v":0},{"$f":"IF(Dati!E147=\"UA2\",Dati!D147,)","v":0},{"$f":"IF(Dati!E147=\"UA3\",Dati!D147,)","v":0},{"$f":"IF(Dati!E147=\"UA4\",Dati!D147,)","v":0},{"$f":"IF(Dati!E147=\"UA5\",Dati!D147,)","v":0},{"$f":"IF(Dati!E147=\"UA6\",Dati!D147,)","v":0},{"$f":"IF(Dati!E147=\"UB1\",Dati!D147,)","v":0},{"$f":"IF(Dati!E147=\"UB2\",Dati!D147,)","v":0},{"$f":"IF(Dati!E147=\"UC1\",Dati!D147,)","v":0},{"$f":"IF(Dati!E147=\"UD1\",Dati!D147,)","v":0},{"$f":"IF(Dati!E147=\"UE1\",Dati!D147,)","v":0}]
[{"$f":"Dati!C148","v":"00:00:00"},{"$f":"Dati!H148","v":"00:00:00"},{"$f":"IF(Dati!E148=\"UA1\",Dati!D148,)","v":0},{"$f":"IF(Dati!E148=\"UA2\",Dati!D148,)","v":0},{"$f":"IF(Dati!E148=\"UA3\",Dati!D148,)","v":0},{"$f":"IF(Dati!E148=\"UA4\",Dati!D148,)","v":0},{"$f":"IF(Dati!E148=\"UA5\",Dati!D148,)","v":0},{"$f":"IF(Dati!E148=\"UA6\",Dati!D148,)","v":0},{"$f":"IF(Dati!E148=\"UB1\",Dati!D148,)","v":0},{"$f":"IF(Dati!E148=\"UB2\",Dati!D148,)","v":0},{"$f":"IF(Dati!E148=\"UC1\",Dati!D148,)","v":0},{"$f":"IF(Dati!E148=\"UD1\",Dati!D148,)","v":0},{"$f":"IF(Dati!E148=\"UE1\",Dati!D148,)","v":0}]
[{"$f":"Dati!C149","v":"00:00:00"},{"$f":"Dati!H149","v":"00:00:00"},{"$f":"IF(Dati!E149=\"UA1\",Dati!D149,)","v":0},{"$f":"IF(Dati!E149=\"UA2\",Dati!D149,)","v":0},{"$f":"IF(Dati!E149=\"UA3\",Dati!D149,)","v":0},{"$f":"IF(Dati!E149=\"UA4\",Dati!D149,)","v":0},{"$f":"IF(Dati!E149=\"UA5\",Dati!D149,)","v":0},{"$f":"IF(Dati!E149=\"UA6\",Dati!D149,)","v":0},{"$f":"IF(Dati!E149=\"UB1\",Dati!D149,)","v":0},{"$f":"IF(Dati!E149=\"UB2\",Dati!D149,)","v":0},{"$f":"IF(Dati!E149=\"UC1\",Dati!D149,)","v":0},{"$f":"IF(Dati!E149=\"UD1\",Dati!D149,)","v":0},{"$f":"IF(Dati!E149=\"UE1\",Dati!D149,)","v":0}]
[{"$f":"Dati!C150","v":"00:00:00"},{"$f":"Dati!H150","v":"00:00:00"},{"$f":"IF(Dati!E150=\"UA1\",Dati!D150,)","v":0},{"$f":"IF(Dati!E150=\"UA2\",Dati!D150,)","v":0},{"$f":"IF(Dati!E150=\"UA3\",Dati!D150,)","v":0},{"$f":"IF(Dati!E150=\"UA4\",Dati!D150,)","v":0},{"$f":"IF(Dati!E150=\"UA5\",Dati!D150,)","v":0},{"$f":"IF(Dati!E150=\"UA6\",Dati!D150,)","v":0},{"$f":"IF(Dati!E150=\"UB1\",Dati!D150,)","v":0},{"$f":"IF(Dati!E150=\"UB2\",Dati!D150,)","v":0},{"$f":"IF(Dati!E150=\"UC1\",Dati!D150,)","v":0},{"$f":"IF(Dati!E150=\"UD1\",Dati!D150,)","v":0},{"$f":"IF(Dati!E150=\"UE1\",Dati!D150,)","v":0}]
[{"$f":"Dati!C151","v":"00:00:00"},{"$f":"Dati!H151","v":"00:00:00"},{"$f":"IF(Dati!E151=\"UA1\",Dati!D151,)","v":0},{"$f":"IF(Dati!E151=\"UA2\",Dati!D151,)","v":0},{"$f":"IF(Dati!E151=\"UA3\",Dati!D151,)","v":0},{"$f":"IF(Dati!E151=\"UA4\",Dati!D151,)","v":0},{"$f":"IF(Dati!E151=\"UA5\",Dati!D151,)","v":0},{"$f":"IF(Dati!E151=\"UA6\",Dati!D151,)","v":0},{"$f":"IF(Dati!E151=\"UB1\",Dati!D151,)","v":0},{"$f":"IF(Dati!E151=\"UB2\",Dati!D151,)","v":0},{"$f":"IF(Dati!E151=\"UC1\",Dati!D151,)","v":0},{"$f":"IF(Dati!E151=\"UD1\",Dati!D151,)","v":0},{"$f":"IF(Dati!E151=\"UE1\",Dati!D151,)","v":0}]
[{"$f":"Dati!C152","v":"00:00:00"},{"$f":"Dati!H152","v":"00:00:00"},{"$f":"IF(Dati!E152=\"UA1\",Dati!D152,)","v":0},{"$f":"IF(Dati!E152=\"UA2\",Dati!D152,)","v":0},{"$f":"IF(Dati!E152=\"UA3\",Dati!D152,)","v":0},{"$f":"IF(Dati!E152=\"UA4\",Dati!D152,)","v":0},{"$f":"IF(Dati!E152=\"UA5\",Dati!D152,)","v":0},{"$f":"IF(Dati!E152=\"UA6\",Dati!D152,)","v":0},{"$f":"IF(Dati!E152=\"UB1\",Dati!D152,)","v":0},{"$f":"IF(Dati!E152=\"UB2\",Dati!D152,)","v":0},{"$f":"IF(Dati!E152=\"UC1\",Dati!D152,)","v":0},{"$f":"IF(Dati!E152=\"UD1\",Dati!D152,)","v":0},{"$f":"IF(Dati!E152=\"UE1\",Dati!D152,)","v":0}]
[{"$f":"Dati!C153","v":"00:00:00"},{"$f":"Dati!H153","v":"00:00:00"},{"$f":"IF(Dati!E153=\"UA1\",Dati!D153,)","v":0},{"$f":"IF(Dati!E153=\"UA2\",Dati!D153,)","v":0},{"$f":"IF(Dati!E153=\"UA3\",Dati!D153,)","v":0},{"$f":"IF(Dati!E153=\"UA4\",Dati!D153,)","v":0},{"$f":"IF(Dati!E153=\"UA5\",Dati!D153,)","v":0},{"$f":"IF(Dati!E153=\"UA6\",Dati!D153,)","v":0},{"$f":"IF(Dati!E153=\"UB1\",Dati!D153,)","v":0},{"$f":"IF(Dati!E153=\"UB2\",Dati!D153,)","v":0},{"$f":"IF(Dati!E153=\"UC1\",Dati!D153,)","v":0},{"$f":"IF(Dati!E153=\"UD1\",Dati!D153,)","v":0},{"$f":"IF(Dati!E153=\"UE1\",Dati!D153,)","v":0}]
[{"$f":"Dati!C154","v":"00:00:00"},{"$f":"Dati!H154","v":"00:00:00"},{"$f":"IF(Dati!E154=\"UA1\",Dati!D154,)","v":0},{"$f":"IF(Dati!E154=\"UA2\",Dati!D154,)","v":0},{"$f":"IF(Dati!E154=\"UA3\",Dati!D154,)","v":0},{"$f":"IF(Dati!E154=\"UA4\",Dati!D154,)","v":0},{"$f":"IF(Dati!E154=\"UA5\",Dati!D154,)","v":0},{"$f":"IF(Dati!E154=\"UA6\",Dati!D154,)","v":0},{"$f":"IF(Dati!E154=\"UB1\",Dati!D154,)","v":0},{"$f":"IF(Dati!E154=\"UB2\",Dati!D154,)","v":0},{"$f":"IF(Dati!E154=\"UC1\",Dati!D154,)","v":0},{"$f":"IF(Dati!E154=\"UD1\",Dati!D154,)","v":0},{"$f":"IF(Dati!E154=\"UE1\",Dati!D154,)","v":0}]
[{"$f":"Dati!C155","v":"00:00:00"},{"$f":"Dati!H155","v":"00:00:00"},{"$f":"IF(Dati!E155=\"UA1\",Dati!D155,)","v":0},{"$f":"IF(Dati!E155=\"UA2\",Dati!D155,)","v":0},{"$f":"IF(Dati!E155=\"UA3\",Dati!D155,)","v":0},{"$f":"IF(Dati!E155=\"UA4\",Dati!D155,)","v":0},{"$f":"IF(Dati!E155=\"UA5\",Dati!D155,)","v":0},{"$f":"IF(Dati!E155=\"UA6\",Dati!D155,)","v":0},{"$f":"IF(Dati!E155=\"UB1\",Dati!D155,)","v":0},{"$f":"IF(Dati!E155=\"UB2\",Dati!D155,)","v":0},{"$f":"IF(Dati!E155=\"UC1\",Dati!D155,)","v":0},{"$f":"IF(Dati!E155=\"UD1\",Dati!D155,)","v":0},{"$f":"IF(Dati!E155=\"UE1\",Dati!D155,)","v":0}]
[{"$f":"Dati!C156","v":"00:00:00"},{"$f":"Dati!H156","v":"00:00:00"},{"$f":"IF(Dati!E156=\"UA1\",Dati!D156,)","v":0},{"$f":"IF(Dati!E156=\"UA2\",Dati!D156,)","v":0},{"$f":"IF(Dati!E156=\"UA3\",Dati!D156,)","v":0},{"$f":"IF(Dati!E156=\"UA4\",Dati!D156,)","v":0},{"$f":"IF(Dati!E156=\"UA5\",Dati!D156,)","v":0},{"$f":"IF(Dati!E156=\"UA6\",Dati!D156,)","v":0},{"$f":"IF(Dati!E156=\"UB1\",Dati!D156,)","v":0},{"$f":"IF(Dati!E156=\"UB2\",Dati!D156,)","v":0},{"$f":"IF(Dati!E156=\"UC1\",Dati!D156,)","v":0},{"$f":"IF(Dati!E156=\"UD1\",Dati!D156,)","v":0},{"$f":"IF(Dati!E156=\"UE1\",Dati!D156,)","v":0}]
[{"$f":"Dati!C157","v":"00:00:00"},{"$f":"Dati!H157","v":"00:00:00"},{"$f":"IF(Dati!E157=\"UA1\",Dati!D157,)","v":0},{"$f":"IF(Dati!E157=\"UA2\",Dati!D157,)","v":0},{"$f":"IF(Dati!E157=\"UA3\",Dati!D157,)","v":0},{"$f":"IF(Dati!E157=\"UA4\",Dati!D157,)","v":0},{"$f":"IF(Dati!E157=\"UA5\",Dati!D157,)","v":0},{"$f":"IF(Dati!E157=\"UA6\",Dati!D157,)","v":0},{"$f":"IF(Dati!E157=\"UB1\",Dati!D157,)","v":0},{"$f":"IF(Dati!E157=\"UB2\",Dati!D157,)","v":0},{"$f":"IF(Dati!E157=\"UC1\",Dati!D157,)","v":0},{"$f":"IF(Dati!E157=\"UD1\",Dati!D157,)","v":0},{"$f":"IF(Dati!E157=\"UE1\",Dati!D157,)","v":0}]
[{"$f":"Dati!C158","v":"00:00:00"},{"$f":"Dati!H158","v":"00:00:00"},{"$f":"IF(Dati!E158=\"UA1\",Dati!D158,)","v":0},{"$f":"IF(Dati!E158=\"UA2\",Dati!D158,)","v":0},{"$f":"IF(Dati!E158=\"UA3\",Dati!D158,)","v":0},{"$f":"IF(Dati!E158=\"UA4\",Dati!D158,)","v":0},{"$f":"IF(Dati!E158=\"UA5\",Dati!D158,)","v":0},{"$f":"IF(Dati!E158=\"UA6\",Dati!D158,)","v":0},{"$f":"IF(Dati!E158=\"UB1\",Dati!D158,)","v":0},{"$f":"IF(Dati!E158=\"UB2\",Dati!D158,)","v":0},{"$f":"IF(Dati!E158=\"UC1\",Dati!D158,)","v":0},{"$f":"IF(Dati!E158=\"UD1\",Dati!D158,)","v":0},{"$f":"IF(Dati!E158=\"UE1\",Dati!D158,)","v":0}]
[{"$f":"Dati!C159","v":"00:00:00"},{"$f":"Dati!H159","v":"00:00:00"},{"$f":"IF(Dati!E159=\"UA1\",Dati!D159,)","v":0},{"$f":"IF(Dati!E159=\"UA2\",Dati!D159,)","v":0},{"$f":"IF(Dati!E159=\"UA3\",Dati!D159,)","v":0},{"$f":"IF(Dati!E159=\"UA4\",Dati!D159,)","v":0},{"$f":"IF(Dati!E159=\"UA5\",Dati!D159,)","v":0},{"$f":"IF(Dati!E159=\"UA6\",Dati!D159,)","v":0},{"$f":"IF(Dati!E159=\"UB1\",Dati!D159,)","v":0},{"$f":"IF(Dati!E159=\"UB2\",Dati!D159,)","v":0},{"$f":"IF(Dati!E159=\"UC1\",Dati!D159,)","v":0},{"$f":"IF(Dati!E159=\"UD1\",Dati!D159,)","v":0},{"$f":"IF(Dati!E159=\"UE1\",Dati!D159,)","v":0}]
[{"$f":"Dati!C160","v":"00:00:00"},{"$f":"Dati!H160","v":"00:00:00"},{"$f":"IF(Dati!E160=\"UA1\",Dati!D160,)","v":0},{"$f":"IF(Dati!E160=\"UA2\",Dati!D160,)","v":0},{"$f":"IF(Dati!E160=\"UA3\",Dati!D160,)","v":0},{"$f":"IF(Dati!E160=\"UA4\",Dati!D160,)","v":0},{"$f":"IF(Dati!E160=\"UA5\",Dati!D160,)","v":0},{"$f":"IF(Dati!E160=\"UA6\",Dati!D160,)","v":0},{"$f":"IF(Dati!E160=\"UB1\",Dati!D160,)","v":0},{"$f":"IF(Dati!E160=\"UB2\",Dati!D160,)","v":0},{"$f":"IF(Dati!E160=\"UC1\",Dati!D160,)","v":0},{"$f":"IF(Dati!E160=\"UD1\",Dati!D160,)","v":0},{"$f":"IF(Dati!E160=\"UE1\",Dati!D160,)","v":0}]
[{"$f":"Dati!C161","v":"00:00:00"},{"$f":"Dati!H161","v":"00:00:00"},{"$f":"IF(Dati!E161=\"UA1\",Dati!D161,)","v":0},{"$f":"IF(Dati!E161=\"UA2\",Dati!D161,)","v":0},{"$f":"IF(Dati!E161=\"UA3\",Dati!D161,)","v":0},{"$f":"IF(Dati!E161=\"UA4\",Dati!D161,)","v":0},{"$f":"IF(Dati!E161=\"UA5\",Dati!D161,)","v":0},{"$f":"IF(Dati!E161=\"UA6\",Dati!D161,)","v":0},{"$f":"IF(Dati!E161=\"UB1\",Dati!D161,)","v":0},{"$f":"IF(Dati!E161=\"UB2\",Dati!D161,)","v":0},{"$f":"IF(Dati!E161=\"UC1\",Dati!D161,)","v":0},{"$f":"IF(Dati!E161=\"UD1\",Dati!D161,)","v":0},{"$f":"IF(Dati!E161=\"UE1\",Dati!D161,)","v":0}]
[{"$f":"Dati!C162","v":"00:00:00"},{"$f":"Dati!H162","v":"00:00:00"},{"$f":"IF(Dati!E162=\"UA1\",Dati!D162,)","v":0},{"$f":"IF(Dati!E162=\"UA2\",Dati!D162,)","v":0},{"$f":"IF(Dati!E162=\"UA3\",Dati!D162,)","v":0},{"$f":"IF(Dati!E162=\"UA4\",Dati!D162,)","v":0},{"$f":"IF(Dati!E162=\"UA5\",Dati!D162,)","v":0},{"$f":"IF(Dati!E162=\"UA6\",Dati!D162,)","v":0},{"$f":"IF(Dati!E162=\"UB1\",Dati!D162,)","v":0},{"$f":"IF(Dati!E162=\"UB2\",Dati!D162,)","v":0},{"$f":"IF(Dati!E162=\"UC1\",Dati!D162,)","v":0},{"$f":"IF(Dati!E162=\"UD1\",Dati!D162,)","v":0},{"$f":"IF(Dati!E162=\"UE1\",Dati!D162,)","v":0}]
[{"$f":"Dati!C163","v":"00:00:00"},{"$f":"Dati!H163","v":"00:00:00"},{"$f":"IF(Dati!E163=\"UA1\",Dati!D163,)","v":0},{"$f":"IF(Dati!E163=\"UA2\",Dati!D163,)","v":0},{"$f":"IF(Dati!E163=\"UA3\",Dati!D163,)","v":0},{"$f":"IF(Dati!E163=\"UA4\",Dati!D163,)","v":0},{"$f":"IF(Dati!E163=\"UA5\",Dati!D163,)","v":0},{"$f":"IF(Dati!E163=\"UA6\",Dati!D163,)","v":0},{"$f":"IF(Dati!E163=\"UB1\",Dati!D163,)","v":0},{"$f":"IF(Dati!E163=\"UB2\",Dati!D163,)","v":0},{"$f":"IF(Dati!E163=\"UC1\",Dati!D163,)","v":0},{"$f":"IF(Dati!E163=\"UD1\",Dati!D163,)","v":0},{"$f":"IF(Dati!E163=\"UE1\",Dati!D163,)","v":0}]
[{"$f":"Dati!C164","v":"00:00:00"},{"$f":"Dati!H164","v":"00:00:00"},{"$f":"IF(Dati!E164=\"UA1\",Dati!D164,)","v":0},{"$f":"IF(Dati!E164=\"UA2\",Dati!D164,)","v":0},{"$f":"IF(Dati!E164=\"UA3\",Dati!D164,)","v":0},{"$f":"IF(Dati!E164=\"UA4\",Dati!D164,)","v":0},{"$f":"IF(Dati!E164=\"UA5\",Dati!D164,)","v":0},{"$f":"IF(Dati!E164=\"UA6\",Dati!D164,)","v":0},{"$f":"IF(Dati!E164=\"UB1\",Dati!D164,)","v":0},{"$f":"IF(Dati!E164=\"UB2\",Dati!D164,)","v":0},{"$f":"IF(Dati!E164=\"UC1\",Dati!D164,)","v":0},{"$f":"IF(Dati!E164=\"UD1\",Dati!D164,)","v":0},{"$f":"IF(Dati!E164=\"UE1\",Dati!D164,)","v":0}]
[{"$f":"Dati!C165","v":"00:00:00"},{"$f":"Dati!H165","v":"00:00:00"},{"$f":"IF(Dati!E165=\"UA1\",Dati!D165,)","v":0},{"$f":"IF(Dati!E165=\"UA2\",Dati!D165,)","v":0},{"$f":"IF(Dati!E165=\"UA3\",Dati!D165,)","v":0},{"$f":"IF(Dati!E165=\"UA4\",Dati!D165,)","v":0},{"$f":"IF(Dati!E165=\"UA5\",Dati!D165,)","v":0},{"$f":"IF(Dati!E165=\"UA6\",Dati!D165,)","v":0},{"$f":"IF(Dati!E165=\"UB1\",Dati!D165,)","v":0},{"$f":"IF(Dati!E165=\"UB2\",Dati!D165,)","v":0},{"$f":"IF(Dati!E165=\"UC1\",Dati!D165,)","v":0},{"$f":"IF(Dati!E165=\"UD1\",Dati!D165,)","v":0},{"$f":"IF(Dati!E165=\"UE1\",Dati!D165,)","v":0}]
[{"$f":"Dati!C166","v":"00:00:00"},{"$f":"Dati!H166","v":"00:00:00"},{"$f":"IF(Dati!E166=\"UA1\",Dati!D166,)","v":0},{"$f":"IF(Dati!E166=\"UA2\",Dati!D166,)","v":0},{"$f":"IF(Dati!E166=\"UA3\",Dati!D166,)","v":0},{"$f":"IF(Dati!E166=\"UA4\",Dati!D166,)","v":0},{"$f":"IF(Dati!E166=\"UA5\",Dati!D166,)","v":0},{"$f":"IF(Dati!E166=\"UA6\",Dati!D166,)","v":0},{"$f":"IF(Dati!E166=\"UB1\",Dati!D166,)","v":0},{"$f":"IF(Dati!E166=\"UB2\",Dati!D166,)","v":0},{"$f":"IF(Dati!E166=\"UC1\",Dati!D166,)","v":0},{"$f":"IF(Dati!E166=\"UD1\",Dati!D166,)","v":0},{"$f":"IF(Dati!E166=\"UE1\",Dati!D166,)","v":0}]
[{"$f":"Dati!C167","v":"00:00:00"},{"$f":"Dati!H167","v":"00:00:00"},{"$f":"IF(Dati!E167=\"UA1\",Dati!D167,)","v":0},{"$f":"IF(Dati!E167=\"UA2\",Dati!D167,)","v":0},{"$f":"IF(Dati!E167=\"UA3\",Dati!D167,)","v":0},{"$f":"IF(Dati!E167=\"UA4\",Dati!D167,)","v":0},{"$f":"IF(Dati!E167=\"UA5\",Dati!D167,)","v":0},{"$f":"IF(Dati!E167=\"UA6\",Dati!D167,)","v":0},{"$f":"IF(Dati!E167=\"UB1\",Dati!D167,)","v":0},{"$f":"IF(Dati!E167=\"UB2\",Dati!D167,)","v":0},{"$f":"IF(Dati!E167=\"UC1\",Dati!D167,)","v":0},{"$f":"IF(Dati!E167=\"UD1\",Dati!D167,)","v":0},{"$f":"IF(Dati!E167=\"UE1\",Dati!D167,)","v":0}]
[{"$f":"Dati!C168","v":"00:00:00"},{"$f":"Dati!H168","v":"00:00:00"},{"$f":"IF(Dati!E168=\"UA1\",Dati!D168,)","v":0},{"$f":"IF(Dati!E168=\"UA2\",Dati!D168,)","v":0},{"$f":"IF(Dati!E168=\"UA3\",Dati!D168,)","v":0},{"$f":"IF(Dati!E168=\"UA4\",Dati!D168,)","v":0},{"$f":"IF(Dati!E168=\"UA5\",Dati!D168,)","v":0},{"$f":"IF(Dati!E168=\"UA6\",Dati!D168,)","v":0},{"$f":"IF(Dati!E168=\"UB1\",Dati!D168,)","v":0},{"$f":"IF(Dati!E168=\"UB2\",Dati!D168,)","v":0},{"$f":"IF(Dati!E168=\"UC1\",Dati!D168,)","v":0},{"$f":"IF(Dati!E168=\"UD1\",Dati!D168,)","v":0},{"$f":"IF(Dati!E168=\"UE1\",Dati!D168,)","v":0}]
[{"$f":"Dati!C169","v":"00:00:00"},{"$f":"Dati!H169","v":"00:00:00"},{"$f":"IF(Dati!E169=\"UA1\",Dati!D169,)","v":0},{"$f":"IF(Dati!E169=\"UA2\",Dati!D169,)","v":0},{"$f":"IF(Dati!E169=\"UA3\",Dati!D169,)","v":0},{"$f":"IF(Dati!E169=\"UA4\",Dati!D169,)","v":0},{"$f":"IF(Dati!E169=\"UA5\",Dati!D169,)","v":0},{"$f":"IF(Dati!E169=\"UA6\",Dati!D169,)","v":0},{"$f":"IF(Dati!E169=\"UB1\",Dati!D169,)","v":0},{"$f":"IF(Dati!E169=\"UB2\",Dati!D169,)","v":0},{"$f":"IF(Dati!E169=\"UC1\",Dati!D169,)","v":0},{"$f":"IF(Dati!E169=\"UD1\",Dati!D169,)","v":0},{"$f":"IF(Dati!E169=\"UE1\",Dati!D169,)","v":0}]
[{"$f":"Dati!C170","v":"00:00:00"},{"$f":"Dati!H170","v":"00:00:00"},{"$f":"IF(Dati!E170=\"UA1\",Dati!D170,)","v":0},{"$f":"IF(Dati!E170=\"UA2\",Dati!D170,)","v":0},{"$f":"IF(Dati!E170=\"UA3\",Dati!D170,)","v":0},{"$f":"IF(Dati!E170=\"UA4\",Dati!D170,)","v":0},{"$f":"IF(Dati!E170=\"UA5\",Dati!D170,)","v":0},{"$f":"IF(Dati!E170=\"UA6\",Dati!D170,)","v":0},{"$f":"IF(Dati!E170=\"UB1\",Dati!D170,)","v":0},{"$f":"IF(Dati!E170=\"UB2\",Dati!D170,)","v":0},{"$f":"IF(Dati!E170=\"UC1\",Dati!D170,)","v":0},{"$f":"IF(Dati!E170=\"UD1\",Dati!D170,)","v":0},{"$f":"IF(Dati!E170=\"UE1\",Dati!D170,)","v":0}]
[{"$f":"Dati!C171","v":"00:00:00"},{"$f":"Dati!H171","v":"00:00:00"},{"$f":"IF(Dati!E171=\"UA1\",Dati!D171,)","v":0},{"$f":"IF(Dati!E171=\"UA2\",Dati!D171,)","v":0},{"$f":"IF(Dati!E171=\"UA3\",Dati!D171,)","v":0},{"$f":"IF(Dati!E171=\"UA4\",Dati!D171,)","v":0},{"$f":"IF(Dati!E171=\"UA5\",Dati!D171,)","v":0},{"$f":"IF(Dati!E171=\"UA6\",Dati!D171,)","v":0},{"$f":"IF(Dati!E171=\"UB1\",Dati!D171,)","v":0},{"$f":"IF(Dati!E171=\"UB2\",Dati!D171,)","v":0},{"$f":"IF(Dati!E171=\"UC1\",Dati!D171,)","v":0},{"$f":"IF(Dati!E171=\"UD1\",Dati!D171,)","v":0},{"$f":"IF(Dati!E171=\"UE1\",Dati!D171,)","v":0}]
[{"$f":"Dati!C172","v":"00:00:00"},{"$f":"Dati!H172","v":"00:00:00"},{"$f":"IF(Dati!E172=\"UA1\",Dati!D172,)","v":0},{"$f":"IF(Dati!E172=\"UA2\",Dati!D172,)","v":0},{"$f":"IF(Dati!E172=\"UA3\",Dati!D172,)","v":0},{"$f":"IF(Dati!E172=\"UA4\",Dati!D172,)","v":0},{"$f":"IF(Dati!E172=\"UA5\",Dati!D172,)","v":0},{"$f":"IF(Dati!E172=\"UA6\",Dati!D172,)","v":0},{"$f":"IF(Dati!E172=\"UB1\",Dati!D172,)","v":0},{"$f":"IF(Dati!E172=\"UB2\",Dati!D172,)","v":0},{"$f":"IF(Dati!E172=\"UC1\",Dati!D172,)","v":0},{"$f":"IF(Dati!E172=\"UD1\",Dati!D172,)","v":0},{"$f":"IF(Dati!E172=\"UE1\",Dati!D172,)","v":0}]
[{"$f":"Dati!C173","v":"00:00:00"},{"$f":"Dati!H173","v":"00:00:00"},{"$f":"IF(Dati!E173=\"UA1\",Dati!D173,)","v":0},{"$f":"IF(Dati!E173=\"UA2\",Dati!D173,)","v":0},{"$f":"IF(Dati!E173=\"UA3\",Dati!D173,)","v":0},{"$f":"IF(Dati!E173=\"UA4\",Dati!D173,)","v":0},{"$f":"IF(Dati!E173=\"UA5\",Dati!D173,)","v":0},{"$f":"IF(Dati!E173=\"UA6\",Dati!D173,)","v":0},{"$f":"IF(Dati!E173=\"UB1\",Dati!D173,)","v":0},{"$f":"IF(Dati!E173=\"UB2\",Dati!D173,)","v":0},{"$f":"IF(Dati!E173=\"UC1\",Dati!D173,)","v":0},{"$f":"IF(Dati!E173=\"UD1\",Dati!D173,)","v":0},{"$f":"IF(Dati!E173=\"UE1\",Dati!D173,)","v":0}]
[{"$f":"Dati!C174","v":"00:00:00"},{"$f":"Dati!H174","v":"00:00:00"},{"$f":"IF(Dati!E174=\"UA1\",Dati!D174,)","v":0},{"$f":"IF(Dati!E174=\"UA2\",Dati!D174,)","v":0},{"$f":"IF(Dati!E174=\"UA3\",Dati!D174,)","v":0},{"$f":"IF(Dati!E174=\"UA4\",Dati!D174,)","v":0},{"$f":"IF(Dati!E174=\"UA5\",Dati!D174,)","v":0},{"$f":"IF(Dati!E174=\"UA6\",Dati!D174,)","v":0},{"$f":"IF(Dati!E174=\"UB1\",Dati!D174,)","v":0},{"$f":"IF(Dati!E174=\"UB2\",Dati!D174,)","v":0},{"$f":"IF(Dati!E174=\"UC1\",Dati!D174,)","v":0},{"$f":"IF(Dati!E174=\"UD1\",Dati!D174,)","v":0},{"$f":"IF(Dati!E174=\"UE1\",Dati!D174,)","v":0}]
[{"$f":"Dati!C175","v":"00:00:00"},{"$f":"Dati!H175","v":"00:00:00"},{"$f":"IF(Dati!E175=\"UA1\",Dati!D175,)","v":0},{"$f":"IF(Dati!E175=\"UA2\",Dati!D175,)","v":0},{"$f":"IF(Dati!E175=\"UA3\",Dati!D175,)","v":0},{"$f":"IF(Dati!E175=\"UA4\",Dati!D175,)","v":0},{"$f":"IF(Dati!E175=\"UA5\",Dati!D175,)","v":0},{"$f":"IF(Dati!E175=\"UA6\",Dati!D175,)","v":0},{"$f":"IF(Dati!E175=\"UB1\",Dati!D175,)","v":0},{"$f":"IF(Dati!E175=\"UB2\",Dati!D175,)","v":0},{"$f":"IF(Dati!E175=\"UC1\",Dati!D175,)","v":0},{"$f":"IF(Dati!E175=\"UD1\",Dati!D175,)","v":0},{"$f":"IF(Dati!E175=\"UE1\",Dati!D175,)","v":0}]
[{"$f":"Dati!C176","v":"00:00:00"},{"$f":"Dati!H176","v":"00:00:00"},{"$f":"IF(Dati!E176=\"UA1\",Dati!D176,)","v":0},{"$f":"IF(Dati!E176=\"UA2\",Dati!D176,)","v":0},{"$f":"IF(Dati!E176=\"UA3\",Dati!D176,)","v":0},{"$f":"IF(Dati!E176=\"UA4\",Dati!D176,)","v":0},{"$f":"IF(Dati!E176=\"UA5\",Dati!D176,)","v":0},{"$f":"IF(Dati!E176=\"UA6\",Dati!D176,)","v":0},{"$f":"IF(Dati!E176=\"UB1\",Dati!D176,)","v":0},{"$f":"IF(Dati!E176=\"UB2\",Dati!D176,)","v":0},{"$f":"IF(Dati!E176=\"UC1\",Dati!D176,)","v":0},{"$f":"IF(Dati!E176=\"UD1\",Dati!D176,)","v":0},{"$f":"IF(Dati!E176=\"UE1\",Dati!D176,)","v":0}]
[{"$f":"Dati!C177","v":"00:00:00"},{"$f":"Dati!H177","v":"00:00:00"},{"$f":"IF(Dati!E177=\"UA1\",Dati!D177,)","v":0},{"$f":"IF(Dati!E177=\"UA2\",Dati!D177,)","v":0},{"$f":"IF(Dati!E177=\"UA3\",Dati!D177,)","v":0},{"$f":"IF(Dati!E177=\"UA4\",Dati!D177,)","v":0},{"$f":"IF(Dati!E177=\"UA5\",Dati!D177,)","v":0},{"$f":"IF(Dati!E177=\"UA6\",Dati!D177,)","v":0},{"$f":"IF(Dati!E177=\"UB1\",Dati!D177,)","v":0},{"$f":"IF(Dati!E177=\"UB2\",Dati!D177,)","v":0},{"$f":"IF(Dati!E177=\"UC1\",Dati!D177,)","v":0},{"$f":"IF(Dati!E177=\"UD1\",Dati!D177,)","v":0},{"$f":"IF(Dati!E177=\"UE1\",Dati!D177,)","v":0}]
[{"$f":"Dati!C178","v":"00:00:00"},{"$f":"Dati!H178","v":"00:00:00"},{"$f":"IF(Dati!E178=\"UA1\",Dati!D178,)","v":0},{"$f":"IF(Dati!E178=\"UA2\",Dati!D178,)","v":0},{"$f":"IF(Dati!E178=\"UA3\",Dati!D178,)","v":0},{"$f":"IF(Dati!E178=\"UA4\",Dati!D178,)","v":0},{"$f":"IF(Dati!E178=\"UA5\",Dati!D178,)","v":0},{"$f":"IF(Dati!E178=\"UA6\",Dati!D178,)","v":0},{"$f":"IF(Dati!E178=\"UB1\",Dati!D178,)","v":0},{"$f":"IF(Dati!E178=\"UB2\",Dati!D178,)","v":0},{"$f":"IF(Dati!E178=\"UC1\",Dati!D178,)","v":0},{"$f":"IF(Dati!E178=\"UD1\",Dati!D178,)","v":0},{"$f":"IF(Dati!E178=\"UE1\",Dati!D178,)","v":0}]
[{"$f":"Dati!C179","v":"00:00:00"},{"$f":"Dati!H179","v":"00:00:00"},{"$f":"IF(Dati!E179=\"UA1\",Dati!D179,)","v":0},{"$f":"IF(Dati!E179=\"UA2\",Dati!D179,)","v":0},{"$f":"IF(Dati!E179=\"UA3\",Dati!D179,)","v":0},{"$f":"IF(Dati!E179=\"UA4\",Dati!D179,)","v":0},{"$f":"IF(Dati!E179=\"UA5\",Dati!D179,)","v":0},{"$f":"IF(Dati!E179=\"UA6\",Dati!D179,)","v":0},{"$f":"IF(Dati!E179=\"UB1\",Dati!D179,)","v":0},{"$f":"IF(Dati!E179=\"UB2\",Dati!D179,)","v":0},{"$f":"IF(Dati!E179=\"UC1\",Dati!D179,)","v":0},{"$f":"IF(Dati!E179=\"UD1\",Dati!D179,)","v":0},{"$f":"IF(Dati!E179=\"UE1\",Dati!D179,)","v":0}]
[{"$f":"Dati!C180","v":"00:00:00"},{"$f":"Dati!H180","v":"00:00:00"},{"$f":"IF(Dati!E180=\"UA1\",Dati!D180,)","v":0},{"$f":"IF(Dati!E180=\"UA2\",Dati!D180,)","v":0},{"$f":"IF(Dati!E180=\"UA3\",Dati!D180,)","v":0},{"$f":"IF(Dati!E180=\"UA4\",Dati!D180,)","v":0},{"$f":"IF(Dati!E180=\"UA5\",Dati!D180,)","v":0},{"$f":"IF(Dati!E180=\"UA6\",Dati!D180,)","v":0},{"$f":"IF(Dati!E180=\"UB1\",Dati!D180,)","v":0},{"$f":"IF(Dati!E180=\"UB2\",Dati!D180,)","v":0},{"$f":"IF(Dati!E180=\"UC1\",Dati!D180,)","v":0},{"$f":"IF(Dati!E180=\"UD1\",Dati!D180,)","v":0},{"$f":"IF(Dati!E180=\"UE1\",Dati!D180,)","v":0}]
[{"$f":"Dati!C181","v":"00:00:00"},{"$f":"Dati!H181","v":"00:00:00"},{"$f":"IF(Dati!E181=\"UA1\",Dati!D181,)","v":0},{"$f":"IF(Dati!E181=\"UA2\",Dati!D181,)","v":0},{"$f":"IF(Dati!E181=\"UA3\",Dati!D181,)","v":0},{"$f":"IF(Dati!E181=\"UA4\",Dati!D181,)","v":0},{"$f":"IF(Dati!E181=\"UA5\",Dati!D181,)","v":0},{"$f":"IF(Dati!E181=\"UA6\",Dati!D181,)","v":0},{"$f":"IF(Dati!E181=\"UB1\",Dati!D181,)","v":0},{"$f":"IF(Dati!E181=\"UB2\",Dati!D181,)","v":0},{"$f":"IF(Dati!E181=\"UC1\",Dati!D181,)","v":0},{"$f":"IF(Dati!E181=\"UD1\",Dati!D181,)","v":0},{"$f":"IF(Dati!E181=\"UE1\",Dati!D181,)","v":0}]
[{"$f":"Dati!C182","v":"00:00:00"},{"$f":"Dati!H182","v":"00:00:00"},{"$f":"IF(Dati!E182=\"UA1\",Dati!D182,)","v":0},{"$f":"IF(Dati!E182=\"UA2\",Dati!D182,)","v":0},{"$f":"IF(Dati!E182=\"UA3\",Dati!D182,)","v":0},{"$f":"IF(Dati!E182=\"UA4\",Dati!D182,)","v":0},{"$f":"IF(Dati!E182=\"UA5\",Dati!D182,)","v":0},{"$f":"IF(Dati!E182=\"UA6\",Dati!D182,)","v":0},{"$f":"IF(Dati!E182=\"UB1\",Dati!D182,)","v":0},{"$f":"IF(Dati!E182=\"UB2\",Dati!D182,)","v":0},{"$f":"IF(Dati!E182=\"UC1\",Dati!D182,)","v":0},{"$f":"IF(Dati!E182=\"UD1\",Dati!D182,)","v":0},{"$f":"IF(Dati!E182=\"UE1\",Dati!D182,)","v":0}]
[{"$f":"Dati!C183","v":"00:00:00"},{"$f":"Dati!H183","v":"00:00:00"},{"$f":"IF(Dati!E183=\"UA1\",Dati!D183,)","v":0},{"$f":"IF(Dati!E183=\"UA2\",Dati!D183,)","v":0},{"$f":"IF(Dati!E183=\"UA3\",Dati!D183,)","v":0},{"$f":"IF(Dati!E183=\"UA4\",Dati!D183,)","v":0},{"$f":"IF(Dati!E183=\"UA5\",Dati!D183,)","v":0},{"$f":"IF(Dati!E183=\"UA6\",Dati!D183,)","v":0},{"$f":"IF(Dati!E183=\"UB1\",Dati!D183,)","v":0},{"$f":"IF(Dati!E183=\"UB2\",Dati!D183,)","v":0},{"$f":"IF(Dati!E183=\"UC1\",Dati!D183,)","v":0},{"$f":"IF(Dati!E183=\"UD1\",Dati!D183,)","v":0},{"$f":"IF(Dati!E183=\"UE1\",Dati!D183,)","v":0}]
[{"$f":"Dati!C184","v":"00:00:00"},{"$f":"Dati!H184","v":"00:00:00"},{"$f":"IF(Dati!E184=\"UA1\",Dati!D184,)","v":0},{"$f":"IF(Dati!E184=\"UA2\",Dati!D184,)","v":0},{"$f":"IF(Dati!E184=\"UA3\",Dati!D184,)","v":0},{"$f":"IF(Dati!E184=\"UA4\",Dati!D184,)","v":0},{"$f":"IF(Dati!E184=\"UA5\",Dati!D184,)","v":0},{"$f":"IF(Dati!E184=\"UA6\",Dati!D184,)","v":0},{"$f":"IF(Dati!E184=\"UB1\",Dati!D184,)","v":0},{"$f":"IF(Dati!E184=\"UB2\",Dati!D184,)","v":0},{"$f":"IF(Dati!E184=\"UC1\",Dati!D184,)","v":0},{"$f":"IF(Dati!E184=\"UD1\",Dati!D184,)","v":0},{"$f":"IF(Dati!E184=\"UE1\",Dati!D184,)","v":0}]
[{"$f":"Dati!C185","v":"00:00:00"},{"$f":"Dati!H185","v":"00:00:00"},{"$f":"IF(Dati!E185=\"UA1\",Dati!D185,)","v":0},{"$f":"IF(Dati!E185=\"UA2\",Dati!D185,)","v":0},{"$f":"IF(Dati!E185=\"UA3\",Dati!D185,)","v":0},{"$f":"IF(Dati!E185=\"UA4\",Dati!D185,)","v":0},{"$f":"IF(Dati!E185=\"UA5\",Dati!D185,)","v":0},{"$f":"IF(Dati!E185=\"UA6\",Dati!D185,)","v":0},{"$f":"IF(Dati!E185=\"UB1\",Dati!D185,)","v":0},{"$f":"IF(Dati!E185=\"UB2\",Dati!D185,)","v":0},{"$f":"IF(Dati!E185=\"UC1\",Dati!D185,)","v":0},{"$f":"IF(Dati!E185=\"UD1\",Dati!D185,)","v":0},{"$f":"IF(Dati!E185=\"UE1\",Dati!D185,)","v":0}]
[{"$f":"Dati!C186","v":"00:00:00"},{"$f":"Dati!H186","v":"00:00:00"},{"$f":"IF(Dati!E186=\"UA1\",Dati!D186,)","v":0},{"$f":"IF(Dati!E186=\"UA2\",Dati!D186,)","v":0},{"$f":"IF(Dati!E186=\"UA3\",Dati!D186,)","v":0},{"$f":"IF(Dati!E186=\"UA4\",Dati!D186,)","v":0},{"$f":"IF(Dati!E186=\"UA5\",Dati!D186,)","v":0},{"$f":"IF(Dati!E186=\"UA6\",Dati!D186,)","v":0},{"$f":"IF(Dati!E186=\"UB1\",Dati!D186,)","v":0},{"$f":"IF(Dati!E186=\"UB2\",Dati!D186,)","v":0},{"$f":"IF(Dati!E186=\"UC1\",Dati!D186,)","v":0},{"$f":"IF(Dati!E186=\"UD1\",Dati!D186,)","v":0},{"$f":"IF(Dati!E186=\"UE1\",Dati!D186,)","v":0}]
[{"$f":"Dati!C187","v":"00:00:00"},{"$f":"Dati!H187","v":"00:00:00"},{"$f":"IF(Dati!E187=\"UA1\",Dati!D187,)","v":0},{"$f":"IF(Dati!E187=\"UA2\",Dati!D187,)","v":0},{"$f":"IF(Dati!E187=\"UA3\",Dati!D187,)","v":0},{"$f":"IF(Dati!E187=\"UA4\",Dati!D187,)","v":0},{"$f":"IF(Dati!E187=\"UA5\",Dati!D187,)","v":0},{"$f":"IF(Dati!E187=\"UA6\",Dati!D187,)","v":0},{"$f":"IF(Dati!E187=\"UB1\",Dati!D187,)","v":0},{"$f":"IF(Dati!E187=\"UB2\",Dati!D187,)","v":0},{"$f":"IF(Dati!E187=\"UC1\",Dati!D187,)","v":0},{"$f":"IF(Dati!E187=\"UD1\",Dati!D187,)","v":0},{"$f":"IF(Dati!E187=\"UE1\",Dati!D187,)","v":0}]
[{"$f":"Dati!C188","v":"00:00:00"},{"$f":"Dati!H188","v":"00:00:00"},{"$f":"IF(Dati!E188=\"UA1\",Dati!D188,)","v":0},{"$f":"IF(Dati!E188=\"UA2\",Dati!D188,)","v":0},{"$f":"IF(Dati!E188=\"UA3\",Dati!D188,)","v":0},{"$f":"IF(Dati!E188=\"UA4\",Dati!D188,)","v":0},{"$f":"IF(Dati!E188=\"UA5\",Dati!D188,)","v":0},{"$f":"IF(Dati!E188=\"UA6\",Dati!D188,)","v":0},{"$f":"IF(Dati!E188=\"UB1\",Dati!D188,)","v":0},{"$f":"IF(Dati!E188=\"UB2\",Dati!D188,)","v":0},{"$f":"IF(Dati!E188=\"UC1\",Dati!D188,)","v":0},{"$f":"IF(Dati!E188=\"UD1\",Dati!D188,)","v":0},{"$f":"IF(Dati!E188=\"UE1\",Dati!D188,)","v":0}]
[{"$f":"Dati!C189","v":"00:00:00"},{"$f":"Dati!H189","v":"00:00:00"},{"$f":"IF(Dati!E189=\"UA1\",Dati!D189,)","v":0},{"$f":"IF(Dati!E189=\"UA2\",Dati!D189,)","v":0},{"$f":"IF(Dati!E189=\"UA3\",Dati!D189,)","v":0},{"$f":"IF(Dati!E189=\"UA4\",Dati!D189,)","v":0},{"$f":"IF(Dati!E189=\"UA5\",Dati!D189,)","v":0},{"$f":"IF(Dati!E189=\"UA6\",Dati!D189,)","v":0},{"$f":"IF(Dati!E189=\"UB1\",Dati!D189,)","v":0},{"$f":"IF(Dati!E189=\"UB2\",Dati!D189,)","v":0},{"$f":"IF(Dati!E189=\"UC1\",Dati!D189,)","v":0},{"$f":"IF(Dati!E189=\"UD1\",Dati!D189,)","v":0},{"$f":"IF(Dati!E189=\"UE1\",Dati!D189,)","v":0}]
[{"$f":"Dati!C190","v":"00:00:00"},{"$f":"Dati!H190","v":"00:00:00"},{"$f":"IF(Dati!E190=\"UA1\",Dati!D190,)","v":0},{"$f":"IF(Dati!E190=\"UA2\",Dati!D190,)","v":0},{"$f":"IF(Dati!E190=\"UA3\",Dati!D190,)","v":0},{"$f":"IF(Dati!E190=\"UA4\",Dati!D190,)","v":0},{"$f":"IF(Dati!E190=\"UA5\",Dati!D190,)","v":0},{"$f":"IF(Dati!E190=\"UA6\",Dati!D190,)","v":0},{"$f":"IF(Dati!E190=\"UB1\",Dati!D190,)","v":0},{"$f":"IF(Dati!E190=\"UB2\",Dati!D190,)","v":0},{"$f":"IF(Dati!E190=\"UC1\",Dati!D190,)","v":0},{"$f":"IF(Dati!E190=\"UD1\",Dati!D190,)","v":0},{"$f":"IF(Dati!E190=\"UE1\",Dati!D190,)","v":0}]
[{"$f":"Dati!C191","v":"00:00:00"},{"$f":"Dati!H191","v":"00:00:00"},{"$f":"IF(Dati!E191=\"UA1\",Dati!D191,)","v":0},{"$f":"IF(Dati!E191=\"UA2\",Dati!D191,)","v":0},{"$f":"IF(Dati!E191=\"UA3\",Dati!D191,)","v":0},{"$f":"IF(Dati!E191=\"UA4\",Dati!D191,)","v":0},{"$f":"IF(Dati!E191=\"UA5\",Dati!D191,)","v":0},{"$f":"IF(Dati!E191=\"UA6\",Dati!D191,)","v":0},{"$f":"IF(Dati!E191=\"UB1\",Dati!D191,)","v":0},{"$f":"IF(Dati!E191=\"UB2\",Dati!D191,)","v":0},{"$f":"IF(Dati!E191=\"UC1\",Dati!D191,)","v":0},{"$f":"IF(Dati!E191=\"UD1\",Dati!D191,)","v":0},{"$f":"IF(Dati!E191=\"UE1\",Dati!D191,)","v":0}]
[{"$f":"Dati!C192","v":"00:00:00"},{"$f":"Dati!H192","v":"00:00:00"},{"$f":"IF(Dati!E192=\"UA1\",Dati!D192,)","v":0},{"$f":"IF(Dati!E192=\"UA2\",Dati!D192,)","v":0},{"$f":"IF(Dati!E192=\"UA3\",Dati!D192,)","v":0},{"$f":"IF(Dati!E192=\"UA4\",Dati!D192,)","v":0},{"$f":"IF(Dati!E192=\"UA5\",Dati!D192,)","v":0},{"$f":"IF(Dati!E192=\"UA6\",Dati!D192,)","v":0},{"$f":"IF(Dati!E192=\"UB1\",Dati!D192,)","v":0},{"$f":"IF(Dati!E192=\"UB2\",Dati!D192,)","v":0},{"$f":"IF(Dati!E192=\"UC1\",Dati!D192,)","v":0},{"$f":"IF(Dati!E192=\"UD1\",Dati!D192,)","v":0},{"$f":"IF(Dati!E192=\"UE1\",Dati!D192,)","v":0}]
[{"$f":"Dati!C193","v":"00:00:00"},{"$f":"Dati!H193","v":"00:00:00"},{"$f":"IF(Dati!E193=\"UA1\",Dati!D193,)","v":0},{"$f":"IF(Dati!E193=\"UA2\",Dati!D193,)","v":0},{"$f":"IF(Dati!E193=\"UA3\",Dati!D193,)","v":0},{"$f":"IF(Dati!E193=\"UA4\",Dati!D193,)","v":0},{"$f":"IF(Dati!E193=\"UA5\",Dati!D193,)","v":0},{"$f":"IF(Dati!E193=\"UA6\",Dati!D193,)","v":0},{"$f":"IF(Dati!E193=\"UB1\",Dati!D193,)","v":0},{"$f":"IF(Dati!E193=\"UB2\",Dati!D193,)","v":0},{"$f":"IF(Dati!E193=\"UC1\",Dati!D193,)","v":0},{"$f":"IF(Dati!E193=\"UD1\",Dati!D193,)","v":0},{"$f":"IF(Dati!E193=\"UE1\",Dati!D193,)","v":0}]
[{"$f":"Dati!C194","v":"00:00:00"},{"$f":"Dati!H194","v":"00:00:00"},{"$f":"IF(Dati!E194=\"UA1\",Dati!D194,)","v":0},{"$f":"IF(Dati!E194=\"UA2\",Dati!D194,)","v":0},{"$f":"IF(Dati!E194=\"UA3\",Dati!D194,)","v":0},{"$f":"IF(Dati!E194=\"UA4\",Dati!D194,)","v":0},{"$f":"IF(Dati!E194=\"UA5\",Dati!D194,)","v":0},{"$f":"IF(Dati!E194=\"UA6\",Dati!D194,)","v":0},{"$f":"IF(Dati!E194=\"UB1\",Dati!D194,)","v":0},{"$f":"IF(Dati!E194=\"UB2\",Dati!D194,)","v":0},{"$f":"IF(Dati!E194=\"UC1\",Dati!D194,)","v":0},{"$f":"IF(Dati!E194=\"UD1\",Dati!D194,)","v":0},{"$f":"IF(Dati!E194=\"UE1\",Dati!D194,)","v":0}]
[{"$f":"Dati!C195","v":"00:00:00"},{"$f":"Dati!H195","v":"00:00:00"},{"$f":"IF(Dati!E195=\"UA1\",Dati!D195,)","v":0},{"$f":"IF(Dati!E195=\"UA2\",Dati!D195,)","v":0},{"$f":"IF(Dati!E195=\"UA3\",Dati!D195,)","v":0},{"$f":"IF(Dati!E195=\"UA4\",Dati!D195,)","v":0},{"$f":"IF(Dati!E195=\"UA5\",Dati!D195,)","v":0},{"$f":"IF(Dati!E195=\"UA6\",Dati!D195,)","v":0},{"$f":"IF(Dati!E195=\"UB1\",Dati!D195,)","v":0},{"$f":"IF(Dati!E195=\"UB2\",Dati!D195,)","v":0},{"$f":"IF(Dati!E195=\"UC1\",Dati!D195,)","v":0},{"$f":"IF(Dati!E195=\"UD1\",Dati!D195,)","v":0},{"$f":"IF(Dati!E195=\"UE1\",Dati!D195,)","v":0}]
[{"$f":"Dati!C196","v":"00:00:00"},{"$f":"Dati!H196","v":"00:00:00"},{"$f":"IF(Dati!E196=\"UA1\",Dati!D196,)","v":0},{"$f":"IF(Dati!E196=\"UA2\",Dati!D196,)","v":0},{"$f":"IF(Dati!E196=\"UA3\",Dati!D196,)","v":0},{"$f":"IF(Dati!E196=\"UA4\",Dati!D196,)","v":0},{"$f":"IF(Dati!E196=\"UA5\",Dati!D196,)","v":0},{"$f":"IF(Dati!E196=\"UA6\",Dati!D196,)","v":0},{"$f":"IF(Dati!E196=\"UB1\",Dati!D196,)","v":0},{"$f":"IF(Dati!E196=\"UB2\",Dati!D196,)","v":0},{"$f":"IF(Dati!E196=\"UC1\",Dati!D196,)","v":0},{"$f":"IF(Dati!E196=\"UD1\",Dati!D196,)","v":0},{"$f":"IF(Dati!E196=\"UE1\",Dati!D196,)","v":0}]
[{"$f":"Dati!C197","v":"00:00:00"},{"$f":"Dati!H197","v":"00:00:00"},{"$f":"IF(Dati!E197=\"UA1\",Dati!D197,)","v":0},{"$f":"IF(Dati!E197=\"UA2\",Dati!D197,)","v":0},{"$f":"IF(Dati!E197=\"UA3\",Dati!D197,)","v":0},{"$f":"IF(Dati!E197=\"UA4\",Dati!D197,)","v":0},{"$f":"IF(Dati!E197=\"UA5\",Dati!D197,)","v":0},{"$f":"IF(Dati!E197=\"UA6\",Dati!D197,)","v":0},{"$f":"IF(Dati!E197=\"UB1\",Dati!D197,)","v":0},{"$f":"IF(Dati!E197=\"UB2\",Dati!D197,)","v":0},{"$f":"IF(Dati!E197=\"UC1\",Dati!D197,)","v":0},{"$f":"IF(Dati!E197=\"UD1\",Dati!D197,)","v":0},{"$f":"IF(Dati!E197=\"UE1\",Dati!D197,)","v":0}]
[{"$f":"Dati!C198","v":"00:00:00"},{"$f":"Dati!H198","v":"00:00:00"},{"$f":"IF(Dati!E198=\"UA1\",Dati!D198,)","v":0},{"$f":"IF(Dati!E198=\"UA2\",Dati!D198,)","v":0},{"$f":"IF(Dati!E198=\"UA3\",Dati!D198,)","v":0},{"$f":"IF(Dati!E198=\"UA4\",Dati!D198,)","v":0},{"$f":"IF(Dati!E198=\"UA5\",Dati!D198,)","v":0},{"$f":"IF(Dati!E198=\"UA6\",Dati!D198,)","v":0},{"$f":"IF(Dati!E198=\"UB1\",Dati!D198,)","v":0},{"$f":"IF(Dati!E198=\"UB2\",Dati!D198,)","v":0},{"$f":"IF(Dati!E198=\"UC1\",Dati!D198,)","v":0},{"$f":"IF(Dati!E198=\"UD1\",Dati!D198,)","v":0},{"$f":"IF(Dati!E198=\"UE1\",Dati!D198,)","v":0}]
[{"$f":"Dati!C199","v":"00:00:00"},{"$f":"Dati!H199","v":"00:00:00"},{"$f":"IF(Dati!E199=\"UA1\",Dati!D199,)","v":0},{"$f":"IF(Dati!E199=\"UA2\",Dati!D199,)","v":0},{"$f":"IF(Dati!E199=\"UA3\",Dati!D199,)","v":0},{"$f":"IF(Dati!E199=\"UA4\",Dati!D199,)","v":0},{"$f":"IF(Dati!E199=\"UA5\",Dati!D199,)","v":0},{"$f":"IF(Dati!E199=\"UA6\",Dati!D199,)","v":0},{"$f":"IF(Dati!E199=\"UB1\",Dati!D199,)","v":0},{"$f":"IF(Dati!E199=\"UB2\",Dati!D199,)","v":0},{"$f":"IF(Dati!E199=\"UC1\",Dati!D199,)","v":0},{"$f":"IF(Dati!E199=\"UD1\",Dati!D199,)","v":0},{"$f":"IF(Dati!E199=\"UE1\",Dati!D199,)","v":0}]
[{"$f":"Dati!C200","v":"00:00:00"},{"$f":"Dati!H200","v":"00:00:00"},{"$f":"IF(Dati!E200=\"UA1\",Dati!D200,)","v":0},{"$f":"IF(Dati!E200=\"UA2\",Dati!D200,)","v":0},{"$f":"IF(Dati!E200=\"UA3\",Dati!D200,)","v":0},{"$f":"IF(Dati!E200=\"UA4\",Dati!D200,)","v":0},{"$f":"IF(Dati!E200=\"UA5\",Dati!D200,)","v":0},{"$f":"IF(Dati!E200=\"UA6\",Dati!D200,)","v":0},{"$f":"IF(Dati!E200=\"UB1\",Dati!D200,)","v":0},{"$f":"IF(Dati!E200=\"UB2\",Dati!D200,)","v":0},{"$f":"IF(Dati!E200=\"UC1\",Dati!D200,)","v":0},{"$f":"IF(Dati!E200=\"UD1\",Dati!D200,)","v":0},{"$f":"IF(Dati!E200=\"UE1\",Dati!D200,)","v":0}]
[{"$f":"Dati!C201","v":"00:00:00"},{"$f":"Dati!H201","v":"00:00:00"},{"$f":"IF(Dati!E201=\"UA1\",Dati!D201,)","v":0},{"$f":"IF(Dati!E201=\"UA2\",Dati!D201,)","v":0},{"$f":"IF(Dati!E201=\"UA3\",Dati!D201,)","v":0},{"$f":"IF(Dati!E201=\"UA4\",Dati!D201,)","v":0},{"$f":"IF(Dati!E201=\"UA5\",Dati!D201,)","v":0},{"$f":"IF(Dati!E201=\"UA6\",Dati!D201,)","v":0},{"$f":"IF(Dati!E201=\"UB1\",Dati!D201,)","v":0},{"$f":"IF(Dati!E201=\"UB2\",Dati!D201,)","v":0},{"$f":"IF(Dati!E201=\"UC1\",Dati!D201,)","v":0},{"$f":"IF(Dati!E201=\"UD1\",Dati!D201,)","v":0},{"$f":"IF(Dati!E201=\"UE1\",Dati!D201,)","v":0}]
[{"$f":"Dati!C202","v":"00:00:00"},{"$f":"Dati!H202","v":"00:00:00"},{"$f":"IF(Dati!E202=\"UA1\",Dati!D202,)","v":0},{"$f":"IF(Dati!E202=\"UA2\",Dati!D202,)","v":0},{"$f":"IF(Dati!E202=\"UA3\",Dati!D202,)","v":0},{"$f":"IF(Dati!E202=\"UA4\",Dati!D202,)","v":0},{"$f":"IF(Dati!E202=\"UA5\",Dati!D202,)","v":0},{"$f":"IF(Dati!E202=\"UA6\",Dati!D202,)","v":0},{"$f":"IF(Dati!E202=\"UB1\",Dati!D202,)","v":0},{"$f":"IF(Dati!E202=\"UB2\",Dati!D202,)","v":0},{"$f":"IF(Dati!E202=\"UC1\",Dati!D202,)","v":0},{"$f":"IF(Dati!E202=\"UD1\",Dati!D202,)","v":0},{"$f":"IF(Dati!E202=\"UE1\",Dati!D202,)","v":0}]
[{"$f":"Dati!C203","v":"00:00:00"},{"$f":"Dati!H203","v":"00:00:00"},{"$f":"IF(Dati!E203=\"UA1\",Dati!D203,)","v":0},{"$f":"IF(Dati!E203=\"UA2\",Dati!D203,)","v":0},{"$f":"IF(Dati!E203=\"UA3\",Dati!D203,)","v":0},{"$f":"IF(Dati!E203=\"UA4\",Dati!D203,)","v":0},{"$f":"IF(Dati!E203=\"UA5\",Dati!D203,)","v":0},{"$f":"IF(Dati!E203=\"UA6\",Dati!D203,)","v":0},{"$f":"IF(Dati!E203=\"UB1\",Dati!D203,)","v":0},{"$f":"IF(Dati!E203=\"UB2\",Dati!D203,)","v":0},{"$f":"IF(Dati!E203=\"UC1\",Dati!D203,)","v":0},{"$f":"IF(Dati!E203=\"UD1\",Dati!D203,)","v":0},{"$f":"IF(Dati!E203=\"UE1\",Dati!D203,)","v":0}]
[{"$f":"Dati!C204","v":"00:00:00"},{"$f":"Dati!H204","v":"00:00:00"},{"$f":"IF(Dati!E204=\"UA1\",Dati!D204,)","v":0},{"$f":"IF(Dati!E204=\"UA2\",Dati!D204,)","v":0},{"$f":"IF(Dati!E204=\"UA3\",Dati!D204,)","v":0},{"$f":"IF(Dati!E204=\"UA4\",Dati!D204,)","v":0},{"$f":"IF(Dati!E204=\"UA5\",Dati!D204,)","v":0},{"$f":"IF(Dati!E204=\"UA6\",Dati!D204,)","v":0},{"$f":"IF(Dati!E204=\"UB1\",Dati!D204,)","v":0},{"$f":"IF(Dati!E204=\"UB2\",Dati!D204,)","v":0},{"$f":"IF(Dati!E204=\"UC1\",Dati!D204,)","v":0},{"$f":"IF(Dati!E204=\"UD1\",Dati!D204,)","v":0},{"$f":"IF(Dati!E204=\"UE1\",Dati!D204,)","v":0}]
[{"$f":"Dati!C205","v":"00:00:00"},{"$f":"Dati!H205","v":"00:00:00"},{"$f":"IF(Dati!E205=\"UA1\",Dati!D205,)","v":0},{"$f":"IF(Dati!E205=\"UA2\",Dati!D205,)","v":0},{"$f":"IF(Dati!E205=\"UA3\",Dati!D205,)","v":0},{"$f":"IF(Dati!E205=\"UA4\",Dati!D205,)","v":0},{"$f":"IF(Dati!E205=\"UA5\",Dati!D205,)","v":0},{"$f":"IF(Dati!E205=\"UA6\",Dati!D205,)","v":0},{"$f":"IF(Dati!E205=\"UB1\",Dati!D205,)","v":0},{"$f":"IF(Dati!E205=\"UB2\",Dati!D205,)","v":0},{"$f":"IF(Dati!E205=\"UC1\",Dati!D205,)","v":0},{"$f":"IF(Dati!E205=\"UD1\",Dati!D205,)","v":0},{"$f":"IF(Dati!E205=\"UE1\",Dati!D205,)","v":0}]
[{"$f":"Dati!C206","v":"00:00:00"},{"$f":"Dati!H206","v":"00:00:00"},{"$f":"IF(Dati!E206=\"UA1\",Dati!D206,)","v":0},{"$f":"IF(Dati!E206=\"UA2\",Dati!D206,)","v":0},{"$f":"IF(Dati!E206=\"UA3\",Dati!D206,)","v":0},{"$f":"IF(Dati!E206=\"UA4\",Dati!D206,)","v":0},{"$f":"IF(Dati!E206=\"UA5\",Dati!D206,)","v":0},{"$f":"IF(Dati!E206=\"UA6\",Dati!D206,)","v":0},{"$f":"IF(Dati!E206=\"UB1\",Dati!D206,)","v":0},{"$f":"IF(Dati!E206=\"UB2\",Dati!D206,)","v":0},{"$f":"IF(Dati!E206=\"UC1\",Dati!D206,)","v":0},{"$f":"IF(Dati!E206=\"UD1\",Dati!D206,)","v":0},{"$f":"IF(Dati!E206=\"UE1\",Dati!D206,)","v":0}]
[{"$f":"Dati!C207","v":"00:00:00"},{"$f":"Dati!H207","v":"00:00:00"},{"$f":"IF(Dati!E207=\"UA1\",Dati!D207,)","v":0},{"$f":"IF(Dati!E207=\"UA2\",Dati!D207,)","v":0},{"$f":"IF(Dati!E207=\"UA3\",Dati!D207,)","v":0},{"$f":"IF(Dati!E207=\"UA4\",Dati!D207,)","v":0},{"$f":"IF(Dati!E207=\"UA5\",Dati!D207,)","v":0},{"$f":"IF(Dati!E207=\"UA6\",Dati!D207,)","v":0},{"$f":"IF(Dati!E207=\"UB1\",Dati!D207,)","v":0},{"$f":"IF(Dati!E207=\"UB2\",Dati!D207,)","v":0},{"$f":"IF(Dati!E207=\"UC1\",Dati!D207,)","v":0},{"$f":"IF(Dati!E207=\"UD1\",Dati!D207,)","v":0},{"$f":"IF(Dati!E207=\"UE1\",Dati!D207,)","v":0}]
[{"$f":"Dati!C208","v":"00:00:00"},{"$f":"Dati!H208","v":"00:00:00"},{"$f":"IF(Dati!E208=\"UA1\",Dati!D208,)","v":0},{"$f":"IF(Dati!E208=\"UA2\",Dati!D208,)","v":0},{"$f":"IF(Dati!E208=\"UA3\",Dati!D208,)","v":0},{"$f":"IF(Dati!E208=\"UA4\",Dati!D208,)","v":0},{"$f":"IF(Dati!E208=\"UA5\",Dati!D208,)","v":0},{"$f":"IF(Dati!E208=\"UA6\",Dati!D208,)","v":0},{"$f":"IF(Dati!E208=\"UB1\",Dati!D208,)","v":0},{"$f":"IF(Dati!E208=\"UB2\",Dati!D208,)","v":0},{"$f":"IF(Dati!E208=\"UC1\",Dati!D208,)","v":0},{"$f":"IF(Dati!E208=\"UD1\",Dati!D208,)","v":0},{"$f":"IF(Dati!E208=\"UE1\",Dati!D208,)","v":0}]
[{"$f":"Dati!C209","v":"00:00:00"},{"$f":"Dati!H209","v":"00:00:00"},{"$f":"IF(Dati!E209=\"UA1\",Dati!D209,)","v":0},{"$f":"IF(Dati!E209=\"UA2\",Dati!D209,)","v":0},{"$f":"IF(Dati!E209=\"UA3\",Dati!D209,)","v":0},{"$f":"IF(Dati!E209=\"UA4\",Dati!D209,)","v":0},{"$f":"IF(Dati!E209=\"UA5\",Dati!D209,)","v":0},{"$f":"IF(Dati!E209=\"UA6\",Dati!D209,)","v":0},{"$f":"IF(Dati!E209=\"UB1\",Dati!D209,)","v":0},{"$f":"IF(Dati!E209=\"UB2\",Dati!D209,)","v":0},{"$f":"IF(Dati!E209=\"UC1\",Dati!D209,)","v":0},{"$f":"IF(Dati!E209=\"UD1\",Dati!D209,)","v":0},{"$f":"IF(Dati!E209=\"UE1\",Dati!D209,)","v":0}]
[{"$f":"Dati!C210","v":"00:00:00"},{"$f":"Dati!H210","v":"00:00:00"},{"$f":"IF(Dati!E210=\"UA1\",Dati!D210,)","v":0},{"$f":"IF(Dati!E210=\"UA2\",Dati!D210,)","v":0},{"$f":"IF(Dati!E210=\"UA3\",Dati!D210,)","v":0},{"$f":"IF(Dati!E210=\"UA4\",Dati!D210,)","v":0},{"$f":"IF(Dati!E210=\"UA5\",Dati!D210,)","v":0},{"$f":"IF(Dati!E210=\"UA6\",Dati!D210,)","v":0},{"$f":"IF(Dati!E210=\"UB1\",Dati!D210,)","v":0},{"$f":"IF(Dati!E210=\"UB2\",Dati!D210,)","v":0},{"$f":"IF(Dati!E210=\"UC1\",Dati!D210,)","v":0},{"$f":"IF(Dati!E210=\"UD1\",Dati!D210,)","v":0},{"$f":"IF(Dati!E210=\"UE1\",Dati!D210,)","v":0}]
[{"$f":"Dati!C211","v":"00:00:00"},{"$f":"Dati!H211","v":"00:00:00"},{"$f":"IF(Dati!E211=\"UA1\",Dati!D211,)","v":0},{"$f":"IF(Dati!E211=\"UA2\",Dati!D211,)","v":0},{"$f":"IF(Dati!E211=\"UA3\",Dati!D211,)","v":0},{"$f":"IF(Dati!E211=\"UA4\",Dati!D211,)","v":0},{"$f":"IF(Dati!E211=\"UA5\",Dati!D211,)","v":0},{"$f":"IF(Dati!E211=\"UA6\",Dati!D211,)","v":0},{"$f":"IF(Dati!E211=\"UB1\",Dati!D211,)","v":0},{"$f":"IF(Dati!E211=\"UB2\",Dati!D211,)","v":0},{"$f":"IF(Dati!E211=\"UC1\",Dati!D211,)","v":0},{"$f":"IF(Dati!E211=\"UD1\",Dati!D211,)","v":0},{"$f":"IF(Dati!E211=\"UE1\",Dati!D211,)","v":0}]
[{"$f":"Dati!C212","v":"00:00:00"},{"$f":"Dati!H212","v":"00:00:00"},{"$f":"IF(Dati!E212=\"UA1\",Dati!D212,)","v":0},{"$f":"IF(Dati!E212=\"UA2\",Dati!D212,)","v":0},{"$f":"IF(Dati!E212=\"UA3\",Dati!D212,)","v":0},{"$f":"IF(Dati!E212=\"UA4\",Dati!D212,)","v":0},{"$f":"IF(Dati!E212=\"UA5\",Dati!D212,)","v":0},{"$f":"IF(Dati!E212=\"UA6\",Dati!D212,)","v":0},{"$f":"IF(Dati!E212=\"UB1\",Dati!D212,)","v":0},{"$f":"IF(Dati!E212=\"UB2\",Dati!D212,)","v":0},{"$f":"IF(Dati!E212=\"UC1\",Dati!D212,)","v":0},{"$f":"IF(Dati!E212=\"UD1\",Dati!D212,)","v":0},{"$f":"IF(Dati!E212=\"UE1\",Dati!D212,)","v":0}]
[{"$f":"Dati!C213","v":"00:00:00"},{"$f":"Dati!H213","v":"00:00:00"},{"$f":"IF(Dati!E213=\"UA1\",Dati!D213,)","v":0},{"$f":"IF(Dati!E213=\"UA2\",Dati!D213,)","v":0},{"$f":"IF(Dati!E213=\"UA3\",Dati!D213,)","v":0},{"$f":"IF(Dati!E213=\"UA4\",Dati!D213,)","v":0},{"$f":"IF(Dati!E213=\"UA5\",Dati!D213,)","v":0},{"$f":"IF(Dati!E213=\"UA6\",Dati!D213,)","v":0},{"$f":"IF(Dati!E213=\"UB1\",Dati!D213,)","v":0},{"$f":"IF(Dati!E213=\"UB2\",Dati!D213,)","v":0},{"$f":"IF(Dati!E213=\"UC1\",Dati!D213,)","v":0},{"$f":"IF(Dati!E213=\"UD1\",Dati!D213,)","v":0},{"$f":"IF(Dati!E213=\"UE1\",Dati!D213,)","v":0}]
[{"$f":"Dati!C214","v":"00:00:00"},{"$f":"Dati!H214","v":"00:00:00"},{"$f":"IF(Dati!E214=\"UA1\",Dati!D214,)","v":0},{"$f":"IF(Dati!E214=\"UA2\",Dati!D214,)","v":0},{"$f":"IF(Dati!E214=\"UA3\",Dati!D214,)","v":0},{"$f":"IF(Dati!E214=\"UA4\",Dati!D214,)","v":0},{"$f":"IF(Dati!E214=\"UA5\",Dati!D214,)","v":0},{"$f":"IF(Dati!E214=\"UA6\",Dati!D214,)","v":0},{"$f":"IF(Dati!E214=\"UB1\",Dati!D214,)","v":0},{"$f":"IF(Dati!E214=\"UB2\",Dati!D214,)","v":0},{"$f":"IF(Dati!E214=\"UC1\",Dati!D214,)","v":0},{"$f":"IF(Dati!E214=\"UD1\",Dati!D214,)","v":0},{"$f":"IF(Dati!E214=\"UE1\",Dati!D214,)","v":0}]
[{"$f":"Dati!C215","v":"00:00:00"},{"$f":"Dati!H215","v":"00:00:00"},{"$f":"IF(Dati!E215=\"UA1\",Dati!D215,)","v":0},{"$f":"IF(Dati!E215=\"UA2\",Dati!D215,)","v":0},{"$f":"IF(Dati!E215=\"UA3\",Dati!D215,)","v":0},{"$f":"IF(Dati!E215=\"UA4\",Dati!D215,)","v":0},{"$f":"IF(Dati!E215=\"UA5\",Dati!D215,)","v":0},{"$f":"IF(Dati!E215=\"UA6\",Dati!D215,)","v":0},{"$f":"IF(Dati!E215=\"UB1\",Dati!D215,)","v":0},{"$f":"IF(Dati!E215=\"UB2\",Dati!D215,)","v":0},{"$f":"IF(Dati!E215=\"UC1\",Dati!D215,)","v":0},{"$f":"IF(Dati!E215=\"UD1\",Dati!D215,)","v":0},{"$f":"IF(Dati!E215=\"UE1\",Dati!D215,)","v":0}]
[{"$f":"Dati!C216","v":"00:00:00"},{"$f":"Dati!H216","v":"00:00:00"},{"$f":"IF(Dati!E216=\"UA1\",Dati!D216,)","v":0},{"$f":"IF(Dati!E216=\"UA2\",Dati!D216,)","v":0},{"$f":"IF(Dati!E216=\"UA3\",Dati!D216,)","v":0},{"$f":"IF(Dati!E216=\"UA4\",Dati!D216,)","v":0},{"$f":"IF(Dati!E216=\"UA5\",Dati!D216,)","v":0},{"$f":"IF(Dati!E216=\"UA6\",Dati!D216,)","v":0},{"$f":"IF(Dati!E216=\"UB1\",Dati!D216,)","v":0},{"$f":"IF(Dati!E216=\"UB2\",Dati!D216,)","v":0},{"$f":"IF(Dati!E216=\"UC1\",Dati!D216,)","v":0},{"$f":"IF(Dati!E216=\"UD1\",Dati!D216,)","v":0},{"$f":"IF(Dati!E216=\"UE1\",Dati!D216,)","v":0}]
[{"$f":"Dati!C217","v":"00:00:00"},{"$f":"Dati!H217","v":"00:00:00"},{"$f":"IF(Dati!E217=\"UA1\",Dati!D217,)","v":0},{"$f":"IF(Dati!E217=\"UA2\",Dati!D217,)","v":0},{"$f":"IF(Dati!E217=\"UA3\",Dati!D217,)","v":0},{"$f":"IF(Dati!E217=\"UA4\",Dati!D217,)","v":0},{"$f":"IF(Dati!E217=\"UA5\",Dati!D217,)","v":0},{"$f":"IF(Dati!E217=\"UA6\",Dati!D217,)","v":0},{"$f":"IF(Dati!E217=\"UB1\",Dati!D217,)","v":0},{"$f":"IF(Dati!E217=\"UB2\",Dati!D217,)","v":0},{"$f":"IF(Dati!E217=\"UC1\",Dati!D217,)","v":0},{"$f":"IF(Dati!E217=\"UD1\",Dati!D217,)","v":0},{"$f":"IF(Dati!E217=\"UE1\",Dati!D217,)","v":0}]
[{"$f":"Dati!C218","v":"00:00:00"},{"$f":"Dati!H218","v":"00:00:00"},{"$f":"IF(Dati!E218=\"UA1\",Dati!D218,)","v":0},{"$f":"IF(Dati!E218=\"UA2\",Dati!D218,)","v":0},{"$f":"IF(Dati!E218=\"UA3\",Dati!D218,)","v":0},{"$f":"IF(Dati!E218=\"UA4\",Dati!D218,)","v":0},{"$f":"IF(Dati!E218=\"UA5\",Dati!D218,)","v":0},{"$f":"IF(Dati!E218=\"UA6\",Dati!D218,)","v":0},{"$f":"IF(Dati!E218=\"UB1\",Dati!D218,)","v":0},{"$f":"IF(Dati!E218=\"UB2\",Dati!D218,)","v":0},{"$f":"IF(Dati!E218=\"UC1\",Dati!D218,)","v":0},{"$f":"IF(Dati!E218=\"UD1\",Dati!D218,)","v":0},{"$f":"IF(Dati!E218=\"UE1\",Dati!D218,)","v":0}]
[{"$f":"Dati!C219","v":"00:00:00"},{"$f":"Dati!H219","v":"00:00:00"},{"$f":"IF(Dati!E219=\"UA1\",Dati!D219,)","v":0},{"$f":"IF(Dati!E219=\"UA2\",Dati!D219,)","v":0},{"$f":"IF(Dati!E219=\"UA3\",Dati!D219,)","v":0},{"$f":"IF(Dati!E219=\"UA4\",Dati!D219,)","v":0},{"$f":"IF(Dati!E219=\"UA5\",Dati!D219,)","v":0},{"$f":"IF(Dati!E219=\"UA6\",Dati!D219,)","v":0},{"$f":"IF(Dati!E219=\"UB1\",Dati!D219,)","v":0},{"$f":"IF(Dati!E219=\"UB2\",Dati!D219,)","v":0},{"$f":"IF(Dati!E219=\"UC1\",Dati!D219,)","v":0},{"$f":"IF(Dati!E219=\"UD1\",Dati!D219,)","v":0},{"$f":"IF(Dati!E219=\"UE1\",Dati!D219,)","v":0}]
[{"$f":"Dati!C220","v":"00:00:00"},{"$f":"Dati!H220","v":"00:00:00"},{"$f":"IF(Dati!E220=\"UA1\",Dati!D220,)","v":0},{"$f":"IF(Dati!E220=\"UA2\",Dati!D220,)","v":0},{"$f":"IF(Dati!E220=\"UA3\",Dati!D220,)","v":0},{"$f":"IF(Dati!E220=\"UA4\",Dati!D220,)","v":0},{"$f":"IF(Dati!E220=\"UA5\",Dati!D220,)","v":0},{"$f":"IF(Dati!E220=\"UA6\",Dati!D220,)","v":0},{"$f":"IF(Dati!E220=\"UB1\",Dati!D220,)","v":0},{"$f":"IF(Dati!E220=\"UB2\",Dati!D220,)","v":0},{"$f":"IF(Dati!E220=\"UC1\",Dati!D220,)","v":0},{"$f":"IF(Dati!E220=\"UD1\",Dati!D220,)","v":0},{"$f":"IF(Dati!E220=\"UE1\",Dati!D220,)","v":0}]
[{"$f":"Dati!C221","v":"00:00:00"},{"$f":"Dati!H221","v":"00:00:00"},{"$f":"IF(Dati!E221=\"UA1\",Dati!D221,)","v":0},{"$f":"IF(Dati!E221=\"UA2\",Dati!D221,)","v":0},{"$f":"IF(Dati!E221=\"UA3\",Dati!D221,)","v":0},{"$f":"IF(Dati!E221=\"UA4\",Dati!D221,)","v":0},{"$f":"IF(Dati!E221=\"UA5\",Dati!D221,)","v":0},{"$f":"IF(Dati!E221=\"UA6\",Dati!D221,)","v":0},{"$f":"IF(Dati!E221=\"UB1\",Dati!D221,)","v":0},{"$f":"IF(Dati!E221=\"UB2\",Dati!D221,)","v":0},{"$f":"IF(Dati!E221=\"UC1\",Dati!D221,)","v":0},{"$f":"IF(Dati!E221=\"UD1\",Dati!D221,)","v":0},{"$f":"IF(Dati!E221=\"UE1\",Dati!D221,)","v":0}]
[{"$f":"Dati!C222","v":"00:00:00"},{"$f":"Dati!H222","v":"00:00:00"},{"$f":"IF(Dati!E222=\"UA1\",Dati!D222,)","v":0},{"$f":"IF(Dati!E222=\"UA2\",Dati!D222,)","v":0},{"$f":"IF(Dati!E222=\"UA3\",Dati!D222,)","v":0},{"$f":"IF(Dati!E222=\"UA4\",Dati!D222,)","v":0},{"$f":"IF(Dati!E222=\"UA5\",Dati!D222,)","v":0},{"$f":"IF(Dati!E222=\"UA6\",Dati!D222,)","v":0},{"$f":"IF(Dati!E222=\"UB1\",Dati!D222,)","v":0},{"$f":"IF(Dati!E222=\"UB2\",Dati!D222,)","v":0},{"$f":"IF(Dati!E222=\"UC1\",Dati!D222,)","v":0},{"$f":"IF(Dati!E222=\"UD1\",Dati!D222,)","v":0},{"$f":"IF(Dati!E222=\"UE1\",Dati!D222,)","v":0}]
[{"$f":"Dati!C223","v":"00:00:00"},{"$f":"Dati!H223","v":"00:00:00"},{"$f":"IF(Dati!E223=\"UA1\",Dati!D223,)","v":0},{"$f":"IF(Dati!E223=\"UA2\",Dati!D223,)","v":0},{"$f":"IF(Dati!E223=\"UA3\",Dati!D223,)","v":0},{"$f":"IF(Dati!E223=\"UA4\",Dati!D223,)","v":0},{"$f":"IF(Dati!E223=\"UA5\",Dati!D223,)","v":0},{"$f":"IF(Dati!E223=\"UA6\",Dati!D223,)","v":0},{"$f":"IF(Dati!E223=\"UB1\",Dati!D223,)","v":0},{"$f":"IF(Dati!E223=\"UB2\",Dati!D223,)","v":0},{"$f":"IF(Dati!E223=\"UC1\",Dati!D223,)","v":0},{"$f":"IF(Dati!E223=\"UD1\",Dati!D223,)","v":0},{"$f":"IF(Dati!E223=\"UE1\",Dati!D223,)","v":0}]
[{"$f":"Dati!C224","v":"00:00:00"},{"$f":"Dati!H224","v":"00:00:00"},{"$f":"IF(Dati!E224=\"UA1\",Dati!D224,)","v":0},{"$f":"IF(Dati!E224=\"UA2\",Dati!D224,)","v":0},{"$f":"IF(Dati!E224=\"UA3\",Dati!D224,)","v":0},{"$f":"IF(Dati!E224=\"UA4\",Dati!D224,)","v":0},{"$f":"IF(Dati!E224=\"UA5\",Dati!D224,)","v":0},{"$f":"IF(Dati!E224=\"UA6\",Dati!D224,)","v":0},{"$f":"IF(Dati!E224=\"UB1\",Dati!D224,)","v":0},{"$f":"IF(Dati!E224=\"UB2\",Dati!D224,)","v":0},{"$f":"IF(Dati!E224=\"UC1\",Dati!D224,)","v":0},{"$f":"IF(Dati!E224=\"UD1\",Dati!D224,)","v":0},{"$f":"IF(Dati!E224=\"UE1\",Dati!D224,)","v":0}]
[{"$f":"Dati!C225","v":"00:00:00"},{"$f":"Dati!H225","v":"00:00:00"},{"$f":"IF(Dati!E225=\"UA1\",Dati!D225,)","v":0},{"$f":"IF(Dati!E225=\"UA2\",Dati!D225,)","v":0},{"$f":"IF(Dati!E225=\"UA3\",Dati!D225,)","v":0},{"$f":"IF(Dati!E225=\"UA4\",Dati!D225,)","v":0},{"$f":"IF(Dati!E225=\"UA5\",Dati!D225,)","v":0},{"$f":"IF(Dati!E225=\"UA6\",Dati!D225,)","v":0},{"$f":"IF(Dati!E225=\"UB1\",Dati!D225,)","v":0},{"$f":"IF(Dati!E225=\"UB2\",Dati!D225,)","v":0},{"$f":"IF(Dati!E225=\"UC1\",Dati!D225,)","v":0},{"$f":"IF(Dati!E225=\"UD1\",Dati!D225,)","v":0},{"$f":"IF(Dati!E225=\"UE1\",Dati!D225,)","v":0}]
[{"$f":"Dati!C226","v":"00:00:00"},{"$f":"Dati!H226","v":"00:00:00"},{"$f":"IF(Dati!E226=\"UA1\",Dati!D226,)","v":0},{"$f":"IF(Dati!E226=\"UA2\",Dati!D226,)","v":0},{"$f":"IF(Dati!E226=\"UA3\",Dati!D226,)","v":0},{"$f":"IF(Dati!E226=\"UA4\",Dati!D226,)","v":0},{"$f":"IF(Dati!E226=\"UA5\",Dati!D226,)","v":0},{"$f":"IF(Dati!E226=\"UA6\",Dati!D226,)","v":0},{"$f":"IF(Dati!E226=\"UB1\",Dati!D226,)","v":0},{"$f":"IF(Dati!E226=\"UB2\",Dati!D226,)","v":0},{"$f":"IF(Dati!E226=\"UC1\",Dati!D226,)","v":0},{"$f":"IF(Dati!E226=\"UD1\",Dati!D226,)","v":0},{"$f":"IF(Dati!E226=\"UE1\",Dati!D226,)","v":0}]
[{"$f":"Dati!C227","v":"00:00:00"},{"$f":"Dati!H227","v":"00:00:00"},{"$f":"IF(Dati!E227=\"UA1\",Dati!D227,)","v":0},{"$f":"IF(Dati!E227=\"UA2\",Dati!D227,)","v":0},{"$f":"IF(Dati!E227=\"UA3\",Dati!D227,)","v":0},{"$f":"IF(Dati!E227=\"UA4\",Dati!D227,)","v":0},{"$f":"IF(Dati!E227=\"UA5\",Dati!D227,)","v":0},{"$f":"IF(Dati!E227=\"UA6\",Dati!D227,)","v":0},{"$f":"IF(Dati!E227=\"UB1\",Dati!D227,)","v":0},{"$f":"IF(Dati!E227=\"UB2\",Dati!D227,)","v":0},{"$f":"IF(Dati!E227=\"UC1\",Dati!D227,)","v":0},{"$f":"IF(Dati!E227=\"UD1\",Dati!D227,)","v":0},{"$f":"IF(Dati!E227=\"UE1\",Dati!D227,)","v":0}]
[{"$f":"Dati!C228","v":"00:00:00"},{"$f":"Dati!H228","v":"00:00:00"},{"$f":"IF(Dati!E228=\"UA1\",Dati!D228,)","v":0},{"$f":"IF(Dati!E228=\"UA2\",Dati!D228,)","v":0},{"$f":"IF(Dati!E228=\"UA3\",Dati!D228,)","v":0},{"$f":"IF(Dati!E228=\"UA4\",Dati!D228,)","v":0},{"$f":"IF(Dati!E228=\"UA5\",Dati!D228,)","v":0},{"$f":"IF(Dati!E228=\"UA6\",Dati!D228,)","v":0},{"$f":"IF(Dati!E228=\"UB1\",Dati!D228,)","v":0},{"$f":"IF(Dati!E228=\"UB2\",Dati!D228,)","v":0},{"$f":"IF(Dati!E228=\"UC1\",Dati!D228,)","v":0},{"$f":"IF(Dati!E228=\"UD1\",Dati!D228,)","v":0},{"$f":"IF(Dati!E228=\"UE1\",Dati!D228,)","v":0}]
[{"$f":"Dati!C229","v":"00:00:00"},{"$f":"Dati!H229","v":"00:00:00"},{"$f":"IF(Dati!E229=\"UA1\",Dati!D229,)","v":0},{"$f":"IF(Dati!E229=\"UA2\",Dati!D229,)","v":0},{"$f":"IF(Dati!E229=\"UA3\",Dati!D229,)","v":0},{"$f":"IF(Dati!E229=\"UA4\",Dati!D229,)","v":0},{"$f":"IF(Dati!E229=\"UA5\",Dati!D229,)","v":0},{"$f":"IF(Dati!E229=\"UA6\",Dati!D229,)","v":0},{"$f":"IF(Dati!E229=\"UB1\",Dati!D229,)","v":0},{"$f":"IF(Dati!E229=\"UB2\",Dati!D229,)","v":0},{"$f":"IF(Dati!E229=\"UC1\",Dati!D229,)","v":0},{"$f":"IF(Dati!E229=\"UD1\",Dati!D229,)","v":0},{"$f":"IF(Dati!E229=\"UE1\",Dati!D229,)","v":0}]
[{"$f":"Dati!C230","v":"00:00:00"},{"$f":"Dati!H230","v":"00:00:00"},{"$f":"IF(Dati!E230=\"UA1\",Dati!D230,)","v":0},{"$f":"IF(Dati!E230=\"UA2\",Dati!D230,)","v":0},{"$f":"IF(Dati!E230=\"UA3\",Dati!D230,)","v":0},{"$f":"IF(Dati!E230=\"UA4\",Dati!D230,)","v":0},{"$f":"IF(Dati!E230=\"UA5\",Dati!D230,)","v":0},{"$f":"IF(Dati!E230=\"UA6\",Dati!D230,)","v":0},{"$f":"IF(Dati!E230=\"UB1\",Dati!D230,)","v":0},{"$f":"IF(Dati!E230=\"UB2\",Dati!D230,)","v":0},{"$f":"IF(Dati!E230=\"UC1\",Dati!D230,)","v":0},{"$f":"IF(Dati!E230=\"UD1\",Dati!D230,)","v":0},{"$f":"IF(Dati!E230=\"UE1\",Dati!D230,)","v":0}]
[{"$f":"Dati!C231","v":"00:00:00"},{"$f":"Dati!H231","v":"00:00:00"},{"$f":"IF(Dati!E231=\"UA1\",Dati!D231,)","v":0},{"$f":"IF(Dati!E231=\"UA2\",Dati!D231,)","v":0},{"$f":"IF(Dati!E231=\"UA3\",Dati!D231,)","v":0},{"$f":"IF(Dati!E231=\"UA4\",Dati!D231,)","v":0},{"$f":"IF(Dati!E231=\"UA5\",Dati!D231,)","v":0},{"$f":"IF(Dati!E231=\"UA6\",Dati!D231,)","v":0},{"$f":"IF(Dati!E231=\"UB1\",Dati!D231,)","v":0},{"$f":"IF(Dati!E231=\"UB2\",Dati!D231,)","v":0},{"$f":"IF(Dati!E231=\"UC1\",Dati!D231,)","v":0},{"$f":"IF(Dati!E231=\"UD1\",Dati!D231,)","v":0},{"$f":"IF(Dati!E231=\"UE1\",Dati!D231,)","v":0}]
[{"$f":"Dati!C232","v":"00:00:00"},{"$f":"Dati!H232","v":"00:00:00"},{"$f":"IF(Dati!E232=\"UA1\",Dati!D232,)","v":0},{"$f":"IF(Dati!E232=\"UA2\",Dati!D232,)","v":0},{"$f":"IF(Dati!E232=\"UA3\",Dati!D232,)","v":0},{"$f":"IF(Dati!E232=\"UA4\",Dati!D232,)","v":0},{"$f":"IF(Dati!E232=\"UA5\",Dati!D232,)","v":0},{"$f":"IF(Dati!E232=\"UA6\",Dati!D232,)","v":0},{"$f":"IF(Dati!E232=\"UB1\",Dati!D232,)","v":0},{"$f":"IF(Dati!E232=\"UB2\",Dati!D232,)","v":0},{"$f":"IF(Dati!E232=\"UC1\",Dati!D232,)","v":0},{"$f":"IF(Dati!E232=\"UD1\",Dati!D232,)","v":0},{"$f":"IF(Dati!E232=\"UE1\",Dati!D232,)","v":0}]
[{"$f":"Dati!C233","v":"00:00:00"},{"$f":"Dati!H233","v":"00:00:00"},{"$f":"IF(Dati!E233=\"UA1\",Dati!D233,)","v":0},{"$f":"IF(Dati!E233=\"UA2\",Dati!D233,)","v":0},{"$f":"IF(Dati!E233=\"UA3\",Dati!D233,)","v":0},{"$f":"IF(Dati!E233=\"UA4\",Dati!D233,)","v":0},{"$f":"IF(Dati!E233=\"UA5\",Dati!D233,)","v":0},{"$f":"IF(Dati!E233=\"UA6\",Dati!D233,)","v":0},{"$f":"IF(Dati!E233=\"UB1\",Dati!D233,)","v":0},{"$f":"IF(Dati!E233=\"UB2\",Dati!D233,)","v":0},{"$f":"IF(Dati!E233=\"UC1\",Dati!D233,)","v":0},{"$f":"IF(Dati!E233=\"UD1\",Dati!D233,)","v":0},{"$f":"IF(Dati!E233=\"UE1\",Dati!D233,)","v":0}]
[{"$f":"Dati!C234","v":"00:00:00"},{"$f":"Dati!H234","v":"00:00:00"},{"$f":"IF(Dati!E234=\"UA1\",Dati!D234,)","v":0},{"$f":"IF(Dati!E234=\"UA2\",Dati!D234,)","v":0},{"$f":"IF(Dati!E234=\"UA3\",Dati!D234,)","v":0},{"$f":"IF(Dati!E234=\"UA4\",Dati!D234,)","v":0},{"$f":"IF(Dati!E234=\"UA5\",Dati!D234,)","v":0},{"$f":"IF(Dati!E234=\"UA6\",Dati!D234,)","v":0},{"$f":"IF(Dati!E234=\"UB1\",Dati!D234,)","v":0},{"$f":"IF(Dati!E234=\"UB2\",Dati!D234,)","v":0},{"$f":"IF(Dati!E234=\"UC1\",Dati!D234,)","v":0},{"$f":"IF(Dati!E234=\"UD1\",Dati!D234,)","v":0},{"$f":"IF(Dati!E234=\"UE1\",Dati!D234,)","v":0}]
[{"$f":"Dati!C235","v":"00:00:00"},{"$f":"Dati!H235","v":"00:00:00"},{"$f":"IF(Dati!E235=\"UA1\",Dati!D235,)","v":0},{"$f":"IF(Dati!E235=\"UA2\",Dati!D235,)","v":0},{"$f":"IF(Dati!E235=\"UA3\",Dati!D235,)","v":0},{"$f":"IF(Dati!E235=\"UA4\",Dati!D235,)","v":0},{"$f":"IF(Dati!E235=\"UA5\",Dati!D235,)","v":0},{"$f":"IF(Dati!E235=\"UA6\",Dati!D235,)","v":0},{"$f":"IF(Dati!E235=\"UB1\",Dati!D235,)","v":0},{"$f":"IF(Dati!E235=\"UB2\",Dati!D235,)","v":0},{"$f":"IF(Dati!E235=\"UC1\",Dati!D235,)","v":0},{"$f":"IF(Dati!E235=\"UD1\",Dati!D235,)","v":0},{"$f":"IF(Dati!E235=\"UE1\",Dati!D235,)","v":0}]
[{"$f":"Dati!C236","v":"00:00:00"},{"$f":"Dati!H236","v":"00:00:00"},{"$f":"IF(Dati!E236=\"UA1\",Dati!D236,)","v":0},{"$f":"IF(Dati!E236=\"UA2\",Dati!D236,)","v":0},{"$f":"IF(Dati!E236=\"UA3\",Dati!D236,)","v":0},{"$f":"IF(Dati!E236=\"UA4\",Dati!D236,)","v":0},{"$f":"IF(Dati!E236=\"UA5\",Dati!D236,)","v":0},{"$f":"IF(Dati!E236=\"UA6\",Dati!D236,)","v":0},{"$f":"IF(Dati!E236=\"UB1\",Dati!D236,)","v":0},{"$f":"IF(Dati!E236=\"UB2\",Dati!D236,)","v":0},{"$f":"IF(Dati!E236=\"UC1\",Dati!D236,)","v":0},{"$f":"IF(Dati!E236=\"UD1\",Dati!D236,)","v":0},{"$f":"IF(Dati!E236=\"UE1\",Dati!D236,)","v":0}]
[{"$f":"Dati!C237","v":"00:00:00"},{"$f":"Dati!H237","v":"00:00:00"},{"$f":"IF(Dati!E237=\"UA1\",Dati!D237,)","v":0},{"$f":"IF(Dati!E237=\"UA2\",Dati!D237,)","v":0},{"$f":"IF(Dati!E237=\"UA3\",Dati!D237,)","v":0},{"$f":"IF(Dati!E237=\"UA4\",Dati!D237,)","v":0},{"$f":"IF(Dati!E237=\"UA5\",Dati!D237,)","v":0},{"$f":"IF(Dati!E237=\"UA6\",Dati!D237,)","v":0},{"$f":"IF(Dati!E237=\"UB1\",Dati!D237,)","v":0},{"$f":"IF(Dati!E237=\"UB2\",Dati!D237,)","v":0},{"$f":"IF(Dati!E237=\"UC1\",Dati!D237,)","v":0},{"$f":"IF(Dati!E237=\"UD1\",Dati!D237,)","v":0},{"$f":"IF(Dati!E237=\"UE1\",Dati!D237,)","v":0}]
[{"$f":"Dati!C238","v":"00:00:00"},{"$f":"Dati!H238","v":"00:00:00"},{"$f":"IF(Dati!E238=\"UA1\",Dati!D238,)","v":0},{"$f":"IF(Dati!E238=\"UA2\",Dati!D238,)","v":0},{"$f":"IF(Dati!E238=\"UA3\",Dati!D238,)","v":0},{"$f":"IF(Dati!E238=\"UA4\",Dati!D238,)","v":0},{"$f":"IF(Dati!E238=\"UA5\",Dati!D238,)","v":0},{"$f":"IF(Dati!E238=\"UA6\",Dati!D238,)","v":0},{"$f":"IF(Dati!E238=\"UB1\",Dati!D238,)","v":0},{"$f":"IF(Dati!E238=\"UB2\",Dati!D238,)","v":0},{"$f":"IF(Dati!E238=\"UC1\",Dati!D238,)","v":0},{"$f":"IF(Dati!E238=\"UD1\",Dati!D238,)","v":0},{"$f":"IF(Dati!E238=\"UE1\",Dati!D238,)","v":0}]
[{"$f":"Dati!C239","v":"00:00:00"},{"$f":"Dati!H239","v":"00:00:00"},{"$f":"IF(Dati!E239=\"UA1\",Dati!D239,)","v":0},{"$f":"IF(Dati!E239=\"UA2\",Dati!D239,)","v":0},{"$f":"IF(Dati!E239=\"UA3\",Dati!D239,)","v":0},{"$f":"IF(Dati!E239=\"UA4\",Dati!D239,)","v":0},{"$f":"IF(Dati!E239=\"UA5\",Dati!D239,)","v":0},{"$f":"IF(Dati!E239=\"UA6\",Dati!D239,)","v":0},{"$f":"IF(Dati!E239=\"UB1\",Dati!D239,)","v":0},{"$f":"IF(Dati!E239=\"UB2\",Dati!D239,)","v":0},{"$f":"IF(Dati!E239=\"UC1\",Dati!D239,)","v":0},{"$f":"IF(Dati!E239=\"UD1\",Dati!D239,)","v":0},{"$f":"IF(Dati!E239=\"UE1\",Dati!D239,)","v":0}]
[{"$f":"Dati!C240","v":"00:00:00"},{"$f":"Dati!H240","v":"00:00:00"},{"$f":"IF(Dati!E240=\"UA1\",Dati!D240,)","v":0},{"$f":"IF(Dati!E240=\"UA2\",Dati!D240,)","v":0},{"$f":"IF(Dati!E240=\"UA3\",Dati!D240,)","v":0},{"$f":"IF(Dati!E240=\"UA4\",Dati!D240,)","v":0},{"$f":"IF(Dati!E240=\"UA5\",Dati!D240,)","v":0},{"$f":"IF(Dati!E240=\"UA6\",Dati!D240,)","v":0},{"$f":"IF(Dati!E240=\"UB1\",Dati!D240,)","v":0},{"$f":"IF(Dati!E240=\"UB2\",Dati!D240,)","v":0},{"$f":"IF(Dati!E240=\"UC1\",Dati!D240,)","v":0},{"$f":"IF(Dati!E240=\"UD1\",Dati!D240,)","v":0},{"$f":"IF(Dati!E240=\"UE1\",Dati!D240,)","v":0}]
[{"$f":"Dati!C241","v":"00:00:00"},{"$f":"Dati!H241","v":"00:00:00"},{"$f":"IF(Dati!E239=\"UA1\",Dati!D239,)","v":0},{"$f":"IF(Dati!E239=\"UA2\",Dati!D239,)","v":0},{"$f":"IF(Dati!E239=\"UA3\",Dati!D239,)","v":0},{"$f":"IF(Dati!E239=\"UA4\",Dati!D239,)","v":0},{"$f":"IF(Dati!E239=\"UA5\",Dati!D239,)","v":0},{"$f":"IF(Dati!E239=\"UA6\",Dati!D239,)","v":0},{"$f":"IF(Dati!E239=\"UB1\",Dati!D239,)","v":0},{"$f":"IF(Dati!E239=\"UB2\",Dati!D239,)","v":0},{"$f":"IF(Dati!E239=\"UC1\",Dati!D239,)","v":0},{"$f":"IF(Dati!E239=\"UD1\",Dati!D239,)","v":0},{"$f":"IF(Dati!E239=\"UE1\",Dati!D239,)","v":0}]
[{"$f":"Dati!C242","v":"00:00:00"},{"$f":"Dati!H242","v":"00:00:00"},{"$f":"IF(Dati!E240=\"UA1\",Dati!D240,)","v":0},{"$f":"IF(Dati!E240=\"UA2\",Dati!D240,)","v":0},{"$f":"IF(Dati!E240=\"UA3\",Dati!D240,)","v":0},{"$f":"IF(Dati!E240=\"UA4\",Dati!D240,)","v":0},{"$f":"IF(Dati!E240=\"UA5\",Dati!D240,)","v":0},{"$f":"IF(Dati!E240=\"UA6\",Dati!D240,)","v":0},{"$f":"IF(Dati!E240=\"UB1\",Dati!D240,)","v":0},{"$f":"IF(Dati!E240=\"UB2\",Dati!D240,)","v":0},{"$f":"IF(Dati!E240=\"UC1\",Dati!D240,)","v":0},{"$f":"IF(Dati!E240=\"UD1\",Dati!D240,)","v":0},{"$f":"IF(Dati!E240=\"UE1\",Dati!D240,)","v":0}]
[{"$f":"Dati!C243","v":"00:00:00"},{"$f":"Dati!H243","v":"00:00:00"},{"$f":"IF(Dati!E241=\"UA1\",Dati!D241,)","v":0},{"$f":"IF(Dati!E241=\"UA2\",Dati!D241,)","v":0},{"$f":"IF(Dati!E241=\"UA3\",Dati!D241,)","v":0},{"$f":"IF(Dati!E241=\"UA4\",Dati!D241,)","v":0},{"$f":"IF(Dati!E241=\"UA5\",Dati!D241,)","v":0},{"$f":"IF(Dati!E241=\"UA6\",Dati!D241,)","v":0},{"$f":"IF(Dati!E241=\"UB1\",Dati!D241,)","v":0},{"$f":"IF(Dati!E241=\"UB2\",Dati!D241,)","v":0},{"$f":"IF(Dati!E241=\"UC1\",Dati!D241,)","v":0},{"$f":"IF(Dati!E241=\"UD1\",Dati!D241,)","v":0},{"$f":"IF(Dati!E241=\"UE1\",Dati!D241,)","v":0}]
[{"$f":"Dati!C244","v":"00:00:00"},{"$f":"Dati!H244","v":"00:00:00"},{"$f":"IF(Dati!E242=\"UA1\",Dati!D242,)","v":0},{"$f":"IF(Dati!E242=\"UA2\",Dati!D242,)","v":0},{"$f":"IF(Dati!E242=\"UA3\",Dati!D242,)","v":0},{"$f":"IF(Dati!E242=\"UA4\",Dati!D242,)","v":0},{"$f":"IF(Dati!E242=\"UA5\",Dati!D242,)","v":0},{"$f":"IF(Dati!E242=\"UA6\",Dati!D242,)","v":0},{"$f":"IF(Dati!E242=\"UB1\",Dati!D242,)","v":0},{"$f":"IF(Dati!E242=\"UB2\",Dati!D242,)","v":0},{"$f":"IF(Dati!E242=\"UC1\",Dati!D242,)","v":0},{"$f":"IF(Dati!E242=\"UD1\",Dati!D242,)","v":0},{"$f":"IF(Dati!E242=\"UE1\",Dati!D242,)","v":0}]
[{"$f":"Dati!C245","v":"00:00:00"},{"$f":"Dati!H245","v":"00:00:00"},{"$f":"IF(Dati!E243=\"UA1\",Dati!D243,)","v":0},{"$f":"IF(Dati!E243=\"UA2\",Dati!D243,)","v":0},{"$f":"IF(Dati!E243=\"UA3\",Dati!D243,)","v":0},{"$f":"IF(Dati!E243=\"UA4\",Dati!D243,)","v":0},{"$f":"IF(Dati!E243=\"UA5\",Dati!D243,)","v":0},{"$f":"IF(Dati!E243=\"UA6\",Dati!D243,)","v":0},{"$f":"IF(Dati!E243=\"UB1\",Dati!D243,)","v":0},{"$f":"IF(Dati!E243=\"UB2\",Dati!D243,)","v":0},{"$f":"IF(Dati!E243=\"UC1\",Dati!D243,)","v":0},{"$f":"IF(Dati!E243=\"UD1\",Dati!D243,)","v":0},{"$f":"IF(Dati!E243=\"UE1\",Dati!D243,)","v":0}]
[{"$f":"Dati!C246","v":"00:00:00"},{"$f":"Dati!H246","v":"00:00:00"},{"$f":"IF(Dati!E244=\"UA1\",Dati!D244,)","v":0},{"$f":"IF(Dati!E244=\"UA2\",Dati!D244,)","v":0},{"$f":"IF(Dati!E244=\"UA3\",Dati!D244,)","v":0},{"$f":"IF(Dati!E244=\"UA4\",Dati!D244,)","v":0},{"$f":"IF(Dati!E244=\"UA5\",Dati!D244,)","v":0},{"$f":"IF(Dati!E244=\"UA6\",Dati!D244,)","v":0},{"$f":"IF(Dati!E244=\"UB1\",Dati!D244,)","v":0},{"$f":"IF(Dati!E244=\"UB2\",Dati!D244,)","v":0},{"$f":"IF(Dati!E244=\"UC1\",Dati!D244,)","v":0},{"$f":"IF(Dati!E244=\"UD1\",Dati!D244,)","v":0},{"$f":"IF(Dati!E244=\"UE1\",Dati!D244,)","v":0}]
[{"$f":"Dati!C247","v":"00:00:00"},{"$f":"Dati!H247","v":"00:00:00"},{"$f":"IF(Dati!E245=\"UA1\",Dati!D245,)","v":0},{"$f":"IF(Dati!E245=\"UA2\",Dati!D245,)","v":0},{"$f":"IF(Dati!E245=\"UA3\",Dati!D245,)","v":0},{"$f":"IF(Dati!E245=\"UA4\",Dati!D245,)","v":0},{"$f":"IF(Dati!E245=\"UA5\",Dati!D245,)","v":0},{"$f":"IF(Dati!E245=\"UA6\",Dati!D245,)","v":0},{"$f":"IF(Dati!E245=\"UB1\",Dati!D245,)","v":0},{"$f":"IF(Dati!E245=\"UB2\",Dati!D245,)","v":0},{"$f":"IF(Dati!E245=\"UC1\",Dati!D245,)","v":0},{"$f":"IF(Dati!E245=\"UD1\",Dati!D245,)","v":0},{"$f":"IF(Dati!E245=\"UE1\",Dati!D245,)","v":0}]
[{"$f":"Dati!C248","v":"00:00:00"},{"$f":"Dati!H248","v":"00:00:00"},{"$f":"IF(Dati!E246=\"UA1\",Dati!D246,)","v":0},{"$f":"IF(Dati!E246=\"UA2\",Dati!D246,)","v":0},{"$f":"IF(Dati!E246=\"UA3\",Dati!D246,)","v":0},{"$f":"IF(Dati!E246=\"UA4\",Dati!D246,)","v":0},{"$f":"IF(Dati!E246=\"UA5\",Dati!D246,)","v":0},{"$f":"IF(Dati!E246=\"UA6\",Dati!D246,)","v":0},{"$f":"IF(Dati!E246=\"UB1\",Dati!D246,)","v":0},{"$f":"IF(Dati!E246=\"UB2\",Dati!D246,)","v":0},{"$f":"IF(Dati!E246=\"UC1\",Dati!D246,)","v":0},{"$f":"IF(Dati!E246=\"UD1\",Dati!D246,)","v":0},{"$f":"IF(Dati!E246=\"UE1\",Dati!D246,)","v":0}]
[{"$f":"Dati!C249","v":"00:00:00"},{"$f":"Dati!H249","v":"00:00:00"},{"$f":"IF(Dati!E247=\"UA1\",Dati!D247,)","v":0},{"$f":"IF(Dati!E247=\"UA2\",Dati!D247,)","v":0},{"$f":"IF(Dati!E247=\"UA3\",Dati!D247,)","v":0},{"$f":"IF(Dati!E247=\"UA4\",Dati!D247,)","v":0},{"$f":"IF(Dati!E247=\"UA5\",Dati!D247,)","v":0},{"$f":"IF(Dati!E247=\"UA6\",Dati!D247,)","v":0},{"$f":"IF(Dati!E247=\"UB1\",Dati!D247,)","v":0},{"$f":"IF(Dati!E247=\"UB2\",Dati!D247,)","v":0},{"$f":"IF(Dati!E247=\"UC1\",Dati!D247,)","v":0},{"$f":"IF(Dati!E247=\"UD1\",Dati!D247,)","v":0},{"$f":"IF(Dati!E247=\"UE1\",Dati!D247,)","v":0}]
[{"$f":"Dati!C250","v":"00:00:00"},{"$f":"Dati!H250","v":"00:00:00"},{"$f":"IF(Dati!E248=\"UA1\",Dati!D248,)","v":0},{"$f":"IF(Dati!E248=\"UA2\",Dati!D248,)","v":0},{"$f":"IF(Dati!E248=\"UA3\",Dati!D248,)","v":0},{"$f":"IF(Dati!E248=\"UA4\",Dati!D248,)","v":0},{"$f":"IF(Dati!E248=\"UA5\",Dati!D248,)","v":0},{"$f":"IF(Dati!E248=\"UA6\",Dati!D248,)","v":0},{"$f":"IF(Dati!E248=\"UB1\",Dati!D248,)","v":0},{"$f":"IF(Dati!E248=\"UB2\",Dati!D248,)","v":0},{"$f":"IF(Dati!E248=\"UC1\",Dati!D248,)","v":0},{"$f":"IF(Dati!E248=\"UD1\",Dati!D248,)","v":0},{"$f":"IF(Dati!E248=\"UE1\",Dati!D248,)","v":0}]
[{"$f":"Dati!C251","v":"00:00:00"},{"$f":"Dati!H251","v":"00:00:00"},{"$f":"IF(Dati!E249=\"UA1\",Dati!D249,)","v":0},{"$f":"IF(Dati!E249=\"UA2\",Dati!D249,)","v":0},{"$f":"IF(Dati!E249=\"UA3\",Dati!D249,)","v":0},{"$f":"IF(Dati!E249=\"UA4\",Dati!D249,)","v":0},{"$f":"IF(Dati!E249=\"UA5\",Dati!D249,)","v":0},{"$f":"IF(Dati!E249=\"UA6\",Dati!D249,)","v":0},{"$f":"IF(Dati!E249=\"UB1\",Dati!D249,)","v":0},{"$f":"IF(Dati!E249=\"UB2\",Dati!D249,)","v":0},{"$f":"IF(Dati!E249=\"UC1\",Dati!D249,)","v":0},{"$f":"IF(Dati!E249=\"UD1\",Dati!D249,)","v":0},{"$f":"IF(Dati!E249=\"UE1\",Dati!D249,)","v":0}]
[{"$f":"Dati!C252","v":"00:00:00"},{"$f":"Dati!H252","v":"00:00:00"},{"$f":"IF(Dati!E250=\"UA1\",Dati!D250,)","v":0},{"$f":"IF(Dati!E250=\"UA2\",Dati!D250,)","v":0},{"$f":"IF(Dati!E250=\"UA3\",Dati!D250,)","v":0},{"$f":"IF(Dati!E250=\"UA4\",Dati!D250,)","v":0},{"$f":"IF(Dati!E250=\"UA5\",Dati!D250,)","v":0},{"$f":"IF(Dati!E250=\"UA6\",Dati!D250,)","v":0},{"$f":"IF(Dati!E250=\"UB1\",Dati!D250,)","v":0},{"$f":"IF(Dati!E250=\"UB2\",Dati!D250,)","v":0},{"$f":"IF(Dati!E250=\"UC1\",Dati!D250,)","v":0},{"$f":"IF(Dati!E250=\"UD1\",Dati!D250,)","v":0},{"$f":"IF(Dati!E250=\"UE1\",Dati!D250,)","v":0}]
[{"$f":"Dati!C253","v":"00:00:00"},{"$f":"Dati!H253","v":"00:00:00"},{"$f":"IF(Dati!E251=\"UA1\",Dati!D251,)","v":0},{"$f":"IF(Dati!E251=\"UA2\",Dati!D251,)","v":0},{"$f":"IF(Dati!E251=\"UA3\",Dati!D251,)","v":0},{"$f":"IF(Dati!E251=\"UA4\",Dati!D251,)","v":0},{"$f":"IF(Dati!E251=\"UA5\",Dati!D251,)","v":0},{"$f":"IF(Dati!E251=\"UA6\",Dati!D251,)","v":0},{"$f":"IF(Dati!E251=\"UB1\",Dati!D251,)","v":0},{"$f":"IF(Dati!E251=\"UB2\",Dati!D251,)","v":0},{"$f":"IF(Dati!E251=\"UC1\",Dati!D251,)","v":0},{"$f":"IF(Dati!E251=\"UD1\",Dati!D251,)","v":0},{"$f":"IF(Dati!E251=\"UE1\",Dati!D251,)","v":0}]
[{"$f":"Dati!C254","v":"00:00:00"},{"$f":"Dati!H254","v":"00:00:00"},{"$f":"IF(Dati!E252=\"UA1\",Dati!D252,)","v":0},{"$f":"IF(Dati!E252=\"UA2\",Dati!D252,)","v":0},{"$f":"IF(Dati!E252=\"UA3\",Dati!D252,)","v":0},{"$f":"IF(Dati!E252=\"UA4\",Dati!D252,)","v":0},{"$f":"IF(Dati!E252=\"UA5\",Dati!D252,)","v":0},{"$f":"IF(Dati!E252=\"UA6\",Dati!D252,)","v":0},{"$f":"IF(Dati!E252=\"UB1\",Dati!D252,)","v":0},{"$f":"IF(Dati!E252=\"UB2\",Dati!D252,)","v":0},{"$f":"IF(Dati!E252=\"UC1\",Dati!D252,)","v":0},{"$f":"IF(Dati!E252=\"UD1\",Dati!D252,)","v":0},{"$f":"IF(Dati!E252=\"UE1\",Dati!D252,)","v":0}]
[{"$f":"Dati!C255","v":"00:00:00"},{"$f":"Dati!H255","v":"00:00:00"},{"$f":"IF(Dati!E253=\"UA1\",Dati!D253,)","v":0},{"$f":"IF(Dati!E253=\"UA2\",Dati!D253,)","v":0},{"$f":"IF(Dati!E253=\"UA3\",Dati!D253,)","v":0},{"$f":"IF(Dati!E253=\"UA4\",Dati!D253,)","v":0},{"$f":"IF(Dati!E253=\"UA5\",Dati!D253,)","v":0},{"$f":"IF(Dati!E253=\"UA6\",Dati!D253,)","v":0},{"$f":"IF(Dati!E253=\"UB1\",Dati!D253,)","v":0},{"$f":"IF(Dati!E253=\"UB2\",Dati!D253,)","v":0},{"$f":"IF(Dati!E253=\"UC1\",Dati!D253,)","v":0},{"$f":"IF(Dati!E253=\"UD1\",Dati!D253,)","v":0},{"$f":"IF(Dati!E253=\"UE1\",Dati!D253,)","v":0}]
[{"$f":"Dati!C256","v":"00:00:00"},{"$f":"Dati!H256","v":"00:00:00"},{"$f":"IF(Dati!E254=\"UA1\",Dati!D254,)","v":0},{"$f":"IF(Dati!E254=\"UA2\",Dati!D254,)","v":0},{"$f":"IF(Dati!E254=\"UA3\",Dati!D254,)","v":0},{"$f":"IF(Dati!E254=\"UA4\",Dati!D254,)","v":0},{"$f":"IF(Dati!E254=\"UA5\",Dati!D254,)","v":0},{"$f":"IF(Dati!E254=\"UA6\",Dati!D254,)","v":0},{"$f":"IF(Dati!E254=\"UB1\",Dati!D254,)","v":0},{"$f":"IF(Dati!E254=\"UB2\",Dati!D254,)","v":0},{"$f":"IF(Dati!E254=\"UC1\",Dati!D254,)","v":0},{"$f":"IF(Dati!E254=\"UD1\",Dati!D254,)","v":0},{"$f":"IF(Dati!E254=\"UE1\",Dati!D254,)","v":0}]
[{"$f":"Dati!C257","v":"00:00:00"},{"$f":"Dati!H257","v":"00:00:00"},{"$f":"IF(Dati!E255=\"UA1\",Dati!D255,)","v":0},{"$f":"IF(Dati!E255=\"UA2\",Dati!D255,)","v":0},{"$f":"IF(Dati!E255=\"UA3\",Dati!D255,)","v":0},{"$f":"IF(Dati!E255=\"UA4\",Dati!D255,)","v":0},{"$f":"IF(Dati!E255=\"UA5\",Dati!D255,)","v":0},{"$f":"IF(Dati!E255=\"UA6\",Dati!D255,)","v":0},{"$f":"IF(Dati!E255=\"UB1\",Dati!D255,)","v":0},{"$f":"IF(Dati!E255=\"UB2\",Dati!D255,)","v":0},{"$f":"IF(Dati!E255=\"UC1\",Dati!D255,)","v":0},{"$f":"IF(Dati!E255=\"UD1\",Dati!D255,)","v":0},{"$f":"IF(Dati!E255=\"UE1\",Dati!D255,)","v":0}]
[{"$f":"Dati!C258","v":"00:00:00"},{"$f":"Dati!H258","v":"00:00:00"},{"$f":"IF(Dati!E256=\"UA1\",Dati!D256,)","v":0},{"$f":"IF(Dati!E256=\"UA2\",Dati!D256,)","v":0},{"$f":"IF(Dati!E256=\"UA3\",Dati!D256,)","v":0},{"$f":"IF(Dati!E256=\"UA4\",Dati!D256,)","v":0},{"$f":"IF(Dati!E256=\"UA5\",Dati!D256,)","v":0},{"$f":"IF(Dati!E256=\"UA6\",Dati!D256,)","v":0},{"$f":"IF(Dati!E256=\"UB1\",Dati!D256,)","v":0},{"$f":"IF(Dati!E256=\"UB2\",Dati!D256,)","v":0},{"$f":"IF(Dati!E256=\"UC1\",Dati!D256,)","v":0},{"$f":"IF(Dati!E256=\"UD1\",Dati!D256,)","v":0},{"$f":"IF(Dati!E256=\"UE1\",Dati!D256,)","v":0}]
[{"$f":"Dati!C259","v":"00:00:00"},{"$f":"Dati!H259","v":"00:00:00"},{"$f":"IF(Dati!E257=\"UA1\",Dati!D257,)","v":0},{"$f":"IF(Dati!E257=\"UA2\",Dati!D257,)","v":0},{"$f":"IF(Dati!E257=\"UA3\",Dati!D257,)","v":0},{"$f":"IF(Dati!E257=\"UA4\",Dati!D257,)","v":0},{"$f":"IF(Dati!E257=\"UA5\",Dati!D257,)","v":0},{"$f":"IF(Dati!E257=\"UA6\",Dati!D257,)","v":0},{"$f":"IF(Dati!E257=\"UB1\",Dati!D257,)","v":0},{"$f":"IF(Dati!E257=\"UB2\",Dati!D257,)","v":0},{"$f":"IF(Dati!E257=\"UC1\",Dati!D257,)","v":0},{"$f":"IF(Dati!E257=\"UD1\",Dati!D257,)","v":0},{"$f":"IF(Dati!E257=\"UE1\",Dati!D257,)","v":0}]
[{"$f":"Dati!C260","v":"00:00:00"},{"$f":"Dati!H260","v":"00:00:00"},{"$f":"IF(Dati!E258=\"UA1\",Dati!D258,)","v":0},{"$f":"IF(Dati!E258=\"UA2\",Dati!D258,)","v":0},{"$f":"IF(Dati!E258=\"UA3\",Dati!D258,)","v":0},{"$f":"IF(Dati!E258=\"UA4\",Dati!D258,)","v":0},{"$f":"IF(Dati!E258=\"UA5\",Dati!D258,)","v":0},{"$f":"IF(Dati!E258=\"UA6\",Dati!D258,)","v":0},{"$f":"IF(Dati!E258=\"UB1\",Dati!D258,)","v":0},{"$f":"IF(Dati!E258=\"UB2\",Dati!D258,)","v":0},{"$f":"IF(Dati!E258=\"UC1\",Dati!D258,)","v":0},{"$f":"IF(Dati!E258=\"UD1\",Dati!D258,)","v":0},{"$f":"IF(Dati!E258=\"UE1\",Dati!D258,)","v":0}]
[{"$f":"Dati!C261","v":"00:00:00"},{"$f":"Dati!H261","v":"00:00:00"},{"$f":"IF(Dati!E259=\"UA1\",Dati!D259,)","v":0},{"$f":"IF(Dati!E259=\"UA2\",Dati!D259,)","v":0},{"$f":"IF(Dati!E259=\"UA3\",Dati!D259,)","v":0},{"$f":"IF(Dati!E259=\"UA4\",Dati!D259,)","v":0},{"$f":"IF(Dati!E259=\"UA5\",Dati!D259,)","v":0},{"$f":"IF(Dati!E259=\"UA6\",Dati!D259,)","v":0},{"$f":"IF(Dati!E259=\"UB1\",Dati!D259,)","v":0},{"$f":"IF(Dati!E259=\"UB2\",Dati!D259,)","v":0},{"$f":"IF(Dati!E259=\"UC1\",Dati!D259,)","v":0},{"$f":"IF(Dati!E259=\"UD1\",Dati!D259,)","v":0},{"$f":"IF(Dati!E259=\"UE1\",Dati!D259,)","v":0}]
[{"$f":"Dati!C262","v":"00:00:00"},{"$f":"Dati!H262","v":"00:00:00"},{"$f":"IF(Dati!E260=\"UA1\",Dati!D260,)","v":0},{"$f":"IF(Dati!E260=\"UA2\",Dati!D260,)","v":0},{"$f":"IF(Dati!E260=\"UA3\",Dati!D260,)","v":0},{"$f":"IF(Dati!E260=\"UA4\",Dati!D260,)","v":0},{"$f":"IF(Dati!E260=\"UA5\",Dati!D260,)","v":0},{"$f":"IF(Dati!E260=\"UA6\",Dati!D260,)","v":0},{"$f":"IF(Dati!E260=\"UB1\",Dati!D260,)","v":0},{"$f":"IF(Dati!E260=\"UB2\",Dati!D260,)","v":0},{"$f":"IF(Dati!E260=\"UC1\",Dati!D260,)","v":0},{"$f":"IF(Dati!E260=\"UD1\",Dati!D260,)","v":0},{"$f":"IF(Dati!E260=\"UE1\",Dati!D260,)","v":0}]
[{"$f":"Dati!C263","v":"00:00:00"},{"$f":"Dati!H263","v":"00:00:00"},{"$f":"IF(Dati!E261=\"UA1\",Dati!D261,)","v":0},{"$f":"IF(Dati!E261=\"UA2\",Dati!D261,)","v":0},{"$f":"IF(Dati!E261=\"UA3\",Dati!D261,)","v":0},{"$f":"IF(Dati!E261=\"UA4\",Dati!D261,)","v":0},{"$f":"IF(Dati!E261=\"UA5\",Dati!D261,)","v":0},{"$f":"IF(Dati!E261=\"UA6\",Dati!D261,)","v":0},{"$f":"IF(Dati!E261=\"UB1\",Dati!D261,)","v":0},{"$f":"IF(Dati!E261=\"UB2\",Dati!D261,)","v":0},{"$f":"IF(Dati!E261=\"UC1\",Dati!D261,)","v":0},{"$f":"IF(Dati!E261=\"UD1\",Dati!D261,)","v":0},{"$f":"IF(Dati!E261=\"UE1\",Dati!D261,)","v":0}]
[{"$f":"Dati!C264","v":"00:00:00"},{"$f":"Dati!H264","v":"00:00:00"},{"$f":"IF(Dati!E262=\"UA1\",Dati!D262,)","v":0},{"$f":"IF(Dati!E262=\"UA2\",Dati!D262,)","v":0},{"$f":"IF(Dati!E262=\"UA3\",Dati!D262,)","v":0},{"$f":"IF(Dati!E262=\"UA4\",Dati!D262,)","v":0},{"$f":"IF(Dati!E262=\"UA5\",Dati!D262,)","v":0},{"$f":"IF(Dati!E262=\"UA6\",Dati!D262,)","v":0},{"$f":"IF(Dati!E262=\"UB1\",Dati!D262,)","v":0},{"$f":"IF(Dati!E262=\"UB2\",Dati!D262,)","v":0},{"$f":"IF(Dati!E262=\"UC1\",Dati!D262,)","v":0},{"$f":"IF(Dati!E262=\"UD1\",Dati!D262,)","v":0},{"$f":"IF(Dati!E262=\"UE1\",Dati!D262,)","v":0}]
[{"$f":"Dati!C265","v":"00:00:00"},{"$f":"Dati!H265","v":"00:00:00"},{"$f":"IF(Dati!E263=\"UA1\",Dati!D263,)","v":0},{"$f":"IF(Dati!E263=\"UA2\",Dati!D263,)","v":0},{"$f":"IF(Dati!E263=\"UA3\",Dati!D263,)","v":0},{"$f":"IF(Dati!E263=\"UA4\",Dati!D263,)","v":0},{"$f":"IF(Dati!E263=\"UA5\",Dati!D263,)","v":0},{"$f":"IF(Dati!E263=\"UA6\",Dati!D263,)","v":0},{"$f":"IF(Dati!E263=\"UB1\",Dati!D263,)","v":0},{"$f":"IF(Dati!E263=\"UB2\",Dati!D263,)","v":0},{"$f":"IF(Dati!E263=\"UC1\",Dati!D263,)","v":0},{"$f":"IF(Dati!E263=\"UD1\",Dati!D263,)","v":0},{"$f":"IF(Dati!E263=\"UE1\",Dati!D263,)","v":0}]
[{"$f":"Dati!C266","v":"00:00:00"},{"$f":"Dati!H266","v":"00:00:00"},{"$f":"IF(Dati!E264=\"UA1\",Dati!D264,)","v":0},{"$f":"IF(Dati!E264=\"UA2\",Dati!D264,)","v":0},{"$f":"IF(Dati!E264=\"UA3\",Dati!D264,)","v":0},{"$f":"IF(Dati!E264=\"UA4\",Dati!D264,)","v":0},{"$f":"IF(Dati!E264=\"UA5\",Dati!D264,)","v":0},{"$f":"IF(Dati!E264=\"UA6\",Dati!D264,)","v":0},{"$f":"IF(Dati!E264=\"UB1\",Dati!D264,)","v":0},{"$f":"IF(Dati!E264=\"UB2\",Dati!D264,)","v":0},{"$f":"IF(Dati!E264=\"UC1\",Dati!D264,)","v":0},{"$f":"IF(Dati!E264=\"UD1\",Dati!D264,)","v":0},{"$f":"IF(Dati!E264=\"UE1\",Dati!D264,)","v":0}]
[{"$f":"Dati!C267","v":"00:00:00"},{"$f":"Dati!H267","v":"00:00:00"},{"$f":"IF(Dati!E265=\"UA1\",Dati!D265,)","v":0},{"$f":"IF(Dati!E265=\"UA2\",Dati!D265,)","v":0},{"$f":"IF(Dati!E265=\"UA3\",Dati!D265,)","v":0},{"$f":"IF(Dati!E265=\"UA4\",Dati!D265,)","v":0},{"$f":"IF(Dati!E265=\"UA5\",Dati!D265,)","v":0},{"$f":"IF(Dati!E265=\"UA6\",Dati!D265,)","v":0},{"$f":"IF(Dati!E265=\"UB1\",Dati!D265,)","v":0},{"$f":"IF(Dati!E265=\"UB2\",Dati!D265,)","v":0},{"$f":"IF(Dati!E265=\"UC1\",Dati!D265,)","v":0},{"$f":"IF(Dati!E265=\"UD1\",Dati!D265,)","v":0},{"$f":"IF(Dati!E265=\"UE1\",Dati!D265,)","v":0}]
[{"$f":"Dati!C268","v":"00:00:00"},{"$f":"Dati!H268","v":"00:00:00"},{"$f":"IF(Dati!E266=\"UA1\",Dati!D266,)","v":0},{"$f":"IF(Dati!E266=\"UA2\",Dati!D266,)","v":0},{"$f":"IF(Dati!E266=\"UA3\",Dati!D266,)","v":0},{"$f":"IF(Dati!E266=\"UA4\",Dati!D266,)","v":0},{"$f":"IF(Dati!E266=\"UA5\",Dati!D266,)","v":0},{"$f":"IF(Dati!E266=\"UA6\",Dati!D266,)","v":0},{"$f":"IF(Dati!E266=\"UB1\",Dati!D266,)","v":0},{"$f":"IF(Dati!E266=\"UB2\",Dati!D266,)","v":0},{"$f":"IF(Dati!E266=\"UC1\",Dati!D266,)","v":0},{"$f":"IF(Dati!E266=\"UD1\",Dati!D266,)","v":0},{"$f":"IF(Dati!E266=\"UE1\",Dati!D266,)","v":0}]
[{"$f":"Dati!C269","v":"00:00:00"},{"$f":"Dati!H269","v":"00:00:00"},{"$f":"IF(Dati!E267=\"UA1\",Dati!D267,)","v":0},{"$f":"IF(Dati!E267=\"UA2\",Dati!D267,)","v":0},{"$f":"IF(Dati!E267=\"UA3\",Dati!D267,)","v":0},{"$f":"IF(Dati!E267=\"UA4\",Dati!D267,)","v":0},{"$f":"IF(Dati!E267=\"UA5\",Dati!D267,)","v":0},{"$f":"IF(Dati!E267=\"UA6\",Dati!D267,)","v":0},{"$f":"IF(Dati!E267=\"UB1\",Dati!D267,)","v":0},{"$f":"IF(Dati!E267=\"UB2\",Dati!D267,)","v":0},{"$f":"IF(Dati!E267=\"UC1\",Dati!D267,)","v":0},{"$f":"IF(Dati!E267=\"UD1\",Dati!D267,)","v":0},{"$f":"IF(Dati!E267=\"UE1\",Dati!D267,)","v":0}]
[{"$f":"Dati!C270","v":"00:00:00"},{"$f":"Dati!H270","v":"00:00:00"},{"$f":"IF(Dati!E268=\"UA1\",Dati!D268,)","v":0},{"$f":"IF(Dati!E268=\"UA2\",Dati!D268,)","v":0},{"$f":"IF(Dati!E268=\"UA3\",Dati!D268,)","v":0},{"$f":"IF(Dati!E268=\"UA4\",Dati!D268,)","v":0},{"$f":"IF(Dati!E268=\"UA5\",Dati!D268,)","v":0},{"$f":"IF(Dati!E268=\"UA6\",Dati!D268,)","v":0},{"$f":"IF(Dati!E268=\"UB1\",Dati!D268,)","v":0},{"$f":"IF(Dati!E268=\"UB2\",Dati!D268,)","v":0},{"$f":"IF(Dati!E268=\"UC1\",Dati!D268,)","v":0},{"$f":"IF(Dati!E268=\"UD1\",Dati!D268,)","v":0},{"$f":"IF(Dati!E268=\"UE1\",Dati!D268,)","v":0}]
[{"$f":"Dati!C271","v":"00:00:00"},{"$f":"Dati!H271","v":"00:00:00"},{"$f":"IF(Dati!E269=\"UA1\",Dati!D269,)","v":0},{"$f":"IF(Dati!E269=\"UA2\",Dati!D269,)","v":0},{"$f":"IF(Dati!E269=\"UA3\",Dati!D269,)","v":0},{"$f":"IF(Dati!E269=\"UA4\",Dati!D269,)","v":0},{"$f":"IF(Dati!E269=\"UA5\",Dati!D269,)","v":0},{"$f":"IF(Dati!E269=\"UA6\",Dati!D269,)","v":0},{"$f":"IF(Dati!E269=\"UB1\",Dati!D269,)","v":0},{"$f":"IF(Dati!E269=\"UB2\",Dati!D269,)","v":0},{"$f":"IF(Dati!E269=\"UC1\",Dati!D269,)","v":0},{"$f":"IF(Dati!E269=\"UD1\",Dati!D269,)","v":0},{"$f":"IF(Dati!E269=\"UE1\",Dati!D269,)","v":0}]
[{"$f":"Dati!C272","v":"00:00:00"},{"$f":"Dati!H272","v":"00:00:00"},{"$f":"IF(Dati!E270=\"UA1\",Dati!D270,)","v":0},{"$f":"IF(Dati!E270=\"UA2\",Dati!D270,)","v":0},{"$f":"IF(Dati!E270=\"UA3\",Dati!D270,)","v":0},{"$f":"IF(Dati!E270=\"UA4\",Dati!D270,)","v":0},{"$f":"IF(Dati!E270=\"UA5\",Dati!D270,)","v":0},{"$f":"IF(Dati!E270=\"UA6\",Dati!D270,)","v":0},{"$f":"IF(Dati!E270=\"UB1\",Dati!D270,)","v":0},{"$f":"IF(Dati!E270=\"UB2\",Dati!D270,)","v":0},{"$f":"IF(Dati!E270=\"UC1\",Dati!D270,)","v":0},{"$f":"IF(Dati!E270=\"UD1\",Dati!D270,)","v":0},{"$f":"IF(Dati!E270=\"UE1\",Dati!D270,)","v":0}]
[{"$f":"Dati!C273","v":"00:00:00"},{"$f":"Dati!H273","v":"00:00:00"},{"$f":"IF(Dati!E271=\"UA1\",Dati!D271,)","v":0},{"$f":"IF(Dati!E271=\"UA2\",Dati!D271,)","v":0},{"$f":"IF(Dati!E271=\"UA3\",Dati!D271,)","v":0},{"$f":"IF(Dati!E271=\"UA4\",Dati!D271,)","v":0},{"$f":"IF(Dati!E271=\"UA5\",Dati!D271,)","v":0},{"$f":"IF(Dati!E271=\"UA6\",Dati!D271,)","v":0},{"$f":"IF(Dati!E271=\"UB1\",Dati!D271,)","v":0},{"$f":"IF(Dati!E271=\"UB2\",Dati!D271,)","v":0},{"$f":"IF(Dati!E271=\"UC1\",Dati!D271,)","v":0},{"$f":"IF(Dati!E271=\"UD1\",Dati!D271,)","v":0},{"$f":"IF(Dati!E271=\"UE1\",Dati!D271,)","v":0}]
[{"$f":"Dati!C274","v":"00:00:00"},{"$f":"Dati!H274","v":"00:00:00"},{"$f":"IF(Dati!E272=\"UA1\",Dati!D272,)","v":0},{"$f":"IF(Dati!E272=\"UA2\",Dati!D272,)","v":0},{"$f":"IF(Dati!E272=\"UA3\",Dati!D272,)","v":0},{"$f":"IF(Dati!E272=\"UA4\",Dati!D272,)","v":0},{"$f":"IF(Dati!E272=\"UA5\",Dati!D272,)","v":0},{"$f":"IF(Dati!E272=\"UA6\",Dati!D272,)","v":0},{"$f":"IF(Dati!E272=\"UB1\",Dati!D272,)","v":0},{"$f":"IF(Dati!E272=\"UB2\",Dati!D272,)","v":0},{"$f":"IF(Dati!E272=\"UC1\",Dati!D272,)","v":0},{"$f":"IF(Dati!E272=\"UD1\",Dati!D272,)","v":0},{"$f":"IF(Dati!E272=\"UE1\",Dati!D272,)","v":0}]
[{"$f":"Dati!C275","v":"00:00:00"},{"$f":"Dati!H275","v":"00:00:00"},{"$f":"IF(Dati!E273=\"UA1\",Dati!D273,)","v":0},{"$f":"IF(Dati!E273=\"UA2\",Dati!D273,)","v":0},{"$f":"IF(Dati!E273=\"UA3\",Dati!D273,)","v":0},{"$f":"IF(Dati!E273=\"UA4\",Dati!D273,)","v":0},{"$f":"IF(Dati!E273=\"UA5\",Dati!D273,)","v":0},{"$f":"IF(Dati!E273=\"UA6\",Dati!D273,)","v":0},{"$f":"IF(Dati!E273=\"UB1\",Dati!D273,)","v":0},{"$f":"IF(Dati!E273=\"UB2\",Dati!D273,)","v":0},{"$f":"IF(Dati!E273=\"UC1\",Dati!D273,)","v":0},{"$f":"IF(Dati!E273=\"UD1\",Dati!D273,)","v":0},{"$f":"IF(Dati!E273=\"UE1\",Dati!D273,)","v":0}]
[{"$f":"Dati!C274","v":"00:00:00"},{"$f":"Dati!H274","v":"00:00:00"},{"$f":"IF(Dati!E274=\"UA1\",Dati!D274,)","v":0},{"$f":"IF(Dati!E274=\"UA2\",Dati!D274,)","v":0},{"$f":"IF(Dati!E274=\"UA3\",Dati!D274,)","v":0},{"$f":"IF(Dati!E274=\"UA4\",Dati!D274,)","v":0},{"$f":"IF(Dati!E274=\"UA5\",Dati!D274,)","v":0},{"$f":"IF(Dati!E274=\"UA6\",Dati!D274,)","v":0},{"$f":"IF(Dati!E274=\"UB1\",Dati!D274,)","v":0},{"$f":"IF(Dati!E274=\"UB2\",Dati!D274,)","v":0},{"$f":"IF(Dati!E274=\"UC1\",Dati!D274,)","v":0},{"$f":"IF(Dati!E274=\"UD1\",Dati!D274,)","v":0},{"$f":"IF(Dati!E274=\"UE1\",Dati!D274,)","v":0}]
[{"$f":"Dati!C275","v":"00:00:00"},{"$f":"Dati!H275","v":"00:00:00"},{"$f":"IF(Dati!E275=\"UA1\",Dati!D275,)","v":0},{"$f":"IF(Dati!E275=\"UA2\",Dati!D275,)","v":0},{"$f":"IF(Dati!E275=\"UA3\",Dati!D275,)","v":0},{"$f":"IF(Dati!E275=\"UA4\",Dati!D275,)","v":0},{"$f":"IF(Dati!E275=\"UA5\",Dati!D275,)","v":0},{"$f":"IF(Dati!E275=\"UA6\",Dati!D275,)","v":0},{"$f":"IF(Dati!E275=\"UB1\",Dati!D275,)","v":0},{"$f":"IF(Dati!E275=\"UB2\",Dati!D275,)","v":0},{"$f":"IF(Dati!E275=\"UC1\",Dati!D275,)","v":0},{"$f":"IF(Dati!E275=\"UD1\",Dati!D275,)","v":0},{"$f":"IF(Dati!E275=\"UE1\",Dati!D275,)","v":0}]
[{"$f":"Dati!C276","v":"00:00:00"},{"$f":"Dati!H276","v":"00:00:00"},{"$f":"IF(Dati!E276=\"UA1\",Dati!D276,)","v":0},{"$f":"IF(Dati!E276=\"UA2\",Dati!D276,)","v":0},{"$f":"IF(Dati!E276=\"UA3\",Dati!D276,)","v":0},{"$f":"IF(Dati!E276=\"UA4\",Dati!D276,)","v":0},{"$f":"IF(Dati!E276=\"UA5\",Dati!D276,)","v":0},{"$f":"IF(Dati!E276=\"UA6\",Dati!D276,)","v":0},{"$f":"IF(Dati!E276=\"UB1\",Dati!D276,)","v":0},{"$f":"IF(Dati!E276=\"UB2\",Dati!D276,)","v":0},{"$f":"IF(Dati!E276=\"UC1\",Dati!D276,)","v":0},{"$f":"IF(Dati!E276=\"UD1\",Dati!D276,)","v":0},{"$f":"IF(Dati!E276=\"UE1\",Dati!D276,)","v":0}]
[{"$f":"Dati!C277","v":"00:00:00"},{"$f":"Dati!H277","v":"00:00:00"},{"$f":"IF(Dati!E277=\"UA1\",Dati!D277,)","v":0},{"$f":"IF(Dati!E277=\"UA2\",Dati!D277,)","v":0},{"$f":"IF(Dati!E277=\"UA3\",Dati!D277,)","v":0},{"$f":"IF(Dati!E277=\"UA4\",Dati!D277,)","v":0},{"$f":"IF(Dati!E277=\"UA5\",Dati!D277,)","v":0},{"$f":"IF(Dati!E277=\"UA6\",Dati!D277,)","v":0},{"$f":"IF(Dati!E277=\"UB1\",Dati!D277,)","v":0},{"$f":"IF(Dati!E277=\"UB2\",Dati!D277,)","v":0},{"$f":"IF(Dati!E277=\"UC1\",Dati!D277,)","v":0},{"$f":"IF(Dati!E277=\"UD1\",Dati!D277,)","v":0},{"$f":"IF(Dati!E277=\"UE1\",Dati!D277,)","v":0}]
[{"$f":"Dati!C278","v":"00:00:00"},{"$f":"Dati!H278","v":"00:00:00"},{"$f":"IF(Dati!E278=\"UA1\",Dati!D278,)","v":0},{"$f":"IF(Dati!E278=\"UA2\",Dati!D278,)","v":0},{"$f":"IF(Dati!E278=\"UA3\",Dati!D278,)","v":0},{"$f":"IF(Dati!E278=\"UA4\",Dati!D278,)","v":0},{"$f":"IF(Dati!E278=\"UA5\",Dati!D278,)","v":0},{"$f":"IF(Dati!E278=\"UA6\",Dati!D278,)","v":0},{"$f":"IF(Dati!E278=\"UB1\",Dati!D278,)","v":0},{"$f":"IF(Dati!E278=\"UB2\",Dati!D278,)","v":0},{"$f":"IF(Dati!E278=\"UC1\",Dati!D278,)","v":0},{"$f":"IF(Dati!E278=\"UD1\",Dati!D278,)","v":0},{"$f":"IF(Dati!E278=\"UE1\",Dati!D278,)","v":0}]
[{"$f":"Dati!C279","v":"00:00:00"},{"$f":"Dati!H279","v":"00:00:00"},{"$f":"IF(Dati!E279=\"UA1\",Dati!D279,)","v":0},{"$f":"IF(Dati!E279=\"UA2\",Dati!D279,)","v":0},{"$f":"IF(Dati!E279=\"UA3\",Dati!D279,)","v":0},{"$f":"IF(Dati!E279=\"UA4\",Dati!D279,)","v":0},{"$f":"IF(Dati!E279=\"UA5\",Dati!D279,)","v":0},{"$f":"IF(Dati!E279=\"UA6\",Dati!D279,)","v":0},{"$f":"IF(Dati!E279=\"UB1\",Dati!D279,)","v":0},{"$f":"IF(Dati!E279=\"UB2\",Dati!D279,)","v":0},{"$f":"IF(Dati!E279=\"UC1\",Dati!D279,)","v":0},{"$f":"IF(Dati!E279=\"UD1\",Dati!D279,)","v":0},{"$f":"IF(Dati!E279=\"UE1\",Dati!D279,)","v":0}]
[{"$f":"Dati!C280","v":"00:00:00"},{"$f":"Dati!H280","v":"00:00:00"},{"$f":"IF(Dati!E280=\"UA1\",Dati!D280,)","v":0},{"$f":"IF(Dati!E280=\"UA2\",Dati!D280,)","v":0},{"$f":"IF(Dati!E280=\"UA3\",Dati!D280,)","v":0},{"$f":"IF(Dati!E280=\"UA4\",Dati!D280,)","v":0},{"$f":"IF(Dati!E280=\"UA5\",Dati!D280,)","v":0},{"$f":"IF(Dati!E280=\"UA6\",Dati!D280,)","v":0},{"$f":"IF(Dati!E280=\"UB1\",Dati!D280,)","v":0},{"$f":"IF(Dati!E280=\"UB2\",Dati!D280,)","v":0},{"$f":"IF(Dati!E280=\"UC1\",Dati!D280,)","v":0},{"$f":"IF(Dati!E280=\"UD1\",Dati!D280,)","v":0},{"$f":"IF(Dati!E280=\"UE1\",Dati!D280,)","v":0}]
[{"$f":"Dati!C281","v":"00:00:00"},{"$f":"Dati!H281","v":"00:00:00"},{"$f":"IF(Dati!E281=\"UA1\",Dati!D281,)","v":0},{"$f":"IF(Dati!E281=\"UA2\",Dati!D281,)","v":0},{"$f":"IF(Dati!E281=\"UA3\",Dati!D281,)","v":0},{"$f":"IF(Dati!E281=\"UA4\",Dati!D281,)","v":0},{"$f":"IF(Dati!E281=\"UA5\",Dati!D281,)","v":0},{"$f":"IF(Dati!E281=\"UA6\",Dati!D281,)","v":0},{"$f":"IF(Dati!E281=\"UB1\",Dati!D281,)","v":0},{"$f":"IF(Dati!E281=\"UB2\",Dati!D281,)","v":0},{"$f":"IF(Dati!E281=\"UC1\",Dati!D281,)","v":0},{"$f":"IF(Dati!E281=\"UD1\",Dati!D281,)","v":0},{"$f":"IF(Dati!E281=\"UE1\",Dati!D281,)","v":0}]
[{"$f":"Dati!C282","v":"00:00:00"},{"$f":"Dati!H282","v":"00:00:00"},{"$f":"IF(Dati!E282=\"UA1\",Dati!D282,)","v":0},{"$f":"IF(Dati!E282=\"UA2\",Dati!D282,)","v":0},{"$f":"IF(Dati!E282=\"UA3\",Dati!D282,)","v":0},{"$f":"IF(Dati!E282=\"UA4\",Dati!D282,)","v":0},{"$f":"IF(Dati!E282=\"UA5\",Dati!D282,)","v":0},{"$f":"IF(Dati!E282=\"UA6\",Dati!D282,)","v":0},{"$f":"IF(Dati!E282=\"UB1\",Dati!D282,)","v":0},{"$f":"IF(Dati!E282=\"UB2\",Dati!D282,)","v":0},{"$f":"IF(Dati!E282=\"UC1\",Dati!D282,)","v":0},{"$f":"IF(Dati!E282=\"UD1\",Dati!D282,)","v":0},{"$f":"IF(Dati!E282=\"UE1\",Dati!D282,)","v":0}]
[{"$f":"Dati!C283","v":"00:00:00"},{"$f":"Dati!H283","v":"00:00:00"},{"$f":"IF(Dati!E283=\"UA1\",Dati!D283,)","v":0},{"$f":"IF(Dati!E283=\"UA2\",Dati!D283,)","v":0},{"$f":"IF(Dati!E283=\"UA3\",Dati!D283,)","v":0},{"$f":"IF(Dati!E283=\"UA4\",Dati!D283,)","v":0},{"$f":"IF(Dati!E283=\"UA5\",Dati!D283,)","v":0},{"$f":"IF(Dati!E283=\"UA6\",Dati!D283,)","v":0},{"$f":"IF(Dati!E283=\"UB1\",Dati!D283,)","v":0},{"$f":"IF(Dati!E283=\"UB2\",Dati!D283,)","v":0},{"$f":"IF(Dati!E283=\"UC1\",Dati!D283,)","v":0},{"$f":"IF(Dati!E283=\"UD1\",Dati!D283,)","v":0},{"$f":"IF(Dati!E283=\"UE1\",Dati!D283,)","v":0}]
[{"$f":"Dati!C284","v":"00:00:00"},{"$f":"Dati!H284","v":"00:00:00"},{"$f":"IF(Dati!E284=\"UA1\",Dati!D284,)","v":0},{"$f":"IF(Dati!E284=\"UA2\",Dati!D284,)","v":0},{"$f":"IF(Dati!E284=\"UA3\",Dati!D284,)","v":0},{"$f":"IF(Dati!E284=\"UA4\",Dati!D284,)","v":0},{"$f":"IF(Dati!E284=\"UA5\",Dati!D284,)","v":0},{"$f":"IF(Dati!E284=\"UA6\",Dati!D284,)","v":0},{"$f":"IF(Dati!E284=\"UB1\",Dati!D284,)","v":0},{"$f":"IF(Dati!E284=\"UB2\",Dati!D284,)","v":0},{"$f":"IF(Dati!E284=\"UC1\",Dati!D284,)","v":0},{"$f":"IF(Dati!E284=\"UD1\",Dati!D284,)","v":0},{"$f":"IF(Dati!E284=\"UE1\",Dati!D284,)","v":0}]
[{"$f":"Dati!C285","v":"00:00:00"},{"$f":"Dati!H285","v":"00:00:00"},{"$f":"IF(Dati!E285=\"UA1\",Dati!D285,)","v":0},{"$f":"IF(Dati!E285=\"UA2\",Dati!D285,)","v":0},{"$f":"IF(Dati!E285=\"UA3\",Dati!D285,)","v":0},{"$f":"IF(Dati!E285=\"UA4\",Dati!D285,)","v":0},{"$f":"IF(Dati!E285=\"UA5\",Dati!D285,)","v":0},{"$f":"IF(Dati!E285=\"UA6\",Dati!D285,)","v":0},{"$f":"IF(Dati!E285=\"UB1\",Dati!D285,)","v":0},{"$f":"IF(Dati!E285=\"UB2\",Dati!D285,)","v":0},{"$f":"IF(Dati!E285=\"UC1\",Dati!D285,)","v":0},{"$f":"IF(Dati!E285=\"UD1\",Dati!D285,)","v":0},{"$f":"IF(Dati!E285=\"UE1\",Dati!D285,)","v":0}]
[{"$f":"Dati!C286","v":"00:00:00"},{"$f":"Dati!H286","v":"00:00:00"},{"$f":"IF(Dati!E286=\"UA1\",Dati!D286,)","v":0},{"$f":"IF(Dati!E286=\"UA2\",Dati!D286,)","v":0},{"$f":"IF(Dati!E286=\"UA3\",Dati!D286,)","v":0},{"$f":"IF(Dati!E286=\"UA4\",Dati!D286,)","v":0},{"$f":"IF(Dati!E286=\"UA5\",Dati!D286,)","v":0},{"$f":"IF(Dati!E286=\"UA6\",Dati!D286,)","v":0},{"$f":"IF(Dati!E286=\"UB1\",Dati!D286,)","v":0},{"$f":"IF(Dati!E286=\"UB2\",Dati!D286,)","v":0},{"$f":"IF(Dati!E286=\"UC1\",Dati!D286,)","v":0},{"$f":"IF(Dati!E286=\"UD1\",Dati!D286,)","v":0},{"$f":"IF(Dati!E286=\"UE1\",Dati!D286,)","v":0}]
[{"$f":"Dati!C287","v":"00:00:00"},{"$f":"Dati!H287","v":"00:00:00"},{"$f":"IF(Dati!E287=\"UA1\",Dati!D287,)","v":0},{"$f":"IF(Dati!E287=\"UA2\",Dati!D287,)","v":0},{"$f":"IF(Dati!E287=\"UA3\",Dati!D287,)","v":0},{"$f":"IF(Dati!E287=\"UA4\",Dati!D287,)","v":0},{"$f":"IF(Dati!E287=\"UA5\",Dati!D287,)","v":0},{"$f":"IF(Dati!E287=\"UA6\",Dati!D287,)","v":0},{"$f":"IF(Dati!E287=\"UB1\",Dati!D287,)","v":0},{"$f":"IF(Dati!E287=\"UB2\",Dati!D287,)","v":0},{"$f":"IF(Dati!E287=\"UC1\",Dati!D287,)","v":0},{"$f":"IF(Dati!E287=\"UD1\",Dati!D287,)","v":0},{"$f":"IF(Dati!E287=\"UE1\",Dati!D287,)","v":0}]
[{"$f":"Dati!C288","v":"00:00:00"},{"$f":"Dati!H288","v":"00:00:00"},{"$f":"IF(Dati!E288=\"UA1\",Dati!D288,)","v":0},{"$f":"IF(Dati!E288=\"UA2\",Dati!D288,)","v":0},{"$f":"IF(Dati!E288=\"UA3\",Dati!D288,)","v":0},{"$f":"IF(Dati!E288=\"UA4\",Dati!D288,)","v":0},{"$f":"IF(Dati!E288=\"UA5\",Dati!D288,)","v":0},{"$f":"IF(Dati!E288=\"UA6\",Dati!D288,)","v":0},{"$f":"IF(Dati!E288=\"UB1\",Dati!D288,)","v":0},{"$f":"IF(Dati!E288=\"UB2\",Dati!D288,)","v":0},{"$f":"IF(Dati!E288=\"UC1\",Dati!D288,)","v":0},{"$f":"IF(Dati!E288=\"UD1\",Dati!D288,)","v":0},{"$f":"IF(Dati!E288=\"UE1\",Dati!D288,)","v":0}]
[{"$f":"Dati!C289","v":"00:00:00"},{"$f":"Dati!H289","v":"00:00:00"},{"$f":"IF(Dati!E289=\"UA1\",Dati!D289,)","v":0},{"$f":"IF(Dati!E289=\"UA2\",Dati!D289,)","v":0},{"$f":"IF(Dati!E289=\"UA3\",Dati!D289,)","v":0},{"$f":"IF(Dati!E289=\"UA4\",Dati!D289,)","v":0},{"$f":"IF(Dati!E289=\"UA5\",Dati!D289,)","v":0},{"$f":"IF(Dati!E289=\"UA6\",Dati!D289,)","v":0},{"$f":"IF(Dati!E289=\"UB1\",Dati!D289,)","v":0},{"$f":"IF(Dati!E289=\"UB2\",Dati!D289,)","v":0},{"$f":"IF(Dati!E289=\"UC1\",Dati!D289,)","v":0},{"$f":"IF(Dati!E289=\"UD1\",Dati!D289,)","v":0},{"$f":"IF(Dati!E289=\"UE1\",Dati!D289,)","v":0}]
[{"$f":"Dati!C290","v":"00:00:00"},{"$f":"Dati!H290","v":"00:00:00"},{"$f":"IF(Dati!E290=\"UA1\",Dati!D290,)","v":0},{"$f":"IF(Dati!E290=\"UA2\",Dati!D290,)","v":0},{"$f":"IF(Dati!E290=\"UA3\",Dati!D290,)","v":0},{"$f":"IF(Dati!E290=\"UA4\",Dati!D290,)","v":0},{"$f":"IF(Dati!E290=\"UA5\",Dati!D290,)","v":0},{"$f":"IF(Dati!E290=\"UA6\",Dati!D290,)","v":0},{"$f":"IF(Dati!E290=\"UB1\",Dati!D290,)","v":0},{"$f":"IF(Dati!E290=\"UB2\",Dati!D290,)","v":0},{"$f":"IF(Dati!E290=\"UC1\",Dati!D290,)","v":0},{"$f":"IF(Dati!E290=\"UD1\",Dati!D290,)","v":0},{"$f":"IF(Dati!E290=\"UE1\",Dati!D290,)","v":0}]
[{"$f":"Dati!C291","v":"00:00:00"},{"$f":"Dati!H291","v":"00:00:00"},{"$f":"IF(Dati!E291=\"UA1\",Dati!D291,)","v":0},{"$f":"IF(Dati!E291=\"UA2\",Dati!D291,)","v":0},{"$f":"IF(Dati!E291=\"UA3\",Dati!D291,)","v":0},{"$f":"IF(Dati!E291=\"UA4\",Dati!D291,)","v":0},{"$f":"IF(Dati!E291=\"UA5\",Dati!D291,)","v":0},{"$f":"IF(Dati!E291=\"UA6\",Dati!D291,)","v":0},{"$f":"IF(Dati!E291=\"UB1\",Dati!D291,)","v":0},{"$f":"IF(Dati!E291=\"UB2\",Dati!D291,)","v":0},{"$f":"IF(Dati!E291=\"UC1\",Dati!D291,)","v":0},{"$f":"IF(Dati!E291=\"UD1\",Dati!D291,)","v":0},{"$f":"IF(Dati!E291=\"UE1\",Dati!D291,)","v":0}]
[{"$f":"Dati!C292","v":"00:00:00"},{"$f":"Dati!H292","v":"00:00:00"},{"$f":"IF(Dati!E292=\"UA1\",Dati!D292,)","v":0},{"$f":"IF(Dati!E292=\"UA2\",Dati!D292,)","v":0},{"$f":"IF(Dati!E292=\"UA3\",Dati!D292,)","v":0},{"$f":"IF(Dati!E292=\"UA4\",Dati!D292,)","v":0},{"$f":"IF(Dati!E292=\"UA5\",Dati!D292,)","v":0},{"$f":"IF(Dati!E292=\"UA6\",Dati!D292,)","v":0},{"$f":"IF(Dati!E292=\"UB1\",Dati!D292,)","v":0},{"$f":"IF(Dati!E292=\"UB2\",Dati!D292,)","v":0},{"$f":"IF(Dati!E292=\"UC1\",Dati!D292,)","v":0},{"$f":"IF(Dati!E292=\"UD1\",Dati!D292,)","v":0},{"$f":"IF(Dati!E292=\"UE1\",Dati!D292,)","v":0}]
[{"$f":"Dati!C293","v":"00:00:00"},{"$f":"Dati!H293","v":"00:00:00"},{"$f":"IF(Dati!E293=\"UA1\",Dati!D293,)","v":0},{"$f":"IF(Dati!E293=\"UA2\",Dati!D293,)","v":0},{"$f":"IF(Dati!E293=\"UA3\",Dati!D293,)","v":0},{"$f":"IF(Dati!E293=\"UA4\",Dati!D293,)","v":0},{"$f":"IF(Dati!E293=\"UA5\",Dati!D293,)","v":0},{"$f":"IF(Dati!E293=\"UA6\",Dati!D293,)","v":0},{"$f":"IF(Dati!E293=\"UB1\",Dati!D293,)","v":0},{"$f":"IF(Dati!E293=\"UB2\",Dati!D293,)","v":0},{"$f":"IF(Dati!E293=\"UC1\",Dati!D293,)","v":0},{"$f":"IF(Dati!E293=\"UD1\",Dati!D293,)","v":0},{"$f":"IF(Dati!E293=\"UE1\",Dati!D293,)","v":0}]
[{"$f":"Dati!C294","v":"00:00:00"},{"$f":"Dati!H294","v":"00:00:00"},{"$f":"IF(Dati!E294=\"UA1\",Dati!D294,)","v":0},{"$f":"IF(Dati!E294=\"UA2\",Dati!D294,)","v":0},{"$f":"IF(Dati!E294=\"UA3\",Dati!D294,)","v":0},{"$f":"IF(Dati!E294=\"UA4\",Dati!D294,)","v":0},{"$f":"IF(Dati!E294=\"UA5\",Dati!D294,)","v":0},{"$f":"IF(Dati!E294=\"UA6\",Dati!D294,)","v":0},{"$f":"IF(Dati!E294=\"UB1\",Dati!D294,)","v":0},{"$f":"IF(Dati!E294=\"UB2\",Dati!D294,)","v":0},{"$f":"IF(Dati!E294=\"UC1\",Dati!D294,)","v":0},{"$f":"IF(Dati!E294=\"UD1\",Dati!D294,)","v":0},{"$f":"IF(Dati!E294=\"UE1\",Dati!D294,)","v":0}]
[{"$f":"Dati!C295","v":"00:00:00"},{"$f":"Dati!H295","v":"00:00:00"},{"$f":"IF(Dati!E295=\"UA1\",Dati!D295,)","v":0},{"$f":"IF(Dati!E295=\"UA2\",Dati!D295,)","v":0},{"$f":"IF(Dati!E295=\"UA3\",Dati!D295,)","v":0},{"$f":"IF(Dati!E295=\"UA4\",Dati!D295,)","v":0},{"$f":"IF(Dati!E295=\"UA5\",Dati!D295,)","v":0},{"$f":"IF(Dati!E295=\"UA6\",Dati!D295,)","v":0},{"$f":"IF(Dati!E295=\"UB1\",Dati!D295,)","v":0},{"$f":"IF(Dati!E295=\"UB2\",Dati!D295,)","v":0},{"$f":"IF(Dati!E295=\"UC1\",Dati!D295,)","v":0},{"$f":"IF(Dati!E295=\"UD1\",Dati!D295,)","v":0},{"$f":"IF(Dati!E295=\"UE1\",Dati!D295,)","v":0}]
[{"$f":"Dati!C296","v":"00:00:00"},{"$f":"Dati!H296","v":"00:00:00"},{"$f":"IF(Dati!E296=\"UA1\",Dati!D296,)","v":0},{"$f":"IF(Dati!E296=\"UA2\",Dati!D296,)","v":0},{"$f":"IF(Dati!E296=\"UA3\",Dati!D296,)","v":0},{"$f":"IF(Dati!E296=\"UA4\",Dati!D296,)","v":0},{"$f":"IF(Dati!E296=\"UA5\",Dati!D296,)","v":0},{"$f":"IF(Dati!E296=\"UA6\",Dati!D296,)","v":0},{"$f":"IF(Dati!E296=\"UB1\",Dati!D296,)","v":0},{"$f":"IF(Dati!E296=\"UB2\",Dati!D296,)","v":0},{"$f":"IF(Dati!E296=\"UC1\",Dati!D296,)","v":0},{"$f":"IF(Dati!E296=\"UD1\",Dati!D296,)","v":0},{"$f":"IF(Dati!E296=\"UE1\",Dati!D296,)","v":0}]
[{"$f":"Dati!C297","v":"00:00:00"},{"$f":"Dati!H297","v":"00:00:00"},{"$f":"IF(Dati!E297=\"UA1\",Dati!D297,)","v":0},{"$f":"IF(Dati!E297=\"UA2\",Dati!D297,)","v":0},{"$f":"IF(Dati!E297=\"UA3\",Dati!D297,)","v":0},{"$f":"IF(Dati!E297=\"UA4\",Dati!D297,)","v":0},{"$f":"IF(Dati!E297=\"UA5\",Dati!D297,)","v":0},{"$f":"IF(Dati!E297=\"UA6\",Dati!D297,)","v":0},{"$f":"IF(Dati!E297=\"UB1\",Dati!D297,)","v":0},{"$f":"IF(Dati!E297=\"UB2\",Dati!D297,)","v":0},{"$f":"IF(Dati!E297=\"UC1\",Dati!D297,)","v":0},{"$f":"IF(Dati!E297=\"UD1\",Dati!D297,)","v":0},{"$f":"IF(Dati!E297=\"UE1\",Dati!D297,)","v":0}]
[{"$f":"Dati!C298","v":"00:00:00"},{"$f":"Dati!H298","v":"00:00:00"},{"$f":"IF(Dati!E298=\"UA1\",Dati!D298,)","v":0},{"$f":"IF(Dati!E298=\"UA2\",Dati!D298,)","v":0},{"$f":"IF(Dati!E298=\"UA3\",Dati!D298,)","v":0},{"$f":"IF(Dati!E298=\"UA4\",Dati!D298,)","v":0},{"$f":"IF(Dati!E298=\"UA5\",Dati!D298,)","v":0},{"$f":"IF(Dati!E298=\"UA6\",Dati!D298,)","v":0},{"$f":"IF(Dati!E298=\"UB1\",Dati!D298,)","v":0},{"$f":"IF(Dati!E298=\"UB2\",Dati!D298,)","v":0},{"$f":"IF(Dati!E298=\"UC1\",Dati!D298,)","v":0},{"$f":"IF(Dati!E298=\"UD1\",Dati!D298,)","v":0},{"$f":"IF(Dati!E298=\"UE1\",Dati!D298,)","v":0}]
[{"$f":"Dati!C299","v":"00:00:00"},{"$f":"Dati!H299","v":"00:00:00"},{"$f":"IF(Dati!E299=\"UA1\",Dati!D299,)","v":0},{"$f":"IF(Dati!E299=\"UA2\",Dati!D299,)","v":0},{"$f":"IF(Dati!E299=\"UA3\",Dati!D299,)","v":0},{"$f":"IF(Dati!E299=\"UA4\",Dati!D299,)","v":0},{"$f":"IF(Dati!E299=\"UA5\",Dati!D299,)","v":0},{"$f":"IF(Dati!E299=\"UA6\",Dati!D299,)","v":0},{"$f":"IF(Dati!E299=\"UB1\",Dati!D299,)","v":0},{"$f":"IF(Dati!E299=\"UB2\",Dati!D299,)","v":0},{"$f":"IF(Dati!E299=\"UC1\",Dati!D299,)","v":0},{"$f":"IF(Dati!E299=\"UD1\",Dati!D299,)","v":0},{"$f":"IF(Dati!E299=\"UE1\",Dati!D299,)","v":0}]
[{"$f":"Dati!C300","v":"00:00:00"},{"$f":"Dati!H300","v":"00:00:00"},{"$f":"IF(Dati!E300=\"UA1\",Dati!D300,)","v":0},{"$f":"IF(Dati!E300=\"UA2\",Dati!D300,)","v":0},{"$f":"IF(Dati!E300=\"UA3\",Dati!D300,)","v":0},{"$f":"IF(Dati!E300=\"UA4\",Dati!D300,)","v":0},{"$f":"IF(Dati!E300=\"UA5\",Dati!D300,)","v":0},{"$f":"IF(Dati!E300=\"UA6\",Dati!D300,)","v":0},{"$f":"IF(Dati!E300=\"UB1\",Dati!D300,)","v":0},{"$f":"IF(Dati!E300=\"UB2\",Dati!D300,)","v":0},{"$f":"IF(Dati!E300=\"UC1\",Dati!D300,)","v":0},{"$f":"IF(Dati!E300=\"UD1\",Dati!D300,)","v":0},{"$f":"IF(Dati!E300=\"UE1\",Dati!D300,)","v":0}]
[{"$f":"Dati!C301","v":"00:00:00"},{"$f":"Dati!H301","v":"00:00:00"},{"$f":"IF(Dati!E301=\"UA1\",Dati!D301,)","v":0},{"$f":"IF(Dati!E301=\"UA2\",Dati!D301,)","v":0},{"$f":"IF(Dati!E301=\"UA3\",Dati!D301,)","v":0},{"$f":"IF(Dati!E301=\"UA4\",Dati!D301,)","v":0},{"$f":"IF(Dati!E301=\"UA5\",Dati!D301,)","v":0},{"$f":"IF(Dati!E301=\"UA6\",Dati!D301,)","v":0},{"$f":"IF(Dati!E301=\"UB1\",Dati!D301,)","v":0},{"$f":"IF(Dati!E301=\"UB2\",Dati!D301,)","v":0},{"$f":"IF(Dati!E301=\"UC1\",Dati!D301,)","v":0},{"$f":"IF(Dati!E301=\"UD1\",Dati!D301,)","v":0},{"$f":"IF(Dati!E301=\"UE1\",Dati!D301,)","v":0}]
[{"$f":"Dati!C302","v":"00:00:00"},{"$f":"Dati!H302","v":"00:00:00"},{"$f":"IF(Dati!E302=\"UA1\",Dati!D302,)","v":0},{"$f":"IF(Dati!E302=\"UA2\",Dati!D302,)","v":0},{"$f":"IF(Dati!E302=\"UA3\",Dati!D302,)","v":0},{"$f":"IF(Dati!E302=\"UA4\",Dati!D302,)","v":0},{"$f":"IF(Dati!E302=\"UA5\",Dati!D302,)","v":0},{"$f":"IF(Dati!E302=\"UA6\",Dati!D302,)","v":0},{"$f":"IF(Dati!E302=\"UB1\",Dati!D302,)","v":0},{"$f":"IF(Dati!E302=\"UB2\",Dati!D302,)","v":0},{"$f":"IF(Dati!E302=\"UC1\",Dati!D302,)","v":0},{"$f":"IF(Dati!E302=\"UD1\",Dati!D302,)","v":0},{"$f":"IF(Dati!E302=\"UE1\",Dati!D302,)","v":0}]
[{"$f":"Dati!C303","v":"00:00:00"},{"$f":"Dati!H303","v":"00:00:00"},{"$f":"IF(Dati!E303=\"UA1\",Dati!D303,)","v":0},{"$f":"IF(Dati!E303=\"UA2\",Dati!D303,)","v":0},{"$f":"IF(Dati!E303=\"UA3\",Dati!D303,)","v":0},{"$f":"IF(Dati!E303=\"UA4\",Dati!D303,)","v":0},{"$f":"IF(Dati!E303=\"UA5\",Dati!D303,)","v":0},{"$f":"IF(Dati!E303=\"UA6\",Dati!D303,)","v":0},{"$f":"IF(Dati!E303=\"UB1\",Dati!D303,)","v":0},{"$f":"IF(Dati!E303=\"UB2\",Dati!D303,)","v":0},{"$f":"IF(Dati!E303=\"UC1\",Dati!D303,)","v":0},{"$f":"IF(Dati!E303=\"UD1\",Dati!D303,)","v":0},{"$f":"IF(Dati!E303=\"UE1\",Dati!D303,)","v":0}]
[{"$f":"Dati!C304","v":"00:00:00"},{"$f":"Dati!H304","v":"00:00:00"},{"$f":"IF(Dati!E304=\"UA1\",Dati!D304,)","v":0},{"$f":"IF(Dati!E304=\"UA2\",Dati!D304,)","v":0},{"$f":"IF(Dati!E304=\"UA3\",Dati!D304,)","v":0},{"$f":"IF(Dati!E304=\"UA4\",Dati!D304,)","v":0},{"$f":"IF(Dati!E304=\"UA5\",Dati!D304,)","v":0},{"$f":"IF(Dati!E304=\"UA6\",Dati!D304,)","v":0},{"$f":"IF(Dati!E304=\"UB1\",Dati!D304,)","v":0},{"$f":"IF(Dati!E304=\"UB2\",Dati!D304,)","v":0},{"$f":"IF(Dati!E304=\"UC1\",Dati!D304,)","v":0},{"$f":"IF(Dati!E304=\"UD1\",Dati!D304,)","v":0},{"$f":"IF(Dati!E304=\"UE1\",Dati!D304,)","v":0}]
[{"$f":"Dati!C305","v":"00:00:00"},{"$f":"Dati!H305","v":"00:00:00"},{"$f":"IF(Dati!E305=\"UA1\",Dati!D305,)","v":0},{"$f":"IF(Dati!E305=\"UA2\",Dati!D305,)","v":0},{"$f":"IF(Dati!E305=\"UA3\",Dati!D305,)","v":0},{"$f":"IF(Dati!E305=\"UA4\",Dati!D305,)","v":0},{"$f":"IF(Dati!E305=\"UA5\",Dati!D305,)","v":0},{"$f":"IF(Dati!E305=\"UA6\",Dati!D305,)","v":0},{"$f":"IF(Dati!E305=\"UB1\",Dati!D305,)","v":0},{"$f":"IF(Dati!E305=\"UB2\",Dati!D305,)","v":0},{"$f":"IF(Dati!E305=\"UC1\",Dati!D305,)","v":0},{"$f":"IF(Dati!E305=\"UD1\",Dati!D305,)","v":0},{"$f":"IF(Dati!E305=\"UE1\",Dati!D305,)","v":0}]
[{"$f":"Dati!C306","v":"00:00:00"},{"$f":"Dati!H306","v":"00:00:00"},{"$f":"IF(Dati!E306=\"UA1\",Dati!D306,)","v":0},{"$f":"IF(Dati!E306=\"UA2\",Dati!D306,)","v":0},{"$f":"IF(Dati!E306=\"UA3\",Dati!D306,)","v":0},{"$f":"IF(Dati!E306=\"UA4\",Dati!D306,)","v":0},{"$f":"IF(Dati!E306=\"UA5\",Dati!D306,)","v":0},{"$f":"IF(Dati!E306=\"UA6\",Dati!D306,)","v":0},{"$f":"IF(Dati!E306=\"UB1\",Dati!D306,)","v":0},{"$f":"IF(Dati!E306=\"UB2\",Dati!D306,)","v":0},{"$f":"IF(Dati!E306=\"UC1\",Dati!D306,)","v":0},{"$f":"IF(Dati!E306=\"UD1\",Dati!D306,)","v":0},{"$f":"IF(Dati!E306=\"UE1\",Dati!D306,)","v":0}]
[{"$f":"Dati!C307","v":"00:00:00"},{"$f":"Dati!H307","v":"00:00:00"},{"$f":"IF(Dati!E307=\"UA1\",Dati!D307,)","v":0},{"$f":"IF(Dati!E307=\"UA2\",Dati!D307,)","v":0},{"$f":"IF(Dati!E307=\"UA3\",Dati!D307,)","v":0},{"$f":"IF(Dati!E307=\"UA4\",Dati!D307,)","v":0},{"$f":"IF(Dati!E307=\"UA5\",Dati!D307,)","v":0},{"$f":"IF(Dati!E307=\"UA6\",Dati!D307,)","v":0},{"$f":"IF(Dati!E307=\"UB1\",Dati!D307,)","v":0},{"$f":"IF(Dati!E307=\"UB2\",Dati!D307,)","v":0},{"$f":"IF(Dati!E307=\"UC1\",Dati!D307,)","v":0},{"$f":"IF(Dati!E307=\"UD1\",Dati!D307,)","v":0},{"$f":"IF(Dati!E307=\"UE1\",Dati!D307,)","v":0}]
[{"$f":"Dati!C308","v":"00:00:00"},{"$f":"Dati!H308","v":"00:00:00"},{"$f":"IF(Dati!E308=\"UA1\",Dati!D308,)","v":0},{"$f":"IF(Dati!E308=\"UA2\",Dati!D308,)","v":0},{"$f":"IF(Dati!E308=\"UA3\",Dati!D308,)","v":0},{"$f":"IF(Dati!E308=\"UA4\",Dati!D308,)","v":0},{"$f":"IF(Dati!E308=\"UA5\",Dati!D308,)","v":0},{"$f":"IF(Dati!E308=\"UA6\",Dati!D308,)","v":0},{"$f":"IF(Dati!E308=\"UB1\",Dati!D308,)","v":0},{"$f":"IF(Dati!E308=\"UB2\",Dati!D308,)","v":0},{"$f":"IF(Dati!E308=\"UC1\",Dati!D308,)","v":0},{"$f":"IF(Dati!E308=\"UD1\",Dati!D308,)","v":0},{"$f":"IF(Dati!E308=\"UE1\",Dati!D308,)","v":0}]
[{"$f":"Dati!C309","v":"00:00:00"},{"$f":"Dati!H309","v":"00:00:00"},{"$f":"IF(Dati!E309=\"UA1\",Dati!D309,)","v":0},{"$f":"IF(Dati!E309=\"UA2\",Dati!D309,)","v":0},{"$f":"IF(Dati!E309=\"UA3\",Dati!D309,)","v":0},{"$f":"IF(Dati!E309=\"UA4\",Dati!D309,)","v":0},{"$f":"IF(Dati!E309=\"UA5\",Dati!D309,)","v":0},{"$f":"IF(Dati!E309=\"UA6\",Dati!D309,)","v":0},{"$f":"IF(Dati!E309=\"UB1\",Dati!D309,)","v":0},{"$f":"IF(Dati!E309=\"UB2\",Dati!D309,)","v":0},{"$f":"IF(Dati!E309=\"UC1\",Dati!D309,)","v":0},{"$f":"IF(Dati!E309=\"UD1\",Dati!D309,)","v":0},{"$f":"IF(Dati!E309=\"UE1\",Dati!D309,)","v":0}]
[{"$f":"Dati!C301","v":"00:00:00"},{"$f":"Dati!H301","v":"00:00:00"},{"$f":"IF(Dati!E301=\"UA1\",Dati!D301,)","v":0},{"$f":"IF(Dati!E301=\"UA2\",Dati!D301,)","v":0},{"$f":"IF(Dati!E301=\"UA3\",Dati!D301,)","v":0},{"$f":"IF(Dati!E301=\"UA4\",Dati!D301,)","v":0},{"$f":"IF(Dati!E301=\"UA5\",Dati!D301,)","v":0},{"$f":"IF(Dati!E301=\"UA6\",Dati!D301,)","v":0},{"$f":"IF(Dati!E301=\"UB1\",Dati!D301,)","v":0},{"$f":"IF(Dati!E301=\"UB2\",Dati!D301,)","v":0},{"$f":"IF(Dati!E301=\"UC1\",Dati!D301,)","v":0},{"$f":"IF(Dati!E301=\"UD1\",Dati!D301,)","v":0},{"$f":"IF(Dati!E301=\"UE1\",Dati!D301,)","v":0}]
[{"$f":"Dati!C302","v":"00:00:00"},{"$f":"Dati!H302","v":"00:00:00"},{"$f":"IF(Dati!E302=\"UA1\",Dati!D302,)","v":0},{"$f":"IF(Dati!E302=\"UA2\",Dati!D302,)","v":0},{"$f":"IF(Dati!E302=\"UA3\",Dati!D302,)","v":0},{"$f":"IF(Dati!E302=\"UA4\",Dati!D302,)","v":0},{"$f":"IF(Dati!E302=\"UA5\",Dati!D302,)","v":0},{"$f":"IF(Dati!E302=\"UA6\",Dati!D302,)","v":0},{"$f":"IF(Dati!E302=\"UB1\",Dati!D302,)","v":0},{"$f":"IF(Dati!E302=\"UB2\",Dati!D302,)","v":0},{"$f":"IF(Dati!E302=\"UC1\",Dati!D302,)","v":0},{"$f":"IF(Dati!E302=\"UD1\",Dati!D302,)","v":0},{"$f":"IF(Dati!E302=\"UE1\",Dati!D302,)","v":0}]
[{"$f":"Dati!C303","v":"00:00:00"},{"$f":"Dati!H303","v":"00:00:00"},{"$f":"IF(Dati!E303=\"UA1\",Dati!D303,)","v":0},{"$f":"IF(Dati!E303=\"UA2\",Dati!D303,)","v":0},{"$f":"IF(Dati!E303=\"UA3\",Dati!D303,)","v":0},{"$f":"IF(Dati!E303=\"UA4\",Dati!D303,)","v":0},{"$f":"IF(Dati!E303=\"UA5\",Dati!D303,)","v":0},{"$f":"IF(Dati!E303=\"UA6\",Dati!D303,)","v":0},{"$f":"IF(Dati!E303=\"UB1\",Dati!D303,)","v":0},{"$f":"IF(Dati!E303=\"UB2\",Dati!D303,)","v":0},{"$f":"IF(Dati!E303=\"UC1\",Dati!D303,)","v":0},{"$f":"IF(Dati!E303=\"UD1\",Dati!D303,)","v":0},{"$f":"IF(Dati!E303=\"UE1\",Dati!D303,)","v":0}]
[{"$f":"Dati!C304","v":"00:00:00"},{"$f":"Dati!H304","v":"00:00:00"},{"$f":"IF(Dati!E304=\"UA1\",Dati!D304,)","v":0},{"$f":"IF(Dati!E304=\"UA2\",Dati!D304,)","v":0},{"$f":"IF(Dati!E304=\"UA3\",Dati!D304,)","v":0},{"$f":"IF(Dati!E304=\"UA4\",Dati!D304,)","v":0},{"$f":"IF(Dati!E304=\"UA5\",Dati!D304,)","v":0},{"$f":"IF(Dati!E304=\"UA6\",Dati!D304,)","v":0},{"$f":"IF(Dati!E304=\"UB1\",Dati!D304,)","v":0},{"$f":"IF(Dati!E304=\"UB2\",Dati!D304,)","v":0},{"$f":"IF(Dati!E304=\"UC1\",Dati!D304,)","v":0},{"$f":"IF(Dati!E304=\"UD1\",Dati!D304,)","v":0},{"$f":"IF(Dati!E304=\"UE1\",Dati!D304,)","v":0}]
[{"$f":"Dati!C305","v":"00:00:00"},{"$f":"Dati!H305","v":"00:00:00"},{"$f":"IF(Dati!E305=\"UA1\",Dati!D305,)","v":0},{"$f":"IF(Dati!E305=\"UA2\",Dati!D305,)","v":0},{"$f":"IF(Dati!E305=\"UA3\",Dati!D305,)","v":0},{"$f":"IF(Dati!E305=\"UA4\",Dati!D305,)","v":0},{"$f":"IF(Dati!E305=\"UA5\",Dati!D305,)","v":0},{"$f":"IF(Dati!E305=\"UA6\",Dati!D305,)","v":0},{"$f":"IF(Dati!E305=\"UB1\",Dati!D305,)","v":0},{"$f":"IF(Dati!E305=\"UB2\",Dati!D305,)","v":0},{"$f":"IF(Dati!E305=\"UC1\",Dati!D305,)","v":0},{"$f":"IF(Dati!E305=\"UD1\",Dati!D305,)","v":0},{"$f":"IF(Dati!E305=\"UE1\",Dati!D305,)","v":0}]
[{"$f":"Dati!C306","v":"00:00:00"},{"$f":"Dati!H306","v":"00:00:00"},{"$f":"IF(Dati!E306=\"UA1\",Dati!D306,)","v":0},{"$f":"IF(Dati!E306=\"UA2\",Dati!D306,)","v":0},{"$f":"IF(Dati!E306=\"UA3\",Dati!D306,)","v":0},{"$f":"IF(Dati!E306=\"UA4\",Dati!D306,)","v":0},{"$f":"IF(Dati!E306=\"UA5\",Dati!D306,)","v":0},{"$f":"IF(Dati!E306=\"UA6\",Dati!D306,)","v":0},{"$f":"IF(Dati!E306=\"UB1\",Dati!D306,)","v":0},{"$f":"IF(Dati!E306=\"UB2\",Dati!D306,)","v":0},{"$f":"IF(Dati!E306=\"UC1\",Dati!D306,)","v":0},{"$f":"IF(Dati!E306=\"UD1\",Dati!D306,)","v":0},{"$f":"IF(Dati!E306=\"UE1\",Dati!D306,)","v":0}]
[{"$f":"Dati!C307","v":"00:00:00"},{"$f":"Dati!H307","v":"00:00:00"},{"$f":"IF(Dati!E307=\"UA1\",Dati!D307,)","v":0},{"$f":"IF(Dati!E307=\"UA2\",Dati!D307,)","v":0},{"$f":"IF(Dati!E307=\"UA3\",Dati!D307,)","v":0},{"$f":"IF(Dati!E307=\"UA4\",Dati!D307,)","v":0},{"$f":"IF(Dati!E307=\"UA5\",Dati!D307,)","v":0},{"$f":"IF(Dati!E307=\"UA6\",Dati!D307,)","v":0},{"$f":"IF(Dati!E307=\"UB1\",Dati!D307,)","v":0},{"$f":"IF(Dati!E307=\"UB2\",Dati!D307,)","v":0},{"$f":"IF(Dati!E307=\"UC1\",Dati!D307,)","v":0},{"$f":"IF(Dati!E307=\"UD1\",Dati!D307,)","v":0},{"$f":"IF(Dati!E307=\"UE1\",Dati!D307,)","v":0}]
[{"$f":"Dati!C308","v":"00:00:00"},{"$f":"Dati!H308","v":"00:00:00"},{"$f":"IF(Dati!E308=\"UA1\",Dati!D308,)","v":0},{"$f":"IF(Dati!E308=\"UA2\",Dati!D308,)","v":0},{"$f":"IF(Dati!E308=\"UA3\",Dati!D308,)","v":0},{"$f":"IF(Dati!E308=\"UA4\",Dati!D308,)","v":0},{"$f":"IF(Dati!E308=\"UA5\",Dati!D308,)","v":0},{"$f":"IF(Dati!E308=\"UA6\",Dati!D308,)","v":0},{"$f":"IF(Dati!E308=\"UB1\",Dati!D308,)","v":0},{"$f":"IF(Dati!E308=\"UB2\",Dati!D308,)","v":0},{"$f":"IF(Dati!E308=\"UC1\",Dati!D308,)","v":0},{"$f":"IF(Dati!E308=\"UD1\",Dati!D308,)","v":0},{"$f":"IF(Dati!E308=\"UE1\",Dati!D308,)","v":0}]
[{"$f":"Dati!C309","v":"00:00:00"},{"$f":"Dati!H309","v":"00:00:00"},{"$f":"IF(Dati!E309=\"UA1\",Dati!D309,)","v":0},{"$f":"IF(Dati!E309=\"UA2\",Dati!D309,)","v":0},{"$f":"IF(Dati!E309=\"UA3\",Dati!D309,)","v":0},{"$f":"IF(Dati!E309=\"UA4\",Dati!D309,)","v":0},{"$f":"IF(Dati!E309=\"UA5\",Dati!D309,)","v":0},{"$f":"IF(Dati!E309=\"UA6\",Dati!D309,)","v":0},{"$f":"IF(Dati!E309=\"UB1\",Dati!D309,)","v":0},{"$f":"IF(Dati!E309=\"UB2\",Dati!D309,)","v":0},{"$f":"IF(Dati!E309=\"UC1\",Dati!D309,)","v":0},{"$f":"IF(Dati!E309=\"UD1\",Dati!D309,)","v":0},{"$f":"IF(Dati!E309=\"UE1\",Dati!D309,)","v":0}]
[{"$f":"Dati!C310","v":"00:00:00"},{"$f":"Dati!H310","v":"00:00:00"},{"$f":"IF(Dati!E310=\"UA1\",Dati!D310,)","v":0},{"$f":"IF(Dati!E310=\"UA2\",Dati!D310,)","v":0},{"$f":"IF(Dati!E310=\"UA3\",Dati!D310,)","v":0},{"$f":"IF(Dati!E310=\"UA4\",Dati!D310,)","v":0},{"$f":"IF(Dati!E310=\"UA5\",Dati!D310,)","v":0},{"$f":"IF(Dati!E310=\"UA6\",Dati!D310,)","v":0},{"$f":"IF(Dati!E310=\"UB1\",Dati!D310,)","v":0},{"$f":"IF(Dati!E310=\"UB2\",Dati!D310,)","v":0},{"$f":"IF(Dati!E310=\"UC1\",Dati!D310,)","v":0},{"$f":"IF(Dati!E310=\"UD1\",Dati!D310,)","v":0},{"$f":"IF(Dati!E310=\"UE1\",Dati!D310,)","v":0}]
[{"$f":"Dati!C311","v":"00:00:00"},{"$f":"Dati!H311","v":"00:00:00"},{"$f":"IF(Dati!E311=\"UA1\",Dati!D311,)","v":0},{"$f":"IF(Dati!E311=\"UA2\",Dati!D311,)","v":0},{"$f":"IF(Dati!E311=\"UA3\",Dati!D311,)","v":0},{"$f":"IF(Dati!E311=\"UA4\",Dati!D311,)","v":0},{"$f":"IF(Dati!E311=\"UA5\",Dati!D311,)","v":0},{"$f":"IF(Dati!E311=\"UA6\",Dati!D311,)","v":0},{"$f":"IF(Dati!E311=\"UB1\",Dati!D311,)","v":0},{"$f":"IF(Dati!E311=\"UB2\",Dati!D311,)","v":0},{"$f":"IF(Dati!E311=\"UC1\",Dati!D311,)","v":0},{"$f":"IF(Dati!E311=\"UD1\",Dati!D311,)","v":0},{"$f":"IF(Dati!E311=\"UE1\",Dati!D311,)","v":0}]
[{"$f":"Dati!C312","v":"00:00:00"},{"$f":"Dati!H312","v":"00:00:00"},{"$f":"IF(Dati!E312=\"UA1\",Dati!D312,)","v":0},{"$f":"IF(Dati!E312=\"UA2\",Dati!D312,)","v":0},{"$f":"IF(Dati!E312=\"UA3\",Dati!D312,)","v":0},{"$f":"IF(Dati!E312=\"UA4\",Dati!D312,)","v":0},{"$f":"IF(Dati!E312=\"UA5\",Dati!D312,)","v":0},{"$f":"IF(Dati!E312=\"UA6\",Dati!D312,)","v":0},{"$f":"IF(Dati!E312=\"UB1\",Dati!D312,)","v":0},{"$f":"IF(Dati!E312=\"UB2\",Dati!D312,)","v":0},{"$f":"IF(Dati!E312=\"UC1\",Dati!D312,)","v":0},{"$f":"IF(Dati!E312=\"UD1\",Dati!D312,)","v":0},{"$f":"IF(Dati!E312=\"UE1\",Dati!D312,)","v":0}]
[{"$f":"Dati!C313","v":"00:00:00"},{"$f":"Dati!H313","v":"00:00:00"},{"$f":"IF(Dati!E313=\"UA1\",Dati!D313,)","v":0},{"$f":"IF(Dati!E313=\"UA2\",Dati!D313,)","v":0},{"$f":"IF(Dati!E313=\"UA3\",Dati!D313,)","v":0},{"$f":"IF(Dati!E313=\"UA4\",Dati!D313,)","v":0},{"$f":"IF(Dati!E313=\"UA5\",Dati!D313,)","v":0},{"$f":"IF(Dati!E313=\"UA6\",Dati!D313,)","v":0},{"$f":"IF(Dati!E313=\"UB1\",Dati!D313,)","v":0},{"$f":"IF(Dati!E313=\"UB2\",Dati!D313,)","v":0},{"$f":"IF(Dati!E313=\"UC1\",Dati!D313,)","v":0},{"$f":"IF(Dati!E313=\"UD1\",Dati!D313,)","v":0},{"$f":"IF(Dati!E313=\"UE1\",Dati!D313,)","v":0}]
[{"$f":"Dati!C314","v":"00:00:00"},{"$f":"Dati!H314","v":"00:00:00"},{"$f":"IF(Dati!E314=\"UA1\",Dati!D314,)","v":0},{"$f":"IF(Dati!E314=\"UA2\",Dati!D314,)","v":0},{"$f":"IF(Dati!E314=\"UA3\",Dati!D314,)","v":0},{"$f":"IF(Dati!E314=\"UA4\",Dati!D314,)","v":0},{"$f":"IF(Dati!E314=\"UA5\",Dati!D314,)","v":0},{"$f":"IF(Dati!E314=\"UA6\",Dati!D314,)","v":0},{"$f":"IF(Dati!E314=\"UB1\",Dati!D314,)","v":0},{"$f":"IF(Dati!E314=\"UB2\",Dati!D314,)","v":0},{"$f":"IF(Dati!E314=\"UC1\",Dati!D314,)","v":0},{"$f":"IF(Dati!E314=\"UD1\",Dati!D314,)","v":0},{"$f":"IF(Dati!E314=\"UE1\",Dati!D314,)","v":0}]
[{"$f":"Dati!C315","v":"00:00:00"},{"$f":"Dati!H315","v":"00:00:00"},{"$f":"IF(Dati!E315=\"UA1\",Dati!D315,)","v":0},{"$f":"IF(Dati!E315=\"UA2\",Dati!D315,)","v":0},{"$f":"IF(Dati!E315=\"UA3\",Dati!D315,)","v":0},{"$f":"IF(Dati!E315=\"UA4\",Dati!D315,)","v":0},{"$f":"IF(Dati!E315=\"UA5\",Dati!D315,)","v":0},{"$f":"IF(Dati!E315=\"UA6\",Dati!D315,)","v":0},{"$f":"IF(Dati!E315=\"UB1\",Dati!D315,)","v":0},{"$f":"IF(Dati!E315=\"UB2\",Dati!D315,)","v":0},{"$f":"IF(Dati!E315=\"UC1\",Dati!D315,)","v":0},{"$f":"IF(Dati!E315=\"UD1\",Dati!D315,)","v":0},{"$f":"IF(Dati!E315=\"UE1\",Dati!D315,)","v":0}]
[{"$f":"Dati!C316","v":"00:00:00"},{"$f":"Dati!H316","v":"00:00:00"},{"$f":"IF(Dati!E316=\"UA1\",Dati!D316,)","v":0},{"$f":"IF(Dati!E316=\"UA2\",Dati!D316,)","v":0},{"$f":"IF(Dati!E316=\"UA3\",Dati!D316,)","v":0},{"$f":"IF(Dati!E316=\"UA4\",Dati!D316,)","v":0},{"$f":"IF(Dati!E316=\"UA5\",Dati!D316,)","v":0},{"$f":"IF(Dati!E316=\"UA6\",Dati!D316,)","v":0},{"$f":"IF(Dati!E316=\"UB1\",Dati!D316,)","v":0},{"$f":"IF(Dati!E316=\"UB2\",Dati!D316,)","v":0},{"$f":"IF(Dati!E316=\"UC1\",Dati!D316,)","v":0},{"$f":"IF(Dati!E316=\"UD1\",Dati!D316,)","v":0},{"$f":"IF(Dati!E316=\"UE1\",Dati!D316,)","v":0}]
[{"$f":"Dati!C317","v":"00:00:00"},{"$f":"Dati!H317","v":"00:00:00"},{"$f":"IF(Dati!E317=\"UA1\",Dati!D317,)","v":0},{"$f":"IF(Dati!E317=\"UA2\",Dati!D317,)","v":0},{"$f":"IF(Dati!E317=\"UA3\",Dati!D317,)","v":0},{"$f":"IF(Dati!E317=\"UA4\",Dati!D317,)","v":0},{"$f":"IF(Dati!E317=\"UA5\",Dati!D317,)","v":0},{"$f":"IF(Dati!E317=\"UA6\",Dati!D317,)","v":0},{"$f":"IF(Dati!E317=\"UB1\",Dati!D317,)","v":0},{"$f":"IF(Dati!E317=\"UB2\",Dati!D317,)","v":0},{"$f":"IF(Dati!E317=\"UC1\",Dati!D317,)","v":0},{"$f":"IF(Dati!E317=\"UD1\",Dati!D317,)","v":0},{"$f":"IF(Dati!E317=\"UE1\",Dati!D317,)","v":0}]
[{"$f":"Dati!C318","v":"00:00:00"},{"$f":"Dati!H318","v":"00:00:00"},{"$f":"IF(Dati!E318=\"UA1\",Dati!D318,)","v":0},{"$f":"IF(Dati!E318=\"UA2\",Dati!D318,)","v":0},{"$f":"IF(Dati!E318=\"UA3\",Dati!D318,)","v":0},{"$f":"IF(Dati!E318=\"UA4\",Dati!D318,)","v":0},{"$f":"IF(Dati!E318=\"UA5\",Dati!D318,)","v":0},{"$f":"IF(Dati!E318=\"UA6\",Dati!D318,)","v":0},{"$f":"IF(Dati!E318=\"UB1\",Dati!D318,)","v":0},{"$f":"IF(Dati!E318=\"UB2\",Dati!D318,)","v":0},{"$f":"IF(Dati!E318=\"UC1\",Dati!D318,)","v":0},{"$f":"IF(Dati!E318=\"UD1\",Dati!D318,)","v":0},{"$f":"IF(Dati!E318=\"UE1\",Dati!D318,)","v":0}]
[{"$f":"Dati!C319","v":"00:00:00"},{"$f":"Dati!H319","v":"00:00:00"},{"$f":"IF(Dati!E319=\"UA1\",Dati!D319,)","v":0},{"$f":"IF(Dati!E319=\"UA2\",Dati!D319,)","v":0},{"$f":"IF(Dati!E319=\"UA3\",Dati!D319,)","v":0},{"$f":"IF(Dati!E319=\"UA4\",Dati!D319,)","v":0},{"$f":"IF(Dati!E319=\"UA5\",Dati!D319,)","v":0},{"$f":"IF(Dati!E319=\"UA6\",Dati!D319,)","v":0},{"$f":"IF(Dati!E319=\"UB1\",Dati!D319,)","v":0},{"$f":"IF(Dati!E319=\"UB2\",Dati!D319,)","v":0},{"$f":"IF(Dati!E319=\"UC1\",Dati!D319,)","v":0},{"$f":"IF(Dati!E319=\"UD1\",Dati!D319,)","v":0},{"$f":"IF(Dati!E319=\"UE1\",Dati!D319,)","v":0}]
[{"$f":"Dati!C320","v":"00:00:00"},{"$f":"Dati!H320","v":"00:00:00"},{"$f":"IF(Dati!E320=\"UA1\",Dati!D320,)","v":0},{"$f":"IF(Dati!E320=\"UA2\",Dati!D320,)","v":0},{"$f":"IF(Dati!E320=\"UA3\",Dati!D320,)","v":0},{"$f":"IF(Dati!E320=\"UA4\",Dati!D320,)","v":0},{"$f":"IF(Dati!E320=\"UA5\",Dati!D320,)","v":0},{"$f":"IF(Dati!E320=\"UA6\",Dati!D320,)","v":0},{"$f":"IF(Dati!E320=\"UB1\",Dati!D320,)","v":0},{"$f":"IF(Dati!E320=\"UB2\",Dati!D320,)","v":0},{"$f":"IF(Dati!E320=\"UC1\",Dati!D320,)","v":0},{"$f":"IF(Dati!E320=\"UD1\",Dati!D320,)","v":0},{"$f":"IF(Dati!E320=\"UE1\",Dati!D320,)","v":0}]
[{"$f":"Dati!C321","v":"00:00:00"},{"$f":"Dati!H321","v":"00:00:00"},{"$f":"IF(Dati!E321=\"UA1\",Dati!D321,)","v":0},{"$f":"IF(Dati!E321=\"UA2\",Dati!D321,)","v":0},{"$f":"IF(Dati!E321=\"UA3\",Dati!D321,)","v":0},{"$f":"IF(Dati!E321=\"UA4\",Dati!D321,)","v":0},{"$f":"IF(Dati!E321=\"UA5\",Dati!D321,)","v":0},{"$f":"IF(Dati!E321=\"UA6\",Dati!D321,)","v":0},{"$f":"IF(Dati!E321=\"UB1\",Dati!D321,)","v":0},{"$f":"IF(Dati!E321=\"UB2\",Dati!D321,)","v":0},{"$f":"IF(Dati!E321=\"UC1\",Dati!D321,)","v":0},{"$f":"IF(Dati!E321=\"UD1\",Dati!D321,)","v":0},{"$f":"IF(Dati!E321=\"UE1\",Dati!D321,)","v":0}]
[{"$f":"Dati!C322","v":"00:00:00"},{"$f":"Dati!H322","v":"00:00:00"},{"$f":"IF(Dati!E322=\"UA1\",Dati!D322,)","v":0},{"$f":"IF(Dati!E322=\"UA2\",Dati!D322,)","v":0},{"$f":"IF(Dati!E322=\"UA3\",Dati!D322,)","v":0},{"$f":"IF(Dati!E322=\"UA4\",Dati!D322,)","v":0},{"$f":"IF(Dati!E322=\"UA5\",Dati!D322,)","v":0},{"$f":"IF(Dati!E322=\"UA6\",Dati!D322,)","v":0},{"$f":"IF(Dati!E322=\"UB1\",Dati!D322,)","v":0},{"$f":"IF(Dati!E322=\"UB2\",Dati!D322,)","v":0},{"$f":"IF(Dati!E322=\"UC1\",Dati!D322,)","v":0},{"$f":"IF(Dati!E322=\"UD1\",Dati!D322,)","v":0},{"$f":"IF(Dati!E322=\"UE1\",Dati!D322,)","v":0}]
[{"$f":"Dati!C323","v":"00:00:00"},{"$f":"Dati!H323","v":"00:00:00"},{"$f":"IF(Dati!E323=\"UA1\",Dati!D323,)","v":0},{"$f":"IF(Dati!E323=\"UA2\",Dati!D323,)","v":0},{"$f":"IF(Dati!E323=\"UA3\",Dati!D323,)","v":0},{"$f":"IF(Dati!E323=\"UA4\",Dati!D323,)","v":0},{"$f":"IF(Dati!E323=\"UA5\",Dati!D323,)","v":0},{"$f":"IF(Dati!E323=\"UA6\",Dati!D323,)","v":0},{"$f":"IF(Dati!E323=\"UB1\",Dati!D323,)","v":0},{"$f":"IF(Dati!E323=\"UB2\",Dati!D323,)","v":0},{"$f":"IF(Dati!E323=\"UC1\",Dati!D323,)","v":0},{"$f":"IF(Dati!E323=\"UD1\",Dati!D323,)","v":0},{"$f":"IF(Dati!E323=\"UE1\",Dati!D323,)","v":0}]
[{"$f":"Dati!C324","v":"00:00:00"},{"$f":"Dati!H324","v":"00:00:00"},{"$f":"IF(Dati!E324=\"UA1\",Dati!D324,)","v":0},{"$f":"IF(Dati!E324=\"UA2\",Dati!D324,)","v":0},{"$f":"IF(Dati!E324=\"UA3\",Dati!D324,)","v":0},{"$f":"IF(Dati!E324=\"UA4\",Dati!D324,)","v":0},{"$f":"IF(Dati!E324=\"UA5\",Dati!D324,)","v":0},{"$f":"IF(Dati!E324=\"UA6\",Dati!D324,)","v":0},{"$f":"IF(Dati!E324=\"UB1\",Dati!D324,)","v":0},{"$f":"IF(Dati!E324=\"UB2\",Dati!D324,)","v":0},{"$f":"IF(Dati!E324=\"UC1\",Dati!D324,)","v":0},{"$f":"IF(Dati!E324=\"UD1\",Dati!D324,)","v":0},{"$f":"IF(Dati!E324=\"UE1\",Dati!D324,)","v":0}]
[{"$f":"Dati!C325","v":"00:00:00"},{"$f":"Dati!H325","v":"00:00:00"},{"$f":"IF(Dati!E325=\"UA1\",Dati!D325,)","v":0},{"$f":"IF(Dati!E325=\"UA2\",Dati!D325,)","v":0},{"$f":"IF(Dati!E325=\"UA3\",Dati!D325,)","v":0},{"$f":"IF(Dati!E325=\"UA4\",Dati!D325,)","v":0},{"$f":"IF(Dati!E325=\"UA5\",Dati!D325,)","v":0},{"$f":"IF(Dati!E325=\"UA6\",Dati!D325,)","v":0},{"$f":"IF(Dati!E325=\"UB1\",Dati!D325,)","v":0},{"$f":"IF(Dati!E325=\"UB2\",Dati!D325,)","v":0},{"$f":"IF(Dati!E325=\"UC1\",Dati!D325,)","v":0},{"$f":"IF(Dati!E325=\"UD1\",Dati!D325,)","v":0},{"$f":"IF(Dati!E325=\"UE1\",Dati!D325,)","v":0}]
[{"$f":"Dati!C326","v":"00:00:00"},{"$f":"Dati!H326","v":"00:00:00"},{"$f":"IF(Dati!E326=\"UA1\",Dati!D326,)","v":0},{"$f":"IF(Dati!E326=\"UA2\",Dati!D326,)","v":0},{"$f":"IF(Dati!E326=\"UA3\",Dati!D326,)","v":0},{"$f":"IF(Dati!E326=\"UA4\",Dati!D326,)","v":0},{"$f":"IF(Dati!E326=\"UA5\",Dati!D326,)","v":0},{"$f":"IF(Dati!E326=\"UA6\",Dati!D326,)","v":0},{"$f":"IF(Dati!E326=\"UB1\",Dati!D326,)","v":0},{"$f":"IF(Dati!E326=\"UB2\",Dati!D326,)","v":0},{"$f":"IF(Dati!E326=\"UC1\",Dati!D326,)","v":0},{"$f":"IF(Dati!E326=\"UD1\",Dati!D326,)","v":0},{"$f":"IF(Dati!E326=\"UE1\",Dati!D326,)","v":0}]
[{"$f":"Dati!C327","v":"00:00:00"},{"$f":"Dati!H327","v":"00:00:00"},{"$f":"IF(Dati!E327=\"UA1\",Dati!D327,)","v":0},{"$f":"IF(Dati!E327=\"UA2\",Dati!D327,)","v":0},{"$f":"IF(Dati!E327=\"UA3\",Dati!D327,)","v":0},{"$f":"IF(Dati!E327=\"UA4\",Dati!D327,)","v":0},{"$f":"IF(Dati!E327=\"UA5\",Dati!D327,)","v":0},{"$f":"IF(Dati!E327=\"UA6\",Dati!D327,)","v":0},{"$f":"IF(Dati!E327=\"UB1\",Dati!D327,)","v":0},{"$f":"IF(Dati!E327=\"UB2\",Dati!D327,)","v":0},{"$f":"IF(Dati!E327=\"UC1\",Dati!D327,)","v":0},{"$f":"IF(Dati!E327=\"UD1\",Dati!D327,)","v":0},{"$f":"IF(Dati!E327=\"UE1\",Dati!D327,)","v":0}]
[{"$f":"Dati!C328","v":"00:00:00"},{"$f":"Dati!H328","v":"00:00:00"},{"$f":"IF(Dati!E328=\"UA1\",Dati!D328,)","v":0},{"$f":"IF(Dati!E328=\"UA2\",Dati!D328,)","v":0},{"$f":"IF(Dati!E328=\"UA3\",Dati!D328,)","v":0},{"$f":"IF(Dati!E328=\"UA4\",Dati!D328,)","v":0},{"$f":"IF(Dati!E328=\"UA5\",Dati!D328,)","v":0},{"$f":"IF(Dati!E328=\"UA6\",Dati!D328,)","v":0},{"$f":"IF(Dati!E328=\"UB1\",Dati!D328,)","v":0},{"$f":"IF(Dati!E328=\"UB2\",Dati!D328,)","v":0},{"$f":"IF(Dati!E328=\"UC1\",Dati!D328,)","v":0},{"$f":"IF(Dati!E328=\"UD1\",Dati!D328,)","v":0},{"$f":"IF(Dati!E328=\"UE1\",Dati!D328,)","v":0}]
[{"$f":"Dati!C329","v":"00:00:00"},{"$f":"Dati!H329","v":"00:00:00"},{"$f":"IF(Dati!E329=\"UA1\",Dati!D329,)","v":0},{"$f":"IF(Dati!E329=\"UA2\",Dati!D329,)","v":0},{"$f":"IF(Dati!E329=\"UA3\",Dati!D329,)","v":0},{"$f":"IF(Dati!E329=\"UA4\",Dati!D329,)","v":0},{"$f":"IF(Dati!E329=\"UA5\",Dati!D329,)","v":0},{"$f":"IF(Dati!E329=\"UA6\",Dati!D329,)","v":0},{"$f":"IF(Dati!E329=\"UB1\",Dati!D329,)","v":0},{"$f":"IF(Dati!E329=\"UB2\",Dati!D329,)","v":0},{"$f":"IF(Dati!E329=\"UC1\",Dati!D329,)","v":0},{"$f":"IF(Dati!E329=\"UD1\",Dati!D329,)","v":0},{"$f":"IF(Dati!E329=\"UE1\",Dati!D329,)","v":0}]
[{"$f":"Dati!C330","v":"00:00:00"},{"$f":"Dati!H330","v":"00:00:00"},{"$f":"IF(Dati!E330=\"UA1\",Dati!D330,)","v":0},{"$f":"IF(Dati!E330=\"UA2\",Dati!D330,)","v":0},{"$f":"IF(Dati!E330=\"UA3\",Dati!D330,)","v":0},{"$f":"IF(Dati!E330=\"UA4\",Dati!D330,)","v":0},{"$f":"IF(Dati!E330=\"UA5\",Dati!D330,)","v":0},{"$f":"IF(Dati!E330=\"UA6\",Dati!D330,)","v":0},{"$f":"IF(Dati!E330=\"UB1\",Dati!D330,)","v":0},{"$f":"IF(Dati!E330=\"UB2\",Dati!D330,)","v":0},{"$f":"IF(Dati!E330=\"UC1\",Dati!D330,)","v":0},{"$f":"IF(Dati!E330=\"UD1\",Dati!D330,)","v":0},{"$f":"IF(Dati!E330=\"UE1\",Dati!D330,)","v":0}]
[{"$f":"Dati!C331","v":"00:00:00"},{"$f":"Dati!H331","v":"00:00:00"},{"$f":"IF(Dati!E331=\"UA1\",Dati!D331,)","v":0},{"$f":"IF(Dati!E331=\"UA2\",Dati!D331,)","v":0},{"$f":"IF(Dati!E331=\"UA3\",Dati!D331,)","v":0},{"$f":"IF(Dati!E331=\"UA4\",Dati!D331,)","v":0},{"$f":"IF(Dati!E331=\"UA5\",Dati!D331,)","v":0},{"$f":"IF(Dati!E331=\"UA6\",Dati!D331,)","v":0},{"$f":"IF(Dati!E331=\"UB1\",Dati!D331,)","v":0},{"$f":"IF(Dati!E331=\"UB2\",Dati!D331,)","v":0},{"$f":"IF(Dati!E331=\"UC1\",Dati!D331,)","v":0},{"$f":"IF(Dati!E331=\"UD1\",Dati!D331,)","v":0},{"$f":"IF(Dati!E331=\"UE1\",Dati!D331,)","v":0}]
[{"$f":"Dati!C332","v":"00:00:00"},{"$f":"Dati!H332","v":"00:00:00"},{"$f":"IF(Dati!E332=\"UA1\",Dati!D332,)","v":0},{"$f":"IF(Dati!E332=\"UA2\",Dati!D332,)","v":0},{"$f":"IF(Dati!E332=\"UA3\",Dati!D332,)","v":0},{"$f":"IF(Dati!E332=\"UA4\",Dati!D332,)","v":0},{"$f":"IF(Dati!E332=\"UA5\",Dati!D332,)","v":0},{"$f":"IF(Dati!E332=\"UA6\",Dati!D332,)","v":0},{"$f":"IF(Dati!E332=\"UB1\",Dati!D332,)","v":0},{"$f":"IF(Dati!E332=\"UB2\",Dati!D332,)","v":0},{"$f":"IF(Dati!E332=\"UC1\",Dati!D332,)","v":0},{"$f":"IF(Dati!E332=\"UD1\",Dati!D332,)","v":0},{"$f":"IF(Dati!E332=\"UE1\",Dati!D332,)","v":0}]
[{"$f":"Dati!C333","v":"00:00:00"},{"$f":"Dati!H333","v":"00:00:00"},{"$f":"IF(Dati!E333=\"UA1\",Dati!D333,)","v":0},{"$f":"IF(Dati!E333=\"UA2\",Dati!D333,)","v":0},{"$f":"IF(Dati!E333=\"UA3\",Dati!D333,)","v":0},{"$f":"IF(Dati!E333=\"UA4\",Dati!D333,)","v":0},{"$f":"IF(Dati!E333=\"UA5\",Dati!D333,)","v":0},{"$f":"IF(Dati!E333=\"UA6\",Dati!D333,)","v":0},{"$f":"IF(Dati!E333=\"UB1\",Dati!D333,)","v":0},{"$f":"IF(Dati!E333=\"UB2\",Dati!D333,)","v":0},{"$f":"IF(Dati!E333=\"UC1\",Dati!D333,)","v":0},{"$f":"IF(Dati!E333=\"UD1\",Dati!D333,)","v":0},{"$f":"IF(Dati!E333=\"UE1\",Dati!D333,)","v":0}]
[{"$f":"Dati!C334","v":"00:00:00"},{"$f":"Dati!H334","v":"00:00:00"},{"$f":"IF(Dati!E334=\"UA1\",Dati!D334,)","v":0},{"$f":"IF(Dati!E334=\"UA2\",Dati!D334,)","v":0},{"$f":"IF(Dati!E334=\"UA3\",Dati!D334,)","v":0},{"$f":"IF(Dati!E334=\"UA4\",Dati!D334,)","v":0},{"$f":"IF(Dati!E334=\"UA5\",Dati!D334,)","v":0},{"$f":"IF(Dati!E334=\"UA6\",Dati!D334,)","v":0},{"$f":"IF(Dati!E334=\"UB1\",Dati!D334,)","v":0},{"$f":"IF(Dati!E334=\"UB2\",Dati!D334,)","v":0},{"$f":"IF(Dati!E334=\"UC1\",Dati!D334,)","v":0},{"$f":"IF(Dati!E334=\"UD1\",Dati!D334,)","v":0},{"$f":"IF(Dati!E334=\"UE1\",Dati!D334,)","v":0}]
[{"$f":"Dati!C335","v":"00:00:00"},{"$f":"Dati!H335","v":"00:00:00"},{"$f":"IF(Dati!E335=\"UA1\",Dati!D335,)","v":0},{"$f":"IF(Dati!E335=\"UA2\",Dati!D335,)","v":0},{"$f":"IF(Dati!E335=\"UA3\",Dati!D335,)","v":0},{"$f":"IF(Dati!E335=\"UA4\",Dati!D335,)","v":0},{"$f":"IF(Dati!E335=\"UA5\",Dati!D335,)","v":0},{"$f":"IF(Dati!E335=\"UA6\",Dati!D335,)","v":0},{"$f":"IF(Dati!E335=\"UB1\",Dati!D335,)","v":0},{"$f":"IF(Dati!E335=\"UB2\",Dati!D335,)","v":0},{"$f":"IF(Dati!E335=\"UC1\",Dati!D335,)","v":0},{"$f":"IF(Dati!E335=\"UD1\",Dati!D335,)","v":0},{"$f":"IF(Dati!E335=\"UE1\",Dati!D335,)","v":0}]
[{"$f":"Dati!C336","v":"00:00:00"},{"$f":"Dati!H336","v":"00:00:00"},{"$f":"IF(Dati!E336=\"UA1\",Dati!D336,)","v":0},{"$f":"IF(Dati!E336=\"UA2\",Dati!D336,)","v":0},{"$f":"IF(Dati!E336=\"UA3\",Dati!D336,)","v":0},{"$f":"IF(Dati!E336=\"UA4\",Dati!D336,)","v":0},{"$f":"IF(Dati!E336=\"UA5\",Dati!D336,)","v":0},{"$f":"IF(Dati!E336=\"UA6\",Dati!D336,)","v":0},{"$f":"IF(Dati!E336=\"UB1\",Dati!D336,)","v":0},{"$f":"IF(Dati!E336=\"UB2\",Dati!D336,)","v":0},{"$f":"IF(Dati!E336=\"UC1\",Dati!D336,)","v":0},{"$f":"IF(Dati!E336=\"UD1\",Dati!D336,)","v":0},{"$f":"IF(Dati!E336=\"UE1\",Dati!D336,)","v":0}]
[{"$f":"Dati!C337","v":"00:00:00"},{"$f":"Dati!H337","v":"00:00:00"},{"$f":"IF(Dati!E337=\"UA1\",Dati!D337,)","v":0},{"$f":"IF(Dati!E337=\"UA2\",Dati!D337,)","v":0},{"$f":"IF(Dati!E337=\"UA3\",Dati!D337,)","v":0},{"$f":"IF(Dati!E337=\"UA4\",Dati!D337,)","v":0},{"$f":"IF(Dati!E337=\"UA5\",Dati!D337,)","v":0},{"$f":"IF(Dati!E337=\"UA6\",Dati!D337,)","v":0},{"$f":"IF(Dati!E337=\"UB1\",Dati!D337,)","v":0},{"$f":"IF(Dati!E337=\"UB2\",Dati!D337,)","v":0},{"$f":"IF(Dati!E337=\"UC1\",Dati!D337,)","v":0},{"$f":"IF(Dati!E337=\"UD1\",Dati!D337,)","v":0},{"$f":"IF(Dati!E337=\"UE1\",Dati!D337,)","v":0}]
[{"$f":"Dati!C338","v":"00:00:00"},{"$f":"Dati!H338","v":"00:00:00"},{"$f":"IF(Dati!E338=\"UA1\",Dati!D338,)","v":0},{"$f":"IF(Dati!E338=\"UA2\",Dati!D338,)","v":0},{"$f":"IF(Dati!E338=\"UA3\",Dati!D338,)","v":0},{"$f":"IF(Dati!E338=\"UA4\",Dati!D338,)","v":0},{"$f":"IF(Dati!E338=\"UA5\",Dati!D338,)","v":0},{"$f":"IF(Dati!E338=\"UA6\",Dati!D338,)","v":0},{"$f":"IF(Dati!E338=\"UB1\",Dati!D338,)","v":0},{"$f":"IF(Dati!E338=\"UB2\",Dati!D338,)","v":0},{"$f":"IF(Dati!E338=\"UC1\",Dati!D338,)","v":0},{"$f":"IF(Dati!E338=\"UD1\",Dati!D338,)","v":0},{"$f":"IF(Dati!E338=\"UE1\",Dati!D338,)","v":0}]
[{"$f":"Dati!C339","v":"00:00:00"},{"$f":"Dati!H339","v":"00:00:00"},{"$f":"IF(Dati!E339=\"UA1\",Dati!D339,)","v":0},{"$f":"IF(Dati!E339=\"UA2\",Dati!D339,)","v":0},{"$f":"IF(Dati!E339=\"UA3\",Dati!D339,)","v":0},{"$f":"IF(Dati!E339=\"UA4\",Dati!D339,)","v":0},{"$f":"IF(Dati!E339=\"UA5\",Dati!D339,)","v":0},{"$f":"IF(Dati!E339=\"UA6\",Dati!D339,)","v":0},{"$f":"IF(Dati!E339=\"UB1\",Dati!D339,)","v":0},{"$f":"IF(Dati!E339=\"UB2\",Dati!D339,)","v":0},{"$f":"IF(Dati!E339=\"UC1\",Dati!D339,)","v":0},{"$f":"IF(Dati!E339=\"UD1\",Dati!D339,)","v":0},{"$f":"IF(Dati!E339=\"UE1\",Dati!D339,)","v":0}]
[{"$f":"Dati!C340","v":"00:00:00"},{"$f":"Dati!H340","v":"00:00:00"},{"$f":"IF(Dati!E340=\"UA1\",Dati!D340,)","v":0},{"$f":"IF(Dati!E340=\"UA2\",Dati!D340,)","v":0},{"$f":"IF(Dati!E340=\"UA3\",Dati!D340,)","v":0},{"$f":"IF(Dati!E340=\"UA4\",Dati!D340,)","v":0},{"$f":"IF(Dati!E340=\"UA5\",Dati!D340,)","v":0},{"$f":"IF(Dati!E340=\"UA6\",Dati!D340,)","v":0},{"$f":"IF(Dati!E340=\"UB1\",Dati!D340,)","v":0},{"$f":"IF(Dati!E340=\"UB2\",Dati!D340,)","v":0},{"$f":"IF(Dati!E340=\"UC1\",Dati!D340,)","v":0},{"$f":"IF(Dati!E340=\"UD1\",Dati!D340,)","v":0},{"$f":"IF(Dati!E340=\"UE1\",Dati!D340,)","v":0}]
[{"$f":"Dati!C341","v":"00:00:00"},{"$f":"Dati!H341","v":"00:00:00"},{"$f":"IF(Dati!E341=\"UA1\",Dati!D341,)","v":0},{"$f":"IF(Dati!E341=\"UA2\",Dati!D341,)","v":0},{"$f":"IF(Dati!E341=\"UA3\",Dati!D341,)","v":0},{"$f":"IF(Dati!E341=\"UA4\",Dati!D341,)","v":0},{"$f":"IF(Dati!E341=\"UA5\",Dati!D341,)","v":0},{"$f":"IF(Dati!E341=\"UA6\",Dati!D341,)","v":0},{"$f":"IF(Dati!E341=\"UB1\",Dati!D341,)","v":0},{"$f":"IF(Dati!E341=\"UB2\",Dati!D341,)","v":0},{"$f":"IF(Dati!E341=\"UC1\",Dati!D341,)","v":0},{"$f":"IF(Dati!E341=\"UD1\",Dati!D341,)","v":0},{"$f":"IF(Dati!E341=\"UE1\",Dati!D341,)","v":0}]
[{"$f":"Dati!C342","v":"00:00:00"},{"$f":"Dati!H342","v":"00:00:00"},{"$f":"IF(Dati!E342=\"UA1\",Dati!D342,)","v":0},{"$f":"IF(Dati!E342=\"UA2\",Dati!D342,)","v":0},{"$f":"IF(Dati!E342=\"UA3\",Dati!D342,)","v":0},{"$f":"IF(Dati!E342=\"UA4\",Dati!D342,)","v":0},{"$f":"IF(Dati!E342=\"UA5\",Dati!D342,)","v":0},{"$f":"IF(Dati!E342=\"UA6\",Dati!D342,)","v":0},{"$f":"IF(Dati!E342=\"UB1\",Dati!D342,)","v":0},{"$f":"IF(Dati!E342=\"UB2\",Dati!D342,)","v":0},{"$f":"IF(Dati!E342=\"UC1\",Dati!D342,)","v":0},{"$f":"IF(Dati!E342=\"UD1\",Dati!D342,)","v":0},{"$f":"IF(Dati!E342=\"UE1\",Dati!D342,)","v":0}]
[{"$f":"Dati!C343","v":"00:00:00"},{"$f":"Dati!H343","v":"00:00:00"},{"$f":"IF(Dati!E343=\"UA1\",Dati!D343,)","v":0},{"$f":"IF(Dati!E343=\"UA2\",Dati!D343,)","v":0},{"$f":"IF(Dati!E343=\"UA3\",Dati!D343,)","v":0},{"$f":"IF(Dati!E343=\"UA4\",Dati!D343,)","v":0},{"$f":"IF(Dati!E343=\"UA5\",Dati!D343,)","v":0},{"$f":"IF(Dati!E343=\"UA6\",Dati!D343,)","v":0},{"$f":"IF(Dati!E343=\"UB1\",Dati!D343,)","v":0},{"$f":"IF(Dati!E343=\"UB2\",Dati!D343,)","v":0},{"$f":"IF(Dati!E343=\"UC1\",Dati!D343,)","v":0},{"$f":"IF(Dati!E343=\"UD1\",Dati!D343,)","v":0},{"$f":"IF(Dati!E343=\"UE1\",Dati!D343,)","v":0}]
[{"$f":"Dati!C344","v":"00:00:00"},{"$f":"Dati!H344","v":"00:00:00"},{"$f":"IF(Dati!E344=\"UA1\",Dati!D344,)","v":0},{"$f":"IF(Dati!E344=\"UA2\",Dati!D344,)","v":0},{"$f":"IF(Dati!E344=\"UA3\",Dati!D344,)","v":0},{"$f":"IF(Dati!E344=\"UA4\",Dati!D344,)","v":0},{"$f":"IF(Dati!E344=\"UA5\",Dati!D344,)","v":0},{"$f":"IF(Dati!E344=\"UA6\",Dati!D344,)","v":0},{"$f":"IF(Dati!E344=\"UB1\",Dati!D344,)","v":0},{"$f":"IF(Dati!E344=\"UB2\",Dati!D344,)","v":0},{"$f":"IF(Dati!E344=\"UC1\",Dati!D344,)","v":0},{"$f":"IF(Dati!E344=\"UD1\",Dati!D344,)","v":0},{"$f":"IF(Dati!E344=\"UE1\",Dati!D344,)","v":0}]
[{"$f":"Dati!C345","v":"00:00:00"},{"$f":"Dati!H345","v":"00:00:00"},{"$f":"IF(Dati!E345=\"UA1\",Dati!D345,)","v":0},{"$f":"IF(Dati!E345=\"UA2\",Dati!D345,)","v":0},{"$f":"IF(Dati!E345=\"UA3\",Dati!D345,)","v":0},{"$f":"IF(Dati!E345=\"UA4\",Dati!D345,)","v":0},{"$f":"IF(Dati!E345=\"UA5\",Dati!D345,)","v":0},{"$f":"IF(Dati!E345=\"UA6\",Dati!D345,)","v":0},{"$f":"IF(Dati!E345=\"UB1\",Dati!D345,)","v":0},{"$f":"IF(Dati!E345=\"UB2\",Dati!D345,)","v":0},{"$f":"IF(Dati!E345=\"UC1\",Dati!D345,)","v":0},{"$f":"IF(Dati!E345=\"UD1\",Dati!D345,)","v":0},{"$f":"IF(Dati!E345=\"UE1\",Dati!D345,)","v":0}]
[{"$f":"Dati!C346","v":"00:00:00"},{"$f":"Dati!H346","v":"00:00:00"},{"$f":"IF(Dati!E346=\"UA1\",Dati!D346,)","v":0},{"$f":"IF(Dati!E346=\"UA2\",Dati!D346,)","v":0},{"$f":"IF(Dati!E346=\"UA3\",Dati!D346,)","v":0},{"$f":"IF(Dati!E346=\"UA4\",Dati!D346,)","v":0},{"$f":"IF(Dati!E346=\"UA5\",Dati!D346,)","v":0},{"$f":"IF(Dati!E346=\"UA6\",Dati!D346,)","v":0},{"$f":"IF(Dati!E346=\"UB1\",Dati!D346,)","v":0},{"$f":"IF(Dati!E346=\"UB2\",Dati!D346,)","v":0},{"$f":"IF(Dati!E346=\"UC1\",Dati!D346,)","v":0},{"$f":"IF(Dati!E346=\"UD1\",Dati!D346,)","v":0},{"$f":"IF(Dati!E346=\"UE1\",Dati!D346,)","v":0}]
[{"$f":"Dati!C347","v":"00:00:00"},{"$f":"Dati!H347","v":"00:00:00"},{"$f":"IF(Dati!E347=\"UA1\",Dati!D347,)","v":0},{"$f":"IF(Dati!E347=\"UA2\",Dati!D347,)","v":0},{"$f":"IF(Dati!E347=\"UA3\",Dati!D347,)","v":0},{"$f":"IF(Dati!E347=\"UA4\",Dati!D347,)","v":0},{"$f":"IF(Dati!E347=\"UA5\",Dati!D347,)","v":0},{"$f":"IF(Dati!E347=\"UA6\",Dati!D347,)","v":0},{"$f":"IF(Dati!E347=\"UB1\",Dati!D347,)","v":0},{"$f":"IF(Dati!E347=\"UB2\",Dati!D347,)","v":0},{"$f":"IF(Dati!E347=\"UC1\",Dati!D347,)","v":0},{"$f":"IF(Dati!E347=\"UD1\",Dati!D347,)","v":0},{"$f":"IF(Dati!E347=\"UE1\",Dati!D347,)","v":0}]
[{"$f":"Dati!C348","v":"00:00:00"},{"$f":"Dati!H348","v":"00:00:00"},{"$f":"IF(Dati!E348=\"UA1\",Dati!D348,)","v":0},{"$f":"IF(Dati!E348=\"UA2\",Dati!D348,)","v":0},{"$f":"IF(Dati!E348=\"UA3\",Dati!D348,)","v":0},{"$f":"IF(Dati!E348=\"UA4\",Dati!D348,)","v":0},{"$f":"IF(Dati!E348=\"UA5\",Dati!D348,)","v":0},{"$f":"IF(Dati!E348=\"UA6\",Dati!D348,)","v":0},{"$f":"IF(Dati!E348=\"UB1\",Dati!D348,)","v":0},{"$f":"IF(Dati!E348=\"UB2\",Dati!D348,)","v":0},{"$f":"IF(Dati!E348=\"UC1\",Dati!D348,)","v":0},{"$f":"IF(Dati!E348=\"UD1\",Dati!D348,)","v":0},{"$f":"IF(Dati!E348=\"UE1\",Dati!D348,)","v":0}]
[{"$f":"Dati!C349","v":"00:00:00"},{"$f":"Dati!H349","v":"00:00:00"},{"$f":"IF(Dati!E349=\"UA1\",Dati!D349,)","v":0},{"$f":"IF(Dati!E349=\"UA2\",Dati!D349,)","v":0},{"$f":"IF(Dati!E349=\"UA3\",Dati!D349,)","v":0},{"$f":"IF(Dati!E349=\"UA4\",Dati!D349,)","v":0},{"$f":"IF(Dati!E349=\"UA5\",Dati!D349,)","v":0},{"$f":"IF(Dati!E349=\"UA6\",Dati!D349,)","v":0},{"$f":"IF(Dati!E349=\"UB1\",Dati!D349,)","v":0},{"$f":"IF(Dati!E349=\"UB2\",Dati!D349,)","v":0},{"$f":"IF(Dati!E349=\"UC1\",Dati!D349,)","v":0},{"$f":"IF(Dati!E349=\"UD1\",Dati!D349,)","v":0},{"$f":"IF(Dati!E349=\"UE1\",Dati!D349,)","v":0}]
[{"$f":"Dati!C350","v":"00:00:00"},{"$f":"Dati!H350","v":"00:00:00"},{"$f":"IF(Dati!E350=\"UA1\",Dati!D350,)","v":0},{"$f":"IF(Dati!E350=\"UA2\",Dati!D350,)","v":0},{"$f":"IF(Dati!E350=\"UA3\",Dati!D350,)","v":0},{"$f":"IF(Dati!E350=\"UA4\",Dati!D350,)","v":0},{"$f":"IF(Dati!E350=\"UA5\",Dati!D350,)","v":0},{"$f":"IF(Dati!E350=\"UA6\",Dati!D350,)","v":0},{"$f":"IF(Dati!E350=\"UB1\",Dati!D350,)","v":0},{"$f":"IF(Dati!E350=\"UB2\",Dati!D350,)","v":0},{"$f":"IF(Dati!E350=\"UC1\",Dati!D350,)","v":0},{"$f":"IF(Dati!E350=\"UD1\",Dati!D350,)","v":0},{"$f":"IF(Dati!E350=\"UE1\",Dati!D350,)","v":0}]
[{"$f":"Dati!C351","v":"00:00:00"},{"$f":"Dati!H351","v":"00:00:00"},{"$f":"IF(Dati!E351=\"UA1\",Dati!D351,)","v":0},{"$f":"IF(Dati!E351=\"UA2\",Dati!D351,)","v":0},{"$f":"IF(Dati!E351=\"UA3\",Dati!D351,)","v":0},{"$f":"IF(Dati!E351=\"UA4\",Dati!D351,)","v":0},{"$f":"IF(Dati!E351=\"UA5\",Dati!D351,)","v":0},{"$f":"IF(Dati!E351=\"UA6\",Dati!D351,)","v":0},{"$f":"IF(Dati!E351=\"UB1\",Dati!D351,)","v":0},{"$f":"IF(Dati!E351=\"UB2\",Dati!D351,)","v":0},{"$f":"IF(Dati!E351=\"UC1\",Dati!D351,)","v":0},{"$f":"IF(Dati!E351=\"UD1\",Dati!D351,)","v":0},{"$f":"IF(Dati!E351=\"UE1\",Dati!D351,)","v":0}]
[{"$f":"Dati!C352","v":"00:00:00"},{"$f":"Dati!H352","v":"00:00:00"},{"$f":"IF(Dati!E352=\"UA1\",Dati!D352,)","v":0},{"$f":"IF(Dati!E352=\"UA2\",Dati!D352,)","v":0},{"$f":"IF(Dati!E352=\"UA3\",Dati!D352,)","v":0},{"$f":"IF(Dati!E352=\"UA4\",Dati!D352,)","v":0},{"$f":"IF(Dati!E352=\"UA5\",Dati!D352,)","v":0},{"$f":"IF(Dati!E352=\"UA6\",Dati!D352,)","v":0},{"$f":"IF(Dati!E352=\"UB1\",Dati!D352,)","v":0},{"$f":"IF(Dati!E352=\"UB2\",Dati!D352,)","v":0},{"$f":"IF(Dati!E352=\"UC1\",Dati!D352,)","v":0},{"$f":"IF(Dati!E352=\"UD1\",Dati!D352,)","v":0},{"$f":"IF(Dati!E352=\"UE1\",Dati!D352,)","v":0}]
[{"$f":"Dati!C353","v":"00:00:00"},{"$f":"Dati!H353","v":"00:00:00"},{"$f":"IF(Dati!E353=\"UA1\",Dati!D353,)","v":0},{"$f":"IF(Dati!E353=\"UA2\",Dati!D353,)","v":0},{"$f":"IF(Dati!E353=\"UA3\",Dati!D353,)","v":0},{"$f":"IF(Dati!E353=\"UA4\",Dati!D353,)","v":0},{"$f":"IF(Dati!E353=\"UA5\",Dati!D353,)","v":0},{"$f":"IF(Dati!E353=\"UA6\",Dati!D353,)","v":0},{"$f":"IF(Dati!E353=\"UB1\",Dati!D353,)","v":0},{"$f":"IF(Dati!E353=\"UB2\",Dati!D353,)","v":0},{"$f":"IF(Dati!E353=\"UC1\",Dati!D353,)","v":0},{"$f":"IF(Dati!E353=\"UD1\",Dati!D353,)","v":0},{"$f":"IF(Dati!E353=\"UE1\",Dati!D353,)","v":0}]
[{"$f":"Dati!C354","v":"00:00:00"},{"$f":"Dati!H354","v":"00:00:00"},{"$f":"IF(Dati!E354=\"UA1\",Dati!D354,)","v":0},{"$f":"IF(Dati!E354=\"UA2\",Dati!D354,)","v":0},{"$f":"IF(Dati!E354=\"UA3\",Dati!D354,)","v":0},{"$f":"IF(Dati!E354=\"UA4\",Dati!D354,)","v":0},{"$f":"IF(Dati!E354=\"UA5\",Dati!D354,)","v":0},{"$f":"IF(Dati!E354=\"UA6\",Dati!D354,)","v":0},{"$f":"IF(Dati!E354=\"UB1\",Dati!D354,)","v":0},{"$f":"IF(Dati!E354=\"UB2\",Dati!D354,)","v":0},{"$f":"IF(Dati!E354=\"UC1\",Dati!D354,)","v":0},{"$f":"IF(Dati!E354=\"UD1\",Dati!D354,)","v":0},{"$f":"IF(Dati!E354=\"UE1\",Dati!D354,)","v":0}]
[{"$f":"Dati!C355","v":"00:00:00"},{"$f":"Dati!H355","v":"00:00:00"},{"$f":"IF(Dati!E355=\"UA1\",Dati!D355,)","v":0},{"$f":"IF(Dati!E355=\"UA2\",Dati!D355,)","v":0},{"$f":"IF(Dati!E355=\"UA3\",Dati!D355,)","v":0},{"$f":"IF(Dati!E355=\"UA4\",Dati!D355,)","v":0},{"$f":"IF(Dati!E355=\"UA5\",Dati!D355,)","v":0},{"$f":"IF(Dati!E355=\"UA6\",Dati!D355,)","v":0},{"$f":"IF(Dati!E355=\"UB1\",Dati!D355,)","v":0},{"$f":"IF(Dati!E355=\"UB2\",Dati!D355,)","v":0},{"$f":"IF(Dati!E355=\"UC1\",Dati!D355,)","v":0},{"$f":"IF(Dati!E355=\"UD1\",Dati!D355,)","v":0},{"$f":"IF(Dati!E355=\"UE1\",Dati!D355,)","v":0}]
[{"$f":"Dati!C356","v":"00:00:00"},{"$f":"Dati!H356","v":"00:00:00"},{"$f":"IF(Dati!E356=\"UA1\",Dati!D356,)","v":0},{"$f":"IF(Dati!E356=\"UA2\",Dati!D356,)","v":0},{"$f":"IF(Dati!E356=\"UA3\",Dati!D356,)","v":0},{"$f":"IF(Dati!E356=\"UA4\",Dati!D356,)","v":0},{"$f":"IF(Dati!E356=\"UA5\",Dati!D356,)","v":0},{"$f":"IF(Dati!E356=\"UA6\",Dati!D356,)","v":0},{"$f":"IF(Dati!E356=\"UB1\",Dati!D356,)","v":0},{"$f":"IF(Dati!E356=\"UB2\",Dati!D356,)","v":0},{"$f":"IF(Dati!E356=\"UC1\",Dati!D356,)","v":0},{"$f":"IF(Dati!E356=\"UD1\",Dati!D356,)","v":0},{"$f":"IF(Dati!E356=\"UE1\",Dati!D356,)","v":0}]
[{"$f":"Dati!C357","v":"00:00:00"},{"$f":"Dati!H357","v":"00:00:00"},{"$f":"IF(Dati!E357=\"UA1\",Dati!D357,)","v":0},{"$f":"IF(Dati!E357=\"UA2\",Dati!D357,)","v":0},{"$f":"IF(Dati!E357=\"UA3\",Dati!D357,)","v":0},{"$f":"IF(Dati!E357=\"UA4\",Dati!D357,)","v":0},{"$f":"IF(Dati!E357=\"UA5\",Dati!D357,)","v":0},{"$f":"IF(Dati!E357=\"UA6\",Dati!D357,)","v":0},{"$f":"IF(Dati!E357=\"UB1\",Dati!D357,)","v":0},{"$f":"IF(Dati!E357=\"UB2\",Dati!D357,)","v":0},{"$f":"IF(Dati!E357=\"UC1\",Dati!D357,)","v":0},{"$f":"IF(Dati!E357=\"UD1\",Dati!D357,)","v":0},{"$f":"IF(Dati!E357=\"UE1\",Dati!D357,)","v":0}]
[{"$f":"Dati!C358","v":"00:00:00"},{"$f":"Dati!H358","v":"00:00:00"},{"$f":"IF(Dati!E358=\"UA1\",Dati!D358,)","v":0},{"$f":"IF(Dati!E358=\"UA2\",Dati!D358,)","v":0},{"$f":"IF(Dati!E358=\"UA3\",Dati!D358,)","v":0},{"$f":"IF(Dati!E358=\"UA4\",Dati!D358,)","v":0},{"$f":"IF(Dati!E358=\"UA5\",Dati!D358,)","v":0},{"$f":"IF(Dati!E358=\"UA6\",Dati!D358,)","v":0},{"$f":"IF(Dati!E358=\"UB1\",Dati!D358,)","v":0},{"$f":"IF(Dati!E358=\"UB2\",Dati!D358,)","v":0},{"$f":"IF(Dati!E358=\"UC1\",Dati!D358,)","v":0},{"$f":"IF(Dati!E358=\"UD1\",Dati!D358,)","v":0},{"$f":"IF(Dati!E358=\"UE1\",Dati!D358,)","v":0}]
[{"$f":"Dati!C359","v":"00:00:00"},{"$f":"Dati!H359","v":"00:00:00"},{"$f":"IF(Dati!E359=\"UA1\",Dati!D359,)","v":0},{"$f":"IF(Dati!E359=\"UA2\",Dati!D359,)","v":0},{"$f":"IF(Dati!E359=\"UA3\",Dati!D359,)","v":0},{"$f":"IF(Dati!E359=\"UA4\",Dati!D359,)","v":0},{"$f":"IF(Dati!E359=\"UA5\",Dati!D359,)","v":0},{"$f":"IF(Dati!E359=\"UA6\",Dati!D359,)","v":0},{"$f":"IF(Dati!E359=\"UB1\",Dati!D359,)","v":0},{"$f":"IF(Dati!E359=\"UB2\",Dati!D359,)","v":0},{"$f":"IF(Dati!E359=\"UC1\",Dati!D359,)","v":0},{"$f":"IF(Dati!E359=\"UD1\",Dati!D359,)","v":0},{"$f":"IF(Dati!E359=\"UE1\",Dati!D359,)","v":0}]
[{"$f":"Dati!C360","v":"00:00:00"},{"$f":"Dati!H360","v":"00:00:00"},{"$f":"IF(Dati!E360=\"UA1\",Dati!D360,)","v":0},{"$f":"IF(Dati!E360=\"UA2\",Dati!D360,)","v":0},{"$f":"IF(Dati!E360=\"UA3\",Dati!D360,)","v":0},{"$f":"IF(Dati!E360=\"UA4\",Dati!D360,)","v":0},{"$f":"IF(Dati!E360=\"UA5\",Dati!D360,)","v":0},{"$f":"IF(Dati!E360=\"UA6\",Dati!D360,)","v":0},{"$f":"IF(Dati!E360=\"UB1\",Dati!D360,)","v":0},{"$f":"IF(Dati!E360=\"UB2\",Dati!D360,)","v":0},{"$f":"IF(Dati!E360=\"UC1\",Dati!D360,)","v":0},{"$f":"IF(Dati!E360=\"UD1\",Dati!D360,)","v":0},{"$f":"IF(Dati!E360=\"UE1\",Dati!D360,)","v":0}]
[{"$f":"Dati!C361","v":"00:00:00"},{"$f":"Dati!H361","v":"00:00:00"},{"$f":"IF(Dati!E361=\"UA1\",Dati!D361,)","v":0},{"$f":"IF(Dati!E361=\"UA2\",Dati!D361,)","v":0},{"$f":"IF(Dati!E361=\"UA3\",Dati!D361,)","v":0},{"$f":"IF(Dati!E361=\"UA4\",Dati!D361,)","v":0},{"$f":"IF(Dati!E361=\"UA5\",Dati!D361,)","v":0},{"$f":"IF(Dati!E361=\"UA6\",Dati!D361,)","v":0},{"$f":"IF(Dati!E361=\"UB1\",Dati!D361,)","v":0},{"$f":"IF(Dati!E361=\"UB2\",Dati!D361,)","v":0},{"$f":"IF(Dati!E361=\"UC1\",Dati!D361,)","v":0},{"$f":"IF(Dati!E361=\"UD1\",Dati!D361,)","v":0},{"$f":"IF(Dati!E361=\"UE1\",Dati!D361,)","v":0}]
[{"$f":"Dati!C362","v":"00:00:00"},{"$f":"Dati!H362","v":"00:00:00"},{"$f":"IF(Dati!E362=\"UA1\",Dati!D362,)","v":0},{"$f":"IF(Dati!E362=\"UA2\",Dati!D362,)","v":0},{"$f":"IF(Dati!E362=\"UA3\",Dati!D362,)","v":0},{"$f":"IF(Dati!E362=\"UA4\",Dati!D362,)","v":0},{"$f":"IF(Dati!E362=\"UA5\",Dati!D362,)","v":0},{"$f":"IF(Dati!E362=\"UA6\",Dati!D362,)","v":0},{"$f":"IF(Dati!E362=\"UB1\",Dati!D362,)","v":0},{"$f":"IF(Dati!E362=\"UB2\",Dati!D362,)","v":0},{"$f":"IF(Dati!E362=\"UC1\",Dati!D362,)","v":0},{"$f":"IF(Dati!E362=\"UD1\",Dati!D362,)","v":0},{"$f":"IF(Dati!E362=\"UE1\",Dati!D362,)","v":0}]
[{"$f":"Dati!C363","v":"00:00:00"},{"$f":"Dati!H363","v":"00:00:00"},{"$f":"IF(Dati!E363=\"UA1\",Dati!D363,)","v":0},{"$f":"IF(Dati!E363=\"UA2\",Dati!D363,)","v":0},{"$f":"IF(Dati!E363=\"UA3\",Dati!D363,)","v":0},{"$f":"IF(Dati!E363=\"UA4\",Dati!D363,)","v":0},{"$f":"IF(Dati!E363=\"UA5\",Dati!D363,)","v":0},{"$f":"IF(Dati!E363=\"UA6\",Dati!D363,)","v":0},{"$f":"IF(Dati!E363=\"UB1\",Dati!D363,)","v":0},{"$f":"IF(Dati!E363=\"UB2\",Dati!D363,)","v":0},{"$f":"IF(Dati!E363=\"UC1\",Dati!D363,)","v":0},{"$f":"IF(Dati!E363=\"UD1\",Dati!D363,)","v":0},{"$f":"IF(Dati!E363=\"UE1\",Dati!D363,)","v":0}]
[{"$f":"Dati!C364","v":"00:00:00"},{"$f":"Dati!H364","v":"00:00:00"},{"$f":"IF(Dati!E364=\"UA1\",Dati!D364,)","v":0},{"$f":"IF(Dati!E364=\"UA2\",Dati!D364,)","v":0},{"$f":"IF(Dati!E364=\"UA3\",Dati!D364,)","v":0},{"$f":"IF(Dati!E364=\"UA4\",Dati!D364,)","v":0},{"$f":"IF(Dati!E364=\"UA5\",Dati!D364,)","v":0},{"$f":"IF(Dati!E364=\"UA6\",Dati!D364,)","v":0},{"$f":"IF(Dati!E364=\"UB1\",Dati!D364,)","v":0},{"$f":"IF(Dati!E364=\"UB2\",Dati!D364,)","v":0},{"$f":"IF(Dati!E364=\"UC1\",Dati!D364,)","v":0},{"$f":"IF(Dati!E364=\"UD1\",Dati!D364,)","v":0},{"$f":"IF(Dati!E364=\"UE1\",Dati!D364,)","v":0}]
[{"$f":"Dati!C365","v":"00:00:00"},{"$f":"Dati!H365","v":"00:00:00"},{"$f":"IF(Dati!E365=\"UA1\",Dati!D365,)","v":0},{"$f":"IF(Dati!E365=\"UA2\",Dati!D365,)","v":0},{"$f":"IF(Dati!E365=\"UA3\",Dati!D365,)","v":0},{"$f":"IF(Dati!E365=\"UA4\",Dati!D365,)","v":0},{"$f":"IF(Dati!E365=\"UA5\",Dati!D365,)","v":0},{"$f":"IF(Dati!E365=\"UA6\",Dati!D365,)","v":0},{"$f":"IF(Dati!E365=\"UB1\",Dati!D365,)","v":0},{"$f":"IF(Dati!E365=\"UB2\",Dati!D365,)","v":0},{"$f":"IF(Dati!E365=\"UC1\",Dati!D365,)","v":0},{"$f":"IF(Dati!E365=\"UD1\",Dati!D365,)","v":0},{"$f":"IF(Dati!E365=\"UE1\",Dati!D365,)","v":0}]
[{"$f":"Dati!C366","v":"00:00:00"},{"$f":"Dati!H366","v":"00:00:00"},{"$f":"IF(Dati!E366=\"UA1\",Dati!D366,)","v":0},{"$f":"IF(Dati!E366=\"UA2\",Dati!D366,)","v":0},{"$f":"IF(Dati!E366=\"UA3\",Dati!D366,)","v":0},{"$f":"IF(Dati!E366=\"UA4\",Dati!D366,)","v":0},{"$f":"IF(Dati!E366=\"UA5\",Dati!D366,)","v":0},{"$f":"IF(Dati!E366=\"UA6\",Dati!D366,)","v":0},{"$f":"IF(Dati!E366=\"UB1\",Dati!D366,)","v":0},{"$f":"IF(Dati!E366=\"UB2\",Dati!D366,)","v":0},{"$f":"IF(Dati!E366=\"UC1\",Dati!D366,)","v":0},{"$f":"IF(Dati!E366=\"UD1\",Dati!D366,)","v":0},{"$f":"IF(Dati!E366=\"UE1\",Dati!D366,)","v":0}]
[{"$f":"Dati!C367","v":"00:00:00"},{"$f":"Dati!H367","v":"00:00:00"},{"$f":"IF(Dati!E367=\"UA1\",Dati!D367,)","v":0},{"$f":"IF(Dati!E367=\"UA2\",Dati!D367,)","v":0},{"$f":"IF(Dati!E367=\"UA3\",Dati!D367,)","v":0},{"$f":"IF(Dati!E367=\"UA4\",Dati!D367,)","v":0},{"$f":"IF(Dati!E367=\"UA5\",Dati!D367,)","v":0},{"$f":"IF(Dati!E367=\"UA6\",Dati!D367,)","v":0},{"$f":"IF(Dati!E367=\"UB1\",Dati!D367,)","v":0},{"$f":"IF(Dati!E367=\"UB2\",Dati!D367,)","v":0},{"$f":"IF(Dati!E367=\"UC1\",Dati!D367,)","v":0},{"$f":"IF(Dati!E367=\"UD1\",Dati!D367,)","v":0},{"$f":"IF(Dati!E367=\"UE1\",Dati!D367,)","v":0}]
[{"$f":"Dati!C368","v":"00:00:00"},{"$f":"Dati!H368","v":"00:00:00"},{"$f":"IF(Dati!E368=\"UA1\",Dati!D368,)","v":0},{"$f":"IF(Dati!E368=\"UA2\",Dati!D368,)","v":0},{"$f":"IF(Dati!E368=\"UA3\",Dati!D368,)","v":0},{"$f":"IF(Dati!E368=\"UA4\",Dati!D368,)","v":0},{"$f":"IF(Dati!E368=\"UA5\",Dati!D368,)","v":0},{"$f":"IF(Dati!E368=\"UA6\",Dati!D368,)","v":0},{"$f":"IF(Dati!E368=\"UB1\",Dati!D368,)","v":0},{"$f":"IF(Dati!E368=\"UB2\",Dati!D368,)","v":0},{"$f":"IF(Dati!E368=\"UC1\",Dati!D368,)","v":0},{"$f":"IF(Dati!E368=\"UD1\",Dati!D368,)","v":0},{"$f":"IF(Dati!E368=\"UE1\",Dati!D368,)","v":0}]
[{"$f":"Dati!C369","v":"00:00:00"},{"$f":"Dati!H369","v":"00:00:00"},{"$f":"IF(Dati!E369=\"UA1\",Dati!D369,)","v":0},{"$f":"IF(Dati!E369=\"UA2\",Dati!D369,)","v":0},{"$f":"IF(Dati!E369=\"UA3\",Dati!D369,)","v":0},{"$f":"IF(Dati!E369=\"UA4\",Dati!D369,)","v":0},{"$f":"IF(Dati!E369=\"UA5\",Dati!D369,)","v":0},{"$f":"IF(Dati!E369=\"UA6\",Dati!D369,)","v":0},{"$f":"IF(Dati!E369=\"UB1\",Dati!D369,)","v":0},{"$f":"IF(Dati!E369=\"UB2\",Dati!D369,)","v":0},{"$f":"IF(Dati!E369=\"UC1\",Dati!D369,)","v":0},{"$f":"IF(Dati!E369=\"UD1\",Dati!D369,)","v":0},{"$f":"IF(Dati!E369=\"UE1\",Dati!D369,)","v":0}]
[{"$f":"Dati!C370","v":"00:00:00"},{"$f":"Dati!H370","v":"00:00:00"},{"$f":"IF(Dati!E370=\"UA1\",Dati!D370,)","v":0},{"$f":"IF(Dati!E370=\"UA2\",Dati!D370,)","v":0},{"$f":"IF(Dati!E370=\"UA3\",Dati!D370,)","v":0},{"$f":"IF(Dati!E370=\"UA4\",Dati!D370,)","v":0},{"$f":"IF(Dati!E370=\"UA5\",Dati!D370,)","v":0},{"$f":"IF(Dati!E370=\"UA6\",Dati!D370,)","v":0},{"$f":"IF(Dati!E370=\"UB1\",Dati!D370,)","v":0},{"$f":"IF(Dati!E370=\"UB2\",Dati!D370,)","v":0},{"$f":"IF(Dati!E370=\"UC1\",Dati!D370,)","v":0},{"$f":"IF(Dati!E370=\"UD1\",Dati!D370,)","v":0},{"$f":"IF(Dati!E370=\"UE1\",Dati!D370,)","v":0}]
[{"$f":"Dati!C371","v":"00:00:00"},{"$f":"Dati!H371","v":"00:00:00"},{"$f":"IF(Dati!E371=\"UA1\",Dati!D371,)","v":0},{"$f":"IF(Dati!E371=\"UA2\",Dati!D371,)","v":0},{"$f":"IF(Dati!E371=\"UA3\",Dati!D371,)","v":0},{"$f":"IF(Dati!E371=\"UA4\",Dati!D371,)","v":0},{"$f":"IF(Dati!E371=\"UA5\",Dati!D371,)","v":0},{"$f":"IF(Dati!E371=\"UA6\",Dati!D371,)","v":0},{"$f":"IF(Dati!E371=\"UB1\",Dati!D371,)","v":0},{"$f":"IF(Dati!E371=\"UB2\",Dati!D371,)","v":0},{"$f":"IF(Dati!E371=\"UC1\",Dati!D371,)","v":0},{"$f":"IF(Dati!E371=\"UD1\",Dati!D371,)","v":0},{"$f":"IF(Dati!E371=\"UE1\",Dati!D371,)","v":0}]
[{"$f":"Dati!C372","v":"00:00:00"},{"$f":"Dati!H372","v":"00:00:00"},{"$f":"IF(Dati!E372=\"UA1\",Dati!D372,)","v":0},{"$f":"IF(Dati!E372=\"UA2\",Dati!D372,)","v":0},{"$f":"IF(Dati!E372=\"UA3\",Dati!D372,)","v":0},{"$f":"IF(Dati!E372=\"UA4\",Dati!D372,)","v":0},{"$f":"IF(Dati!E372=\"UA5\",Dati!D372,)","v":0},{"$f":"IF(Dati!E372=\"UA6\",Dati!D372,)","v":0},{"$f":"IF(Dati!E372=\"UB1\",Dati!D372,)","v":0},{"$f":"IF(Dati!E372=\"UB2\",Dati!D372,)","v":0},{"$f":"IF(Dati!E372=\"UC1\",Dati!D372,)","v":0},{"$f":"IF(Dati!E372=\"UD1\",Dati!D372,)","v":0},{"$f":"IF(Dati!E372=\"UE1\",Dati!D372,)","v":0}]
[{"$f":"Dati!C373","v":"00:00:00"},{"$f":"Dati!H373","v":"00:00:00"},{"$f":"IF(Dati!E373=\"UA1\",Dati!D373,)","v":0},{"$f":"IF(Dati!E373=\"UA2\",Dati!D373,)","v":0},{"$f":"IF(Dati!E373=\"UA3\",Dati!D373,)","v":0},{"$f":"IF(Dati!E373=\"UA4\",Dati!D373,)","v":0},{"$f":"IF(Dati!E373=\"UA5\",Dati!D373,)","v":0},{"$f":"IF(Dati!E373=\"UA6\",Dati!D373,)","v":0},{"$f":"IF(Dati!E373=\"UB1\",Dati!D373,)","v":0},{"$f":"IF(Dati!E373=\"UB2\",Dati!D373,)","v":0},{"$f":"IF(Dati!E373=\"UC1\",Dati!D373,)","v":0},{"$f":"IF(Dati!E373=\"UD1\",Dati!D373,)","v":0},{"$f":"IF(Dati!E373=\"UE1\",Dati!D373,)","v":0}]
[{"$f":"Dati!C374","v":"00:00:00"},{"$f":"Dati!H374","v":"00:00:00"},{"$f":"IF(Dati!E374=\"UA1\",Dati!D374,)","v":0},{"$f":"IF(Dati!E374=\"UA2\",Dati!D374,)","v":0},{"$f":"IF(Dati!E374=\"UA3\",Dati!D374,)","v":0},{"$f":"IF(Dati!E374=\"UA4\",Dati!D374,)","v":0},{"$f":"IF(Dati!E374=\"UA5\",Dati!D374,)","v":0},{"$f":"IF(Dati!E374=\"UA6\",Dati!D374,)","v":0},{"$f":"IF(Dati!E374=\"UB1\",Dati!D374,)","v":0},{"$f":"IF(Dati!E374=\"UB2\",Dati!D374,)","v":0},{"$f":"IF(Dati!E374=\"UC1\",Dati!D374,)","v":0},{"$f":"IF(Dati!E374=\"UD1\",Dati!D374,)","v":0},{"$f":"IF(Dati!E374=\"UE1\",Dati!D374,)","v":0}]
[{"$f":"Dati!C375","v":"00:00:00"},{"$f":"Dati!H375","v":"00:00:00"},{"$f":"IF(Dati!E375=\"UA1\",Dati!D375,)","v":0},{"$f":"IF(Dati!E375=\"UA2\",Dati!D375,)","v":0},{"$f":"IF(Dati!E375=\"UA3\",Dati!D375,)","v":0},{"$f":"IF(Dati!E375=\"UA4\",Dati!D375,)","v":0},{"$f":"IF(Dati!E375=\"UA5\",Dati!D375,)","v":0},{"$f":"IF(Dati!E375=\"UA6\",Dati!D375,)","v":0},{"$f":"IF(Dati!E375=\"UB1\",Dati!D375,)","v":0},{"$f":"IF(Dati!E375=\"UB2\",Dati!D375,)","v":0},{"$f":"IF(Dati!E375=\"UC1\",Dati!D375,)","v":0},{"$f":"IF(Dati!E375=\"UD1\",Dati!D375,)","v":0},{"$f":"IF(Dati!E375=\"UE1\",Dati!D375,)","v":0}]
[{"$f":"Dati!C376","v":"00:00:00"},{"$f":"Dati!H376","v":"00:00:00"},{"$f":"IF(Dati!E376=\"UA1\",Dati!D376,)","v":0},{"$f":"IF(Dati!E376=\"UA2\",Dati!D376,)","v":0},{"$f":"IF(Dati!E376=\"UA3\",Dati!D376,)","v":0},{"$f":"IF(Dati!E376=\"UA4\",Dati!D376,)","v":0},{"$f":"IF(Dati!E376=\"UA5\",Dati!D376,)","v":0},{"$f":"IF(Dati!E376=\"UA6\",Dati!D376,)","v":0},{"$f":"IF(Dati!E376=\"UB1\",Dati!D376,)","v":0},{"$f":"IF(Dati!E376=\"UB2\",Dati!D376,)","v":0},{"$f":"IF(Dati!E376=\"UC1\",Dati!D376,)","v":0},{"$f":"IF(Dati!E376=\"UD1\",Dati!D376,)","v":0},{"$f":"IF(Dati!E376=\"UE1\",Dati!D376,)","v":0}]
[{"$f":"Dati!C377","v":"00:00:00"},{"$f":"Dati!H377","v":"00:00:00"},{"$f":"IF(Dati!E377=\"UA1\",Dati!D377,)","v":0},{"$f":"IF(Dati!E377=\"UA2\",Dati!D377,)","v":0},{"$f":"IF(Dati!E377=\"UA3\",Dati!D377,)","v":0},{"$f":"IF(Dati!E377=\"UA4\",Dati!D377,)","v":0},{"$f":"IF(Dati!E377=\"UA5\",Dati!D377,)","v":0},{"$f":"IF(Dati!E377=\"UA6\",Dati!D377,)","v":0},{"$f":"IF(Dati!E377=\"UB1\",Dati!D377,)","v":0},{"$f":"IF(Dati!E377=\"UB2\",Dati!D377,)","v":0},{"$f":"IF(Dati!E377=\"UC1\",Dati!D377,)","v":0},{"$f":"IF(Dati!E377=\"UD1\",Dati!D377,)","v":0},{"$f":"IF(Dati!E377=\"UE1\",Dati!D377,)","v":0}]
[{"$f":"Dati!C378","v":"00:00:00"},{"$f":"Dati!H378","v":"00:00:00"},{"$f":"IF(Dati!E378=\"UA1\",Dati!D378,)","v":0},{"$f":"IF(Dati!E378=\"UA2\",Dati!D378,)","v":0},{"$f":"IF(Dati!E378=\"UA3\",Dati!D378,)","v":0},{"$f":"IF(Dati!E378=\"UA4\",Dati!D378,)","v":0},{"$f":"IF(Dati!E378=\"UA5\",Dati!D378,)","v":0},{"$f":"IF(Dati!E378=\"UA6\",Dati!D378,)","v":0},{"$f":"IF(Dati!E378=\"UB1\",Dati!D378,)","v":0},{"$f":"IF(Dati!E378=\"UB2\",Dati!D378,)","v":0},{"$f":"IF(Dati!E378=\"UC1\",Dati!D378,)","v":0},{"$f":"IF(Dati!E378=\"UD1\",Dati!D378,)","v":0},{"$f":"IF(Dati!E378=\"UE1\",Dati!D378,)","v":0}]
[{"$f":"Dati!C379","v":"00:00:00"},{"$f":"Dati!H379","v":"00:00:00"},{"$f":"IF(Dati!E379=\"UA1\",Dati!D379,)","v":0},{"$f":"IF(Dati!E379=\"UA2\",Dati!D379,)","v":0},{"$f":"IF(Dati!E379=\"UA3\",Dati!D379,)","v":0},{"$f":"IF(Dati!E379=\"UA4\",Dati!D379,)","v":0},{"$f":"IF(Dati!E379=\"UA5\",Dati!D379,)","v":0},{"$f":"IF(Dati!E379=\"UA6\",Dati!D379,)","v":0},{"$f":"IF(Dati!E379=\"UB1\",Dati!D379,)","v":0},{"$f":"IF(Dati!E379=\"UB2\",Dati!D379,)","v":0},{"$f":"IF(Dati!E379=\"UC1\",Dati!D379,)","v":0},{"$f":"IF(Dati!E379=\"UD1\",Dati!D379,)","v":0},{"$f":"IF(Dati!E379=\"UE1\",Dati!D379,)","v":0}]
[{"$f":"Dati!C380","v":"00:00:00"},{"$f":"Dati!H380","v":"00:00:00"},{"$f":"IF(Dati!E380=\"UA1\",Dati!D380,)","v":0},{"$f":"IF(Dati!E380=\"UA2\",Dati!D380,)","v":0},{"$f":"IF(Dati!E380=\"UA3\",Dati!D380,)","v":0},{"$f":"IF(Dati!E380=\"UA4\",Dati!D380,)","v":0},{"$f":"IF(Dati!E380=\"UA5\",Dati!D380,)","v":0},{"$f":"IF(Dati!E380=\"UA6\",Dati!D380,)","v":0},{"$f":"IF(Dati!E380=\"UB1\",Dati!D380,)","v":0},{"$f":"IF(Dati!E380=\"UB2\",Dati!D380,)","v":0},{"$f":"IF(Dati!E380=\"UC1\",Dati!D380,)","v":0},{"$f":"IF(Dati!E380=\"UD1\",Dati!D380,)","v":0},{"$f":"IF(Dati!E380=\"UE1\",Dati!D380,)","v":0}]
[{"$f":"Dati!C381","v":"00:00:00"},{"$f":"Dati!H381","v":"00:00:00"},{"$f":"IF(Dati!E381=\"UA1\",Dati!D381,)","v":0},{"$f":"IF(Dati!E381=\"UA2\",Dati!D381,)","v":0},{"$f":"IF(Dati!E381=\"UA3\",Dati!D381,)","v":0},{"$f":"IF(Dati!E381=\"UA4\",Dati!D381,)","v":0},{"$f":"IF(Dati!E381=\"UA5\",Dati!D381,)","v":0},{"$f":"IF(Dati!E381=\"UA6\",Dati!D381,)","v":0},{"$f":"IF(Dati!E381=\"UB1\",Dati!D381,)","v":0},{"$f":"IF(Dati!E381=\"UB2\",Dati!D381,)","v":0},{"$f":"IF(Dati!E381=\"UC1\",Dati!D381,)","v":0},{"$f":"IF(Dati!E381=\"UD1\",Dati!D381,)","v":0},{"$f":"IF(Dati!E381=\"UE1\",Dati!D381,)","v":0}]
[{"$f":"Dati!C382","v":"00:00:00"},{"$f":"Dati!H382","v":"00:00:00"},{"$f":"IF(Dati!E382=\"UA1\",Dati!D382,)","v":0},{"$f":"IF(Dati!E382=\"UA2\",Dati!D382,)","v":0},{"$f":"IF(Dati!E382=\"UA3\",Dati!D382,)","v":0},{"$f":"IF(Dati!E382=\"UA4\",Dati!D382,)","v":0},{"$f":"IF(Dati!E382=\"UA5\",Dati!D382,)","v":0},{"$f":"IF(Dati!E382=\"UA6\",Dati!D382,)","v":0},{"$f":"IF(Dati!E382=\"UB1\",Dati!D382,)","v":0},{"$f":"IF(Dati!E382=\"UB2\",Dati!D382,)","v":0},{"$f":"IF(Dati!E382=\"UC1\",Dati!D382,)","v":0},{"$f":"IF(Dati!E382=\"UD1\",Dati!D382,)","v":0},{"$f":"IF(Dati!E382=\"UE1\",Dati!D382,)","v":0}]
[{"$f":"Dati!C383","v":"00:00:00"},{"$f":"Dati!H383","v":"00:00:00"},{"$f":"IF(Dati!E383=\"UA1\",Dati!D383,)","v":0},{"$f":"IF(Dati!E383=\"UA2\",Dati!D383,)","v":0},{"$f":"IF(Dati!E383=\"UA3\",Dati!D383,)","v":0},{"$f":"IF(Dati!E383=\"UA4\",Dati!D383,)","v":0},{"$f":"IF(Dati!E383=\"UA5\",Dati!D383,)","v":0},{"$f":"IF(Dati!E383=\"UA6\",Dati!D383,)","v":0},{"$f":"IF(Dati!E383=\"UB1\",Dati!D383,)","v":0},{"$f":"IF(Dati!E383=\"UB2\",Dati!D383,)","v":0},{"$f":"IF(Dati!E383=\"UC1\",Dati!D383,)","v":0},{"$f":"IF(Dati!E383=\"UD1\",Dati!D383,)","v":0},{"$f":"IF(Dati!E383=\"UE1\",Dati!D383,)","v":0}]
[{"$f":"Dati!C384","v":"00:00:00"},{"$f":"Dati!H384","v":"00:00:00"},{"$f":"IF(Dati!E384=\"UA1\",Dati!D384,)","v":0},{"$f":"IF(Dati!E384=\"UA2\",Dati!D384,)","v":0},{"$f":"IF(Dati!E384=\"UA3\",Dati!D384,)","v":0},{"$f":"IF(Dati!E384=\"UA4\",Dati!D384,)","v":0},{"$f":"IF(Dati!E384=\"UA5\",Dati!D384,)","v":0},{"$f":"IF(Dati!E384=\"UA6\",Dati!D384,)","v":0},{"$f":"IF(Dati!E384=\"UB1\",Dati!D384,)","v":0},{"$f":"IF(Dati!E384=\"UB2\",Dati!D384,)","v":0},{"$f":"IF(Dati!E384=\"UC1\",Dati!D384,)","v":0},{"$f":"IF(Dati!E384=\"UD1\",Dati!D384,)","v":0},{"$f":"IF(Dati!E384=\"UE1\",Dati!D384,)","v":0}]
[{"$f":"Dati!C385","v":"00:00:00"},{"$f":"Dati!H385","v":"00:00:00"},{"$f":"IF(Dati!E385=\"UA1\",Dati!D385,)","v":0},{"$f":"IF(Dati!E385=\"UA2\",Dati!D385,)","v":0},{"$f":"IF(Dati!E385=\"UA3\",Dati!D385,)","v":0},{"$f":"IF(Dati!E385=\"UA4\",Dati!D385,)","v":0},{"$f":"IF(Dati!E385=\"UA5\",Dati!D385,)","v":0},{"$f":"IF(Dati!E385=\"UA6\",Dati!D385,)","v":0},{"$f":"IF(Dati!E385=\"UB1\",Dati!D385,)","v":0},{"$f":"IF(Dati!E385=\"UB2\",Dati!D385,)","v":0},{"$f":"IF(Dati!E385=\"UC1\",Dati!D385,)","v":0},{"$f":"IF(Dati!E385=\"UD1\",Dati!D385,)","v":0},{"$f":"IF(Dati!E385=\"UE1\",Dati!D385,)","v":0}]
[{"$f":"Dati!C386","v":"00:00:00"},{"$f":"Dati!H386","v":"00:00:00"},{"$f":"IF(Dati!E386=\"UA1\",Dati!D386,)","v":0},{"$f":"IF(Dati!E386=\"UA2\",Dati!D386,)","v":0},{"$f":"IF(Dati!E386=\"UA3\",Dati!D386,)","v":0},{"$f":"IF(Dati!E386=\"UA4\",Dati!D386,)","v":0},{"$f":"IF(Dati!E386=\"UA5\",Dati!D386,)","v":0},{"$f":"IF(Dati!E386=\"UA6\",Dati!D386,)","v":0},{"$f":"IF(Dati!E386=\"UB1\",Dati!D386,)","v":0},{"$f":"IF(Dati!E386=\"UB2\",Dati!D386,)","v":0},{"$f":"IF(Dati!E386=\"UC1\",Dati!D386,)","v":0},{"$f":"IF(Dati!E386=\"UD1\",Dati!D386,)","v":0},{"$f":"IF(Dati!E386=\"UE1\",Dati!D386,)","v":0}]
[{"$f":"Dati!C387","v":"00:00:00"},{"$f":"Dati!H387","v":"00:00:00"},{"$f":"IF(Dati!E387=\"UA1\",Dati!D387,)","v":0},{"$f":"IF(Dati!E387=\"UA2\",Dati!D387,)","v":0},{"$f":"IF(Dati!E387=\"UA3\",Dati!D387,)","v":0},{"$f":"IF(Dati!E387=\"UA4\",Dati!D387,)","v":0},{"$f":"IF(Dati!E387=\"UA5\",Dati!D387,)","v":0},{"$f":"IF(Dati!E387=\"UA6\",Dati!D387,)","v":0},{"$f":"IF(Dati!E387=\"UB1\",Dati!D387,)","v":0},{"$f":"IF(Dati!E387=\"UB2\",Dati!D387,)","v":0},{"$f":"IF(Dati!E387=\"UC1\",Dati!D387,)","v":0},{"$f":"IF(Dati!E387=\"UD1\",Dati!D387,)","v":0},{"$f":"IF(Dati!E387=\"UE1\",Dati!D387,)","v":0}]
[{"$f":"Dati!C388","v":"00:00:00"},{"$f":"Dati!H388","v":"00:00:00"},{"$f":"IF(Dati!E388=\"UA1\",Dati!D388,)","v":0},{"$f":"IF(Dati!E388=\"UA2\",Dati!D388,)","v":0},{"$f":"IF(Dati!E388=\"UA3\",Dati!D388,)","v":0},{"$f":"IF(Dati!E388=\"UA4\",Dati!D388,)","v":0},{"$f":"IF(Dati!E388=\"UA5\",Dati!D388,)","v":0},{"$f":"IF(Dati!E388=\"UA6\",Dati!D388,)","v":0},{"$f":"IF(Dati!E388=\"UB1\",Dati!D388,)","v":0},{"$f":"IF(Dati!E388=\"UB2\",Dati!D388,)","v":0},{"$f":"IF(Dati!E388=\"UC1\",Dati!D388,)","v":0},{"$f":"IF(Dati!E388=\"UD1\",Dati!D388,)","v":0},{"$f":"IF(Dati!E388=\"UE1\",Dati!D388,)","v":0}]
[{"$f":"Dati!C389","v":"00:00:00"},{"$f":"Dati!H389","v":"00:00:00"},{"$f":"IF(Dati!E389=\"UA1\",Dati!D389,)","v":0},{"$f":"IF(Dati!E389=\"UA2\",Dati!D389,)","v":0},{"$f":"IF(Dati!E389=\"UA3\",Dati!D389,)","v":0},{"$f":"IF(Dati!E389=\"UA4\",Dati!D389,)","v":0},{"$f":"IF(Dati!E389=\"UA5\",Dati!D389,)","v":0},{"$f":"IF(Dati!E389=\"UA6\",Dati!D389,)","v":0},{"$f":"IF(Dati!E389=\"UB1\",Dati!D389,)","v":0},{"$f":"IF(Dati!E389=\"UB2\",Dati!D389,)","v":0},{"$f":"IF(Dati!E389=\"UC1\",Dati!D389,)","v":0},{"$f":"IF(Dati!E389=\"UD1\",Dati!D389,)","v":0},{"$f":"IF(Dati!E389=\"UE1\",Dati!D389,)","v":0}]
[{"$f":"Dati!C390","v":"00:00:00"},{"$f":"Dati!H390","v":"00:00:00"},{"$f":"IF(Dati!E390=\"UA1\",Dati!D390,)","v":0},{"$f":"IF(Dati!E390=\"UA2\",Dati!D390,)","v":0},{"$f":"IF(Dati!E390=\"UA3\",Dati!D390,)","v":0},{"$f":"IF(Dati!E390=\"UA4\",Dati!D390,)","v":0},{"$f":"IF(Dati!E390=\"UA5\",Dati!D390,)","v":0},{"$f":"IF(Dati!E390=\"UA6\",Dati!D390,)","v":0},{"$f":"IF(Dati!E390=\"UB1\",Dati!D390,)","v":0},{"$f":"IF(Dati!E390=\"UB2\",Dati!D390,)","v":0},{"$f":"IF(Dati!E390=\"UC1\",Dati!D390,)","v":0},{"$f":"IF(Dati!E390=\"UD1\",Dati!D390,)","v":0},{"$f":"IF(Dati!E390=\"UE1\",Dati!D390,)","v":0}]
[{"$f":"Dati!C391","v":"00:00:00"},{"$f":"Dati!H391","v":"00:00:00"},{"$f":"IF(Dati!E391=\"UA1\",Dati!D391,)","v":0},{"$f":"IF(Dati!E391=\"UA2\",Dati!D391,)","v":0},{"$f":"IF(Dati!E391=\"UA3\",Dati!D391,)","v":0},{"$f":"IF(Dati!E391=\"UA4\",Dati!D391,)","v":0},{"$f":"IF(Dati!E391=\"UA5\",Dati!D391,)","v":0},{"$f":"IF(Dati!E391=\"UA6\",Dati!D391,)","v":0},{"$f":"IF(Dati!E391=\"UB1\",Dati!D391,)","v":0},{"$f":"IF(Dati!E391=\"UB2\",Dati!D391,)","v":0},{"$f":"IF(Dati!E391=\"UC1\",Dati!D391,)","v":0},{"$f":"IF(Dati!E391=\"UD1\",Dati!D391,)","v":0},{"$f":"IF(Dati!E391=\"UE1\",Dati!D391,)","v":0}]
[{"$f":"Dati!C392","v":"00:00:00"},{"$f":"Dati!H392","v":"00:00:00"},{"$f":"IF(Dati!E392=\"UA1\",Dati!D392,)","v":0},{"$f":"IF(Dati!E392=\"UA2\",Dati!D392,)","v":0},{"$f":"IF(Dati!E392=\"UA3\",Dati!D392,)","v":0},{"$f":"IF(Dati!E392=\"UA4\",Dati!D392,)","v":0},{"$f":"IF(Dati!E392=\"UA5\",Dati!D392,)","v":0},{"$f":"IF(Dati!E392=\"UA6\",Dati!D392,)","v":0},{"$f":"IF(Dati!E392=\"UB1\",Dati!D392,)","v":0},{"$f":"IF(Dati!E392=\"UB2\",Dati!D392,)","v":0},{"$f":"IF(Dati!E392=\"UC1\",Dati!D392,)","v":0},{"$f":"IF(Dati!E392=\"UD1\",Dati!D392,)","v":0},{"$f":"IF(Dati!E392=\"UE1\",Dati!D392,)","v":0}]
[{"$f":"Dati!C393","v":"00:00:00"},{"$f":"Dati!H393","v":"00:00:00"},{"$f":"IF(Dati!E393=\"UA1\",Dati!D393,)","v":0},{"$f":"IF(Dati!E393=\"UA2\",Dati!D393,)","v":0},{"$f":"IF(Dati!E393=\"UA3\",Dati!D393,)","v":0},{"$f":"IF(Dati!E393=\"UA4\",Dati!D393,)","v":0},{"$f":"IF(Dati!E393=\"UA5\",Dati!D393,)","v":0},{"$f":"IF(Dati!E393=\"UA6\",Dati!D393,)","v":0},{"$f":"IF(Dati!E393=\"UB1\",Dati!D393,)","v":0},{"$f":"IF(Dati!E393=\"UB2\",Dati!D393,)","v":0},{"$f":"IF(Dati!E393=\"UC1\",Dati!D393,)","v":0},{"$f":"IF(Dati!E393=\"UD1\",Dati!D393,)","v":0},{"$f":"IF(Dati!E393=\"UE1\",Dati!D393,)","v":0}]
[{"$f":"Dati!C394","v":"00:00:00"},{"$f":"Dati!H394","v":"00:00:00"},{"$f":"IF(Dati!E394=\"UA1\",Dati!D394,)","v":0},{"$f":"IF(Dati!E394=\"UA2\",Dati!D394,)","v":0},{"$f":"IF(Dati!E394=\"UA3\",Dati!D394,)","v":0},{"$f":"IF(Dati!E394=\"UA4\",Dati!D394,)","v":0},{"$f":"IF(Dati!E394=\"UA5\",Dati!D394,)","v":0},{"$f":"IF(Dati!E394=\"UA6\",Dati!D394,)","v":0},{"$f":"IF(Dati!E394=\"UB1\",Dati!D394,)","v":0},{"$f":"IF(Dati!E394=\"UB2\",Dati!D394,)","v":0},{"$f":"IF(Dati!E394=\"UC1\",Dati!D394,)","v":0},{"$f":"IF(Dati!E394=\"UD1\",Dati!D394,)","v":0},{"$f":"IF(Dati!E394=\"UE1\",Dati!D394,)","v":0}]
[{"$f":"Dati!C395","v":"00:00:00"},{"$f":"Dati!H395","v":"00:00:00"},{"$f":"IF(Dati!E395=\"UA1\",Dati!D395,)","v":0},{"$f":"IF(Dati!E395=\"UA2\",Dati!D395,)","v":0},{"$f":"IF(Dati!E395=\"UA3\",Dati!D395,)","v":0},{"$f":"IF(Dati!E395=\"UA4\",Dati!D395,)","v":0},{"$f":"IF(Dati!E395=\"UA5\",Dati!D395,)","v":0},{"$f":"IF(Dati!E395=\"UA6\",Dati!D395,)","v":0},{"$f":"IF(Dati!E395=\"UB1\",Dati!D395,)","v":0},{"$f":"IF(Dati!E395=\"UB2\",Dati!D395,)","v":0},{"$f":"IF(Dati!E395=\"UC1\",Dati!D395,)","v":0},{"$f":"IF(Dati!E395=\"UD1\",Dati!D395,)","v":0},{"$f":"IF(Dati!E395=\"UE1\",Dati!D395,)","v":0}]
[{"$f":"Dati!C396","v":"00:00:00"},{"$f":"Dati!H396","v":"00:00:00"},{"$f":"IF(Dati!E396=\"UA1\",Dati!D396,)","v":0},{"$f":"IF(Dati!E396=\"UA2\",Dati!D396,)","v":0},{"$f":"IF(Dati!E396=\"UA3\",Dati!D396,)","v":0},{"$f":"IF(Dati!E396=\"UA4\",Dati!D396,)","v":0},{"$f":"IF(Dati!E396=\"UA5\",Dati!D396,)","v":0},{"$f":"IF(Dati!E396=\"UA6\",Dati!D396,)","v":0},{"$f":"IF(Dati!E396=\"UB1\",Dati!D396,)","v":0},{"$f":"IF(Dati!E396=\"UB2\",Dati!D396,)","v":0},{"$f":"IF(Dati!E396=\"UC1\",Dati!D396,)","v":0},{"$f":"IF(Dati!E396=\"UD1\",Dati!D396,)","v":0},{"$f":"IF(Dati!E396=\"UE1\",Dati!D396,)","v":0}]
[{"$f":"Dati!C397","v":"00:00:00"},{"$f":"Dati!H397","v":"00:00:00"},{"$f":"IF(Dati!E397=\"UA1\",Dati!D397,)","v":0},{"$f":"IF(Dati!E397=\"UA2\",Dati!D397,)","v":0},{"$f":"IF(Dati!E397=\"UA3\",Dati!D397,)","v":0},{"$f":"IF(Dati!E397=\"UA4\",Dati!D397,)","v":0},{"$f":"IF(Dati!E397=\"UA5\",Dati!D397,)","v":0},{"$f":"IF(Dati!E397=\"UA6\",Dati!D397,)","v":0},{"$f":"IF(Dati!E397=\"UB1\",Dati!D397,)","v":0},{"$f":"IF(Dati!E397=\"UB2\",Dati!D397,)","v":0},{"$f":"IF(Dati!E397=\"UC1\",Dati!D397,)","v":0},{"$f":"IF(Dati!E397=\"UD1\",Dati!D397,)","v":0},{"$f":"IF(Dati!E397=\"UE1\",Dati!D397,)","v":0}]
[{"$f":"Dati!C398","v":"00:00:00"},{"$f":"Dati!H398","v":"00:00:00"},{"$f":"IF(Dati!E398=\"UA1\",Dati!D398,)","v":0},{"$f":"IF(Dati!E398=\"UA2\",Dati!D398,)","v":0},{"$f":"IF(Dati!E398=\"UA3\",Dati!D398,)","v":0},{"$f":"IF(Dati!E398=\"UA4\",Dati!D398,)","v":0},{"$f":"IF(Dati!E398=\"UA5\",Dati!D398,)","v":0},{"$f":"IF(Dati!E398=\"UA6\",Dati!D398,)","v":0},{"$f":"IF(Dati!E398=\"UB1\",Dati!D398,)","v":0},{"$f":"IF(Dati!E398=\"UB2\",Dati!D398,)","v":0},{"$f":"IF(Dati!E398=\"UC1\",Dati!D398,)","v":0},{"$f":"IF(Dati!E398=\"UD1\",Dati!D398,)","v":0},{"$f":"IF(Dati!E398=\"UE1\",Dati!D398,)","v":0}]
[{"$f":"Dati!C399","v":"00:00:00"},{"$f":"Dati!H399","v":"00:00:00"},{"$f":"IF(Dati!E399=\"UA1\",Dati!D399,)","v":0},{"$f":"IF(Dati!E399=\"UA2\",Dati!D399,)","v":0},{"$f":"IF(Dati!E399=\"UA3\",Dati!D399,)","v":0},{"$f":"IF(Dati!E399=\"UA4\",Dati!D399,)","v":0},{"$f":"IF(Dati!E399=\"UA5\",Dati!D399,)","v":0},{"$f":"IF(Dati!E399=\"UA6\",Dati!D399,)","v":0},{"$f":"IF(Dati!E399=\"UB1\",Dati!D399,)","v":0},{"$f":"IF(Dati!E399=\"UB2\",Dati!D399,)","v":0},{"$f":"IF(Dati!E399=\"UC1\",Dati!D399,)","v":0},{"$f":"IF(Dati!E399=\"UD1\",Dati!D399,)","v":0},{"$f":"IF(Dati!E399=\"UE1\",Dati!D399,)","v":0}]
[{"$f":"Dati!C400","v":"00:00:00"},{"$f":"Dati!H400","v":"00:00:00"},{"$f":"IF(Dati!E400=\"UA1\",Dati!D400,)","v":0},{"$f":"IF(Dati!E400=\"UA2\",Dati!D400,)","v":0},{"$f":"IF(Dati!E400=\"UA3\",Dati!D400,)","v":0},{"$f":"IF(Dati!E400=\"UA4\",Dati!D400,)","v":0},{"$f":"IF(Dati!E400=\"UA5\",Dati!D400,)","v":0},{"$f":"IF(Dati!E400=\"UA6\",Dati!D400,)","v":0},{"$f":"IF(Dati!E400=\"UB1\",Dati!D400,)","v":0},{"$f":"IF(Dati!E400=\"UB2\",Dati!D400,)","v":0},{"$f":"IF(Dati!E400=\"UC1\",Dati!D400,)","v":0},{"$f":"IF(Dati!E400=\"UD1\",Dati!D400,)","v":0},{"$f":"IF(Dati!E400=\"UE1\",Dati!D400,)","v":0}]
[{"$f":"Dati!C401","v":"00:00:00"},{"$f":"Dati!H401","v":"00:00:00"},{"$f":"IF(Dati!E401=\"UA1\",Dati!D401,)","v":0},{"$f":"IF(Dati!E401=\"UA2\",Dati!D401,)","v":0},{"$f":"IF(Dati!E401=\"UA3\",Dati!D401,)","v":0},{"$f":"IF(Dati!E401=\"UA4\",Dati!D401,)","v":0},{"$f":"IF(Dati!E401=\"UA5\",Dati!D401,)","v":0},{"$f":"IF(Dati!E401=\"UA6\",Dati!D401,)","v":0},{"$f":"IF(Dati!E401=\"UB1\",Dati!D401,)","v":0},{"$f":"IF(Dati!E401=\"UB2\",Dati!D401,)","v":0},{"$f":"IF(Dati!E401=\"UC1\",Dati!D401,)","v":0},{"$f":"IF(Dati!E401=\"UD1\",Dati!D401,)","v":0},{"$f":"IF(Dati!E401=\"UE1\",Dati!D401,)","v":0}]
[{"$f":"Dati!C402","v":"00:00:00"},{"$f":"Dati!H402","v":"00:00:00"},{"$f":"IF(Dati!E402=\"UA1\",Dati!D402,)","v":0},{"$f":"IF(Dati!E402=\"UA2\",Dati!D402,)","v":0},{"$f":"IF(Dati!E402=\"UA3\",Dati!D402,)","v":0},{"$f":"IF(Dati!E402=\"UA4\",Dati!D402,)","v":0},{"$f":"IF(Dati!E402=\"UA5\",Dati!D402,)","v":0},{"$f":"IF(Dati!E402=\"UA6\",Dati!D402,)","v":0},{"$f":"IF(Dati!E402=\"UB1\",Dati!D402,)","v":0},{"$f":"IF(Dati!E402=\"UB2\",Dati!D402,)","v":0},{"$f":"IF(Dati!E402=\"UC1\",Dati!D402,)","v":0},{"$f":"IF(Dati!E402=\"UD1\",Dati!D402,)","v":0},{"$f":"IF(Dati!E402=\"UE1\",Dati!D402,)","v":0}]
[{"$f":"Dati!C403","v":"00:00:00"},{"$f":"Dati!H403","v":"00:00:00"},{"$f":"IF(Dati!E403=\"UA1\",Dati!D403,)","v":0},{"$f":"IF(Dati!E403=\"UA2\",Dati!D403,)","v":0},{"$f":"IF(Dati!E403=\"UA3\",Dati!D403,)","v":0},{"$f":"IF(Dati!E403=\"UA4\",Dati!D403,)","v":0},{"$f":"IF(Dati!E403=\"UA5\",Dati!D403,)","v":0},{"$f":"IF(Dati!E403=\"UA6\",Dati!D403,)","v":0},{"$f":"IF(Dati!E403=\"UB1\",Dati!D403,)","v":0},{"$f":"IF(Dati!E403=\"UB2\",Dati!D403,)","v":0},{"$f":"IF(Dati!E403=\"UC1\",Dati!D403,)","v":0},{"$f":"IF(Dati!E403=\"UD1\",Dati!D403,)","v":0},{"$f":"IF(Dati!E403=\"UE1\",Dati!D403,)","v":0}]
[{"$f":"Dati!C404","v":"00:00:00"},{"$f":"Dati!H404","v":"00:00:00"},{"$f":"IF(Dati!E404=\"UA1\",Dati!D404,)","v":0},{"$f":"IF(Dati!E404=\"UA2\",Dati!D404,)","v":0},{"$f":"IF(Dati!E404=\"UA3\",Dati!D404,)","v":0},{"$f":"IF(Dati!E404=\"UA4\",Dati!D404,)","v":0},{"$f":"IF(Dati!E404=\"UA5\",Dati!D404,)","v":0},{"$f":"IF(Dati!E404=\"UA6\",Dati!D404,)","v":0},{"$f":"IF(Dati!E404=\"UB1\",Dati!D404,)","v":0},{"$f":"IF(Dati!E404=\"UB2\",Dati!D404,)","v":0},{"$f":"IF(Dati!E404=\"UC1\",Dati!D404,)","v":0},{"$f":"IF(Dati!E404=\"UD1\",Dati!D404,)","v":0},{"$f":"IF(Dati!E404=\"UE1\",Dati!D404,)","v":0}]
[{"$f":"Dati!C405","v":"00:00:00"},{"$f":"Dati!H405","v":"00:00:00"},{"$f":"IF(Dati!E405=\"UA1\",Dati!D405,)","v":0},{"$f":"IF(Dati!E405=\"UA2\",Dati!D405,)","v":0},{"$f":"IF(Dati!E405=\"UA3\",Dati!D405,)","v":0},{"$f":"IF(Dati!E405=\"UA4\",Dati!D405,)","v":0},{"$f":"IF(Dati!E405=\"UA5\",Dati!D405,)","v":0},{"$f":"IF(Dati!E405=\"UA6\",Dati!D405,)","v":0},{"$f":"IF(Dati!E405=\"UB1\",Dati!D405,)","v":0},{"$f":"IF(Dati!E405=\"UB2\",Dati!D405,)","v":0},{"$f":"IF(Dati!E405=\"UC1\",Dati!D405,)","v":0},{"$f":"IF(Dati!E405=\"UD1\",Dati!D405,)","v":0},{"$f":"IF(Dati!E405=\"UE1\",Dati!D405,)","v":0}]
[{"$f":"Dati!C406","v":"00:00:00"},{"$f":"Dati!H406","v":"00:00:00"},{"$f":"IF(Dati!E406=\"UA1\",Dati!D406,)","v":0},{"$f":"IF(Dati!E406=\"UA2\",Dati!D406,)","v":0},{"$f":"IF(Dati!E406=\"UA3\",Dati!D406,)","v":0},{"$f":"IF(Dati!E406=\"UA4\",Dati!D406,)","v":0},{"$f":"IF(Dati!E406=\"UA5\",Dati!D406,)","v":0},{"$f":"IF(Dati!E406=\"UA6\",Dati!D406,)","v":0},{"$f":"IF(Dati!E406=\"UB1\",Dati!D406,)","v":0},{"$f":"IF(Dati!E406=\"UB2\",Dati!D406,)","v":0},{"$f":"IF(Dati!E406=\"UC1\",Dati!D406,)","v":0},{"$f":"IF(Dati!E406=\"UD1\",Dati!D406,)","v":0},{"$f":"IF(Dati!E406=\"UE1\",Dati!D406,)","v":0}]
[{"$f":"Dati!C407","v":"00:00:00"},{"$f":"Dati!H407","v":"00:00:00"},{"$f":"IF(Dati!E407=\"UA1\",Dati!D407,)","v":0},{"$f":"IF(Dati!E407=\"UA2\",Dati!D407,)","v":0},{"$f":"IF(Dati!E407=\"UA3\",Dati!D407,)","v":0},{"$f":"IF(Dati!E407=\"UA4\",Dati!D407,)","v":0},{"$f":"IF(Dati!E407=\"UA5\",Dati!D407,)","v":0},{"$f":"IF(Dati!E407=\"UA6\",Dati!D407,)","v":0},{"$f":"IF(Dati!E407=\"UB1\",Dati!D407,)","v":0},{"$f":"IF(Dati!E407=\"UB2\",Dati!D407,)","v":0},{"$f":"IF(Dati!E407=\"UC1\",Dati!D407,)","v":0},{"$f":"IF(Dati!E407=\"UD1\",Dati!D407,)","v":0},{"$f":"IF(Dati!E407=\"UE1\",Dati!D407,)","v":0}]
[{"$f":"Dati!C408","v":"00:00:00"},{"$f":"Dati!H408","v":"00:00:00"},{"$f":"IF(Dati!E408=\"UA1\",Dati!D408,)","v":0},{"$f":"IF(Dati!E408=\"UA2\",Dati!D408,)","v":0},{"$f":"IF(Dati!E408=\"UA3\",Dati!D408,)","v":0},{"$f":"IF(Dati!E408=\"UA4\",Dati!D408,)","v":0},{"$f":"IF(Dati!E408=\"UA5\",Dati!D408,)","v":0},{"$f":"IF(Dati!E408=\"UA6\",Dati!D408,)","v":0},{"$f":"IF(Dati!E408=\"UB1\",Dati!D408,)","v":0},{"$f":"IF(Dati!E408=\"UB2\",Dati!D408,)","v":0},{"$f":"IF(Dati!E408=\"UC1\",Dati!D408,)","v":0},{"$f":"IF(Dati!E408=\"UD1\",Dati!D408,)","v":0},{"$f":"IF(Dati!E408=\"UE1\",Dati!D408,)","v":0}]
[{"$f":"Dati!C409","v":"00:00:00"},{"$f":"Dati!H409","v":"00:00:00"},{"$f":"IF(Dati!E409=\"UA1\",Dati!D409,)","v":0},{"$f":"IF(Dati!E409=\"UA2\",Dati!D409,)","v":0},{"$f":"IF(Dati!E409=\"UA3\",Dati!D409,)","v":0},{"$f":"IF(Dati!E409=\"UA4\",Dati!D409,)","v":0},{"$f":"IF(Dati!E409=\"UA5\",Dati!D409,)","v":0},{"$f":"IF(Dati!E409=\"UA6\",Dati!D409,)","v":0},{"$f":"IF(Dati!E409=\"UB1\",Dati!D409,)","v":0},{"$f":"IF(Dati!E409=\"UB2\",Dati!D409,)","v":0},{"$f":"IF(Dati!E409=\"UC1\",Dati!D409,)","v":0},{"$f":"IF(Dati!E409=\"UD1\",Dati!D409,)","v":0},{"$f":"IF(Dati!E409=\"UE1\",Dati!D409,)","v":0}]
[{"$f":"Dati!C410","v":"00:00:00"},{"$f":"Dati!H410","v":"00:00:00"},{"$f":"IF(Dati!E410=\"UA1\",Dati!D410,)","v":0},{"$f":"IF(Dati!E410=\"UA2\",Dati!D410,)","v":0},{"$f":"IF(Dati!E410=\"UA3\",Dati!D410,)","v":0},{"$f":"IF(Dati!E410=\"UA4\",Dati!D410,)","v":0},{"$f":"IF(Dati!E410=\"UA5\",Dati!D410,)","v":0},{"$f":"IF(Dati!E410=\"UA6\",Dati!D410,)","v":0},{"$f":"IF(Dati!E410=\"UB1\",Dati!D410,)","v":0},{"$f":"IF(Dati!E410=\"UB2\",Dati!D410,)","v":0},{"$f":"IF(Dati!E410=\"UC1\",Dati!D410,)","v":0},{"$f":"IF(Dati!E410=\"UD1\",Dati!D410,)","v":0},{"$f":"IF(Dati!E410=\"UE1\",Dati!D410,)","v":0}]
[{"$f":"Dati!C411","v":"00:00:00"},{"$f":"Dati!H411","v":"00:00:00"},{"$f":"IF(Dati!E411=\"UA1\",Dati!D411,)","v":0},{"$f":"IF(Dati!E411=\"UA2\",Dati!D411,)","v":0},{"$f":"IF(Dati!E411=\"UA3\",Dati!D411,)","v":0},{"$f":"IF(Dati!E411=\"UA4\",Dati!D411,)","v":0},{"$f":"IF(Dati!E411=\"UA5\",Dati!D411,)","v":0},{"$f":"IF(Dati!E411=\"UA6\",Dati!D411,)","v":0},{"$f":"IF(Dati!E411=\"UB1\",Dati!D411,)","v":0},{"$f":"IF(Dati!E411=\"UB2\",Dati!D411,)","v":0},{"$f":"IF(Dati!E411=\"UC1\",Dati!D411,)","v":0},{"$f":"IF(Dati!E411=\"UD1\",Dati!D411,)","v":0},{"$f":"IF(Dati!E411=\"UE1\",Dati!D411,)","v":0}]
[{"$f":"Dati!C412","v":"00:00:00"},{"$f":"Dati!H412","v":"00:00:00"},{"$f":"IF(Dati!E412=\"UA1\",Dati!D412,)","v":0},{"$f":"IF(Dati!E412=\"UA2\",Dati!D412,)","v":0},{"$f":"IF(Dati!E412=\"UA3\",Dati!D412,)","v":0},{"$f":"IF(Dati!E412=\"UA4\",Dati!D412,)","v":0},{"$f":"IF(Dati!E412=\"UA5\",Dati!D412,)","v":0},{"$f":"IF(Dati!E412=\"UA6\",Dati!D412,)","v":0},{"$f":"IF(Dati!E412=\"UB1\",Dati!D412,)","v":0},{"$f":"IF(Dati!E412=\"UB2\",Dati!D412,)","v":0},{"$f":"IF(Dati!E412=\"UC1\",Dati!D412,)","v":0},{"$f":"IF(Dati!E412=\"UD1\",Dati!D412,)","v":0},{"$f":"IF(Dati!E412=\"UE1\",Dati!D412,)","v":0}]
[{"$f":"Dati!C413","v":"00:00:00"},{"$f":"Dati!H413","v":"00:00:00"},{"$f":"IF(Dati!E413=\"UA1\",Dati!D413,)","v":0},{"$f":"IF(Dati!E413=\"UA2\",Dati!D413,)","v":0},{"$f":"IF(Dati!E413=\"UA3\",Dati!D413,)","v":0},{"$f":"IF(Dati!E413=\"UA4\",Dati!D413,)","v":0},{"$f":"IF(Dati!E413=\"UA5\",Dati!D413,)","v":0},{"$f":"IF(Dati!E413=\"UA6\",Dati!D413,)","v":0},{"$f":"IF(Dati!E413=\"UB1\",Dati!D413,)","v":0},{"$f":"IF(Dati!E413=\"UB2\",Dati!D413,)","v":0},{"$f":"IF(Dati!E413=\"UC1\",Dati!D413,)","v":0},{"$f":"IF(Dati!E413=\"UD1\",Dati!D413,)","v":0},{"$f":"IF(Dati!E413=\"UE1\",Dati!D413,)","v":0}]
[{"$f":"Dati!C414","v":"00:00:00"},{"$f":"Dati!H414","v":"00:00:00"},{"$f":"IF(Dati!E414=\"UA1\",Dati!D414,)","v":0},{"$f":"IF(Dati!E414=\"UA2\",Dati!D414,)","v":0},{"$f":"IF(Dati!E414=\"UA3\",Dati!D414,)","v":0},{"$f":"IF(Dati!E414=\"UA4\",Dati!D414,)","v":0},{"$f":"IF(Dati!E414=\"UA5\",Dati!D414,)","v":0},{"$f":"IF(Dati!E414=\"UA6\",Dati!D414,)","v":0},{"$f":"IF(Dati!E414=\"UB1\",Dati!D414,)","v":0},{"$f":"IF(Dati!E414=\"UB2\",Dati!D414,)","v":0},{"$f":"IF(Dati!E414=\"UC1\",Dati!D414,)","v":0},{"$f":"IF(Dati!E414=\"UD1\",Dati!D414,)","v":0},{"$f":"IF(Dati!E414=\"UE1\",Dati!D414,)","v":0}]
[{"$f":"Dati!C415","v":"00:00:00"},{"$f":"Dati!H415","v":"00:00:00"},{"$f":"IF(Dati!E415=\"UA1\",Dati!D415,)","v":0},{"$f":"IF(Dati!E415=\"UA2\",Dati!D415,)","v":0},{"$f":"IF(Dati!E415=\"UA3\",Dati!D415,)","v":0},{"$f":"IF(Dati!E415=\"UA4\",Dati!D415,)","v":0},{"$f":"IF(Dati!E415=\"UA5\",Dati!D415,)","v":0},{"$f":"IF(Dati!E415=\"UA6\",Dati!D415,)","v":0},{"$f":"IF(Dati!E415=\"UB1\",Dati!D415,)","v":0},{"$f":"IF(Dati!E415=\"UB2\",Dati!D415,)","v":0},{"$f":"IF(Dati!E415=\"UC1\",Dati!D415,)","v":0},{"$f":"IF(Dati!E415=\"UD1\",Dati!D415,)","v":0},{"$f":"IF(Dati!E415=\"UE1\",Dati!D415,)","v":0}]
[{"$f":"Dati!C416","v":"00:00:00"},{"$f":"Dati!H416","v":"00:00:00"},{"$f":"IF(Dati!E416=\"UA1\",Dati!D416,)","v":0},{"$f":"IF(Dati!E416=\"UA2\",Dati!D416,)","v":0},{"$f":"IF(Dati!E416=\"UA3\",Dati!D416,)","v":0},{"$f":"IF(Dati!E416=\"UA4\",Dati!D416,)","v":0},{"$f":"IF(Dati!E416=\"UA5\",Dati!D416,)","v":0},{"$f":"IF(Dati!E416=\"UA6\",Dati!D416,)","v":0},{"$f":"IF(Dati!E416=\"UB1\",Dati!D416,)","v":0},{"$f":"IF(Dati!E416=\"UB2\",Dati!D416,)","v":0},{"$f":"IF(Dati!E416=\"UC1\",Dati!D416,)","v":0},{"$f":"IF(Dati!E416=\"UD1\",Dati!D416,)","v":0},{"$f":"IF(Dati!E416=\"UE1\",Dati!D416,)","v":0}]
[{"$f":"Dati!C417","v":"00:00:00"},{"$f":"Dati!H417","v":"00:00:00"},{"$f":"IF(Dati!E417=\"UA1\",Dati!D417,)","v":0},{"$f":"IF(Dati!E417=\"UA2\",Dati!D417,)","v":0},{"$f":"IF(Dati!E417=\"UA3\",Dati!D417,)","v":0},{"$f":"IF(Dati!E417=\"UA4\",Dati!D417,)","v":0},{"$f":"IF(Dati!E417=\"UA5\",Dati!D417,)","v":0},{"$f":"IF(Dati!E417=\"UA6\",Dati!D417,)","v":0},{"$f":"IF(Dati!E417=\"UB1\",Dati!D417,)","v":0},{"$f":"IF(Dati!E417=\"UB2\",Dati!D417,)","v":0},{"$f":"IF(Dati!E417=\"UC1\",Dati!D417,)","v":0},{"$f":"IF(Dati!E417=\"UD1\",Dati!D417,)","v":0},{"$f":"IF(Dati!E417=\"UE1\",Dati!D417,)","v":0}]
[{"$f":"Dati!C418","v":"00:00:00"},{"$f":"Dati!H418","v":"00:00:00"},{"$f":"IF(Dati!E418=\"UA1\",Dati!D418,)","v":0},{"$f":"IF(Dati!E418=\"UA2\",Dati!D418,)","v":0},{"$f":"IF(Dati!E418=\"UA3\",Dati!D418,)","v":0},{"$f":"IF(Dati!E418=\"UA4\",Dati!D418,)","v":0},{"$f":"IF(Dati!E418=\"UA5\",Dati!D418,)","v":0},{"$f":"IF(Dati!E418=\"UA6\",Dati!D418,)","v":0},{"$f":"IF(Dati!E418=\"UB1\",Dati!D418,)","v":0},{"$f":"IF(Dati!E418=\"UB2\",Dati!D418,)","v":0},{"$f":"IF(Dati!E418=\"UC1\",Dati!D418,)","v":0},{"$f":"IF(Dati!E418=\"UD1\",Dati!D418,)","v":0},{"$f":"IF(Dati!E418=\"UE1\",Dati!D418,)","v":0}]
[{"$f":"Dati!C419","v":"00:00:00"},{"$f":"Dati!H419","v":"00:00:00"},{"$f":"IF(Dati!E419=\"UA1\",Dati!D419,)","v":0},{"$f":"IF(Dati!E419=\"UA2\",Dati!D419,)","v":0},{"$f":"IF(Dati!E419=\"UA3\",Dati!D419,)","v":0},{"$f":"IF(Dati!E419=\"UA4\",Dati!D419,)","v":0},{"$f":"IF(Dati!E419=\"UA5\",Dati!D419,)","v":0},{"$f":"IF(Dati!E419=\"UA6\",Dati!D419,)","v":0},{"$f":"IF(Dati!E419=\"UB1\",Dati!D419,)","v":0},{"$f":"IF(Dati!E419=\"UB2\",Dati!D419,)","v":0},{"$f":"IF(Dati!E419=\"UC1\",Dati!D419,)","v":0},{"$f":"IF(Dati!E419=\"UD1\",Dati!D419,)","v":0},{"$f":"IF(Dati!E419=\"UE1\",Dati!D419,)","v":0}]
[{"$f":"Dati!C420","v":"00:00:00"},{"$f":"Dati!H420","v":"00:00:00"},{"$f":"IF(Dati!E420=\"UA1\",Dati!D420,)","v":0},{"$f":"IF(Dati!E420=\"UA2\",Dati!D420,)","v":0},{"$f":"IF(Dati!E420=\"UA3\",Dati!D420,)","v":0},{"$f":"IF(Dati!E420=\"UA4\",Dati!D420,)","v":0},{"$f":"IF(Dati!E420=\"UA5\",Dati!D420,)","v":0},{"$f":"IF(Dati!E420=\"UA6\",Dati!D420,)","v":0},{"$f":"IF(Dati!E420=\"UB1\",Dati!D420,)","v":0},{"$f":"IF(Dati!E420=\"UB2\",Dati!D420,)","v":0},{"$f":"IF(Dati!E420=\"UC1\",Dati!D420,)","v":0},{"$f":"IF(Dati!E420=\"UD1\",Dati!D420,)","v":0},{"$f":"IF(Dati!E420=\"UE1\",Dati!D420,)","v":0}]
[{"$f":"Dati!C421","v":"00:00:00"},{"$f":"Dati!H421","v":"00:00:00"},{"$f":"IF(Dati!E421=\"UA1\",Dati!D421,)","v":0},{"$f":"IF(Dati!E421=\"UA2\",Dati!D421,)","v":0},{"$f":"IF(Dati!E421=\"UA3\",Dati!D421,)","v":0},{"$f":"IF(Dati!E421=\"UA4\",Dati!D421,)","v":0},{"$f":"IF(Dati!E421=\"UA5\",Dati!D421,)","v":0},{"$f":"IF(Dati!E421=\"UA6\",Dati!D421,)","v":0},{"$f":"IF(Dati!E421=\"UB1\",Dati!D421,)","v":0},{"$f":"IF(Dati!E421=\"UB2\",Dati!D421,)","v":0},{"$f":"IF(Dati!E421=\"UC1\",Dati!D421,)","v":0},{"$f":"IF(Dati!E421=\"UD1\",Dati!D421,)","v":0},{"$f":"IF(Dati!E421=\"UE1\",Dati!D421,)","v":0}]
[{"$f":"Dati!C422","v":"00:00:00"},{"$f":"Dati!H422","v":"00:00:00"},{"$f":"IF(Dati!E422=\"UA1\",Dati!D422,)","v":0},{"$f":"IF(Dati!E422=\"UA2\",Dati!D422,)","v":0},{"$f":"IF(Dati!E422=\"UA3\",Dati!D422,)","v":0},{"$f":"IF(Dati!E422=\"UA4\",Dati!D422,)","v":0},{"$f":"IF(Dati!E422=\"UA5\",Dati!D422,)","v":0},{"$f":"IF(Dati!E422=\"UA6\",Dati!D422,)","v":0},{"$f":"IF(Dati!E422=\"UB1\",Dati!D422,)","v":0},{"$f":"IF(Dati!E422=\"UB2\",Dati!D422,)","v":0},{"$f":"IF(Dati!E422=\"UC1\",Dati!D422,)","v":0},{"$f":"IF(Dati!E422=\"UD1\",Dati!D422,)","v":0},{"$f":"IF(Dati!E422=\"UE1\",Dati!D422,)","v":0}]
[{"$f":"Dati!C423","v":"00:00:00"},{"$f":"Dati!H423","v":"00:00:00"},{"$f":"IF(Dati!E423=\"UA1\",Dati!D423,)","v":0},{"$f":"IF(Dati!E423=\"UA2\",Dati!D423,)","v":0},{"$f":"IF(Dati!E423=\"UA3\",Dati!D423,)","v":0},{"$f":"IF(Dati!E423=\"UA4\",Dati!D423,)","v":0},{"$f":"IF(Dati!E423=\"UA5\",Dati!D423,)","v":0},{"$f":"IF(Dati!E423=\"UA6\",Dati!D423,)","v":0},{"$f":"IF(Dati!E423=\"UB1\",Dati!D423,)","v":0},{"$f":"IF(Dati!E423=\"UB2\",Dati!D423,)","v":0},{"$f":"IF(Dati!E423=\"UC1\",Dati!D423,)","v":0},{"$f":"IF(Dati!E423=\"UD1\",Dati!D423,)","v":0},{"$f":"IF(Dati!E423=\"UE1\",Dati!D423,)","v":0}]
[{"$f":"Dati!C424","v":"00:00:00"},{"$f":"Dati!H424","v":"00:00:00"},{"$f":"IF(Dati!E424=\"UA1\",Dati!D424,)","v":0},{"$f":"IF(Dati!E424=\"UA2\",Dati!D424,)","v":0},{"$f":"IF(Dati!E424=\"UA3\",Dati!D424,)","v":0},{"$f":"IF(Dati!E424=\"UA4\",Dati!D424,)","v":0},{"$f":"IF(Dati!E424=\"UA5\",Dati!D424,)","v":0},{"$f":"IF(Dati!E424=\"UA6\",Dati!D424,)","v":0},{"$f":"IF(Dati!E424=\"UB1\",Dati!D424,)","v":0},{"$f":"IF(Dati!E424=\"UB2\",Dati!D424,)","v":0},{"$f":"IF(Dati!E424=\"UC1\",Dati!D424,)","v":0},{"$f":"IF(Dati!E424=\"UD1\",Dati!D424,)","v":0},{"$f":"IF(Dati!E424=\"UE1\",Dati!D424,)","v":0}]
[{"$f":"Dati!C425","v":"00:00:00"},{"$f":"Dati!H425","v":"00:00:00"},{"$f":"IF(Dati!E425=\"UA1\",Dati!D425,)","v":0},{"$f":"IF(Dati!E425=\"UA2\",Dati!D425,)","v":0},{"$f":"IF(Dati!E425=\"UA3\",Dati!D425,)","v":0},{"$f":"IF(Dati!E425=\"UA4\",Dati!D425,)","v":0},{"$f":"IF(Dati!E425=\"UA5\",Dati!D425,)","v":0},{"$f":"IF(Dati!E425=\"UA6\",Dati!D425,)","v":0},{"$f":"IF(Dati!E425=\"UB1\",Dati!D425,)","v":0},{"$f":"IF(Dati!E425=\"UB2\",Dati!D425,)","v":0},{"$f":"IF(Dati!E425=\"UC1\",Dati!D425,)","v":0},{"$f":"IF(Dati!E425=\"UD1\",Dati!D425,)","v":0},{"$f":"IF(Dati!E425=\"UE1\",Dati!D425,)","v":0}]
[{"$f":"Dati!C426","v":"00:00:00"},{"$f":"Dati!H426","v":"00:00:00"},{"$f":"IF(Dati!E426=\"UA1\",Dati!D426,)","v":0},{"$f":"IF(Dati!E426=\"UA2\",Dati!D426,)","v":0},{"$f":"IF(Dati!E426=\"UA3\",Dati!D426,)","v":0},{"$f":"IF(Dati!E426=\"UA4\",Dati!D426,)","v":0},{"$f":"IF(Dati!E426=\"UA5\",Dati!D426,)","v":0},{"$f":"IF(Dati!E426=\"UA6\",Dati!D426,)","v":0},{"$f":"IF(Dati!E426=\"UB1\",Dati!D426,)","v":0},{"$f":"IF(Dati!E426=\"UB2\",Dati!D426,)","v":0},{"$f":"IF(Dati!E426=\"UC1\",Dati!D426,)","v":0},{"$f":"IF(Dati!E426=\"UD1\",Dati!D426,)","v":0},{"$f":"IF(Dati!E426=\"UE1\",Dati!D426,)","v":0}]
[{"$f":"Dati!C427","v":"00:00:00"},{"$f":"Dati!H427","v":"00:00:00"},{"$f":"IF(Dati!E427=\"UA1\",Dati!D427,)","v":0},{"$f":"IF(Dati!E427=\"UA2\",Dati!D427,)","v":0},{"$f":"IF(Dati!E427=\"UA3\",Dati!D427,)","v":0},{"$f":"IF(Dati!E427=\"UA4\",Dati!D427,)","v":0},{"$f":"IF(Dati!E427=\"UA5\",Dati!D427,)","v":0},{"$f":"IF(Dati!E427=\"UA6\",Dati!D427,)","v":0},{"$f":"IF(Dati!E427=\"UB1\",Dati!D427,)","v":0},{"$f":"IF(Dati!E427=\"UB2\",Dati!D427,)","v":0},{"$f":"IF(Dati!E427=\"UC1\",Dati!D427,)","v":0},{"$f":"IF(Dati!E427=\"UD1\",Dati!D427,)","v":0},{"$f":"IF(Dati!E427=\"UE1\",Dati!D427,)","v":0}]
[{"$f":"Dati!C428","v":"00:00:00"},{"$f":"Dati!H428","v":"00:00:00"},{"$f":"IF(Dati!E428=\"UA1\",Dati!D428,)","v":0},{"$f":"IF(Dati!E428=\"UA2\",Dati!D428,)","v":0},{"$f":"IF(Dati!E428=\"UA3\",Dati!D428,)","v":0},{"$f":"IF(Dati!E428=\"UA4\",Dati!D428,)","v":0},{"$f":"IF(Dati!E428=\"UA5\",Dati!D428,)","v":0},{"$f":"IF(Dati!E428=\"UA6\",Dati!D428,)","v":0},{"$f":"IF(Dati!E428=\"UB1\",Dati!D428,)","v":0},{"$f":"IF(Dati!E428=\"UB2\",Dati!D428,)","v":0},{"$f":"IF(Dati!E428=\"UC1\",Dati!D428,)","v":0},{"$f":"IF(Dati!E428=\"UD1\",Dati!D428,)","v":0},{"$f":"IF(Dati!E428=\"UE1\",Dati!D428,)","v":0}]
[{"$f":"Dati!C429","v":"00:00:00"},{"$f":"Dati!H429","v":"00:00:00"},{"$f":"IF(Dati!E429=\"UA1\",Dati!D429,)","v":0},{"$f":"IF(Dati!E429=\"UA2\",Dati!D429,)","v":0},{"$f":"IF(Dati!E429=\"UA3\",Dati!D429,)","v":0},{"$f":"IF(Dati!E429=\"UA4\",Dati!D429,)","v":0},{"$f":"IF(Dati!E429=\"UA5\",Dati!D429,)","v":0},{"$f":"IF(Dati!E429=\"UA6\",Dati!D429,)","v":0},{"$f":"IF(Dati!E429=\"UB1\",Dati!D429,)","v":0},{"$f":"IF(Dati!E429=\"UB2\",Dati!D429,)","v":0},{"$f":"IF(Dati!E429=\"UC1\",Dati!D429,)","v":0},{"$f":"IF(Dati!E429=\"UD1\",Dati!D429,)","v":0},{"$f":"IF(Dati!E429=\"UE1\",Dati!D429,)","v":0}]
[{"$f":"Dati!C430","v":"00:00:00"},{"$f":"Dati!H430","v":"00:00:00"},{"$f":"IF(Dati!E430=\"UA1\",Dati!D430,)","v":0},{"$f":"IF(Dati!E430=\"UA2\",Dati!D430,)","v":0},{"$f":"IF(Dati!E430=\"UA3\",Dati!D430,)","v":0},{"$f":"IF(Dati!E430=\"UA4\",Dati!D430,)","v":0},{"$f":"IF(Dati!E430=\"UA5\",Dati!D430,)","v":0},{"$f":"IF(Dati!E430=\"UA6\",Dati!D430,)","v":0},{"$f":"IF(Dati!E430=\"UB1\",Dati!D430,)","v":0},{"$f":"IF(Dati!E430=\"UB2\",Dati!D430,)","v":0},{"$f":"IF(Dati!E430=\"UC1\",Dati!D430,)","v":0},{"$f":"IF(Dati!E430=\"UD1\",Dati!D430,)","v":0},{"$f":"IF(Dati!E430=\"UE1\",Dati!D430,)","v":0}]
[{"$f":"Dati!C431","v":"00:00:00"},{"$f":"Dati!H431","v":"00:00:00"},{"$f":"IF(Dati!E431=\"UA1\",Dati!D431,)","v":0},{"$f":"IF(Dati!E431=\"UA2\",Dati!D431,)","v":0},{"$f":"IF(Dati!E431=\"UA3\",Dati!D431,)","v":0},{"$f":"IF(Dati!E431=\"UA4\",Dati!D431,)","v":0},{"$f":"IF(Dati!E431=\"UA5\",Dati!D431,)","v":0},{"$f":"IF(Dati!E431=\"UA6\",Dati!D431,)","v":0},{"$f":"IF(Dati!E431=\"UB1\",Dati!D431,)","v":0},{"$f":"IF(Dati!E431=\"UB2\",Dati!D431,)","v":0},{"$f":"IF(Dati!E431=\"UC1\",Dati!D431,)","v":0},{"$f":"IF(Dati!E431=\"UD1\",Dati!D431,)","v":0},{"$f":"IF(Dati!E431=\"UE1\",Dati!D431,)","v":0}]
[{"$f":"Dati!C432","v":"00:00:00"},{"$f":"Dati!H432","v":"00:00:00"},{"$f":"IF(Dati!E432=\"UA1\",Dati!D432,)","v":0},{"$f":"IF(Dati!E432=\"UA2\",Dati!D432,)","v":0},{"$f":"IF(Dati!E432=\"UA3\",Dati!D432,)","v":0},{"$f":"IF(Dati!E432=\"UA4\",Dati!D432,)","v":0},{"$f":"IF(Dati!E432=\"UA5\",Dati!D432,)","v":0},{"$f":"IF(Dati!E432=\"UA6\",Dati!D432,)","v":0},{"$f":"IF(Dati!E432=\"UB1\",Dati!D432,)","v":0},{"$f":"IF(Dati!E432=\"UB2\",Dati!D432,)","v":0},{"$f":"IF(Dati!E432=\"UC1\",Dati!D432,)","v":0},{"$f":"IF(Dati!E432=\"UD1\",Dati!D432,)","v":0},{"$f":"IF(Dati!E432=\"UE1\",Dati!D432,)","v":0}]
[{"$f":"Dati!C433","v":"00:00:00"},{"$f":"Dati!H433","v":"00:00:00"},{"$f":"IF(Dati!E433=\"UA1\",Dati!D433,)","v":0},{"$f":"IF(Dati!E433=\"UA2\",Dati!D433,)","v":0},{"$f":"IF(Dati!E433=\"UA3\",Dati!D433,)","v":0},{"$f":"IF(Dati!E433=\"UA4\",Dati!D433,)","v":0},{"$f":"IF(Dati!E433=\"UA5\",Dati!D433,)","v":0},{"$f":"IF(Dati!E433=\"UA6\",Dati!D433,)","v":0},{"$f":"IF(Dati!E433=\"UB1\",Dati!D433,)","v":0},{"$f":"IF(Dati!E433=\"UB2\",Dati!D433,)","v":0},{"$f":"IF(Dati!E433=\"UC1\",Dati!D433,)","v":0},{"$f":"IF(Dati!E433=\"UD1\",Dati!D433,)","v":0},{"$f":"IF(Dati!E433=\"UE1\",Dati!D433,)","v":0}]
[{"$f":"Dati!C434","v":"00:00:00"},{"$f":"Dati!H434","v":"00:00:00"},{"$f":"IF(Dati!E434=\"UA1\",Dati!D434,)","v":0},{"$f":"IF(Dati!E434=\"UA2\",Dati!D434,)","v":0},{"$f":"IF(Dati!E434=\"UA3\",Dati!D434,)","v":0},{"$f":"IF(Dati!E434=\"UA4\",Dati!D434,)","v":0},{"$f":"IF(Dati!E434=\"UA5\",Dati!D434,)","v":0},{"$f":"IF(Dati!E434=\"UA6\",Dati!D434,)","v":0},{"$f":"IF(Dati!E434=\"UB1\",Dati!D434,)","v":0},{"$f":"IF(Dati!E434=\"UB2\",Dati!D434,)","v":0},{"$f":"IF(Dati!E434=\"UC1\",Dati!D434,)","v":0},{"$f":"IF(Dati!E434=\"UD1\",Dati!D434,)","v":0},{"$f":"IF(Dati!E434=\"UE1\",Dati!D434,)","v":0}]
[{"$f":"Dati!C435","v":"00:00:00"},{"$f":"Dati!H435","v":"00:00:00"},{"$f":"IF(Dati!E435=\"UA1\",Dati!D435,)","v":0},{"$f":"IF(Dati!E435=\"UA2\",Dati!D435,)","v":0},{"$f":"IF(Dati!E435=\"UA3\",Dati!D435,)","v":0},{"$f":"IF(Dati!E435=\"UA4\",Dati!D435,)","v":0},{"$f":"IF(Dati!E435=\"UA5\",Dati!D435,)","v":0},{"$f":"IF(Dati!E435=\"UA6\",Dati!D435,)","v":0},{"$f":"IF(Dati!E435=\"UB1\",Dati!D435,)","v":0},{"$f":"IF(Dati!E435=\"UB2\",Dati!D435,)","v":0},{"$f":"IF(Dati!E435=\"UC1\",Dati!D435,)","v":0},{"$f":"IF(Dati!E435=\"UD1\",Dati!D435,)","v":0},{"$f":"IF(Dati!E435=\"UE1\",Dati!D435,)","v":0}]
[{"$f":"Dati!C436","v":"00:00:00"},{"$f":"Dati!H436","v":"00:00:00"},{"$f":"IF(Dati!E436=\"UA1\",Dati!D436,)","v":0},{"$f":"IF(Dati!E436=\"UA2\",Dati!D436,)","v":0},{"$f":"IF(Dati!E436=\"UA3\",Dati!D436,)","v":0},{"$f":"IF(Dati!E436=\"UA4\",Dati!D436,)","v":0},{"$f":"IF(Dati!E436=\"UA5\",Dati!D436,)","v":0},{"$f":"IF(Dati!E436=\"UA6\",Dati!D436,)","v":0},{"$f":"IF(Dati!E436=\"UB1\",Dati!D436,)","v":0},{"$f":"IF(Dati!E436=\"UB2\",Dati!D436,)","v":0},{"$f":"IF(Dati!E436=\"UC1\",Dati!D436,)","v":0},{"$f":"IF(Dati!E436=\"UD1\",Dati!D436,)","v":0},{"$f":"IF(Dati!E436=\"UE1\",Dati!D436,)","v":0}]
[{"$f":"Dati!C437","v":"00:00:00"},{"$f":"Dati!H437","v":"00:00:00"},{"$f":"IF(Dati!E437=\"UA1\",Dati!D437,)","v":0},{"$f":"IF(Dati!E437=\"UA2\",Dati!D437,)","v":0},{"$f":"IF(Dati!E437=\"UA3\",Dati!D437,)","v":0},{"$f":"IF(Dati!E437=\"UA4\",Dati!D437,)","v":0},{"$f":"IF(Dati!E437=\"UA5\",Dati!D437,)","v":0},{"$f":"IF(Dati!E437=\"UA6\",Dati!D437,)","v":0},{"$f":"IF(Dati!E437=\"UB1\",Dati!D437,)","v":0},{"$f":"IF(Dati!E437=\"UB2\",Dati!D437,)","v":0},{"$f":"IF(Dati!E437=\"UC1\",Dati!D437,)","v":0},{"$f":"IF(Dati!E437=\"UD1\",Dati!D437,)","v":0},{"$f":"IF(Dati!E437=\"UE1\",Dati!D437,)","v":0}]
[{"$f":"Dati!C438","v":"00:00:00"},{"$f":"Dati!H438","v":"00:00:00"},{"$f":"IF(Dati!E438=\"UA1\",Dati!D438,)","v":0},{"$f":"IF(Dati!E438=\"UA2\",Dati!D438,)","v":0},{"$f":"IF(Dati!E438=\"UA3\",Dati!D438,)","v":0},{"$f":"IF(Dati!E438=\"UA4\",Dati!D438,)","v":0},{"$f":"IF(Dati!E438=\"UA5\",Dati!D438,)","v":0},{"$f":"IF(Dati!E438=\"UA6\",Dati!D438,)","v":0},{"$f":"IF(Dati!E438=\"UB1\",Dati!D438,)","v":0},{"$f":"IF(Dati!E438=\"UB2\",Dati!D438,)","v":0},{"$f":"IF(Dati!E438=\"UC1\",Dati!D438,)","v":0},{"$f":"IF(Dati!E438=\"UD1\",Dati!D438,)","v":0},{"$f":"IF(Dati!E438=\"UE1\",Dati!D438,)","v":0}]
[{"$f":"Dati!C439","v":"00:00:00"},{"$f":"Dati!H439","v":"00:00:00"},{"$f":"IF(Dati!E439=\"UA1\",Dati!D439,)","v":0},{"$f":"IF(Dati!E439=\"UA2\",Dati!D439,)","v":0},{"$f":"IF(Dati!E439=\"UA3\",Dati!D439,)","v":0},{"$f":"IF(Dati!E439=\"UA4\",Dati!D439,)","v":0},{"$f":"IF(Dati!E439=\"UA5\",Dati!D439,)","v":0},{"$f":"IF(Dati!E439=\"UA6\",Dati!D439,)","v":0},{"$f":"IF(Dati!E439=\"UB1\",Dati!D439,)","v":0},{"$f":"IF(Dati!E439=\"UB2\",Dati!D439,)","v":0},{"$f":"IF(Dati!E439=\"UC1\",Dati!D439,)","v":0},{"$f":"IF(Dati!E439=\"UD1\",Dati!D439,)","v":0},{"$f":"IF(Dati!E439=\"UE1\",Dati!D439,)","v":0}]
[{"$f":"Dati!C440","v":"00:00:00"},{"$f":"Dati!H440","v":"00:00:00"},{"$f":"IF(Dati!E440=\"UA1\",Dati!D440,)","v":0},{"$f":"IF(Dati!E440=\"UA2\",Dati!D440,)","v":0},{"$f":"IF(Dati!E440=\"UA3\",Dati!D440,)","v":0},{"$f":"IF(Dati!E440=\"UA4\",Dati!D440,)","v":0},{"$f":"IF(Dati!E440=\"UA5\",Dati!D440,)","v":0},{"$f":"IF(Dati!E440=\"UA6\",Dati!D440,)","v":0},{"$f":"IF(Dati!E440=\"UB1\",Dati!D440,)","v":0},{"$f":"IF(Dati!E440=\"UB2\",Dati!D440,)","v":0},{"$f":"IF(Dati!E440=\"UC1\",Dati!D440,)","v":0},{"$f":"IF(Dati!E440=\"UD1\",Dati!D440,)","v":0},{"$f":"IF(Dati!E440=\"UE1\",Dati!D440,)","v":0}]
[{"$f":"Dati!C441","v":"00:00:00"},{"$f":"Dati!H441","v":"00:00:00"},{"$f":"IF(Dati!E441=\"UA1\",Dati!D441,)","v":0},{"$f":"IF(Dati!E441=\"UA2\",Dati!D441,)","v":0},{"$f":"IF(Dati!E441=\"UA3\",Dati!D441,)","v":0},{"$f":"IF(Dati!E441=\"UA4\",Dati!D441,)","v":0},{"$f":"IF(Dati!E441=\"UA5\",Dati!D441,)","v":0},{"$f":"IF(Dati!E441=\"UA6\",Dati!D441,)","v":0},{"$f":"IF(Dati!E441=\"UB1\",Dati!D441,)","v":0},{"$f":"IF(Dati!E441=\"UB2\",Dati!D441,)","v":0},{"$f":"IF(Dati!E441=\"UC1\",Dati!D441,)","v":0},{"$f":"IF(Dati!E441=\"UD1\",Dati!D441,)","v":0},{"$f":"IF(Dati!E441=\"UE1\",Dati!D441,)","v":0}]
[{"$f":"Dati!C442","v":"00:00:00"},{"$f":"Dati!H442","v":"00:00:00"},{"$f":"IF(Dati!E442=\"UA1\",Dati!D442,)","v":0},{"$f":"IF(Dati!E442=\"UA2\",Dati!D442,)","v":0},{"$f":"IF(Dati!E442=\"UA3\",Dati!D442,)","v":0},{"$f":"IF(Dati!E442=\"UA4\",Dati!D442,)","v":0},{"$f":"IF(Dati!E442=\"UA5\",Dati!D442,)","v":0},{"$f":"IF(Dati!E442=\"UA6\",Dati!D442,)","v":0},{"$f":"IF(Dati!E442=\"UB1\",Dati!D442,)","v":0},{"$f":"IF(Dati!E442=\"UB2\",Dati!D442,)","v":0},{"$f":"IF(Dati!E442=\"UC1\",Dati!D442,)","v":0},{"$f":"IF(Dati!E442=\"UD1\",Dati!D442,)","v":0},{"$f":"IF(Dati!E442=\"UE1\",Dati!D442,)","v":0}]
[{"$f":"Dati!C443","v":"00:00:00"},{"$f":"Dati!H443","v":"00:00:00"},{"$f":"IF(Dati!E443=\"UA1\",Dati!D443,)","v":0},{"$f":"IF(Dati!E443=\"UA2\",Dati!D443,)","v":0},{"$f":"IF(Dati!E443=\"UA3\",Dati!D443,)","v":0},{"$f":"IF(Dati!E443=\"UA4\",Dati!D443,)","v":0},{"$f":"IF(Dati!E443=\"UA5\",Dati!D443,)","v":0},{"$f":"IF(Dati!E443=\"UA6\",Dati!D443,)","v":0},{"$f":"IF(Dati!E443=\"UB1\",Dati!D443,)","v":0},{"$f":"IF(Dati!E443=\"UB2\",Dati!D443,)","v":0},{"$f":"IF(Dati!E443=\"UC1\",Dati!D443,)","v":0},{"$f":"IF(Dati!E443=\"UD1\",Dati!D443,)","v":0},{"$f":"IF(Dati!E443=\"UE1\",Dati!D443,)","v":0}]
[{"$f":"Dati!C444","v":"00:00:00"},{"$f":"Dati!H444","v":"00:00:00"},{"$f":"IF(Dati!E444=\"UA1\",Dati!D444,)","v":0},{"$f":"IF(Dati!E444=\"UA2\",Dati!D444,)","v":0},{"$f":"IF(Dati!E444=\"UA3\",Dati!D444,)","v":0},{"$f":"IF(Dati!E444=\"UA4\",Dati!D444,)","v":0},{"$f":"IF(Dati!E444=\"UA5\",Dati!D444,)","v":0},{"$f":"IF(Dati!E444=\"UA6\",Dati!D444,)","v":0},{"$f":"IF(Dati!E444=\"UB1\",Dati!D444,)","v":0},{"$f":"IF(Dati!E444=\"UB2\",Dati!D444,)","v":0},{"$f":"IF(Dati!E444=\"UC1\",Dati!D444,)","v":0},{"$f":"IF(Dati!E444=\"UD1\",Dati!D444,)","v":0},{"$f":"IF(Dati!E444=\"UE1\",Dati!D444,)","v":0}]
[{"$f":"Dati!C445","v":"00:00:00"},{"$f":"Dati!H445","v":"00:00:00"},{"$f":"IF(Dati!E445=\"UA1\",Dati!D445,)","v":0},{"$f":"IF(Dati!E445=\"UA2\",Dati!D445,)","v":0},{"$f":"IF(Dati!E445=\"UA3\",Dati!D445,)","v":0},{"$f":"IF(Dati!E445=\"UA4\",Dati!D445,)","v":0},{"$f":"IF(Dati!E445=\"UA5\",Dati!D445,)","v":0},{"$f":"IF(Dati!E445=\"UA6\",Dati!D445,)","v":0},{"$f":"IF(Dati!E445=\"UB1\",Dati!D445,)","v":0},{"$f":"IF(Dati!E445=\"UB2\",Dati!D445,)","v":0},{"$f":"IF(Dati!E445=\"UC1\",Dati!D445,)","v":0},{"$f":"IF(Dati!E445=\"UD1\",Dati!D445,)","v":0},{"$f":"IF(Dati!E445=\"UE1\",Dati!D445,)","v":0}]
[{"$f":"Dati!C446","v":"00:00:00"},{"$f":"Dati!H446","v":"00:00:00"},{"$f":"IF(Dati!E446=\"UA1\",Dati!D446,)","v":0},{"$f":"IF(Dati!E446=\"UA2\",Dati!D446,)","v":0},{"$f":"IF(Dati!E446=\"UA3\",Dati!D446,)","v":0},{"$f":"IF(Dati!E446=\"UA4\",Dati!D446,)","v":0},{"$f":"IF(Dati!E446=\"UA5\",Dati!D446,)","v":0},{"$f":"IF(Dati!E446=\"UA6\",Dati!D446,)","v":0},{"$f":"IF(Dati!E446=\"UB1\",Dati!D446,)","v":0},{"$f":"IF(Dati!E446=\"UB2\",Dati!D446,)","v":0},{"$f":"IF(Dati!E446=\"UC1\",Dati!D446,)","v":0},{"$f":"IF(Dati!E446=\"UD1\",Dati!D446,)","v":0},{"$f":"IF(Dati!E446=\"UE1\",Dati!D446,)","v":0}]
[{"$f":"Dati!C447","v":"00:00:00"},{"$f":"Dati!H447","v":"00:00:00"},{"$f":"IF(Dati!E447=\"UA1\",Dati!D447,)","v":0},{"$f":"IF(Dati!E447=\"UA2\",Dati!D447,)","v":0},{"$f":"IF(Dati!E447=\"UA3\",Dati!D447,)","v":0},{"$f":"IF(Dati!E447=\"UA4\",Dati!D447,)","v":0},{"$f":"IF(Dati!E447=\"UA5\",Dati!D447,)","v":0},{"$f":"IF(Dati!E447=\"UA6\",Dati!D447,)","v":0},{"$f":"IF(Dati!E447=\"UB1\",Dati!D447,)","v":0},{"$f":"IF(Dati!E447=\"UB2\",Dati!D447,)","v":0},{"$f":"IF(Dati!E447=\"UC1\",Dati!D447,)","v":0},{"$f":"IF(Dati!E447=\"UD1\",Dati!D447,)","v":0},{"$f":"IF(Dati!E447=\"UE1\",Dati!D447,)","v":0}]
[{"$f":"Dati!C448","v":"00:00:00"},{"$f":"Dati!H448","v":"00:00:00"},{"$f":"IF(Dati!E448=\"UA1\",Dati!D448,)","v":0},{"$f":"IF(Dati!E448=\"UA2\",Dati!D448,)","v":0},{"$f":"IF(Dati!E448=\"UA3\",Dati!D448,)","v":0},{"$f":"IF(Dati!E448=\"UA4\",Dati!D448,)","v":0},{"$f":"IF(Dati!E448=\"UA5\",Dati!D448,)","v":0},{"$f":"IF(Dati!E448=\"UA6\",Dati!D448,)","v":0},{"$f":"IF(Dati!E448=\"UB1\",Dati!D448,)","v":0},{"$f":"IF(Dati!E448=\"UB2\",Dati!D448,)","v":0},{"$f":"IF(Dati!E448=\"UC1\",Dati!D448,)","v":0},{"$f":"IF(Dati!E448=\"UD1\",Dati!D448,)","v":0},{"$f":"IF(Dati!E448=\"UE1\",Dati!D448,)","v":0}]
[{"$f":"Dati!C449","v":"00:00:00"},{"$f":"Dati!H449","v":"00:00:00"},{"$f":"IF(Dati!E449=\"UA1\",Dati!D449,)","v":0},{"$f":"IF(Dati!E449=\"UA2\",Dati!D449,)","v":0},{"$f":"IF(Dati!E449=\"UA3\",Dati!D449,)","v":0},{"$f":"IF(Dati!E449=\"UA4\",Dati!D449,)","v":0},{"$f":"IF(Dati!E449=\"UA5\",Dati!D449,)","v":0},{"$f":"IF(Dati!E449=\"UA6\",Dati!D449,)","v":0},{"$f":"IF(Dati!E449=\"UB1\",Dati!D449,)","v":0},{"$f":"IF(Dati!E449=\"UB2\",Dati!D449,)","v":0},{"$f":"IF(Dati!E449=\"UC1\",Dati!D449,)","v":0},{"$f":"IF(Dati!E449=\"UD1\",Dati!D449,)","v":0},{"$f":"IF(Dati!E449=\"UE1\",Dati!D449,)","v":0}]
[{"$f":"Dati!C450","v":"00:00:00"},{"$f":"Dati!H450","v":"00:00:00"},{"$f":"IF(Dati!E450=\"UA1\",Dati!D450,)","v":0},{"$f":"IF(Dati!E450=\"UA2\",Dati!D450,)","v":0},{"$f":"IF(Dati!E450=\"UA3\",Dati!D450,)","v":0},{"$f":"IF(Dati!E450=\"UA4\",Dati!D450,)","v":0},{"$f":"IF(Dati!E450=\"UA5\",Dati!D450,)","v":0},{"$f":"IF(Dati!E450=\"UA6\",Dati!D450,)","v":0},{"$f":"IF(Dati!E450=\"UB1\",Dati!D450,)","v":0},{"$f":"IF(Dati!E450=\"UB2\",Dati!D450,)","v":0},{"$f":"IF(Dati!E450=\"UC1\",Dati!D450,)","v":0},{"$f":"IF(Dati!E450=\"UD1\",Dati!D450,)","v":0},{"$f":"IF(Dati!E450=\"UE1\",Dati!D450,)","v":0}]
[{"$f":"Dati!C451","v":"00:00:00"},{"$f":"Dati!H451","v":"00:00:00"},{"$f":"IF(Dati!E451=\"UA1\",Dati!D451,)","v":0},{"$f":"IF(Dati!E451=\"UA2\",Dati!D451,)","v":0},{"$f":"IF(Dati!E451=\"UA3\",Dati!D451,)","v":0},{"$f":"IF(Dati!E451=\"UA4\",Dati!D451,)","v":0},{"$f":"IF(Dati!E451=\"UA5\",Dati!D451,)","v":0},{"$f":"IF(Dati!E451=\"UA6\",Dati!D451,)","v":0},{"$f":"IF(Dati!E451=\"UB1\",Dati!D451,)","v":0},{"$f":"IF(Dati!E451=\"UB2\",Dati!D451,)","v":0},{"$f":"IF(Dati!E451=\"UC1\",Dati!D451,)","v":0},{"$f":"IF(Dati!E451=\"UD1\",Dati!D451,)","v":0},{"$f":"IF(Dati!E451=\"UE1\",Dati!D451,)","v":0}]
[{"$f":"Dati!C452","v":"00:00:00"},{"$f":"Dati!H452","v":"00:00:00"},{"$f":"IF(Dati!E452=\"UA1\",Dati!D452,)","v":0},{"$f":"IF(Dati!E452=\"UA2\",Dati!D452,)","v":0},{"$f":"IF(Dati!E452=\"UA3\",Dati!D452,)","v":0},{"$f":"IF(Dati!E452=\"UA4\",Dati!D452,)","v":0},{"$f":"IF(Dati!E452=\"UA5\",Dati!D452,)","v":0},{"$f":"IF(Dati!E452=\"UA6\",Dati!D452,)","v":0},{"$f":"IF(Dati!E452=\"UB1\",Dati!D452,)","v":0},{"$f":"IF(Dati!E452=\"UB2\",Dati!D452,)","v":0},{"$f":"IF(Dati!E452=\"UC1\",Dati!D452,)","v":0},{"$f":"IF(Dati!E452=\"UD1\",Dati!D452,)","v":0},{"$f":"IF(Dati!E452=\"UE1\",Dati!D452,)","v":0}]
[{"$f":"Dati!C453","v":"00:00:00"},{"$f":"Dati!H453","v":"00:00:00"},{"$f":"IF(Dati!E453=\"UA1\",Dati!D453,)","v":0},{"$f":"IF(Dati!E453=\"UA2\",Dati!D453,)","v":0},{"$f":"IF(Dati!E453=\"UA3\",Dati!D453,)","v":0},{"$f":"IF(Dati!E453=\"UA4\",Dati!D453,)","v":0},{"$f":"IF(Dati!E453=\"UA5\",Dati!D453,)","v":0},{"$f":"IF(Dati!E453=\"UA6\",Dati!D453,)","v":0},{"$f":"IF(Dati!E453=\"UB1\",Dati!D453,)","v":0},{"$f":"IF(Dati!E453=\"UB2\",Dati!D453,)","v":0},{"$f":"IF(Dati!E453=\"UC1\",Dati!D453,)","v":0},{"$f":"IF(Dati!E453=\"UD1\",Dati!D453,)","v":0},{"$f":"IF(Dati!E453=\"UE1\",Dati!D453,)","v":0}]
[{"$f":"Dati!C454","v":"00:00:00"},{"$f":"Dati!H454","v":"00:00:00"},{"$f":"IF(Dati!E454=\"UA1\",Dati!D454,)","v":0},{"$f":"IF(Dati!E454=\"UA2\",Dati!D454,)","v":0},{"$f":"IF(Dati!E454=\"UA3\",Dati!D454,)","v":0},{"$f":"IF(Dati!E454=\"UA4\",Dati!D454,)","v":0},{"$f":"IF(Dati!E454=\"UA5\",Dati!D454,)","v":0},{"$f":"IF(Dati!E454=\"UA6\",Dati!D454,)","v":0},{"$f":"IF(Dati!E454=\"UB1\",Dati!D454,)","v":0},{"$f":"IF(Dati!E454=\"UB2\",Dati!D454,)","v":0},{"$f":"IF(Dati!E454=\"UC1\",Dati!D454,)","v":0},{"$f":"IF(Dati!E454=\"UD1\",Dati!D454,)","v":0},{"$f":"IF(Dati!E454=\"UE1\",Dati!D454,)","v":0}]
[{"$f":"Dati!C455","v":"00:00:00"},{"$f":"Dati!H455","v":"00:00:00"},{"$f":"IF(Dati!E455=\"UA1\",Dati!D455,)","v":0},{"$f":"IF(Dati!E455=\"UA2\",Dati!D455,)","v":0},{"$f":"IF(Dati!E455=\"UA3\",Dati!D455,)","v":0},{"$f":"IF(Dati!E455=\"UA4\",Dati!D455,)","v":0},{"$f":"IF(Dati!E455=\"UA5\",Dati!D455,)","v":0},{"$f":"IF(Dati!E455=\"UA6\",Dati!D455,)","v":0},{"$f":"IF(Dati!E455=\"UB1\",Dati!D455,)","v":0},{"$f":"IF(Dati!E455=\"UB2\",Dati!D455,)","v":0},{"$f":"IF(Dati!E455=\"UC1\",Dati!D455,)","v":0},{"$f":"IF(Dati!E455=\"UD1\",Dati!D455,)","v":0},{"$f":"IF(Dati!E455=\"UE1\",Dati!D455,)","v":0}]
[{"$f":"Dati!C456","v":"00:00:00"},{"$f":"Dati!H456","v":"00:00:00"},{"$f":"IF(Dati!E456=\"UA1\",Dati!D456,)","v":0},{"$f":"IF(Dati!E456=\"UA2\",Dati!D456,)","v":0},{"$f":"IF(Dati!E456=\"UA3\",Dati!D456,)","v":0},{"$f":"IF(Dati!E456=\"UA4\",Dati!D456,)","v":0},{"$f":"IF(Dati!E456=\"UA5\",Dati!D456,)","v":0},{"$f":"IF(Dati!E456=\"UA6\",Dati!D456,)","v":0},{"$f":"IF(Dati!E456=\"UB1\",Dati!D456,)","v":0},{"$f":"IF(Dati!E456=\"UB2\",Dati!D456,)","v":0},{"$f":"IF(Dati!E456=\"UC1\",Dati!D456,)","v":0},{"$f":"IF(Dati!E456=\"UD1\",Dati!D456,)","v":0},{"$f":"IF(Dati!E456=\"UE1\",Dati!D456,)","v":0}]
[{"$f":"Dati!C457","v":"00:00:00"},{"$f":"Dati!H457","v":"00:00:00"},{"$f":"IF(Dati!E457=\"UA1\",Dati!D457,)","v":0},{"$f":"IF(Dati!E457=\"UA2\",Dati!D457,)","v":0},{"$f":"IF(Dati!E457=\"UA3\",Dati!D457,)","v":0},{"$f":"IF(Dati!E457=\"UA4\",Dati!D457,)","v":0},{"$f":"IF(Dati!E457=\"UA5\",Dati!D457,)","v":0},{"$f":"IF(Dati!E457=\"UA6\",Dati!D457,)","v":0},{"$f":"IF(Dati!E457=\"UB1\",Dati!D457,)","v":0},{"$f":"IF(Dati!E457=\"UB2\",Dati!D457,)","v":0},{"$f":"IF(Dati!E457=\"UC1\",Dati!D457,)","v":0},{"$f":"IF(Dati!E457=\"UD1\",Dati!D457,)","v":0},{"$f":"IF(Dati!E457=\"UE1\",Dati!D457,)","v":0}]
[{"$f":"Dati!C458","v":"00:00:00"},{"$f":"Dati!H458","v":"00:00:00"},{"$f":"IF(Dati!E458=\"UA1\",Dati!D458,)","v":0},{"$f":"IF(Dati!E458=\"UA2\",Dati!D458,)","v":0},{"$f":"IF(Dati!E458=\"UA3\",Dati!D458,)","v":0},{"$f":"IF(Dati!E458=\"UA4\",Dati!D458,)","v":0},{"$f":"IF(Dati!E458=\"UA5\",Dati!D458,)","v":0},{"$f":"IF(Dati!E458=\"UA6\",Dati!D458,)","v":0},{"$f":"IF(Dati!E458=\"UB1\",Dati!D458,)","v":0},{"$f":"IF(Dati!E458=\"UB2\",Dati!D458,)","v":0},{"$f":"IF(Dati!E458=\"UC1\",Dati!D458,)","v":0},{"$f":"IF(Dati!E458=\"UD1\",Dati!D458,)","v":0},{"$f":"IF(Dati!E458=\"UE1\",Dati!D458,)","v":0}]
[{"$f":"Dati!C459","v":"00:00:00"},{"$f":"Dati!H459","v":"00:00:00"},{"$f":"IF(Dati!E459=\"UA1\",Dati!D459,)","v":0},{"$f":"IF(Dati!E459=\"UA2\",Dati!D459,)","v":0},{"$f":"IF(Dati!E459=\"UA3\",Dati!D459,)","v":0},{"$f":"IF(Dati!E459=\"UA4\",Dati!D459,)","v":0},{"$f":"IF(Dati!E459=\"UA5\",Dati!D459,)","v":0},{"$f":"IF(Dati!E459=\"UA6\",Dati!D459,)","v":0},{"$f":"IF(Dati!E459=\"UB1\",Dati!D459,)","v":0},{"$f":"IF(Dati!E459=\"UB2\",Dati!D459,)","v":0},{"$f":"IF(Dati!E459=\"UC1\",Dati!D459,)","v":0},{"$f":"IF(Dati!E459=\"UD1\",Dati!D459,)","v":0},{"$f":"IF(Dati!E459=\"UE1\",Dati!D459,)","v":0}]
[{"$f":"Dati!C460","v":"00:00:00"},{"$f":"Dati!H460","v":"00:00:00"},{"$f":"IF(Dati!E460=\"UA1\",Dati!D460,)","v":0},{"$f":"IF(Dati!E460=\"UA2\",Dati!D460,)","v":0},{"$f":"IF(Dati!E460=\"UA3\",Dati!D460,)","v":0},{"$f":"IF(Dati!E460=\"UA4\",Dati!D460,)","v":0},{"$f":"IF(Dati!E460=\"UA5\",Dati!D460,)","v":0},{"$f":"IF(Dati!E460=\"UA6\",Dati!D460,)","v":0},{"$f":"IF(Dati!E460=\"UB1\",Dati!D460,)","v":0},{"$f":"IF(Dati!E460=\"UB2\",Dati!D460,)","v":0},{"$f":"IF(Dati!E460=\"UC1\",Dati!D460,)","v":0},{"$f":"IF(Dati!E460=\"UD1\",Dati!D460,)","v":0},{"$f":"IF(Dati!E460=\"UE1\",Dati!D460,)","v":0}]
[{"$f":"Dati!C461","v":"00:00:00"},{"$f":"Dati!H461","v":"00:00:00"},{"$f":"IF(Dati!E461=\"UA1\",Dati!D461,)","v":0},{"$f":"IF(Dati!E461=\"UA2\",Dati!D461,)","v":0},{"$f":"IF(Dati!E461=\"UA3\",Dati!D461,)","v":0},{"$f":"IF(Dati!E461=\"UA4\",Dati!D461,)","v":0},{"$f":"IF(Dati!E461=\"UA5\",Dati!D461,)","v":0},{"$f":"IF(Dati!E461=\"UA6\",Dati!D461,)","v":0},{"$f":"IF(Dati!E461=\"UB1\",Dati!D461,)","v":0},{"$f":"IF(Dati!E461=\"UB2\",Dati!D461,)","v":0},{"$f":"IF(Dati!E461=\"UC1\",Dati!D461,)","v":0},{"$f":"IF(Dati!E461=\"UD1\",Dati!D461,)","v":0},{"$f":"IF(Dati!E461=\"UE1\",Dati!D461,)","v":0}]
[{"$f":"Dati!C462","v":"00:00:00"},{"$f":"Dati!H462","v":"00:00:00"},{"$f":"IF(Dati!E462=\"UA1\",Dati!D462,)","v":0},{"$f":"IF(Dati!E462=\"UA2\",Dati!D462,)","v":0},{"$f":"IF(Dati!E462=\"UA3\",Dati!D462,)","v":0},{"$f":"IF(Dati!E462=\"UA4\",Dati!D462,)","v":0},{"$f":"IF(Dati!E462=\"UA5\",Dati!D462,)","v":0},{"$f":"IF(Dati!E462=\"UA6\",Dati!D462,)","v":0},{"$f":"IF(Dati!E462=\"UB1\",Dati!D462,)","v":0},{"$f":"IF(Dati!E462=\"UB2\",Dati!D462,)","v":0},{"$f":"IF(Dati!E462=\"UC1\",Dati!D462,)","v":0},{"$f":"IF(Dati!E462=\"UD1\",Dati!D462,)","v":0},{"$f":"IF(Dati!E462=\"UE1\",Dati!D462,)","v":0}]
[{"$f":"Dati!C463","v":"00:00:00"},{"$f":"Dati!H463","v":"00:00:00"},{"$f":"IF(Dati!E463=\"UA1\",Dati!D463,)","v":0},{"$f":"IF(Dati!E463=\"UA2\",Dati!D463,)","v":0},{"$f":"IF(Dati!E463=\"UA3\",Dati!D463,)","v":0},{"$f":"IF(Dati!E463=\"UA4\",Dati!D463,)","v":0},{"$f":"IF(Dati!E463=\"UA5\",Dati!D463,)","v":0},{"$f":"IF(Dati!E463=\"UA6\",Dati!D463,)","v":0},{"$f":"IF(Dati!E463=\"UB1\",Dati!D463,)","v":0},{"$f":"IF(Dati!E463=\"UB2\",Dati!D463,)","v":0},{"$f":"IF(Dati!E463=\"UC1\",Dati!D463,)","v":0},{"$f":"IF(Dati!E463=\"UD1\",Dati!D463,)","v":0},{"$f":"IF(Dati!E463=\"UE1\",Dati!D463,)","v":0}]
[{"$f":"Dati!C464","v":"00:00:00"},{"$f":"Dati!H464","v":"00:00:00"},{"$f":"IF(Dati!E464=\"UA1\",Dati!D464,)","v":0},{"$f":"IF(Dati!E464=\"UA2\",Dati!D464,)","v":0},{"$f":"IF(Dati!E464=\"UA3\",Dati!D464,)","v":0},{"$f":"IF(Dati!E464=\"UA4\",Dati!D464,)","v":0},{"$f":"IF(Dati!E464=\"UA5\",Dati!D464,)","v":0},{"$f":"IF(Dati!E464=\"UA6\",Dati!D464,)","v":0},{"$f":"IF(Dati!E464=\"UB1\",Dati!D464,)","v":0},{"$f":"IF(Dati!E464=\"UB2\",Dati!D464,)","v":0},{"$f":"IF(Dati!E464=\"UC1\",Dati!D464,)","v":0},{"$f":"IF(Dati!E464=\"UD1\",Dati!D464,)","v":0},{"$f":"IF(Dati!E464=\"UE1\",Dati!D464,)","v":0}]
[{"$f":"Dati!C465","v":"00:00:00"},{"$f":"Dati!H465","v":"00:00:00"},{"$f":"IF(Dati!E465=\"UA1\",Dati!D465,)","v":0},{"$f":"IF(Dati!E465=\"UA2\",Dati!D465,)","v":0},{"$f":"IF(Dati!E465=\"UA3\",Dati!D465,)","v":0},{"$f":"IF(Dati!E465=\"UA4\",Dati!D465,)","v":0},{"$f":"IF(Dati!E465=\"UA5\",Dati!D465,)","v":0},{"$f":"IF(Dati!E465=\"UA6\",Dati!D465,)","v":0},{"$f":"IF(Dati!E465=\"UB1\",Dati!D465,)","v":0},{"$f":"IF(Dati!E465=\"UB2\",Dati!D465,)","v":0},{"$f":"IF(Dati!E465=\"UC1\",Dati!D465,)","v":0},{"$f":"IF(Dati!E465=\"UD1\",Dati!D465,)","v":0},{"$f":"IF(Dati!E465=\"UE1\",Dati!D465,)","v":0}]
[{"$f":"Dati!C466","v":"00:00:00"},{"$f":"Dati!H466","v":"00:00:00"},{"$f":"IF(Dati!E466=\"UA1\",Dati!D466,)","v":0},{"$f":"IF(Dati!E466=\"UA2\",Dati!D466,)","v":0},{"$f":"IF(Dati!E466=\"UA3\",Dati!D466,)","v":0},{"$f":"IF(Dati!E466=\"UA4\",Dati!D466,)","v":0},{"$f":"IF(Dati!E466=\"UA5\",Dati!D466,)","v":0},{"$f":"IF(Dati!E466=\"UA6\",Dati!D466,)","v":0},{"$f":"IF(Dati!E466=\"UB1\",Dati!D466,)","v":0},{"$f":"IF(Dati!E466=\"UB2\",Dati!D466,)","v":0},{"$f":"IF(Dati!E466=\"UC1\",Dati!D466,)","v":0},{"$f":"IF(Dati!E466=\"UD1\",Dati!D466,)","v":0},{"$f":"IF(Dati!E466=\"UE1\",Dati!D466,)","v":0}]
[{"$f":"Dati!C467","v":"00:00:00"},{"$f":"Dati!H467","v":"00:00:00"},{"$f":"IF(Dati!E467=\"UA1\",Dati!D467,)","v":0},{"$f":"IF(Dati!E467=\"UA2\",Dati!D467,)","v":0},{"$f":"IF(Dati!E467=\"UA3\",Dati!D467,)","v":0},{"$f":"IF(Dati!E467=\"UA4\",Dati!D467,)","v":0},{"$f":"IF(Dati!E467=\"UA5\",Dati!D467,)","v":0},{"$f":"IF(Dati!E467=\"UA6\",Dati!D467,)","v":0},{"$f":"IF(Dati!E467=\"UB1\",Dati!D467,)","v":0},{"$f":"IF(Dati!E467=\"UB2\",Dati!D467,)","v":0},{"$f":"IF(Dati!E467=\"UC1\",Dati!D467,)","v":0},{"$f":"IF(Dati!E467=\"UD1\",Dati!D467,)","v":0},{"$f":"IF(Dati!E467=\"UE1\",Dati!D467,)","v":0}]
[{"$f":"Dati!C468","v":"00:00:00"},{"$f":"Dati!H468","v":"00:00:00"},{"$f":"IF(Dati!E468=\"UA1\",Dati!D468,)","v":0},{"$f":"IF(Dati!E468=\"UA2\",Dati!D468,)","v":0},{"$f":"IF(Dati!E468=\"UA3\",Dati!D468,)","v":0},{"$f":"IF(Dati!E468=\"UA4\",Dati!D468,)","v":0},{"$f":"IF(Dati!E468=\"UA5\",Dati!D468,)","v":0},{"$f":"IF(Dati!E468=\"UA6\",Dati!D468,)","v":0},{"$f":"IF(Dati!E468=\"UB1\",Dati!D468,)","v":0},{"$f":"IF(Dati!E468=\"UB2\",Dati!D468,)","v":0},{"$f":"IF(Dati!E468=\"UC1\",Dati!D468,)","v":0},{"$f":"IF(Dati!E468=\"UD1\",Dati!D468,)","v":0},{"$f":"IF(Dati!E468=\"UE1\",Dati!D468,)","v":0}]
[{"$f":"Dati!C469","v":"00:00:00"},{"$f":"Dati!H469","v":"00:00:00"},{"$f":"IF(Dati!E469=\"UA1\",Dati!D469,)","v":0},{"$f":"IF(Dati!E469=\"UA2\",Dati!D469,)","v":0},{"$f":"IF(Dati!E469=\"UA3\",Dati!D469,)","v":0},{"$f":"IF(Dati!E469=\"UA4\",Dati!D469,)","v":0},{"$f":"IF(Dati!E469=\"UA5\",Dati!D469,)","v":0},{"$f":"IF(Dati!E469=\"UA6\",Dati!D469,)","v":0},{"$f":"IF(Dati!E469=\"UB1\",Dati!D469,)","v":0},{"$f":"IF(Dati!E469=\"UB2\",Dati!D469,)","v":0},{"$f":"IF(Dati!E469=\"UC1\",Dati!D469,)","v":0},{"$f":"IF(Dati!E469=\"UD1\",Dati!D469,)","v":0},{"$f":"IF(Dati!E469=\"UE1\",Dati!D469,)","v":0}]
[{"$f":"Dati!C470","v":"00:00:00"},{"$f":"Dati!H470","v":"00:00:00"},{"$f":"IF(Dati!E470=\"UA1\",Dati!D470,)","v":0},{"$f":"IF(Dati!E470=\"UA2\",Dati!D470,)","v":0},{"$f":"IF(Dati!E470=\"UA3\",Dati!D470,)","v":0},{"$f":"IF(Dati!E470=\"UA4\",Dati!D470,)","v":0},{"$f":"IF(Dati!E470=\"UA5\",Dati!D470,)","v":0},{"$f":"IF(Dati!E470=\"UA6\",Dati!D470,)","v":0},{"$f":"IF(Dati!E470=\"UB1\",Dati!D470,)","v":0},{"$f":"IF(Dati!E470=\"UB2\",Dati!D470,)","v":0},{"$f":"IF(Dati!E470=\"UC1\",Dati!D470,)","v":0},{"$f":"IF(Dati!E470=\"UD1\",Dati!D470,)","v":0},{"$f":"IF(Dati!E470=\"UE1\",Dati!D470,)","v":0}]
[{"$f":"Dati!C471","v":"00:00:00"},{"$f":"Dati!H471","v":"00:00:00"},{"$f":"IF(Dati!E471=\"UA1\",Dati!D471,)","v":0},{"$f":"IF(Dati!E471=\"UA2\",Dati!D471,)","v":0},{"$f":"IF(Dati!E471=\"UA3\",Dati!D471,)","v":0},{"$f":"IF(Dati!E471=\"UA4\",Dati!D471,)","v":0},{"$f":"IF(Dati!E471=\"UA5\",Dati!D471,)","v":0},{"$f":"IF(Dati!E471=\"UA6\",Dati!D471,)","v":0},{"$f":"IF(Dati!E471=\"UB1\",Dati!D471,)","v":0},{"$f":"IF(Dati!E471=\"UB2\",Dati!D471,)","v":0},{"$f":"IF(Dati!E471=\"UC1\",Dati!D471,)","v":0},{"$f":"IF(Dati!E471=\"UD1\",Dati!D471,)","v":0},{"$f":"IF(Dati!E471=\"UE1\",Dati!D471,)","v":0}]
[{"$f":"Dati!C472","v":"00:00:00"},{"$f":"Dati!H472","v":"00:00:00"},{"$f":"IF(Dati!E472=\"UA1\",Dati!D472,)","v":0},{"$f":"IF(Dati!E472=\"UA2\",Dati!D472,)","v":0},{"$f":"IF(Dati!E472=\"UA3\",Dati!D472,)","v":0},{"$f":"IF(Dati!E472=\"UA4\",Dati!D472,)","v":0},{"$f":"IF(Dati!E472=\"UA5\",Dati!D472,)","v":0},{"$f":"IF(Dati!E472=\"UA6\",Dati!D472,)","v":0},{"$f":"IF(Dati!E472=\"UB1\",Dati!D472,)","v":0},{"$f":"IF(Dati!E472=\"UB2\",Dati!D472,)","v":0},{"$f":"IF(Dati!E472=\"UC1\",Dati!D472,)","v":0},{"$f":"IF(Dati!E472=\"UD1\",Dati!D472,)","v":0},{"$f":"IF(Dati!E472=\"UE1\",Dati!D472,)","v":0}]
[{"$f":"Dati!C473","v":"00:00:00"},{"$f":"Dati!H473","v":"00:00:00"},{"$f":"IF(Dati!E473=\"UA1\",Dati!D473,)","v":0},{"$f":"IF(Dati!E473=\"UA2\",Dati!D473,)","v":0},{"$f":"IF(Dati!E473=\"UA3\",Dati!D473,)","v":0},{"$f":"IF(Dati!E473=\"UA4\",Dati!D473,)","v":0},{"$f":"IF(Dati!E473=\"UA5\",Dati!D473,)","v":0},{"$f":"IF(Dati!E473=\"UA6\",Dati!D473,)","v":0},{"$f":"IF(Dati!E473=\"UB1\",Dati!D473,)","v":0},{"$f":"IF(Dati!E473=\"UB2\",Dati!D473,)","v":0},{"$f":"IF(Dati!E473=\"UC1\",Dati!D473,)","v":0},{"$f":"IF(Dati!E473=\"UD1\",Dati!D473,)","v":0},{"$f":"IF(Dati!E473=\"UE1\",Dati!D473,)","v":0}]
[{"$f":"Dati!C474","v":"00:00:00"},{"$f":"Dati!H474","v":"00:00:00"},{"$f":"IF(Dati!E474=\"UA1\",Dati!D474,)","v":0},{"$f":"IF(Dati!E474=\"UA2\",Dati!D474,)","v":0},{"$f":"IF(Dati!E474=\"UA3\",Dati!D474,)","v":0},{"$f":"IF(Dati!E474=\"UA4\",Dati!D474,)","v":0},{"$f":"IF(Dati!E474=\"UA5\",Dati!D474,)","v":0},{"$f":"IF(Dati!E474=\"UA6\",Dati!D474,)","v":0},{"$f":"IF(Dati!E474=\"UB1\",Dati!D474,)","v":0},{"$f":"IF(Dati!E474=\"UB2\",Dati!D474,)","v":0},{"$f":"IF(Dati!E474=\"UC1\",Dati!D474,)","v":0},{"$f":"IF(Dati!E474=\"UD1\",Dati!D474,)","v":0},{"$f":"IF(Dati!E474=\"UE1\",Dati!D474,)","v":0}]
[{"$f":"Dati!C475","v":"00:00:00"},{"$f":"Dati!H475","v":"00:00:00"},{"$f":"IF(Dati!E475=\"UA1\",Dati!D475,)","v":0},{"$f":"IF(Dati!E475=\"UA2\",Dati!D475,)","v":0},{"$f":"IF(Dati!E475=\"UA3\",Dati!D475,)","v":0},{"$f":"IF(Dati!E475=\"UA4\",Dati!D475,)","v":0},{"$f":"IF(Dati!E475=\"UA5\",Dati!D475,)","v":0},{"$f":"IF(Dati!E475=\"UA6\",Dati!D475,)","v":0},{"$f":"IF(Dati!E475=\"UB1\",Dati!D475,)","v":0},{"$f":"IF(Dati!E475=\"UB2\",Dati!D475,)","v":0},{"$f":"IF(Dati!E475=\"UC1\",Dati!D475,)","v":0},{"$f":"IF(Dati!E475=\"UD1\",Dati!D475,)","v":0},{"$f":"IF(Dati!E475=\"UE1\",Dati!D475,)","v":0}]
[{"$f":"Dati!C476","v":"00:00:00"},{"$f":"Dati!H476","v":"00:00:00"},{"$f":"IF(Dati!E476=\"UA1\",Dati!D476,)","v":0},{"$f":"IF(Dati!E476=\"UA2\",Dati!D476,)","v":0},{"$f":"IF(Dati!E476=\"UA3\",Dati!D476,)","v":0},{"$f":"IF(Dati!E476=\"UA4\",Dati!D476,)","v":0},{"$f":"IF(Dati!E476=\"UA5\",Dati!D476,)","v":0},{"$f":"IF(Dati!E476=\"UA6\",Dati!D476,)","v":0},{"$f":"IF(Dati!E476=\"UB1\",Dati!D476,)","v":0},{"$f":"IF(Dati!E476=\"UB2\",Dati!D476,)","v":0},{"$f":"IF(Dati!E476=\"UC1\",Dati!D476,)","v":0},{"$f":"IF(Dati!E476=\"UD1\",Dati!D476,)","v":0},{"$f":"IF(Dati!E476=\"UE1\",Dati!D476,)","v":0}]
[{"$f":"Dati!C477","v":"00:00:00"},{"$f":"Dati!H477","v":"00:00:00"},{"$f":"IF(Dati!E477=\"UA1\",Dati!D477,)","v":0},{"$f":"IF(Dati!E477=\"UA2\",Dati!D477,)","v":0},{"$f":"IF(Dati!E477=\"UA3\",Dati!D477,)","v":0},{"$f":"IF(Dati!E477=\"UA4\",Dati!D477,)","v":0},{"$f":"IF(Dati!E477=\"UA5\",Dati!D477,)","v":0},{"$f":"IF(Dati!E477=\"UA6\",Dati!D477,)","v":0},{"$f":"IF(Dati!E477=\"UB1\",Dati!D477,)","v":0},{"$f":"IF(Dati!E477=\"UB2\",Dati!D477,)","v":0},{"$f":"IF(Dati!E477=\"UC1\",Dati!D477,)","v":0},{"$f":"IF(Dati!E477=\"UD1\",Dati!D477,)","v":0},{"$f":"IF(Dati!E477=\"UE1\",Dati!D477,)","v":0}]
[{"$f":"Dati!C478","v":"00:00:00"},{"$f":"Dati!H478","v":"00:00:00"},{"$f":"IF(Dati!E478=\"UA1\",Dati!D478,)","v":0},{"$f":"IF(Dati!E478=\"UA2\",Dati!D478,)","v":0},{"$f":"IF(Dati!E478=\"UA3\",Dati!D478,)","v":0},{"$f":"IF(Dati!E478=\"UA4\",Dati!D478,)","v":0},{"$f":"IF(Dati!E478=\"UA5\",Dati!D478,)","v":0},{"$f":"IF(Dati!E478=\"UA6\",Dati!D478,)","v":0},{"$f":"IF(Dati!E478=\"UB1\",Dati!D478,)","v":0},{"$f":"IF(Dati!E478=\"UB2\",Dati!D478,)","v":0},{"$f":"IF(Dati!E478=\"UC1\",Dati!D478,)","v":0},{"$f":"IF(Dati!E478=\"UD1\",Dati!D478,)","v":0},{"$f":"IF(Dati!E478=\"UE1\",Dati!D478,)","v":0}]
[{"$f":"Dati!C479","v":"00:00:00"},{"$f":"Dati!H479","v":"00:00:00"},{"$f":"IF(Dati!E479=\"UA1\",Dati!D479,)","v":0},{"$f":"IF(Dati!E479=\"UA2\",Dati!D479,)","v":0},{"$f":"IF(Dati!E479=\"UA3\",Dati!D479,)","v":0},{"$f":"IF(Dati!E479=\"UA4\",Dati!D479,)","v":0},{"$f":"IF(Dati!E479=\"UA5\",Dati!D479,)","v":0},{"$f":"IF(Dati!E479=\"UA6\",Dati!D479,)","v":0},{"$f":"IF(Dati!E479=\"UB1\",Dati!D479,)","v":0},{"$f":"IF(Dati!E479=\"UB2\",Dati!D479,)","v":0},{"$f":"IF(Dati!E479=\"UC1\",Dati!D479,)","v":0},{"$f":"IF(Dati!E479=\"UD1\",Dati!D479,)","v":0},{"$f":"IF(Dati!E479=\"UE1\",Dati!D479,)","v":0}]
[{"$f":"Dati!C480","v":"00:00:00"},{"$f":"Dati!H480","v":"00:00:00"},{"$f":"IF(Dati!E480=\"UA1\",Dati!D480,)","v":0},{"$f":"IF(Dati!E480=\"UA2\",Dati!D480,)","v":0},{"$f":"IF(Dati!E480=\"UA3\",Dati!D480,)","v":0},{"$f":"IF(Dati!E480=\"UA4\",Dati!D480,)","v":0},{"$f":"IF(Dati!E480=\"UA5\",Dati!D480,)","v":0},{"$f":"IF(Dati!E480=\"UA6\",Dati!D480,)","v":0},{"$f":"IF(Dati!E480=\"UB1\",Dati!D480,)","v":0},{"$f":"IF(Dati!E480=\"UB2\",Dati!D480,)","v":0},{"$f":"IF(Dati!E480=\"UC1\",Dati!D480,)","v":0},{"$f":"IF(Dati!E480=\"UD1\",Dati!D480,)","v":0},{"$f":"IF(Dati!E480=\"UE1\",Dati!D480,)","v":0}]
[{"$f":"Dati!C481","v":"00:00:00"},{"$f":"Dati!H481","v":"00:00:00"},{"$f":"IF(Dati!E481=\"UA1\",Dati!D481,)","v":0},{"$f":"IF(Dati!E481=\"UA2\",Dati!D481,)","v":0},{"$f":"IF(Dati!E481=\"UA3\",Dati!D481,)","v":0},{"$f":"IF(Dati!E481=\"UA4\",Dati!D481,)","v":0},{"$f":"IF(Dati!E481=\"UA5\",Dati!D481,)","v":0},{"$f":"IF(Dati!E481=\"UA6\",Dati!D481,)","v":0},{"$f":"IF(Dati!E481=\"UB1\",Dati!D481,)","v":0},{"$f":"IF(Dati!E481=\"UB2\",Dati!D481,)","v":0},{"$f":"IF(Dati!E481=\"UC1\",Dati!D481,)","v":0},{"$f":"IF(Dati!E481=\"UD1\",Dati!D481,)","v":0},{"$f":"IF(Dati!E481=\"UE1\",Dati!D481,)","v":0}]
[{"$f":"Dati!C482","v":"00:00:00"},{"$f":"Dati!H482","v":"00:00:00"},{"$f":"IF(Dati!E482=\"UA1\",Dati!D482,)","v":0},{"$f":"IF(Dati!E482=\"UA2\",Dati!D482,)","v":0},{"$f":"IF(Dati!E482=\"UA3\",Dati!D482,)","v":0},{"$f":"IF(Dati!E482=\"UA4\",Dati!D482,)","v":0},{"$f":"IF(Dati!E482=\"UA5\",Dati!D482,)","v":0},{"$f":"IF(Dati!E482=\"UA6\",Dati!D482,)","v":0},{"$f":"IF(Dati!E482=\"UB1\",Dati!D482,)","v":0},{"$f":"IF(Dati!E482=\"UB2\",Dati!D482,)","v":0},{"$f":"IF(Dati!E482=\"UC1\",Dati!D482,)","v":0},{"$f":"IF(Dati!E482=\"UD1\",Dati!D482,)","v":0},{"$f":"IF(Dati!E482=\"UE1\",Dati!D482,)","v":0}]
[{"$f":"Dati!C483","v":"00:00:00"},{"$f":"Dati!H483","v":"00:00:00"},{"$f":"IF(Dati!E483=\"UA1\",Dati!D483,)","v":0},{"$f":"IF(Dati!E483=\"UA2\",Dati!D483,)","v":0},{"$f":"IF(Dati!E483=\"UA3\",Dati!D483,)","v":0},{"$f":"IF(Dati!E483=\"UA4\",Dati!D483,)","v":0},{"$f":"IF(Dati!E483=\"UA5\",Dati!D483,)","v":0},{"$f":"IF(Dati!E483=\"UA6\",Dati!D483,)","v":0},{"$f":"IF(Dati!E483=\"UB1\",Dati!D483,)","v":0},{"$f":"IF(Dati!E483=\"UB2\",Dati!D483,)","v":0},{"$f":"IF(Dati!E483=\"UC1\",Dati!D483,)","v":0},{"$f":"IF(Dati!E483=\"UD1\",Dati!D483,)","v":0},{"$f":"IF(Dati!E483=\"UE1\",Dati!D483,)","v":0}]
[{"$f":"Dati!C484","v":"00:00:00"},{"$f":"Dati!H484","v":"00:00:00"},{"$f":"IF(Dati!E484=\"UA1\",Dati!D484,)","v":0},{"$f":"IF(Dati!E484=\"UA2\",Dati!D484,)","v":0},{"$f":"IF(Dati!E484=\"UA3\",Dati!D484,)","v":0},{"$f":"IF(Dati!E484=\"UA4\",Dati!D484,)","v":0},{"$f":"IF(Dati!E484=\"UA5\",Dati!D484,)","v":0},{"$f":"IF(Dati!E484=\"UA6\",Dati!D484,)","v":0},{"$f":"IF(Dati!E484=\"UB1\",Dati!D484,)","v":0},{"$f":"IF(Dati!E484=\"UB2\",Dati!D484,)","v":0},{"$f":"IF(Dati!E484=\"UC1\",Dati!D484,)","v":0},{"$f":"IF(Dati!E484=\"UD1\",Dati!D484,)","v":0},{"$f":"IF(Dati!E484=\"UE1\",Dati!D484,)","v":0}]
[{"$f":"Dati!C485","v":"00:00:00"},{"$f":"Dati!H485","v":"00:00:00"},{"$f":"IF(Dati!E485=\"UA1\",Dati!D485,)","v":0},{"$f":"IF(Dati!E485=\"UA2\",Dati!D485,)","v":0},{"$f":"IF(Dati!E485=\"UA3\",Dati!D485,)","v":0},{"$f":"IF(Dati!E485=\"UA4\",Dati!D485,)","v":0},{"$f":"IF(Dati!E485=\"UA5\",Dati!D485,)","v":0},{"$f":"IF(Dati!E485=\"UA6\",Dati!D485,)","v":0},{"$f":"IF(Dati!E485=\"UB1\",Dati!D485,)","v":0},{"$f":"IF(Dati!E485=\"UB2\",Dati!D485,)","v":0},{"$f":"IF(Dati!E485=\"UC1\",Dati!D485,)","v":0},{"$f":"IF(Dati!E485=\"UD1\",Dati!D485,)","v":0},{"$f":"IF(Dati!E485=\"UE1\",Dati!D485,)","v":0}]
[{"$f":"Dati!C486","v":"00:00:00"},{"$f":"Dati!H486","v":"00:00:00"},{"$f":"IF(Dati!E486=\"UA1\",Dati!D486,)","v":0},{"$f":"IF(Dati!E486=\"UA2\",Dati!D486,)","v":0},{"$f":"IF(Dati!E486=\"UA3\",Dati!D486,)","v":0},{"$f":"IF(Dati!E486=\"UA4\",Dati!D486,)","v":0},{"$f":"IF(Dati!E486=\"UA5\",Dati!D486,)","v":0},{"$f":"IF(Dati!E486=\"UA6\",Dati!D486,)","v":0},{"$f":"IF(Dati!E486=\"UB1\",Dati!D486,)","v":0},{"$f":"IF(Dati!E486=\"UB2\",Dati!D486,)","v":0},{"$f":"IF(Dati!E486=\"UC1\",Dati!D486,)","v":0},{"$f":"IF(Dati!E486=\"UD1\",Dati!D486,)","v":0},{"$f":"IF(Dati!E486=\"UE1\",Dati!D486,)","v":0}]
[{"$f":"Dati!C487","v":"00:00:00"},{"$f":"Dati!H487","v":"00:00:00"},{"$f":"IF(Dati!E487=\"UA1\",Dati!D487,)","v":0},{"$f":"IF(Dati!E487=\"UA2\",Dati!D487,)","v":0},{"$f":"IF(Dati!E487=\"UA3\",Dati!D487,)","v":0},{"$f":"IF(Dati!E487=\"UA4\",Dati!D487,)","v":0},{"$f":"IF(Dati!E487=\"UA5\",Dati!D487,)","v":0},{"$f":"IF(Dati!E487=\"UA6\",Dati!D487,)","v":0},{"$f":"IF(Dati!E487=\"UB1\",Dati!D487,)","v":0},{"$f":"IF(Dati!E487=\"UB2\",Dati!D487,)","v":0},{"$f":"IF(Dati!E487=\"UC1\",Dati!D487,)","v":0},{"$f":"IF(Dati!E487=\"UD1\",Dati!D487,)","v":0},{"$f":"IF(Dati!E487=\"UE1\",Dati!D487,)","v":0}]
[{"$f":"Dati!C488","v":"00:00:00"},{"$f":"Dati!H488","v":"00:00:00"},{"$f":"IF(Dati!E488=\"UA1\",Dati!D488,)","v":0},{"$f":"IF(Dati!E488=\"UA2\",Dati!D488,)","v":0},{"$f":"IF(Dati!E488=\"UA3\",Dati!D488,)","v":0},{"$f":"IF(Dati!E488=\"UA4\",Dati!D488,)","v":0},{"$f":"IF(Dati!E488=\"UA5\",Dati!D488,)","v":0},{"$f":"IF(Dati!E488=\"UA6\",Dati!D488,)","v":0},{"$f":"IF(Dati!E488=\"UB1\",Dati!D488,)","v":0},{"$f":"IF(Dati!E488=\"UB2\",Dati!D488,)","v":0},{"$f":"IF(Dati!E488=\"UC1\",Dati!D488,)","v":0},{"$f":"IF(Dati!E488=\"UD1\",Dati!D488,)","v":0},{"$f":"IF(Dati!E488=\"UE1\",Dati!D488,)","v":0}]
[{"$f":"Dati!C489","v":"00:00:00"},{"$f":"Dati!H489","v":"00:00:00"},{"$f":"IF(Dati!E489=\"UA1\",Dati!D489,)","v":0},{"$f":"IF(Dati!E489=\"UA2\",Dati!D489,)","v":0},{"$f":"IF(Dati!E489=\"UA3\",Dati!D489,)","v":0},{"$f":"IF(Dati!E489=\"UA4\",Dati!D489,)","v":0},{"$f":"IF(Dati!E489=\"UA5\",Dati!D489,)","v":0},{"$f":"IF(Dati!E489=\"UA6\",Dati!D489,)","v":0},{"$f":"IF(Dati!E489=\"UB1\",Dati!D489,)","v":0},{"$f":"IF(Dati!E489=\"UB2\",Dati!D489,)","v":0},{"$f":"IF(Dati!E489=\"UC1\",Dati!D489,)","v":0},{"$f":"IF(Dati!E489=\"UD1\",Dati!D489,)","v":0},{"$f":"IF(Dati!E489=\"UE1\",Dati!D489,)","v":0}]
[{"$f":"Dati!C490","v":"00:00:00"},{"$f":"Dati!H490","v":"00:00:00"},{"$f":"IF(Dati!E490=\"UA1\",Dati!D490,)","v":0},{"$f":"IF(Dati!E490=\"UA2\",Dati!D490,)","v":0},{"$f":"IF(Dati!E490=\"UA3\",Dati!D490,)","v":0},{"$f":"IF(Dati!E490=\"UA4\",Dati!D490,)","v":0},{"$f":"IF(Dati!E490=\"UA5\",Dati!D490,)","v":0},{"$f":"IF(Dati!E490=\"UA6\",Dati!D490,)","v":0},{"$f":"IF(Dati!E490=\"UB1\",Dati!D490,)","v":0},{"$f":"IF(Dati!E490=\"UB2\",Dati!D490,)","v":0},{"$f":"IF(Dati!E490=\"UC1\",Dati!D490,)","v":0},{"$f":"IF(Dati!E490=\"UD1\",Dati!D490,)","v":0},{"$f":"IF(Dati!E490=\"UE1\",Dati!D490,)","v":0}]
[{"$f":"Dati!C491","v":"00:00:00"},{"$f":"Dati!H491","v":"00:00:00"},{"$f":"IF(Dati!E491=\"UA1\",Dati!D491,)","v":0},{"$f":"IF(Dati!E491=\"UA2\",Dati!D491,)","v":0},{"$f":"IF(Dati!E491=\"UA3\",Dati!D491,)","v":0},{"$f":"IF(Dati!E491=\"UA4\",Dati!D491,)","v":0},{"$f":"IF(Dati!E491=\"UA5\",Dati!D491,)","v":0},{"$f":"IF(Dati!E491=\"UA6\",Dati!D491,)","v":0},{"$f":"IF(Dati!E491=\"UB1\",Dati!D491,)","v":0},{"$f":"IF(Dati!E491=\"UB2\",Dati!D491,)","v":0},{"$f":"IF(Dati!E491=\"UC1\",Dati!D491,)","v":0},{"$f":"IF(Dati!E491=\"UD1\",Dati!D491,)","v":0},{"$f":"IF(Dati!E491=\"UE1\",Dati!D491,)","v":0}]
[{"$f":"Dati!C492","v":"00:00:00"},{"$f":"Dati!H492","v":"00:00:00"},{"$f":"IF(Dati!E492=\"UA1\",Dati!D492,)","v":0},{"$f":"IF(Dati!E492=\"UA2\",Dati!D492,)","v":0},{"$f":"IF(Dati!E492=\"UA3\",Dati!D492,)","v":0},{"$f":"IF(Dati!E492=\"UA4\",Dati!D492,)","v":0},{"$f":"IF(Dati!E492=\"UA5\",Dati!D492,)","v":0},{"$f":"IF(Dati!E492=\"UA6\",Dati!D492,)","v":0},{"$f":"IF(Dati!E492=\"UB1\",Dati!D492,)","v":0},{"$f":"IF(Dati!E492=\"UB2\",Dati!D492,)","v":0},{"$f":"IF(Dati!E492=\"UC1\",Dati!D492,)","v":0},{"$f":"IF(Dati!E492=\"UD1\",Dati!D492,)","v":0},{"$f":"IF(Dati!E492=\"UE1\",Dati!D492,)","v":0}]
[{"$f":"Dati!C493","v":"00:00:00"},{"$f":"Dati!H493","v":"00:00:00"},{"$f":"IF(Dati!E493=\"UA1\",Dati!D493,)","v":0},{"$f":"IF(Dati!E493=\"UA2\",Dati!D493,)","v":0},{"$f":"IF(Dati!E493=\"UA3\",Dati!D493,)","v":0},{"$f":"IF(Dati!E493=\"UA4\",Dati!D493,)","v":0},{"$f":"IF(Dati!E493=\"UA5\",Dati!D493,)","v":0},{"$f":"IF(Dati!E493=\"UA6\",Dati!D493,)","v":0},{"$f":"IF(Dati!E493=\"UB1\",Dati!D493,)","v":0},{"$f":"IF(Dati!E493=\"UB2\",Dati!D493,)","v":0},{"$f":"IF(Dati!E493=\"UC1\",Dati!D493,)","v":0},{"$f":"IF(Dati!E493=\"UD1\",Dati!D493,)","v":0},{"$f":"IF(Dati!E493=\"UE1\",Dati!D493,)","v":0}]
[{"$f":"Dati!C494","v":"00:00:00"},{"$f":"Dati!H494","v":"00:00:00"},{"$f":"IF(Dati!E494=\"UA1\",Dati!D494,)","v":0},{"$f":"IF(Dati!E494=\"UA2\",Dati!D494,)","v":0},{"$f":"IF(Dati!E494=\"UA3\",Dati!D494,)","v":0},{"$f":"IF(Dati!E494=\"UA4\",Dati!D494,)","v":0},{"$f":"IF(Dati!E494=\"UA5\",Dati!D494,)","v":0},{"$f":"IF(Dati!E494=\"UA6\",Dati!D494,)","v":0},{"$f":"IF(Dati!E494=\"UB1\",Dati!D494,)","v":0},{"$f":"IF(Dati!E494=\"UB2\",Dati!D494,)","v":0},{"$f":"IF(Dati!E494=\"UC1\",Dati!D494,)","v":0},{"$f":"IF(Dati!E494=\"UD1\",Dati!D494,)","v":0},{"$f":"IF(Dati!E494=\"UE1\",Dati!D494,)","v":0}]
[{"$f":"Dati!C495","v":"00:00:00"},{"$f":"Dati!H495","v":"00:00:00"},{"$f":"IF(Dati!E495=\"UA1\",Dati!D495,)","v":0},{"$f":"IF(Dati!E495=\"UA2\",Dati!D495,)","v":0},{"$f":"IF(Dati!E495=\"UA3\",Dati!D495,)","v":0},{"$f":"IF(Dati!E495=\"UA4\",Dati!D495,)","v":0},{"$f":"IF(Dati!E495=\"UA5\",Dati!D495,)","v":0},{"$f":"IF(Dati!E495=\"UA6\",Dati!D495,)","v":0},{"$f":"IF(Dati!E495=\"UB1\",Dati!D495,)","v":0},{"$f":"IF(Dati!E495=\"UB2\",Dati!D495,)","v":0},{"$f":"IF(Dati!E495=\"UC1\",Dati!D495,)","v":0},{"$f":"IF(Dati!E495=\"UD1\",Dati!D495,)","v":0},{"$f":"IF(Dati!E495=\"UE1\",Dati!D495,)","v":0}]
[{"$f":"Dati!C496","v":"00:00:00"},{"$f":"Dati!H496","v":"00:00:00"},{"$f":"IF(Dati!E496=\"UA1\",Dati!D496,)","v":0},{"$f":"IF(Dati!E496=\"UA2\",Dati!D496,)","v":0},{"$f":"IF(Dati!E496=\"UA3\",Dati!D496,)","v":0},{"$f":"IF(Dati!E496=\"UA4\",Dati!D496,)","v":0},{"$f":"IF(Dati!E496=\"UA5\",Dati!D496,)","v":0},{"$f":"IF(Dati!E496=\"UA6\",Dati!D496,)","v":0},{"$f":"IF(Dati!E496=\"UB1\",Dati!D496,)","v":0},{"$f":"IF(Dati!E496=\"UB2\",Dati!D496,)","v":0},{"$f":"IF(Dati!E496=\"UC1\",Dati!D496,)","v":0},{"$f":"IF(Dati!E496=\"UD1\",Dati!D496,)","v":0},{"$f":"IF(Dati!E496=\"UE1\",Dati!D496,)","v":0}]
[{"$f":"Dati!C497","v":"00:00:00"},{"$f":"Dati!H497","v":"00:00:00"},{"$f":"IF(Dati!E497=\"UA1\",Dati!D497,)","v":0},{"$f":"IF(Dati!E497=\"UA2\",Dati!D497,)","v":0},{"$f":"IF(Dati!E497=\"UA3\",Dati!D497,)","v":0},{"$f":"IF(Dati!E497=\"UA4\",Dati!D497,)","v":0},{"$f":"IF(Dati!E497=\"UA5\",Dati!D497,)","v":0},{"$f":"IF(Dati!E497=\"UA6\",Dati!D497,)","v":0},{"$f":"IF(Dati!E497=\"UB1\",Dati!D497,)","v":0},{"$f":"IF(Dati!E497=\"UB2\",Dati!D497,)","v":0},{"$f":"IF(Dati!E497=\"UC1\",Dati!D497,)","v":0},{"$f":"IF(Dati!E497=\"UD1\",Dati!D497,)","v":0},{"$f":"IF(Dati!E497=\"UE1\",Dati!D497,)","v":0}]
[{"$f":"Dati!C498","v":"00:00:00"},{"$f":"Dati!H498","v":"00:00:00"},{"$f":"IF(Dati!E498=\"UA1\",Dati!D498,)","v":0},{"$f":"IF(Dati!E498=\"UA2\",Dati!D498,)","v":0},{"$f":"IF(Dati!E498=\"UA3\",Dati!D498,)","v":0},{"$f":"IF(Dati!E498=\"UA4\",Dati!D498,)","v":0},{"$f":"IF(Dati!E498=\"UA5\",Dati!D498,)","v":0},{"$f":"IF(Dati!E498=\"UA6\",Dati!D498,)","v":0},{"$f":"IF(Dati!E498=\"UB1\",Dati!D498,)","v":0},{"$f":"IF(Dati!E498=\"UB2\",Dati!D498,)","v":0},{"$f":"IF(Dati!E498=\"UC1\",Dati!D498,)","v":0},{"$f":"IF(Dati!E498=\"UD1\",Dati!D498,)","v":0},{"$f":"IF(Dati!E498=\"UE1\",Dati!D498,)","v":0}]
[{"$f":"Dati!C499","v":"00:00:00"},{"$f":"Dati!H499","v":"00:00:00"},{"$f":"IF(Dati!E499=\"UA1\",Dati!D499,)","v":0},{"$f":"IF(Dati!E499=\"UA2\",Dati!D499,)","v":0},{"$f":"IF(Dati!E499=\"UA3\",Dati!D499,)","v":0},{"$f":"IF(Dati!E499=\"UA4\",Dati!D499,)","v":0},{"$f":"IF(Dati!E499=\"UA5\",Dati!D499,)","v":0},{"$f":"IF(Dati!E499=\"UA6\",Dati!D499,)","v":0},{"$f":"IF(Dati!E499=\"UB1\",Dati!D499,)","v":0},{"$f":"IF(Dati!E499=\"UB2\",Dati!D499,)","v":0},{"$f":"IF(Dati!E499=\"UC1\",Dati!D499,)","v":0},{"$f":"IF(Dati!E499=\"UD1\",Dati!D499,)","v":0},{"$f":"IF(Dati!E499=\"UE1\",Dati!D499,)","v":0}]
[{"$f":"Dati!C500","v":"00:00:00"},{"$f":"Dati!H500","v":"00:00:00"},{"$f":"IF(Dati!E500=\"UA1\",Dati!D500,)","v":0},{"$f":"IF(Dati!E500=\"UA2\",Dati!D500,)","v":0},{"$f":"IF(Dati!E500=\"UA3\",Dati!D500,)","v":0},{"$f":"IF(Dati!E500=\"UA4\",Dati!D500,)","v":0},{"$f":"IF(Dati!E500=\"UA5\",Dati!D500,)","v":0},{"$f":"IF(Dati!E500=\"UA6\",Dati!D500,)","v":0},{"$f":"IF(Dati!E500=\"UB1\",Dati!D500,)","v":0},{"$f":"IF(Dati!E500=\"UB2\",Dati!D500,)","v":0},{"$f":"IF(Dati!E500=\"UC1\",Dati!D500,)","v":0},{"$f":"IF(Dati!E500=\"UD1\",Dati!D500,)","v":0},{"$f":"IF(Dati!E500=\"UE1\",Dati!D500,)","v":0}]
[{"$f":"Dati!C501","v":"00:00:00"},{"$f":"Dati!H501","v":"00:00:00"},{"$f":"IF(Dati!E501=\"UA1\",Dati!D501,)","v":0},{"$f":"IF(Dati!E501=\"UA2\",Dati!D501,)","v":0},{"$f":"IF(Dati!E501=\"UA3\",Dati!D501,)","v":0},{"$f":"IF(Dati!E501=\"UA4\",Dati!D501,)","v":0},{"$f":"IF(Dati!E501=\"UA5\",Dati!D501,)","v":0},{"$f":"IF(Dati!E501=\"UA6\",Dati!D501,)","v":0},{"$f":"IF(Dati!E501=\"UB1\",Dati!D501,)","v":0},{"$f":"IF(Dati!E501=\"UB2\",Dati!D501,)","v":0},{"$f":"IF(Dati!E501=\"UC1\",Dati!D501,)","v":0},{"$f":"IF(Dati!E501=\"UD1\",Dati!D501,)","v":0},{"$f":"IF(Dati!E501=\"UE1\",Dati!D501,)","v":0}]
[{"$f":"Dati!C502","v":"00:00:00"},{"$f":"Dati!H502","v":"00:00:00"},{"$f":"IF(Dati!E502=\"UA1\",Dati!D502,)","v":0},{"$f":"IF(Dati!E502=\"UA2\",Dati!D502,)","v":0},{"$f":"IF(Dati!E502=\"UA3\",Dati!D502,)","v":0},{"$f":"IF(Dati!E502=\"UA4\",Dati!D502,)","v":0},{"$f":"IF(Dati!E502=\"UA5\",Dati!D502,)","v":0},{"$f":"IF(Dati!E502=\"UA6\",Dati!D502,)","v":0},{"$f":"IF(Dati!E502=\"UB1\",Dati!D502,)","v":0},{"$f":"IF(Dati!E502=\"UB2\",Dati!D502,)","v":0},{"$f":"IF(Dati!E502=\"UC1\",Dati!D502,)","v":0},{"$f":"IF(Dati!E502=\"UD1\",Dati!D502,)","v":0},{"$f":"IF(Dati!E502=\"UE1\",Dati!D502,)","v":0}]
[{"$f":"Dati!C503","v":"00:00:00"},{"$f":"Dati!H503","v":"00:00:00"},{"$f":"IF(Dati!E503=\"UA1\",Dati!D503,)","v":0},{"$f":"IF(Dati!E503=\"UA2\",Dati!D503,)","v":0},{"$f":"IF(Dati!E503=\"UA3\",Dati!D503,)","v":0},{"$f":"IF(Dati!E503=\"UA4\",Dati!D503,)","v":0},{"$f":"IF(Dati!E503=\"UA5\",Dati!D503,)","v":0},{"$f":"IF(Dati!E503=\"UA6\",Dati!D503,)","v":0},{"$f":"IF(Dati!E503=\"UB1\",Dati!D503,)","v":0},{"$f":"IF(Dati!E503=\"UB2\",Dati!D503,)","v":0},{"$f":"IF(Dati!E503=\"UC1\",Dati!D503,)","v":0},{"$f":"IF(Dati!E503=\"UD1\",Dati!D503,)","v":0},{"$f":"IF(Dati!E503=\"UE1\",Dati!D503,)","v":0}]
[{"$f":"Dati!C504","v":"00:00:00"},{"$f":"Dati!H504","v":"00:00:00"},{"$f":"IF(Dati!E504=\"UA1\",Dati!D504,)","v":0},{"$f":"IF(Dati!E504=\"UA2\",Dati!D504,)","v":0},{"$f":"IF(Dati!E504=\"UA3\",Dati!D504,)","v":0},{"$f":"IF(Dati!E504=\"UA4\",Dati!D504,)","v":0},{"$f":"IF(Dati!E504=\"UA5\",Dati!D504,)","v":0},{"$f":"IF(Dati!E504=\"UA6\",Dati!D504,)","v":0},{"$f":"IF(Dati!E504=\"UB1\",Dati!D504,)","v":0},{"$f":"IF(Dati!E504=\"UB2\",Dati!D504,)","v":0},{"$f":"IF(Dati!E504=\"UC1\",Dati!D504,)","v":0},{"$f":"IF(Dati!E504=\"UD1\",Dati!D504,)","v":0},{"$f":"IF(Dati!E504=\"UE1\",Dati!D504,)","v":0}]
[{"$f":"Dati!C505","v":"00:00:00"},{"$f":"Dati!H505","v":"00:00:00"},{"$f":"IF(Dati!E505=\"UA1\",Dati!D505,)","v":0},{"$f":"IF(Dati!E505=\"UA2\",Dati!D505,)","v":0},{"$f":"IF(Dati!E505=\"UA3\",Dati!D505,)","v":0},{"$f":"IF(Dati!E505=\"UA4\",Dati!D505,)","v":0},{"$f":"IF(Dati!E505=\"UA5\",Dati!D505,)","v":0},{"$f":"IF(Dati!E505=\"UA6\",Dati!D505,)","v":0},{"$f":"IF(Dati!E505=\"UB1\",Dati!D505,)","v":0},{"$f":"IF(Dati!E505=\"UB2\",Dati!D505,)","v":0},{"$f":"IF(Dati!E505=\"UC1\",Dati!D505,)","v":0},{"$f":"IF(Dati!E505=\"UD1\",Dati!D505,)","v":0},{"$f":"IF(Dati!E505=\"UE1\",Dati!D505,)","v":0}]
[{"$f":"Dati!C506","v":"00:00:00"},{"$f":"Dati!H506","v":"00:00:00"},{"$f":"IF(Dati!E506=\"UA1\",Dati!D506,)","v":0},{"$f":"IF(Dati!E506=\"UA2\",Dati!D506,)","v":0},{"$f":"IF(Dati!E506=\"UA3\",Dati!D506,)","v":0},{"$f":"IF(Dati!E506=\"UA4\",Dati!D506,)","v":0},{"$f":"IF(Dati!E506=\"UA5\",Dati!D506,)","v":0},{"$f":"IF(Dati!E506=\"UA6\",Dati!D506,)","v":0},{"$f":"IF(Dati!E506=\"UB1\",Dati!D506,)","v":0},{"$f":"IF(Dati!E506=\"UB2\",Dati!D506,)","v":0},{"$f":"IF(Dati!E506=\"UC1\",Dati!D506,)","v":0},{"$f":"IF(Dati!E506=\"UD1\",Dati!D506,)","v":0},{"$f":"IF(Dati!E506=\"UE1\",Dati!D506,)","v":0}]
[{"$f":"Dati!C507","v":"00:00:00"},{"$f":"Dati!H507","v":"00:00:00"},{"$f":"IF(Dati!E507=\"UA1\",Dati!D507,)","v":0},{"$f":"IF(Dati!E507=\"UA2\",Dati!D507,)","v":0},{"$f":"IF(Dati!E507=\"UA3\",Dati!D507,)","v":0},{"$f":"IF(Dati!E507=\"UA4\",Dati!D507,)","v":0},{"$f":"IF(Dati!E507=\"UA5\",Dati!D507,)","v":0},{"$f":"IF(Dati!E507=\"UA6\",Dati!D507,)","v":0},{"$f":"IF(Dati!E507=\"UB1\",Dati!D507,)","v":0},{"$f":"IF(Dati!E507=\"UB2\",Dati!D507,)","v":0},{"$f":"IF(Dati!E507=\"UC1\",Dati!D507,)","v":0},{"$f":"IF(Dati!E507=\"UD1\",Dati!D507,)","v":0},{"$f":"IF(Dati!E507=\"UE1\",Dati!D507,)","v":0}]
[{"$f":"Dati!C508","v":"00:00:00"},{"$f":"Dati!H508","v":"00:00:00"},{"$f":"IF(Dati!E508=\"UA1\",Dati!D508,)","v":0},{"$f":"IF(Dati!E508=\"UA2\",Dati!D508,)","v":0},{"$f":"IF(Dati!E508=\"UA3\",Dati!D508,)","v":0},{"$f":"IF(Dati!E508=\"UA4\",Dati!D508,)","v":0},{"$f":"IF(Dati!E508=\"UA5\",Dati!D508,)","v":0},{"$f":"IF(Dati!E508=\"UA6\",Dati!D508,)","v":0},{"$f":"IF(Dati!E508=\"UB1\",Dati!D508,)","v":0},{"$f":"IF(Dati!E508=\"UB2\",Dati!D508,)","v":0},{"$f":"IF(Dati!E508=\"UC1\",Dati!D508,)","v":0},{"$f":"IF(Dati!E508=\"UD1\",Dati!D508,)","v":0},{"$f":"IF(Dati!E508=\"UE1\",Dati!D508,)","v":0}]
[{"$f":"Dati!C509","v":"00:00:00"},{"$f":"Dati!H509","v":"00:00:00"},{"$f":"IF(Dati!E509=\"UA1\",Dati!D509,)","v":0},{"$f":"IF(Dati!E509=\"UA2\",Dati!D509,)","v":0},{"$f":"IF(Dati!E509=\"UA3\",Dati!D509,)","v":0},{"$f":"IF(Dati!E509=\"UA4\",Dati!D509,)","v":0},{"$f":"IF(Dati!E509=\"UA5\",Dati!D509,)","v":0},{"$f":"IF(Dati!E509=\"UA6\",Dati!D509,)","v":0},{"$f":"IF(Dati!E509=\"UB1\",Dati!D509,)","v":0},{"$f":"IF(Dati!E509=\"UB2\",Dati!D509,)","v":0},{"$f":"IF(Dati!E509=\"UC1\",Dati!D509,)","v":0},{"$f":"IF(Dati!E509=\"UD1\",Dati!D509,)","v":0},{"$f":"IF(Dati!E509=\"UE1\",Dati!D509,)","v":0}]
[{"$f":"Dati!C510","v":"00:00:00"},{"$f":"Dati!H510","v":"00:00:00"},{"$f":"IF(Dati!E510=\"UA1\",Dati!D510,)","v":0},{"$f":"IF(Dati!E510=\"UA2\",Dati!D510,)","v":0},{"$f":"IF(Dati!E510=\"UA3\",Dati!D510,)","v":0},{"$f":"IF(Dati!E510=\"UA4\",Dati!D510,)","v":0},{"$f":"IF(Dati!E510=\"UA5\",Dati!D510,)","v":0},{"$f":"IF(Dati!E510=\"UA6\",Dati!D510,)","v":0},{"$f":"IF(Dati!E510=\"UB1\",Dati!D510,)","v":0},{"$f":"IF(Dati!E510=\"UB2\",Dati!D510,)","v":0},{"$f":"IF(Dati!E510=\"UC1\",Dati!D510,)","v":0},{"$f":"IF(Dati!E510=\"UD1\",Dati!D510,)","v":0},{"$f":"IF(Dati!E510=\"UE1\",Dati!D510,)","v":0}]
[{"$f":"Dati!C511","v":"00:00:00"},{"$f":"Dati!H511","v":"00:00:00"},{"$f":"IF(Dati!E511=\"UA1\",Dati!D511,)","v":0},{"$f":"IF(Dati!E511=\"UA2\",Dati!D511,)","v":0},{"$f":"IF(Dati!E511=\"UA3\",Dati!D511,)","v":0},{"$f":"IF(Dati!E511=\"UA4\",Dati!D511,)","v":0},{"$f":"IF(Dati!E511=\"UA5\",Dati!D511,)","v":0},{"$f":"IF(Dati!E511=\"UA6\",Dati!D511,)","v":0},{"$f":"IF(Dati!E511=\"UB1\",Dati!D511,)","v":0},{"$f":"IF(Dati!E511=\"UB2\",Dati!D511,)","v":0},{"$f":"IF(Dati!E511=\"UC1\",Dati!D511,)","v":0},{"$f":"IF(Dati!E511=\"UD1\",Dati!D511,)","v":0},{"$f":"IF(Dati!E511=\"UE1\",Dati!D511,)","v":0}]
[{"$f":"Dati!C512","v":"00:00:00"},{"$f":"Dati!H512","v":"00:00:00"},{"$f":"IF(Dati!E512=\"UA1\",Dati!D512,)","v":0},{"$f":"IF(Dati!E512=\"UA2\",Dati!D512,)","v":0},{"$f":"IF(Dati!E512=\"UA3\",Dati!D512,)","v":0},{"$f":"IF(Dati!E512=\"UA4\",Dati!D512,)","v":0},{"$f":"IF(Dati!E512=\"UA5\",Dati!D512,)","v":0},{"$f":"IF(Dati!E512=\"UA6\",Dati!D512,)","v":0},{"$f":"IF(Dati!E512=\"UB1\",Dati!D512,)","v":0},{"$f":"IF(Dati!E512=\"UB2\",Dati!D512,)","v":0},{"$f":"IF(Dati!E512=\"UC1\",Dati!D512,)","v":0},{"$f":"IF(Dati!E512=\"UD1\",Dati!D512,)","v":0},{"$f":"IF(Dati!E512=\"UE1\",Dati!D512,)","v":0}]
[{"$f":"Dati!C513","v":"00:00:00"},{"$f":"Dati!H513","v":"00:00:00"},{"$f":"IF(Dati!E513=\"UA1\",Dati!D513,)","v":0},{"$f":"IF(Dati!E513=\"UA2\",Dati!D513,)","v":0},{"$f":"IF(Dati!E513=\"UA3\",Dati!D513,)","v":0},{"$f":"IF(Dati!E513=\"UA4\",Dati!D513,)","v":0},{"$f":"IF(Dati!E513=\"UA5\",Dati!D513,)","v":0},{"$f":"IF(Dati!E513=\"UA6\",Dati!D513,)","v":0},{"$f":"IF(Dati!E513=\"UB1\",Dati!D513,)","v":0},{"$f":"IF(Dati!E513=\"UB2\",Dati!D513,)","v":0},{"$f":"IF(Dati!E513=\"UC1\",Dati!D513,)","v":0},{"$f":"IF(Dati!E513=\"UD1\",Dati!D513,)","v":0},{"$f":"IF(Dati!E513=\"UE1\",Dati!D513,)","v":0}]
[{"$f":"Dati!C514","v":"00:00:00"},{"$f":"Dati!H514","v":"00:00:00"},{"$f":"IF(Dati!E514=\"UA1\",Dati!D514,)","v":0},{"$f":"IF(Dati!E514=\"UA2\",Dati!D514,)","v":0},{"$f":"IF(Dati!E514=\"UA3\",Dati!D514,)","v":0},{"$f":"IF(Dati!E514=\"UA4\",Dati!D514,)","v":0},{"$f":"IF(Dati!E514=\"UA5\",Dati!D514,)","v":0},{"$f":"IF(Dati!E514=\"UA6\",Dati!D514,)","v":0},{"$f":"IF(Dati!E514=\"UB1\",Dati!D514,)","v":0},{"$f":"IF(Dati!E514=\"UB2\",Dati!D514,)","v":0},{"$f":"IF(Dati!E514=\"UC1\",Dati!D514,)","v":0},{"$f":"IF(Dati!E514=\"UD1\",Dati!D514,)","v":0},{"$f":"IF(Dati!E514=\"UE1\",Dati!D514,)","v":0}]
[{"$f":"Dati!C515","v":"00:00:00"},{"$f":"Dati!H515","v":"00:00:00"},{"$f":"IF(Dati!E515=\"UA1\",Dati!D515,)","v":0},{"$f":"IF(Dati!E515=\"UA2\",Dati!D515,)","v":0},{"$f":"IF(Dati!E515=\"UA3\",Dati!D515,)","v":0},{"$f":"IF(Dati!E515=\"UA4\",Dati!D515,)","v":0},{"$f":"IF(Dati!E515=\"UA5\",Dati!D515,)","v":0},{"$f":"IF(Dati!E515=\"UA6\",Dati!D515,)","v":0},{"$f":"IF(Dati!E515=\"UB1\",Dati!D515,)","v":0},{"$f":"IF(Dati!E515=\"UB2\",Dati!D515,)","v":0},{"$f":"IF(Dati!E515=\"UC1\",Dati!D515,)","v":0},{"$f":"IF(Dati!E515=\"UD1\",Dati!D515,)","v":0},{"$f":"IF(Dati!E515=\"UE1\",Dati!D515,)","v":0}]
[{"$f":"Dati!C516","v":"00:00:00"},{"$f":"Dati!H516","v":"00:00:00"},{"$f":"IF(Dati!E516=\"UA1\",Dati!D516,)","v":0},{"$f":"IF(Dati!E516=\"UA2\",Dati!D516,)","v":0},{"$f":"IF(Dati!E516=\"UA3\",Dati!D516,)","v":0},{"$f":"IF(Dati!E516=\"UA4\",Dati!D516,)","v":0},{"$f":"IF(Dati!E516=\"UA5\",Dati!D516,)","v":0},{"$f":"IF(Dati!E516=\"UA6\",Dati!D516,)","v":0},{"$f":"IF(Dati!E516=\"UB1\",Dati!D516,)","v":0},{"$f":"IF(Dati!E516=\"UB2\",Dati!D516,)","v":0},{"$f":"IF(Dati!E516=\"UC1\",Dati!D516,)","v":0},{"$f":"IF(Dati!E516=\"UD1\",Dati!D516,)","v":0},{"$f":"IF(Dati!E516=\"UE1\",Dati!D516,)","v":0}]
[{"$f":"Dati!C517","v":"00:00:00"},{"$f":"Dati!H517","v":"00:00:00"},{"$f":"IF(Dati!E517=\"UA1\",Dati!D517,)","v":0},{"$f":"IF(Dati!E517=\"UA2\",Dati!D517,)","v":0},{"$f":"IF(Dati!E517=\"UA3\",Dati!D517,)","v":0},{"$f":"IF(Dati!E517=\"UA4\",Dati!D517,)","v":0},{"$f":"IF(Dati!E517=\"UA5\",Dati!D517,)","v":0},{"$f":"IF(Dati!E517=\"UA6\",Dati!D517,)","v":0},{"$f":"IF(Dati!E517=\"UB1\",Dati!D517,)","v":0},{"$f":"IF(Dati!E517=\"UB2\",Dati!D517,)","v":0},{"$f":"IF(Dati!E517=\"UC1\",Dati!D517,)","v":0},{"$f":"IF(Dati!E517=\"UD1\",Dati!D517,)","v":0},{"$f":"IF(Dati!E517=\"UE1\",Dati!D517,)","v":0}]
[{"$f":"Dati!C518","v":"00:00:00"},{"$f":"Dati!H518","v":"00:00:00"},{"$f":"IF(Dati!E518=\"UA1\",Dati!D518,)","v":0},{"$f":"IF(Dati!E518=\"UA2\",Dati!D518,)","v":0},{"$f":"IF(Dati!E518=\"UA3\",Dati!D518,)","v":0},{"$f":"IF(Dati!E518=\"UA4\",Dati!D518,)","v":0},{"$f":"IF(Dati!E518=\"UA5\",Dati!D518,)","v":0},{"$f":"IF(Dati!E518=\"UA6\",Dati!D518,)","v":0},{"$f":"IF(Dati!E518=\"UB1\",Dati!D518,)","v":0},{"$f":"IF(Dati!E518=\"UB2\",Dati!D518,)","v":0},{"$f":"IF(Dati!E518=\"UC1\",Dati!D518,)","v":0},{"$f":"IF(Dati!E518=\"UD1\",Dati!D518,)","v":0},{"$f":"IF(Dati!E518=\"UE1\",Dati!D518,)","v":0}]
[{"$f":"Dati!C519","v":"00:00:00"},{"$f":"Dati!H519","v":"00:00:00"},{"$f":"IF(Dati!E519=\"UA1\",Dati!D519,)","v":0},{"$f":"IF(Dati!E519=\"UA2\",Dati!D519,)","v":0},{"$f":"IF(Dati!E519=\"UA3\",Dati!D519,)","v":0},{"$f":"IF(Dati!E519=\"UA4\",Dati!D519,)","v":0},{"$f":"IF(Dati!E519=\"UA5\",Dati!D519,)","v":0},{"$f":"IF(Dati!E519=\"UA6\",Dati!D519,)","v":0},{"$f":"IF(Dati!E519=\"UB1\",Dati!D519,)","v":0},{"$f":"IF(Dati!E519=\"UB2\",Dati!D519,)","v":0},{"$f":"IF(Dati!E519=\"UC1\",Dati!D519,)","v":0},{"$f":"IF(Dati!E519=\"UD1\",Dati!D519,)","v":0},{"$f":"IF(Dati!E519=\"UE1\",Dati!D519,)","v":0}]
[{"$f":"Dati!C520","v":"00:00:00"},{"$f":"Dati!H520","v":"00:00:00"},{"$f":"IF(Dati!E520=\"UA1\",Dati!D520,)","v":0},{"$f":"IF(Dati!E520=\"UA2\",Dati!D520,)","v":0},{"$f":"IF(Dati!E520=\"UA3\",Dati!D520,)","v":0},{"$f":"IF(Dati!E520=\"UA4\",Dati!D520,)","v":0},{"$f":"IF(Dati!E520=\"UA5\",Dati!D520,)","v":0},{"$f":"IF(Dati!E520=\"UA6\",Dati!D520,)","v":0},{"$f":"IF(Dati!E520=\"UB1\",Dati!D520,)","v":0},{"$f":"IF(Dati!E520=\"UB2\",Dati!D520,)","v":0},{"$f":"IF(Dati!E520=\"UC1\",Dati!D520,)","v":0},{"$f":"IF(Dati!E520=\"UD1\",Dati!D520,)","v":0},{"$f":"IF(Dati!E520=\"UE1\",Dati!D520,)","v":0}]
[{"$f":"Dati!C521","v":"00:00:00"},{"$f":"Dati!H521","v":"00:00:00"},{"$f":"IF(Dati!E521=\"UA1\",Dati!D521,)","v":0},{"$f":"IF(Dati!E521=\"UA2\",Dati!D521,)","v":0},{"$f":"IF(Dati!E521=\"UA3\",Dati!D521,)","v":0},{"$f":"IF(Dati!E521=\"UA4\",Dati!D521,)","v":0},{"$f":"IF(Dati!E521=\"UA5\",Dati!D521,)","v":0},{"$f":"IF(Dati!E521=\"UA6\",Dati!D521,)","v":0},{"$f":"IF(Dati!E521=\"UB1\",Dati!D521,)","v":0},{"$f":"IF(Dati!E521=\"UB2\",Dati!D521,)","v":0},{"$f":"IF(Dati!E521=\"UC1\",Dati!D521,)","v":0},{"$f":"IF(Dati!E521=\"UD1\",Dati!D521,)","v":0},{"$f":"IF(Dati!E521=\"UE1\",Dati!D521,)","v":0}]
[{"$f":"Dati!C522","v":"00:00:00"},{"$f":"Dati!H522","v":"00:00:00"},{"$f":"IF(Dati!E522=\"UA1\",Dati!D522,)","v":0},{"$f":"IF(Dati!E522=\"UA2\",Dati!D522,)","v":0},{"$f":"IF(Dati!E522=\"UA3\",Dati!D522,)","v":0},{"$f":"IF(Dati!E522=\"UA4\",Dati!D522,)","v":0},{"$f":"IF(Dati!E522=\"UA5\",Dati!D522,)","v":0},{"$f":"IF(Dati!E522=\"UA6\",Dati!D522,)","v":0},{"$f":"IF(Dati!E522=\"UB1\",Dati!D522,)","v":0},{"$f":"IF(Dati!E522=\"UB2\",Dati!D522,)","v":0},{"$f":"IF(Dati!E522=\"UC1\",Dati!D522,)","v":0},{"$f":"IF(Dati!E522=\"UD1\",Dati!D522,)","v":0},{"$f":"IF(Dati!E522=\"UE1\",Dati!D522,)","v":0}]
[{"$f":"Dati!C523","v":"00:00:00"},{"$f":"Dati!H523","v":"00:00:00"},{"$f":"IF(Dati!E523=\"UA1\",Dati!D523,)","v":0},{"$f":"IF(Dati!E523=\"UA2\",Dati!D523,)","v":0},{"$f":"IF(Dati!E523=\"UA3\",Dati!D523,)","v":0},{"$f":"IF(Dati!E523=\"UA4\",Dati!D523,)","v":0},{"$f":"IF(Dati!E523=\"UA5\",Dati!D523,)","v":0},{"$f":"IF(Dati!E523=\"UA6\",Dati!D523,)","v":0},{"$f":"IF(Dati!E523=\"UB1\",Dati!D523,)","v":0},{"$f":"IF(Dati!E523=\"UB2\",Dati!D523,)","v":0},{"$f":"IF(Dati!E523=\"UC1\",Dati!D523,)","v":0},{"$f":"IF(Dati!E523=\"UD1\",Dati!D523,)","v":0},{"$f":"IF(Dati!E523=\"UE1\",Dati!D523,)","v":0}]
[{"$f":"Dati!C524","v":"00:00:00"},{"$f":"Dati!H524","v":"00:00:00"},{"$f":"IF(Dati!E524=\"UA1\",Dati!D524,)","v":0},{"$f":"IF(Dati!E524=\"UA2\",Dati!D524,)","v":0},{"$f":"IF(Dati!E524=\"UA3\",Dati!D524,)","v":0},{"$f":"IF(Dati!E524=\"UA4\",Dati!D524,)","v":0},{"$f":"IF(Dati!E524=\"UA5\",Dati!D524,)","v":0},{"$f":"IF(Dati!E524=\"UA6\",Dati!D524,)","v":0},{"$f":"IF(Dati!E524=\"UB1\",Dati!D524,)","v":0},{"$f":"IF(Dati!E524=\"UB2\",Dati!D524,)","v":0},{"$f":"IF(Dati!E524=\"UC1\",Dati!D524,)","v":0},{"$f":"IF(Dati!E524=\"UD1\",Dati!D524,)","v":0},{"$f":"IF(Dati!E524=\"UE1\",Dati!D524,)","v":0}]
[{"$f":"Dati!C525","v":"00:00:00"},{"$f":"Dati!H525","v":"00:00:00"},{"$f":"IF(Dati!E525=\"UA1\",Dati!D525,)","v":0},{"$f":"IF(Dati!E525=\"UA2\",Dati!D525,)","v":0},{"$f":"IF(Dati!E525=\"UA3\",Dati!D525,)","v":0},{"$f":"IF(Dati!E525=\"UA4\",Dati!D525,)","v":0},{"$f":"IF(Dati!E525=\"UA5\",Dati!D525,)","v":0},{"$f":"IF(Dati!E525=\"UA6\",Dati!D525,)","v":0},{"$f":"IF(Dati!E525=\"UB1\",Dati!D525,)","v":0},{"$f":"IF(Dati!E525=\"UB2\",Dati!D525,)","v":0},{"$f":"IF(Dati!E525=\"UC1\",Dati!D525,)","v":0},{"$f":"IF(Dati!E525=\"UD1\",Dati!D525,)","v":0},{"$f":"IF(Dati!E525=\"UE1\",Dati!D525,)","v":0}]
[{"$f":"Dati!C526","v":"00:00:00"},{"$f":"Dati!H526","v":"00:00:00"},{"$f":"IF(Dati!E526=\"UA1\",Dati!D526,)","v":0},{"$f":"IF(Dati!E526=\"UA2\",Dati!D526,)","v":0},{"$f":"IF(Dati!E526=\"UA3\",Dati!D526,)","v":0},{"$f":"IF(Dati!E526=\"UA4\",Dati!D526,)","v":0},{"$f":"IF(Dati!E526=\"UA5\",Dati!D526,)","v":0},{"$f":"IF(Dati!E526=\"UA6\",Dati!D526,)","v":0},{"$f":"IF(Dati!E526=\"UB1\",Dati!D526,)","v":0},{"$f":"IF(Dati!E526=\"UB2\",Dati!D526,)","v":0},{"$f":"IF(Dati!E526=\"UC1\",Dati!D526,)","v":0},{"$f":"IF(Dati!E526=\"UD1\",Dati!D526,)","v":0},{"$f":"IF(Dati!E526=\"UE1\",Dati!D526,)","v":0}]
[{"$f":"Dati!C527","v":"00:00:00"},{"$f":"Dati!H527","v":"00:00:00"},{"$f":"IF(Dati!E527=\"UA1\",Dati!D527,)","v":0},{"$f":"IF(Dati!E527=\"UA2\",Dati!D527,)","v":0},{"$f":"IF(Dati!E527=\"UA3\",Dati!D527,)","v":0},{"$f":"IF(Dati!E527=\"UA4\",Dati!D527,)","v":0},{"$f":"IF(Dati!E527=\"UA5\",Dati!D527,)","v":0},{"$f":"IF(Dati!E527=\"UA6\",Dati!D527,)","v":0},{"$f":"IF(Dati!E527=\"UB1\",Dati!D527,)","v":0},{"$f":"IF(Dati!E527=\"UB2\",Dati!D527,)","v":0},{"$f":"IF(Dati!E527=\"UC1\",Dati!D527,)","v":0},{"$f":"IF(Dati!E527=\"UD1\",Dati!D527,)","v":0},{"$f":"IF(Dati!E527=\"UE1\",Dati!D527,)","v":0}]
[{"$f":"Dati!C528","v":"00:00:00"},{"$f":"Dati!H528","v":"00:00:00"},{"$f":"IF(Dati!E528=\"UA1\",Dati!D528,)","v":0},{"$f":"IF(Dati!E528=\"UA2\",Dati!D528,)","v":0},{"$f":"IF(Dati!E528=\"UA3\",Dati!D528,)","v":0},{"$f":"IF(Dati!E528=\"UA4\",Dati!D528,)","v":0},{"$f":"IF(Dati!E528=\"UA5\",Dati!D528,)","v":0},{"$f":"IF(Dati!E528=\"UA6\",Dati!D528,)","v":0},{"$f":"IF(Dati!E528=\"UB1\",Dati!D528,)","v":0},{"$f":"IF(Dati!E528=\"UB2\",Dati!D528,)","v":0},{"$f":"IF(Dati!E528=\"UC1\",Dati!D528,)","v":0},{"$f":"IF(Dati!E528=\"UD1\",Dati!D528,)","v":0},{"$f":"IF(Dati!E528=\"UE1\",Dati!D528,)","v":0}]
[{"$f":"Dati!C529","v":"00:00:00"},{"$f":"Dati!H529","v":"00:00:00"},{"$f":"IF(Dati!E529=\"UA1\",Dati!D529,)","v":0},{"$f":"IF(Dati!E529=\"UA2\",Dati!D529,)","v":0},{"$f":"IF(Dati!E529=\"UA3\",Dati!D529,)","v":0},{"$f":"IF(Dati!E529=\"UA4\",Dati!D529,)","v":0},{"$f":"IF(Dati!E529=\"UA5\",Dati!D529,)","v":0},{"$f":"IF(Dati!E529=\"UA6\",Dati!D529,)","v":0},{"$f":"IF(Dati!E529=\"UB1\",Dati!D529,)","v":0},{"$f":"IF(Dati!E529=\"UB2\",Dati!D529,)","v":0},{"$f":"IF(Dati!E529=\"UC1\",Dati!D529,)","v":0},{"$f":"IF(Dati!E529=\"UD1\",Dati!D529,)","v":0},{"$f":"IF(Dati!E529=\"UE1\",Dati!D529,)","v":0}]
[{"$f":"Dati!C530","v":"00:00:00"},{"$f":"Dati!H530","v":"00:00:00"},{"$f":"IF(Dati!E530=\"UA1\",Dati!D530,)","v":0},{"$f":"IF(Dati!E530=\"UA2\",Dati!D530,)","v":0},{"$f":"IF(Dati!E530=\"UA3\",Dati!D530,)","v":0},{"$f":"IF(Dati!E530=\"UA4\",Dati!D530,)","v":0},{"$f":"IF(Dati!E530=\"UA5\",Dati!D530,)","v":0},{"$f":"IF(Dati!E530=\"UA6\",Dati!D530,)","v":0},{"$f":"IF(Dati!E530=\"UB1\",Dati!D530,)","v":0},{"$f":"IF(Dati!E530=\"UB2\",Dati!D530,)","v":0},{"$f":"IF(Dati!E530=\"UC1\",Dati!D530,)","v":0},{"$f":"IF(Dati!E530=\"UD1\",Dati!D530,)","v":0},{"$f":"IF(Dati!E530=\"UE1\",Dati!D530,)","v":0}]
[{"$f":"Dati!C531","v":"00:00:00"},{"$f":"Dati!H531","v":"00:00:00"},{"$f":"IF(Dati!E531=\"UA1\",Dati!D531,)","v":0},{"$f":"IF(Dati!E531=\"UA2\",Dati!D531,)","v":0},{"$f":"IF(Dati!E531=\"UA3\",Dati!D531,)","v":0},{"$f":"IF(Dati!E531=\"UA4\",Dati!D531,)","v":0},{"$f":"IF(Dati!E531=\"UA5\",Dati!D531,)","v":0},{"$f":"IF(Dati!E531=\"UA6\",Dati!D531,)","v":0},{"$f":"IF(Dati!E531=\"UB1\",Dati!D531,)","v":0},{"$f":"IF(Dati!E531=\"UB2\",Dati!D531,)","v":0},{"$f":"IF(Dati!E531=\"UC1\",Dati!D531,)","v":0},{"$f":"IF(Dati!E531=\"UD1\",Dati!D531,)","v":0},{"$f":"IF(Dati!E531=\"UE1\",Dati!D531,)","v":0}]
[{"$f":"Dati!C532","v":"00:00:00"},{"$f":"Dati!H532","v":"00:00:00"},{"$f":"IF(Dati!E532=\"UA1\",Dati!D532,)","v":0},{"$f":"IF(Dati!E532=\"UA2\",Dati!D532,)","v":0},{"$f":"IF(Dati!E532=\"UA3\",Dati!D532,)","v":0},{"$f":"IF(Dati!E532=\"UA4\",Dati!D532,)","v":0},{"$f":"IF(Dati!E532=\"UA5\",Dati!D532,)","v":0},{"$f":"IF(Dati!E532=\"UA6\",Dati!D532,)","v":0},{"$f":"IF(Dati!E532=\"UB1\",Dati!D532,)","v":0},{"$f":"IF(Dati!E532=\"UB2\",Dati!D532,)","v":0},{"$f":"IF(Dati!E532=\"UC1\",Dati!D532,)","v":0},{"$f":"IF(Dati!E532=\"UD1\",Dati!D532,)","v":0},{"$f":"IF(Dati!E532=\"UE1\",Dati!D532,)","v":0}]
[{"$f":"Dati!C533","v":"00:00:00"},{"$f":"Dati!H533","v":"00:00:00"},{"$f":"IF(Dati!E533=\"UA1\",Dati!D533,)","v":0},{"$f":"IF(Dati!E533=\"UA2\",Dati!D533,)","v":0},{"$f":"IF(Dati!E533=\"UA3\",Dati!D533,)","v":0},{"$f":"IF(Dati!E533=\"UA4\",Dati!D533,)","v":0},{"$f":"IF(Dati!E533=\"UA5\",Dati!D533,)","v":0},{"$f":"IF(Dati!E533=\"UA6\",Dati!D533,)","v":0},{"$f":"IF(Dati!E533=\"UB1\",Dati!D533,)","v":0},{"$f":"IF(Dati!E533=\"UB2\",Dati!D533,)","v":0},{"$f":"IF(Dati!E533=\"UC1\",Dati!D533,)","v":0},{"$f":"IF(Dati!E533=\"UD1\",Dati!D533,)","v":0},{"$f":"IF(Dati!E533=\"UE1\",Dati!D533,)","v":0}]
[{"$f":"Dati!C534","v":"00:00:00"},{"$f":"Dati!H534","v":"00:00:00"},{"$f":"IF(Dati!E534=\"UA1\",Dati!D534,)","v":0},{"$f":"IF(Dati!E534=\"UA2\",Dati!D534,)","v":0},{"$f":"IF(Dati!E534=\"UA3\",Dati!D534,)","v":0},{"$f":"IF(Dati!E534=\"UA4\",Dati!D534,)","v":0},{"$f":"IF(Dati!E534=\"UA5\",Dati!D534,)","v":0},{"$f":"IF(Dati!E534=\"UA6\",Dati!D534,)","v":0},{"$f":"IF(Dati!E534=\"UB1\",Dati!D534,)","v":0},{"$f":"IF(Dati!E534=\"UB2\",Dati!D534,)","v":0},{"$f":"IF(Dati!E534=\"UC1\",Dati!D534,)","v":0},{"$f":"IF(Dati!E534=\"UD1\",Dati!D534,)","v":0},{"$f":"IF(Dati!E534=\"UE1\",Dati!D534,)","v":0}]
[{"$f":"Dati!C535","v":"00:00:00"},{"$f":"Dati!H535","v":"00:00:00"},{"$f":"IF(Dati!E535=\"UA1\",Dati!D535,)","v":0},{"$f":"IF(Dati!E535=\"UA2\",Dati!D535,)","v":0},{"$f":"IF(Dati!E535=\"UA3\",Dati!D535,)","v":0},{"$f":"IF(Dati!E535=\"UA4\",Dati!D535,)","v":0},{"$f":"IF(Dati!E535=\"UA5\",Dati!D535,)","v":0},{"$f":"IF(Dati!E535=\"UA6\",Dati!D535,)","v":0},{"$f":"IF(Dati!E535=\"UB1\",Dati!D535,)","v":0},{"$f":"IF(Dati!E535=\"UB2\",Dati!D535,)","v":0},{"$f":"IF(Dati!E535=\"UC1\",Dati!D535,)","v":0},{"$f":"IF(Dati!E535=\"UD1\",Dati!D535,)","v":0},{"$f":"IF(Dati!E535=\"UE1\",Dati!D535,)","v":0}]
[{"$f":"Dati!C536","v":"00:00:00"},{"$f":"Dati!H536","v":"00:00:00"},{"$f":"IF(Dati!E536=\"UA1\",Dati!D536,)","v":0},{"$f":"IF(Dati!E536=\"UA2\",Dati!D536,)","v":0},{"$f":"IF(Dati!E536=\"UA3\",Dati!D536,)","v":0},{"$f":"IF(Dati!E536=\"UA4\",Dati!D536,)","v":0},{"$f":"IF(Dati!E536=\"UA5\",Dati!D536,)","v":0},{"$f":"IF(Dati!E536=\"UA6\",Dati!D536,)","v":0},{"$f":"IF(Dati!E536=\"UB1\",Dati!D536,)","v":0},{"$f":"IF(Dati!E536=\"UB2\",Dati!D536,)","v":0},{"$f":"IF(Dati!E536=\"UC1\",Dati!D536,)","v":0},{"$f":"IF(Dati!E536=\"UD1\",Dati!D536,)","v":0},{"$f":"IF(Dati!E536=\"UE1\",Dati!D536,)","v":0}]
[{"$f":"Dati!C537","v":"00:00:00"},{"$f":"Dati!H537","v":"00:00:00"},{"$f":"IF(Dati!E537=\"UA1\",Dati!D537,)","v":0},{"$f":"IF(Dati!E537=\"UA2\",Dati!D537,)","v":0},{"$f":"IF(Dati!E537=\"UA3\",Dati!D537,)","v":0},{"$f":"IF(Dati!E537=\"UA4\",Dati!D537,)","v":0},{"$f":"IF(Dati!E537=\"UA5\",Dati!D537,)","v":0},{"$f":"IF(Dati!E537=\"UA6\",Dati!D537,)","v":0},{"$f":"IF(Dati!E537=\"UB1\",Dati!D537,)","v":0},{"$f":"IF(Dati!E537=\"UB2\",Dati!D537,)","v":0},{"$f":"IF(Dati!E537=\"UC1\",Dati!D537,)","v":0},{"$f":"IF(Dati!E537=\"UD1\",Dati!D537,)","v":0},{"$f":"IF(Dati!E537=\"UE1\",Dati!D537,)","v":0}]
[{"$f":"Dati!C538","v":"00:00:00"},{"$f":"Dati!H538","v":"00:00:00"},{"$f":"IF(Dati!E538=\"UA1\",Dati!D538,)","v":0},{"$f":"IF(Dati!E538=\"UA2\",Dati!D538,)","v":0},{"$f":"IF(Dati!E538=\"UA3\",Dati!D538,)","v":0},{"$f":"IF(Dati!E538=\"UA4\",Dati!D538,)","v":0},{"$f":"IF(Dati!E538=\"UA5\",Dati!D538,)","v":0},{"$f":"IF(Dati!E538=\"UA6\",Dati!D538,)","v":0},{"$f":"IF(Dati!E538=\"UB1\",Dati!D538,)","v":0},{"$f":"IF(Dati!E538=\"UB2\",Dati!D538,)","v":0},{"$f":"IF(Dati!E538=\"UC1\",Dati!D538,)","v":0},{"$f":"IF(Dati!E538=\"UD1\",Dati!D538,)","v":0},{"$f":"IF(Dati!E538=\"UE1\",Dati!D538,)","v":0}]
[{"$f":"Dati!C539","v":"00:00:00"},{"$f":"Dati!H539","v":"00:00:00"},{"$f":"IF(Dati!E539=\"UA1\",Dati!D539,)","v":0},{"$f":"IF(Dati!E539=\"UA2\",Dati!D539,)","v":0},{"$f":"IF(Dati!E539=\"UA3\",Dati!D539,)","v":0},{"$f":"IF(Dati!E539=\"UA4\",Dati!D539,)","v":0},{"$f":"IF(Dati!E539=\"UA5\",Dati!D539,)","v":0},{"$f":"IF(Dati!E539=\"UA6\",Dati!D539,)","v":0},{"$f":"IF(Dati!E539=\"UB1\",Dati!D539,)","v":0},{"$f":"IF(Dati!E539=\"UB2\",Dati!D539,)","v":0},{"$f":"IF(Dati!E539=\"UC1\",Dati!D539,)","v":0},{"$f":"IF(Dati!E539=\"UD1\",Dati!D539,)","v":0},{"$f":"IF(Dati!E539=\"UE1\",Dati!D539,)","v":0}]
[{"$f":"Dati!C540","v":"00:00:00"},{"$f":"Dati!H540","v":"00:00:00"},{"$f":"IF(Dati!E540=\"UA1\",Dati!D540,)","v":0},{"$f":"IF(Dati!E540=\"UA2\",Dati!D540,)","v":0},{"$f":"IF(Dati!E540=\"UA3\",Dati!D540,)","v":0},{"$f":"IF(Dati!E540=\"UA4\",Dati!D540,)","v":0},{"$f":"IF(Dati!E540=\"UA5\",Dati!D540,)","v":0},{"$f":"IF(Dati!E540=\"UA6\",Dati!D540,)","v":0},{"$f":"IF(Dati!E540=\"UB1\",Dati!D540,)","v":0},{"$f":"IF(Dati!E540=\"UB2\",Dati!D540,)","v":0},{"$f":"IF(Dati!E540=\"UC1\",Dati!D540,)","v":0},{"$f":"IF(Dati!E540=\"UD1\",Dati!D540,)","v":0},{"$f":"IF(Dati!E540=\"UE1\",Dati!D540,)","v":0}]
[{"$f":"Dati!C541","v":"00:00:00"},{"$f":"Dati!H541","v":"00:00:00"},{"$f":"IF(Dati!E541=\"UA1\",Dati!D541,)","v":0},{"$f":"IF(Dati!E541=\"UA2\",Dati!D541,)","v":0},{"$f":"IF(Dati!E541=\"UA3\",Dati!D541,)","v":0},{"$f":"IF(Dati!E541=\"UA4\",Dati!D541,)","v":0},{"$f":"IF(Dati!E541=\"UA5\",Dati!D541,)","v":0},{"$f":"IF(Dati!E541=\"UA6\",Dati!D541,)","v":0},{"$f":"IF(Dati!E541=\"UB1\",Dati!D541,)","v":0},{"$f":"IF(Dati!E541=\"UB2\",Dati!D541,)","v":0},{"$f":"IF(Dati!E541=\"UC1\",Dati!D541,)","v":0},{"$f":"IF(Dati!E541=\"UD1\",Dati!D541,)","v":0},{"$f":"IF(Dati!E541=\"UE1\",Dati!D541,)","v":0}]
[{"$f":"Dati!C542","v":"00:00:00"},{"$f":"Dati!H542","v":"00:00:00"},{"$f":"IF(Dati!E542=\"UA1\",Dati!D542,)","v":0},{"$f":"IF(Dati!E542=\"UA2\",Dati!D542,)","v":0},{"$f":"IF(Dati!E542=\"UA3\",Dati!D542,)","v":0},{"$f":"IF(Dati!E542=\"UA4\",Dati!D542,)","v":0},{"$f":"IF(Dati!E542=\"UA5\",Dati!D542,)","v":0},{"$f":"IF(Dati!E542=\"UA6\",Dati!D542,)","v":0},{"$f":"IF(Dati!E542=\"UB1\",Dati!D542,)","v":0},{"$f":"IF(Dati!E542=\"UB2\",Dati!D542,)","v":0},{"$f":"IF(Dati!E542=\"UC1\",Dati!D542,)","v":0},{"$f":"IF(Dati!E542=\"UD1\",Dati!D542,)","v":0},{"$f":"IF(Dati!E542=\"UE1\",Dati!D542,)","v":0}]
[{"$f":"Dati!C543","v":"00:00:00"},{"$f":"Dati!H543","v":"00:00:00"},{"$f":"IF(Dati!E543=\"UA1\",Dati!D543,)","v":0},{"$f":"IF(Dati!E543=\"UA2\",Dati!D543,)","v":0},{"$f":"IF(Dati!E543=\"UA3\",Dati!D543,)","v":0},{"$f":"IF(Dati!E543=\"UA4\",Dati!D543,)","v":0},{"$f":"IF(Dati!E543=\"UA5\",Dati!D543,)","v":0},{"$f":"IF(Dati!E543=\"UA6\",Dati!D543,)","v":0},{"$f":"IF(Dati!E543=\"UB1\",Dati!D543,)","v":0},{"$f":"IF(Dati!E543=\"UB2\",Dati!D543,)","v":0},{"$f":"IF(Dati!E543=\"UC1\",Dati!D543,)","v":0},{"$f":"IF(Dati!E543=\"UD1\",Dati!D543,)","v":0},{"$f":"IF(Dati!E543=\"UE1\",Dati!D543,)","v":0}]
[{"$f":"Dati!C544","v":"00:00:00"},{"$f":"Dati!H544","v":"00:00:00"},{"$f":"IF(Dati!E544=\"UA1\",Dati!D544,)","v":0},{"$f":"IF(Dati!E544=\"UA2\",Dati!D544,)","v":0},{"$f":"IF(Dati!E544=\"UA3\",Dati!D544,)","v":0},{"$f":"IF(Dati!E544=\"UA4\",Dati!D544,)","v":0},{"$f":"IF(Dati!E544=\"UA5\",Dati!D544,)","v":0},{"$f":"IF(Dati!E544=\"UA6\",Dati!D544,)","v":0},{"$f":"IF(Dati!E544=\"UB1\",Dati!D544,)","v":0},{"$f":"IF(Dati!E544=\"UB2\",Dati!D544,)","v":0},{"$f":"IF(Dati!E544=\"UC1\",Dati!D544,)","v":0},{"$f":"IF(Dati!E544=\"UD1\",Dati!D544,)","v":0},{"$f":"IF(Dati!E544=\"UE1\",Dati!D544,)","v":0}]
[{"$f":"Dati!C545","v":"00:00:00"},{"$f":"Dati!H545","v":"00:00:00"},{"$f":"IF(Dati!E545=\"UA1\",Dati!D545,)","v":0},{"$f":"IF(Dati!E545=\"UA2\",Dati!D545,)","v":0},{"$f":"IF(Dati!E545=\"UA3\",Dati!D545,)","v":0},{"$f":"IF(Dati!E545=\"UA4\",Dati!D545,)","v":0},{"$f":"IF(Dati!E545=\"UA5\",Dati!D545,)","v":0},{"$f":"IF(Dati!E545=\"UA6\",Dati!D545,)","v":0},{"$f":"IF(Dati!E545=\"UB1\",Dati!D545,)","v":0},{"$f":"IF(Dati!E545=\"UB2\",Dati!D545,)","v":0},{"$f":"IF(Dati!E545=\"UC1\",Dati!D545,)","v":0},{"$f":"IF(Dati!E545=\"UD1\",Dati!D545,)","v":0},{"$f":"IF(Dati!E545=\"UE1\",Dati!D545,)","v":0}]
[{"$f":"Dati!C546","v":"00:00:00"},{"$f":"Dati!H546","v":"00:00:00"},{"$f":"IF(Dati!E546=\"UA1\",Dati!D546,)","v":0},{"$f":"IF(Dati!E546=\"UA2\",Dati!D546,)","v":0},{"$f":"IF(Dati!E546=\"UA3\",Dati!D546,)","v":0},{"$f":"IF(Dati!E546=\"UA4\",Dati!D546,)","v":0},{"$f":"IF(Dati!E546=\"UA5\",Dati!D546,)","v":0},{"$f":"IF(Dati!E546=\"UA6\",Dati!D546,)","v":0},{"$f":"IF(Dati!E546=\"UB1\",Dati!D546,)","v":0},{"$f":"IF(Dati!E546=\"UB2\",Dati!D546,)","v":0},{"$f":"IF(Dati!E546=\"UC1\",Dati!D546,)","v":0},{"$f":"IF(Dati!E546=\"UD1\",Dati!D546,)","v":0},{"$f":"IF(Dati!E546=\"UE1\",Dati!D546,)","v":0}]
[{"$f":"Dati!C547","v":"00:00:00"},{"$f":"Dati!H547","v":"00:00:00"},{"$f":"IF(Dati!E547=\"UA1\",Dati!D547,)","v":0},{"$f":"IF(Dati!E547=\"UA2\",Dati!D547,)","v":0},{"$f":"IF(Dati!E547=\"UA3\",Dati!D547,)","v":0},{"$f":"IF(Dati!E547=\"UA4\",Dati!D547,)","v":0},{"$f":"IF(Dati!E547=\"UA5\",Dati!D547,)","v":0},{"$f":"IF(Dati!E547=\"UA6\",Dati!D547,)","v":0},{"$f":"IF(Dati!E547=\"UB1\",Dati!D547,)","v":0},{"$f":"IF(Dati!E547=\"UB2\",Dati!D547,)","v":0},{"$f":"IF(Dati!E547=\"UC1\",Dati!D547,)","v":0},{"$f":"IF(Dati!E547=\"UD1\",Dati!D547,)","v":0},{"$f":"IF(Dati!E547=\"UE1\",Dati!D547,)","v":0}]
[{"$f":"Dati!C548","v":"00:00:00"},{"$f":"Dati!H548","v":"00:00:00"},{"$f":"IF(Dati!E548=\"UA1\",Dati!D548,)","v":0},{"$f":"IF(Dati!E548=\"UA2\",Dati!D548,)","v":0},{"$f":"IF(Dati!E548=\"UA3\",Dati!D548,)","v":0},{"$f":"IF(Dati!E548=\"UA4\",Dati!D548,)","v":0},{"$f":"IF(Dati!E548=\"UA5\",Dati!D548,)","v":0},{"$f":"IF(Dati!E548=\"UA6\",Dati!D548,)","v":0},{"$f":"IF(Dati!E548=\"UB1\",Dati!D548,)","v":0},{"$f":"IF(Dati!E548=\"UB2\",Dati!D548,)","v":0},{"$f":"IF(Dati!E548=\"UC1\",Dati!D548,)","v":0},{"$f":"IF(Dati!E548=\"UD1\",Dati!D548,)","v":0},{"$f":"IF(Dati!E548=\"UE1\",Dati!D548,)","v":0}]
[{"$f":"Dati!C549","v":"00:00:00"},{"$f":"Dati!H549","v":"00:00:00"},{"$f":"IF(Dati!E549=\"UA1\",Dati!D549,)","v":0},{"$f":"IF(Dati!E549=\"UA2\",Dati!D549,)","v":0},{"$f":"IF(Dati!E549=\"UA3\",Dati!D549,)","v":0},{"$f":"IF(Dati!E549=\"UA4\",Dati!D549,)","v":0},{"$f":"IF(Dati!E549=\"UA5\",Dati!D549,)","v":0},{"$f":"IF(Dati!E549=\"UA6\",Dati!D549,)","v":0},{"$f":"IF(Dati!E549=\"UB1\",Dati!D549,)","v":0},{"$f":"IF(Dati!E549=\"UB2\",Dati!D549,)","v":0},{"$f":"IF(Dati!E549=\"UC1\",Dati!D549,)","v":0},{"$f":"IF(Dati!E549=\"UD1\",Dati!D549,)","v":0},{"$f":"IF(Dati!E549=\"UE1\",Dati!D549,)","v":0}]
[{"$f":"Dati!C550","v":"00:00:00"},{"$f":"Dati!H550","v":"00:00:00"},{"$f":"IF(Dati!E550=\"UA1\",Dati!D550,)","v":0},{"$f":"IF(Dati!E550=\"UA2\",Dati!D550,)","v":0},{"$f":"IF(Dati!E550=\"UA3\",Dati!D550,)","v":0},{"$f":"IF(Dati!E550=\"UA4\",Dati!D550,)","v":0},{"$f":"IF(Dati!E550=\"UA5\",Dati!D550,)","v":0},{"$f":"IF(Dati!E550=\"UA6\",Dati!D550,)","v":0},{"$f":"IF(Dati!E550=\"UB1\",Dati!D550,)","v":0},{"$f":"IF(Dati!E550=\"UB2\",Dati!D550,)","v":0},{"$f":"IF(Dati!E550=\"UC1\",Dati!D550,)","v":0},{"$f":"IF(Dati!E550=\"UD1\",Dati!D550,)","v":0},{"$f":"IF(Dati!E550=\"UE1\",Dati!D550,)","v":0}]
[{"$f":"Dati!C551","v":"00:00:00"},{"$f":"Dati!H551","v":"00:00:00"},{"$f":"IF(Dati!E551=\"UA1\",Dati!D551,)","v":0},{"$f":"IF(Dati!E551=\"UA2\",Dati!D551,)","v":0},{"$f":"IF(Dati!E551=\"UA3\",Dati!D551,)","v":0},{"$f":"IF(Dati!E551=\"UA4\",Dati!D551,)","v":0},{"$f":"IF(Dati!E551=\"UA5\",Dati!D551,)","v":0},{"$f":"IF(Dati!E551=\"UA6\",Dati!D551,)","v":0},{"$f":"IF(Dati!E551=\"UB1\",Dati!D551,)","v":0},{"$f":"IF(Dati!E551=\"UB2\",Dati!D551,)","v":0},{"$f":"IF(Dati!E551=\"UC1\",Dati!D551,)","v":0},{"$f":"IF(Dati!E551=\"UD1\",Dati!D551,)","v":0},{"$f":"IF(Dati!E551=\"UE1\",Dati!D551,)","v":0}]
[{"$f":"Dati!C552","v":"00:00:00"},{"$f":"Dati!H552","v":"00:00:00"},{"$f":"IF(Dati!E552=\"UA1\",Dati!D552,)","v":0},{"$f":"IF(Dati!E552=\"UA2\",Dati!D552,)","v":0},{"$f":"IF(Dati!E552=\"UA3\",Dati!D552,)","v":0},{"$f":"IF(Dati!E552=\"UA4\",Dati!D552,)","v":0},{"$f":"IF(Dati!E552=\"UA5\",Dati!D552,)","v":0},{"$f":"IF(Dati!E552=\"UA6\",Dati!D552,)","v":0},{"$f":"IF(Dati!E552=\"UB1\",Dati!D552,)","v":0},{"$f":"IF(Dati!E552=\"UB2\",Dati!D552,)","v":0},{"$f":"IF(Dati!E552=\"UC1\",Dati!D552,)","v":0},{"$f":"IF(Dati!E552=\"UD1\",Dati!D552,)","v":0},{"$f":"IF(Dati!E552=\"UE1\",Dati!D552,)","v":0}]
[{"$f":"Dati!C553","v":"00:00:00"},{"$f":"Dati!H553","v":"00:00:00"},{"$f":"IF(Dati!E553=\"UA1\",Dati!D553,)","v":0},{"$f":"IF(Dati!E553=\"UA2\",Dati!D553,)","v":0},{"$f":"IF(Dati!E553=\"UA3\",Dati!D553,)","v":0},{"$f":"IF(Dati!E553=\"UA4\",Dati!D553,)","v":0},{"$f":"IF(Dati!E553=\"UA5\",Dati!D553,)","v":0},{"$f":"IF(Dati!E553=\"UA6\",Dati!D553,)","v":0},{"$f":"IF(Dati!E553=\"UB1\",Dati!D553,)","v":0},{"$f":"IF(Dati!E553=\"UB2\",Dati!D553,)","v":0},{"$f":"IF(Dati!E553=\"UC1\",Dati!D553,)","v":0},{"$f":"IF(Dati!E553=\"UD1\",Dati!D553,)","v":0},{"$f":"IF(Dati!E553=\"UE1\",Dati!D553,)","v":0}]
[{"$f":"Dati!C554","v":"00:00:00"},{"$f":"Dati!H554","v":"00:00:00"},{"$f":"IF(Dati!E554=\"UA1\",Dati!D554,)","v":0},{"$f":"IF(Dati!E554=\"UA2\",Dati!D554,)","v":0},{"$f":"IF(Dati!E554=\"UA3\",Dati!D554,)","v":0},{"$f":"IF(Dati!E554=\"UA4\",Dati!D554,)","v":0},{"$f":"IF(Dati!E554=\"UA5\",Dati!D554,)","v":0},{"$f":"IF(Dati!E554=\"UA6\",Dati!D554,)","v":0},{"$f":"IF(Dati!E554=\"UB1\",Dati!D554,)","v":0},{"$f":"IF(Dati!E554=\"UB2\",Dati!D554,)","v":0},{"$f":"IF(Dati!E554=\"UC1\",Dati!D554,)","v":0},{"$f":"IF(Dati!E554=\"UD1\",Dati!D554,)","v":0},{"$f":"IF(Dati!E554=\"UE1\",Dati!D554,)","v":0}]
[{"$f":"Dati!C555","v":"00:00:00"},{"$f":"Dati!H555","v":"00:00:00"},{"$f":"IF(Dati!E555=\"UA1\",Dati!D555,)","v":0},{"$f":"IF(Dati!E555=\"UA2\",Dati!D555,)","v":0},{"$f":"IF(Dati!E555=\"UA3\",Dati!D555,)","v":0},{"$f":"IF(Dati!E555=\"UA4\",Dati!D555,)","v":0},{"$f":"IF(Dati!E555=\"UA5\",Dati!D555,)","v":0},{"$f":"IF(Dati!E555=\"UA6\",Dati!D555,)","v":0},{"$f":"IF(Dati!E555=\"UB1\",Dati!D555,)","v":0},{"$f":"IF(Dati!E555=\"UB2\",Dati!D555,)","v":0},{"$f":"IF(Dati!E555=\"UC1\",Dati!D555,)","v":0},{"$f":"IF(Dati!E555=\"UD1\",Dati!D555,)","v":0},{"$f":"IF(Dati!E555=\"UE1\",Dati!D555,)","v":0}]
[{"$f":"Dati!C556","v":"00:00:00"},{"$f":"Dati!H556","v":"00:00:00"},{"$f":"IF(Dati!E556=\"UA1\",Dati!D556,)","v":0},{"$f":"IF(Dati!E556=\"UA2\",Dati!D556,)","v":0},{"$f":"IF(Dati!E556=\"UA3\",Dati!D556,)","v":0},{"$f":"IF(Dati!E556=\"UA4\",Dati!D556,)","v":0},{"$f":"IF(Dati!E556=\"UA5\",Dati!D556,)","v":0},{"$f":"IF(Dati!E556=\"UA6\",Dati!D556,)","v":0},{"$f":"IF(Dati!E556=\"UB1\",Dati!D556,)","v":0},{"$f":"IF(Dati!E556=\"UB2\",Dati!D556,)","v":0},{"$f":"IF(Dati!E556=\"UC1\",Dati!D556,)","v":0},{"$f":"IF(Dati!E556=\"UD1\",Dati!D556,)","v":0},{"$f":"IF(Dati!E556=\"UE1\",Dati!D556,)","v":0}]
[{"$f":"Dati!C557","v":"00:00:00"},{"$f":"Dati!H557","v":"00:00:00"},{"$f":"IF(Dati!E557=\"UA1\",Dati!D557,)","v":0},{"$f":"IF(Dati!E557=\"UA2\",Dati!D557,)","v":0},{"$f":"IF(Dati!E557=\"UA3\",Dati!D557,)","v":0},{"$f":"IF(Dati!E557=\"UA4\",Dati!D557,)","v":0},{"$f":"IF(Dati!E557=\"UA5\",Dati!D557,)","v":0},{"$f":"IF(Dati!E557=\"UA6\",Dati!D557,)","v":0},{"$f":"IF(Dati!E557=\"UB1\",Dati!D557,)","v":0},{"$f":"IF(Dati!E557=\"UB2\",Dati!D557,)","v":0},{"$f":"IF(Dati!E557=\"UC1\",Dati!D557,)","v":0},{"$f":"IF(Dati!E557=\"UD1\",Dati!D557,)","v":0},{"$f":"IF(Dati!E557=\"UE1\",Dati!D557,)","v":0}]
[{"$f":"Dati!C558","v":"00:00:00"},{"$f":"Dati!H558","v":"00:00:00"},{"$f":"IF(Dati!E558=\"UA1\",Dati!D558,)","v":0},{"$f":"IF(Dati!E558=\"UA2\",Dati!D558,)","v":0},{"$f":"IF(Dati!E558=\"UA3\",Dati!D558,)","v":0},{"$f":"IF(Dati!E558=\"UA4\",Dati!D558,)","v":0},{"$f":"IF(Dati!E558=\"UA5\",Dati!D558,)","v":0},{"$f":"IF(Dati!E558=\"UA6\",Dati!D558,)","v":0},{"$f":"IF(Dati!E558=\"UB1\",Dati!D558,)","v":0},{"$f":"IF(Dati!E558=\"UB2\",Dati!D558,)","v":0},{"$f":"IF(Dati!E558=\"UC1\",Dati!D558,)","v":0},{"$f":"IF(Dati!E558=\"UD1\",Dati!D558,)","v":0},{"$f":"IF(Dati!E558=\"UE1\",Dati!D558,)","v":0}]
[{"$f":"Dati!C559","v":"00:00:00"},{"$f":"Dati!H559","v":"00:00:00"},{"$f":"IF(Dati!E559=\"UA1\",Dati!D559,)","v":0},{"$f":"IF(Dati!E559=\"UA2\",Dati!D559,)","v":0},{"$f":"IF(Dati!E559=\"UA3\",Dati!D559,)","v":0},{"$f":"IF(Dati!E559=\"UA4\",Dati!D559,)","v":0},{"$f":"IF(Dati!E559=\"UA5\",Dati!D559,)","v":0},{"$f":"IF(Dati!E559=\"UA6\",Dati!D559,)","v":0},{"$f":"IF(Dati!E559=\"UB1\",Dati!D559,)","v":0},{"$f":"IF(Dati!E559=\"UB2\",Dati!D559,)","v":0},{"$f":"IF(Dati!E559=\"UC1\",Dati!D559,)","v":0},{"$f":"IF(Dati!E559=\"UD1\",Dati!D559,)","v":0},{"$f":"IF(Dati!E559=\"UE1\",Dati!D559,)","v":0}]
[{"$f":"Dati!C560","v":"00:00:00"},{"$f":"Dati!H560","v":"00:00:00"},{"$f":"IF(Dati!E560=\"UA1\",Dati!D560,)","v":0},{"$f":"IF(Dati!E560=\"UA2\",Dati!D560,)","v":0},{"$f":"IF(Dati!E560=\"UA3\",Dati!D560,)","v":0},{"$f":"IF(Dati!E560=\"UA4\",Dati!D560,)","v":0},{"$f":"IF(Dati!E560=\"UA5\",Dati!D560,)","v":0},{"$f":"IF(Dati!E560=\"UA6\",Dati!D560,)","v":0},{"$f":"IF(Dati!E560=\"UB1\",Dati!D560,)","v":0},{"$f":"IF(Dati!E560=\"UB2\",Dati!D560,)","v":0},{"$f":"IF(Dati!E560=\"UC1\",Dati!D560,)","v":0},{"$f":"IF(Dati!E560=\"UD1\",Dati!D560,)","v":0},{"$f":"IF(Dati!E560=\"UE1\",Dati!D560,)","v":0}]
[{"$f":"Dati!C561","v":"00:00:00"},{"$f":"Dati!H561","v":"00:00:00"},{"$f":"IF(Dati!E561=\"UA1\",Dati!D561,)","v":0},{"$f":"IF(Dati!E561=\"UA2\",Dati!D561,)","v":0},{"$f":"IF(Dati!E561=\"UA3\",Dati!D561,)","v":0},{"$f":"IF(Dati!E561=\"UA4\",Dati!D561,)","v":0},{"$f":"IF(Dati!E561=\"UA5\",Dati!D561,)","v":0},{"$f":"IF(Dati!E561=\"UA6\",Dati!D561,)","v":0},{"$f":"IF(Dati!E561=\"UB1\",Dati!D561,)","v":0},{"$f":"IF(Dati!E561=\"UB2\",Dati!D561,)","v":0},{"$f":"IF(Dati!E561=\"UC1\",Dati!D561,)","v":0},{"$f":"IF(Dati!E561=\"UD1\",Dati!D561,)","v":0},{"$f":"IF(Dati!E561=\"UE1\",Dati!D561,)","v":0}]
[{"$f":"Dati!C562","v":"00:00:00"},{"$f":"Dati!H562","v":"00:00:00"},{"$f":"IF(Dati!E562=\"UA1\",Dati!D562,)","v":0},{"$f":"IF(Dati!E562=\"UA2\",Dati!D562,)","v":0},{"$f":"IF(Dati!E562=\"UA3\",Dati!D562,)","v":0},{"$f":"IF(Dati!E562=\"UA4\",Dati!D562,)","v":0},{"$f":"IF(Dati!E562=\"UA5\",Dati!D562,)","v":0},{"$f":"IF(Dati!E562=\"UA6\",Dati!D562,)","v":0},{"$f":"IF(Dati!E562=\"UB1\",Dati!D562,)","v":0},{"$f":"IF(Dati!E562=\"UB2\",Dati!D562,)","v":0},{"$f":"IF(Dati!E562=\"UC1\",Dati!D562,)","v":0},{"$f":"IF(Dati!E562=\"UD1\",Dati!D562,)","v":0},{"$f":"IF(Dati!E562=\"UE1\",Dati!D562,)","v":0}]
[{"$f":"Dati!C563","v":"00:00:00"},{"$f":"Dati!H563","v":"00:00:00"},{"$f":"IF(Dati!E563=\"UA1\",Dati!D563,)","v":0},{"$f":"IF(Dati!E563=\"UA2\",Dati!D563,)","v":0},{"$f":"IF(Dati!E563=\"UA3\",Dati!D563,)","v":0},{"$f":"IF(Dati!E563=\"UA4\",Dati!D563,)","v":0},{"$f":"IF(Dati!E563=\"UA5\",Dati!D563,)","v":0},{"$f":"IF(Dati!E563=\"UA6\",Dati!D563,)","v":0},{"$f":"IF(Dati!E563=\"UB1\",Dati!D563,)","v":0},{"$f":"IF(Dati!E563=\"UB2\",Dati!D563,)","v":0},{"$f":"IF(Dati!E563=\"UC1\",Dati!D563,)","v":0},{"$f":"IF(Dati!E563=\"UD1\",Dati!D563,)","v":0},{"$f":"IF(Dati!E563=\"UE1\",Dati!D563,)","v":0}]
[{"$f":"Dati!C564","v":"00:00:00"},{"$f":"Dati!H564","v":"00:00:00"},{"$f":"IF(Dati!E564=\"UA1\",Dati!D564,)","v":0},{"$f":"IF(Dati!E564=\"UA2\",Dati!D564,)","v":0},{"$f":"IF(Dati!E564=\"UA3\",Dati!D564,)","v":0},{"$f":"IF(Dati!E564=\"UA4\",Dati!D564,)","v":0},{"$f":"IF(Dati!E564=\"UA5\",Dati!D564,)","v":0},{"$f":"IF(Dati!E564=\"UA6\",Dati!D564,)","v":0},{"$f":"IF(Dati!E564=\"UB1\",Dati!D564,)","v":0},{"$f":"IF(Dati!E564=\"UB2\",Dati!D564,)","v":0},{"$f":"IF(Dati!E564=\"UC1\",Dati!D564,)","v":0},{"$f":"IF(Dati!E564=\"UD1\",Dati!D564,)","v":0},{"$f":"IF(Dati!E564=\"UE1\",Dati!D564,)","v":0}]
[{"$f":"Dati!C565","v":"00:00:00"},{"$f":"Dati!H565","v":"00:00:00"},{"$f":"IF(Dati!E565=\"UA1\",Dati!D565,)","v":0},{"$f":"IF(Dati!E565=\"UA2\",Dati!D565,)","v":0},{"$f":"IF(Dati!E565=\"UA3\",Dati!D565,)","v":0},{"$f":"IF(Dati!E565=\"UA4\",Dati!D565,)","v":0},{"$f":"IF(Dati!E565=\"UA5\",Dati!D565,)","v":0},{"$f":"IF(Dati!E565=\"UA6\",Dati!D565,)","v":0},{"$f":"IF(Dati!E565=\"UB1\",Dati!D565,)","v":0},{"$f":"IF(Dati!E565=\"UB2\",Dati!D565,)","v":0},{"$f":"IF(Dati!E565=\"UC1\",Dati!D565,)","v":0},{"$f":"IF(Dati!E565=\"UD1\",Dati!D565,)","v":0},{"$f":"IF(Dati!E565=\"UE1\",Dati!D565,)","v":0}]
[{"$f":"Dati!C566","v":"00:00:00"},{"$f":"Dati!H566","v":"00:00:00"},{"$f":"IF(Dati!E566=\"UA1\",Dati!D566,)","v":0},{"$f":"IF(Dati!E566=\"UA2\",Dati!D566,)","v":0},{"$f":"IF(Dati!E566=\"UA3\",Dati!D566,)","v":0},{"$f":"IF(Dati!E566=\"UA4\",Dati!D566,)","v":0},{"$f":"IF(Dati!E566=\"UA5\",Dati!D566,)","v":0},{"$f":"IF(Dati!E566=\"UA6\",Dati!D566,)","v":0},{"$f":"IF(Dati!E566=\"UB1\",Dati!D566,)","v":0},{"$f":"IF(Dati!E566=\"UB2\",Dati!D566,)","v":0},{"$f":"IF(Dati!E566=\"UC1\",Dati!D566,)","v":0},{"$f":"IF(Dati!E566=\"UD1\",Dati!D566,)","v":0},{"$f":"IF(Dati!E566=\"UE1\",Dati!D566,)","v":0}]
[{"$f":"Dati!C567","v":"00:00:00"},{"$f":"Dati!H567","v":"00:00:00"},{"$f":"IF(Dati!E567=\"UA1\",Dati!D567,)","v":0},{"$f":"IF(Dati!E567=\"UA2\",Dati!D567,)","v":0},{"$f":"IF(Dati!E567=\"UA3\",Dati!D567,)","v":0},{"$f":"IF(Dati!E567=\"UA4\",Dati!D567,)","v":0},{"$f":"IF(Dati!E567=\"UA5\",Dati!D567,)","v":0},{"$f":"IF(Dati!E567=\"UA6\",Dati!D567,)","v":0},{"$f":"IF(Dati!E567=\"UB1\",Dati!D567,)","v":0},{"$f":"IF(Dati!E567=\"UB2\",Dati!D567,)","v":0},{"$f":"IF(Dati!E567=\"UC1\",Dati!D567,)","v":0},{"$f":"IF(Dati!E567=\"UD1\",Dati!D567,)","v":0},{"$f":"IF(Dati!E567=\"UE1\",Dati!D567,)","v":0}]
[{"$f":"Dati!C568","v":"00:00:00"},{"$f":"Dati!H568","v":"00:00:00"},{"$f":"IF(Dati!E568=\"UA1\",Dati!D568,)","v":0},{"$f":"IF(Dati!E568=\"UA2\",Dati!D568,)","v":0},{"$f":"IF(Dati!E568=\"UA3\",Dati!D568,)","v":0},{"$f":"IF(Dati!E568=\"UA4\",Dati!D568,)","v":0},{"$f":"IF(Dati!E568=\"UA5\",Dati!D568,)","v":0},{"$f":"IF(Dati!E568=\"UA6\",Dati!D568,)","v":0},{"$f":"IF(Dati!E568=\"UB1\",Dati!D568,)","v":0},{"$f":"IF(Dati!E568=\"UB2\",Dati!D568,)","v":0},{"$f":"IF(Dati!E568=\"UC1\",Dati!D568,)","v":0},{"$f":"IF(Dati!E568=\"UD1\",Dati!D568,)","v":0},{"$f":"IF(Dati!E568=\"UE1\",Dati!D568,)","v":0}]
[{"$f":"Dati!C569","v":"00:00:00"},{"$f":"Dati!H569","v":"00:00:00"},{"$f":"IF(Dati!E569=\"UA1\",Dati!D569,)","v":0},{"$f":"IF(Dati!E569=\"UA2\",Dati!D569,)","v":0},{"$f":"IF(Dati!E569=\"UA3\",Dati!D569,)","v":0},{"$f":"IF(Dati!E569=\"UA4\",Dati!D569,)","v":0},{"$f":"IF(Dati!E569=\"UA5\",Dati!D569,)","v":0},{"$f":"IF(Dati!E569=\"UA6\",Dati!D569,)","v":0},{"$f":"IF(Dati!E569=\"UB1\",Dati!D569,)","v":0},{"$f":"IF(Dati!E569=\"UB2\",Dati!D569,)","v":0},{"$f":"IF(Dati!E569=\"UC1\",Dati!D569,)","v":0},{"$f":"IF(Dati!E569=\"UD1\",Dati!D569,)","v":0},{"$f":"IF(Dati!E569=\"UE1\",Dati!D569,)","v":0}]
[{"$f":"Dati!C570","v":"00:00:00"},{"$f":"Dati!H570","v":"00:00:00"},{"$f":"IF(Dati!E570=\"UA1\",Dati!D570,)","v":0},{"$f":"IF(Dati!E570=\"UA2\",Dati!D570,)","v":0},{"$f":"IF(Dati!E570=\"UA3\",Dati!D570,)","v":0},{"$f":"IF(Dati!E570=\"UA4\",Dati!D570,)","v":0},{"$f":"IF(Dati!E570=\"UA5\",Dati!D570,)","v":0},{"$f":"IF(Dati!E570=\"UA6\",Dati!D570,)","v":0},{"$f":"IF(Dati!E570=\"UB1\",Dati!D570,)","v":0},{"$f":"IF(Dati!E570=\"UB2\",Dati!D570,)","v":0},{"$f":"IF(Dati!E570=\"UC1\",Dati!D570,)","v":0},{"$f":"IF(Dati!E570=\"UD1\",Dati!D570,)","v":0},{"$f":"IF(Dati!E570=\"UE1\",Dati!D570,)","v":0}]
[{"$f":"Dati!C571","v":"00:00:00"},{"$f":"Dati!H571","v":"00:00:00"},{"$f":"IF(Dati!E571=\"UA1\",Dati!D571,)","v":0},{"$f":"IF(Dati!E571=\"UA2\",Dati!D571,)","v":0},{"$f":"IF(Dati!E571=\"UA3\",Dati!D571,)","v":0},{"$f":"IF(Dati!E571=\"UA4\",Dati!D571,)","v":0},{"$f":"IF(Dati!E571=\"UA5\",Dati!D571,)","v":0},{"$f":"IF(Dati!E571=\"UA6\",Dati!D571,)","v":0},{"$f":"IF(Dati!E571=\"UB1\",Dati!D571,)","v":0},{"$f":"IF(Dati!E571=\"UB2\",Dati!D571,)","v":0},{"$f":"IF(Dati!E571=\"UC1\",Dati!D571,)","v":0},{"$f":"IF(Dati!E571=\"UD1\",Dati!D571,)","v":0},{"$f":"IF(Dati!E571=\"UE1\",Dati!D571,)","v":0}]
[{"$f":"Dati!C572","v":"00:00:00"},{"$f":"Dati!H572","v":"00:00:00"},{"$f":"IF(Dati!E572=\"UA1\",Dati!D572,)","v":0},{"$f":"IF(Dati!E572=\"UA2\",Dati!D572,)","v":0},{"$f":"IF(Dati!E572=\"UA3\",Dati!D572,)","v":0},{"$f":"IF(Dati!E572=\"UA4\",Dati!D572,)","v":0},{"$f":"IF(Dati!E572=\"UA5\",Dati!D572,)","v":0},{"$f":"IF(Dati!E572=\"UA6\",Dati!D572,)","v":0},{"$f":"IF(Dati!E572=\"UB1\",Dati!D572,)","v":0},{"$f":"IF(Dati!E572=\"UB2\",Dati!D572,)","v":0},{"$f":"IF(Dati!E572=\"UC1\",Dati!D572,)","v":0},{"$f":"IF(Dati!E572=\"UD1\",Dati!D572,)","v":0},{"$f":"IF(Dati!E572=\"UE1\",Dati!D572,)","v":0}]
[{"$f":"Dati!C573","v":"00:00:00"},{"$f":"Dati!H573","v":"00:00:00"},{"$f":"IF(Dati!E573=\"UA1\",Dati!D573,)","v":0},{"$f":"IF(Dati!E573=\"UA2\",Dati!D573,)","v":0},{"$f":"IF(Dati!E573=\"UA3\",Dati!D573,)","v":0},{"$f":"IF(Dati!E573=\"UA4\",Dati!D573,)","v":0},{"$f":"IF(Dati!E573=\"UA5\",Dati!D573,)","v":0},{"$f":"IF(Dati!E573=\"UA6\",Dati!D573,)","v":0},{"$f":"IF(Dati!E573=\"UB1\",Dati!D573,)","v":0},{"$f":"IF(Dati!E573=\"UB2\",Dati!D573,)","v":0},{"$f":"IF(Dati!E573=\"UC1\",Dati!D573,)","v":0},{"$f":"IF(Dati!E573=\"UD1\",Dati!D573,)","v":0},{"$f":"IF(Dati!E573=\"UE1\",Dati!D573,)","v":0}]
[{"$f":"Dati!C574","v":"00:00:00"},{"$f":"Dati!H574","v":"00:00:00"},{"$f":"IF(Dati!E574=\"UA1\",Dati!D574,)","v":0},{"$f":"IF(Dati!E574=\"UA2\",Dati!D574,)","v":0},{"$f":"IF(Dati!E574=\"UA3\",Dati!D574,)","v":0},{"$f":"IF(Dati!E574=\"UA4\",Dati!D574,)","v":0},{"$f":"IF(Dati!E574=\"UA5\",Dati!D574,)","v":0},{"$f":"IF(Dati!E574=\"UA6\",Dati!D574,)","v":0},{"$f":"IF(Dati!E574=\"UB1\",Dati!D574,)","v":0},{"$f":"IF(Dati!E574=\"UB2\",Dati!D574,)","v":0},{"$f":"IF(Dati!E574=\"UC1\",Dati!D574,)","v":0},{"$f":"IF(Dati!E574=\"UD1\",Dati!D574,)","v":0},{"$f":"IF(Dati!E574=\"UE1\",Dati!D574,)","v":0}]
[{"$f":"Dati!C575","v":"00:00:00"},{"$f":"Dati!H575","v":"00:00:00"},{"$f":"IF(Dati!E575=\"UA1\",Dati!D575,)","v":0},{"$f":"IF(Dati!E575=\"UA2\",Dati!D575,)","v":0},{"$f":"IF(Dati!E575=\"UA3\",Dati!D575,)","v":0},{"$f":"IF(Dati!E575=\"UA4\",Dati!D575,)","v":0},{"$f":"IF(Dati!E575=\"UA5\",Dati!D575,)","v":0},{"$f":"IF(Dati!E575=\"UA6\",Dati!D575,)","v":0},{"$f":"IF(Dati!E575=\"UB1\",Dati!D575,)","v":0},{"$f":"IF(Dati!E575=\"UB2\",Dati!D575,)","v":0},{"$f":"IF(Dati!E575=\"UC1\",Dati!D575,)","v":0},{"$f":"IF(Dati!E575=\"UD1\",Dati!D575,)","v":0},{"$f":"IF(Dati!E575=\"UE1\",Dati!D575,)","v":0}]
[{"$f":"Dati!C576","v":"00:00:00"},{"$f":"Dati!H576","v":"00:00:00"},{"$f":"IF(Dati!E576=\"UA1\",Dati!D576,)","v":0},{"$f":"IF(Dati!E576=\"UA2\",Dati!D576,)","v":0},{"$f":"IF(Dati!E576=\"UA3\",Dati!D576,)","v":0},{"$f":"IF(Dati!E576=\"UA4\",Dati!D576,)","v":0},{"$f":"IF(Dati!E576=\"UA5\",Dati!D576,)","v":0},{"$f":"IF(Dati!E576=\"UA6\",Dati!D576,)","v":0},{"$f":"IF(Dati!E576=\"UB1\",Dati!D576,)","v":0},{"$f":"IF(Dati!E576=\"UB2\",Dati!D576,)","v":0},{"$f":"IF(Dati!E576=\"UC1\",Dati!D576,)","v":0},{"$f":"IF(Dati!E576=\"UD1\",Dati!D576,)","v":0},{"$f":"IF(Dati!E576=\"UE1\",Dati!D576,)","v":0}]
[{"$f":"Dati!C577","v":"00:00:00"},{"$f":"Dati!H577","v":"00:00:00"},{"$f":"IF(Dati!E577=\"UA1\",Dati!D577,)","v":0},{"$f":"IF(Dati!E577=\"UA2\",Dati!D577,)","v":0},{"$f":"IF(Dati!E577=\"UA3\",Dati!D577,)","v":0},{"$f":"IF(Dati!E577=\"UA4\",Dati!D577,)","v":0},{"$f":"IF(Dati!E577=\"UA5\",Dati!D577,)","v":0},{"$f":"IF(Dati!E577=\"UA6\",Dati!D577,)","v":0},{"$f":"IF(Dati!E577=\"UB1\",Dati!D577,)","v":0},{"$f":"IF(Dati!E577=\"UB2\",Dati!D577,)","v":0},{"$f":"IF(Dati!E577=\"UC1\",Dati!D577,)","v":0},{"$f":"IF(Dati!E577=\"UD1\",Dati!D577,)","v":0},{"$f":"IF(Dati!E577=\"UE1\",Dati!D577,)","v":0}]
[{"$f":"Dati!C578","v":"00:00:00"},{"$f":"Dati!H578","v":"00:00:00"},{"$f":"IF(Dati!E578=\"UA1\",Dati!D578,)","v":0},{"$f":"IF(Dati!E578=\"UA2\",Dati!D578,)","v":0},{"$f":"IF(Dati!E578=\"UA3\",Dati!D578,)","v":0},{"$f":"IF(Dati!E578=\"UA4\",Dati!D578,)","v":0},{"$f":"IF(Dati!E578=\"UA5\",Dati!D578,)","v":0},{"$f":"IF(Dati!E578=\"UA6\",Dati!D578,)","v":0},{"$f":"IF(Dati!E578=\"UB1\",Dati!D578,)","v":0},{"$f":"IF(Dati!E578=\"UB2\",Dati!D578,)","v":0},{"$f":"IF(Dati!E578=\"UC1\",Dati!D578,)","v":0},{"$f":"IF(Dati!E578=\"UD1\",Dati!D578,)","v":0},{"$f":"IF(Dati!E578=\"UE1\",Dati!D578,)","v":0}]
[{"$f":"Dati!C579","v":"00:00:00"},{"$f":"Dati!H579","v":"00:00:00"},{"$f":"IF(Dati!E579=\"UA1\",Dati!D579,)","v":0},{"$f":"IF(Dati!E579=\"UA2\",Dati!D579,)","v":0},{"$f":"IF(Dati!E579=\"UA3\",Dati!D579,)","v":0},{"$f":"IF(Dati!E579=\"UA4\",Dati!D579,)","v":0},{"$f":"IF(Dati!E579=\"UA5\",Dati!D579,)","v":0},{"$f":"IF(Dati!E579=\"UA6\",Dati!D579,)","v":0},{"$f":"IF(Dati!E579=\"UB1\",Dati!D579,)","v":0},{"$f":"IF(Dati!E579=\"UB2\",Dati!D579,)","v":0},{"$f":"IF(Dati!E579=\"UC1\",Dati!D579,)","v":0},{"$f":"IF(Dati!E579=\"UD1\",Dati!D579,)","v":0},{"$f":"IF(Dati!E579=\"UE1\",Dati!D579,)","v":0}]
[{"$f":"Dati!C580","v":"00:00:00"},{"$f":"Dati!H580","v":"00:00:00"},{"$f":"IF(Dati!E580=\"UA1\",Dati!D580,)","v":0},{"$f":"IF(Dati!E580=\"UA2\",Dati!D580,)","v":0},{"$f":"IF(Dati!E580=\"UA3\",Dati!D580,)","v":0},{"$f":"IF(Dati!E580=\"UA4\",Dati!D580,)","v":0},{"$f":"IF(Dati!E580=\"UA5\",Dati!D580,)","v":0},{"$f":"IF(Dati!E580=\"UA6\",Dati!D580,)","v":0},{"$f":"IF(Dati!E580=\"UB1\",Dati!D580,)","v":0},{"$f":"IF(Dati!E580=\"UB2\",Dati!D580,)","v":0},{"$f":"IF(Dati!E580=\"UC1\",Dati!D580,)","v":0},{"$f":"IF(Dati!E580=\"UD1\",Dati!D580,)","v":0},{"$f":"IF(Dati!E580=\"UE1\",Dati!D580,)","v":0}]
[{"$f":"Dati!C581","v":"00:00:00"},{"$f":"Dati!H581","v":"00:00:00"},{"$f":"IF(Dati!E581=\"UA1\",Dati!D581,)","v":0},{"$f":"IF(Dati!E581=\"UA2\",Dati!D581,)","v":0},{"$f":"IF(Dati!E581=\"UA3\",Dati!D581,)","v":0},{"$f":"IF(Dati!E581=\"UA4\",Dati!D581,)","v":0},{"$f":"IF(Dati!E581=\"UA5\",Dati!D581,)","v":0},{"$f":"IF(Dati!E581=\"UA6\",Dati!D581,)","v":0},{"$f":"IF(Dati!E581=\"UB1\",Dati!D581,)","v":0},{"$f":"IF(Dati!E581=\"UB2\",Dati!D581,)","v":0},{"$f":"IF(Dati!E581=\"UC1\",Dati!D581,)","v":0},{"$f":"IF(Dati!E581=\"UD1\",Dati!D581,)","v":0},{"$f":"IF(Dati!E581=\"UE1\",Dati!D581,)","v":0}]
[{"$f":"Dati!C582","v":"00:00:00"},{"$f":"Dati!H582","v":"00:00:00"},{"$f":"IF(Dati!E582=\"UA1\",Dati!D582,)","v":0},{"$f":"IF(Dati!E582=\"UA2\",Dati!D582,)","v":0},{"$f":"IF(Dati!E582=\"UA3\",Dati!D582,)","v":0},{"$f":"IF(Dati!E582=\"UA4\",Dati!D582,)","v":0},{"$f":"IF(Dati!E582=\"UA5\",Dati!D582,)","v":0},{"$f":"IF(Dati!E582=\"UA6\",Dati!D582,)","v":0},{"$f":"IF(Dati!E582=\"UB1\",Dati!D582,)","v":0},{"$f":"IF(Dati!E582=\"UB2\",Dati!D582,)","v":0},{"$f":"IF(Dati!E582=\"UC1\",Dati!D582,)","v":0},{"$f":"IF(Dati!E582=\"UD1\",Dati!D582,)","v":0},{"$f":"IF(Dati!E582=\"UE1\",Dati!D582,)","v":0}]
[{"$f":"Dati!C583","v":"00:00:00"},{"$f":"Dati!H583","v":"00:00:00"},{"$f":"IF(Dati!E583=\"UA1\",Dati!D583,)","v":0},{"$f":"IF(Dati!E583=\"UA2\",Dati!D583,)","v":0},{"$f":"IF(Dati!E583=\"UA3\",Dati!D583,)","v":0},{"$f":"IF(Dati!E583=\"UA4\",Dati!D583,)","v":0},{"$f":"IF(Dati!E583=\"UA5\",Dati!D583,)","v":0},{"$f":"IF(Dati!E583=\"UA6\",Dati!D583,)","v":0},{"$f":"IF(Dati!E583=\"UB1\",Dati!D583,)","v":0},{"$f":"IF(Dati!E583=\"UB2\",Dati!D583,)","v":0},{"$f":"IF(Dati!E583=\"UC1\",Dati!D583,)","v":0},{"$f":"IF(Dati!E583=\"UD1\",Dati!D583,)","v":0},{"$f":"IF(Dati!E583=\"UE1\",Dati!D583,)","v":0}]
[{"$f":"Dati!C584","v":"00:00:00"},{"$f":"Dati!H584","v":"00:00:00"},{"$f":"IF(Dati!E584=\"UA1\",Dati!D584,)","v":0},{"$f":"IF(Dati!E584=\"UA2\",Dati!D584,)","v":0},{"$f":"IF(Dati!E584=\"UA3\",Dati!D584,)","v":0},{"$f":"IF(Dati!E584=\"UA4\",Dati!D584,)","v":0},{"$f":"IF(Dati!E584=\"UA5\",Dati!D584,)","v":0},{"$f":"IF(Dati!E584=\"UA6\",Dati!D584,)","v":0},{"$f":"IF(Dati!E584=\"UB1\",Dati!D584,)","v":0},{"$f":"IF(Dati!E584=\"UB2\",Dati!D584,)","v":0},{"$f":"IF(Dati!E584=\"UC1\",Dati!D584,)","v":0},{"$f":"IF(Dati!E584=\"UD1\",Dati!D584,)","v":0},{"$f":"IF(Dati!E584=\"UE1\",Dati!D584,)","v":0}]
[{"$f":"Dati!C585","v":"00:00:00"},{"$f":"Dati!H585","v":"00:00:00"},{"$f":"IF(Dati!E585=\"UA1\",Dati!D585,)","v":0},{"$f":"IF(Dati!E585=\"UA2\",Dati!D585,)","v":0},{"$f":"IF(Dati!E585=\"UA3\",Dati!D585,)","v":0},{"$f":"IF(Dati!E585=\"UA4\",Dati!D585,)","v":0},{"$f":"IF(Dati!E585=\"UA5\",Dati!D585,)","v":0},{"$f":"IF(Dati!E585=\"UA6\",Dati!D585,)","v":0},{"$f":"IF(Dati!E585=\"UB1\",Dati!D585,)","v":0},{"$f":"IF(Dati!E585=\"UB2\",Dati!D585,)","v":0},{"$f":"IF(Dati!E585=\"UC1\",Dati!D585,)","v":0},{"$f":"IF(Dati!E585=\"UD1\",Dati!D585,)","v":0},{"$f":"IF(Dati!E585=\"UE1\",Dati!D585,)","v":0}]
[{"$f":"Dati!C586","v":"00:00:00"},{"$f":"Dati!H586","v":"00:00:00"},{"$f":"IF(Dati!E586=\"UA1\",Dati!D586,)","v":0},{"$f":"IF(Dati!E586=\"UA2\",Dati!D586,)","v":0},{"$f":"IF(Dati!E586=\"UA3\",Dati!D586,)","v":0},{"$f":"IF(Dati!E586=\"UA4\",Dati!D586,)","v":0},{"$f":"IF(Dati!E586=\"UA5\",Dati!D586,)","v":0},{"$f":"IF(Dati!E586=\"UA6\",Dati!D586,)","v":0},{"$f":"IF(Dati!E586=\"UB1\",Dati!D586,)","v":0},{"$f":"IF(Dati!E586=\"UB2\",Dati!D586,)","v":0},{"$f":"IF(Dati!E586=\"UC1\",Dati!D586,)","v":0},{"$f":"IF(Dati!E586=\"UD1\",Dati!D586,)","v":0},{"$f":"IF(Dati!E586=\"UE1\",Dati!D586,)","v":0}]
[{"$f":"Dati!C587","v":"00:00:00"},{"$f":"Dati!H587","v":"00:00:00"},{"$f":"IF(Dati!E587=\"UA1\",Dati!D587,)","v":0},{"$f":"IF(Dati!E587=\"UA2\",Dati!D587,)","v":0},{"$f":"IF(Dati!E587=\"UA3\",Dati!D587,)","v":0},{"$f":"IF(Dati!E587=\"UA4\",Dati!D587,)","v":0},{"$f":"IF(Dati!E587=\"UA5\",Dati!D587,)","v":0},{"$f":"IF(Dati!E587=\"UA6\",Dati!D587,)","v":0},{"$f":"IF(Dati!E587=\"UB1\",Dati!D587,)","v":0},{"$f":"IF(Dati!E587=\"UB2\",Dati!D587,)","v":0},{"$f":"IF(Dati!E587=\"UC1\",Dati!D587,)","v":0},{"$f":"IF(Dati!E587=\"UD1\",Dati!D587,)","v":0},{"$f":"IF(Dati!E587=\"UE1\",Dati!D587,)","v":0}]
[{"$f":"Dati!C588","v":"00:00:00"},{"$f":"Dati!H588","v":"00:00:00"},{"$f":"IF(Dati!E588=\"UA1\",Dati!D588,)","v":0},{"$f":"IF(Dati!E588=\"UA2\",Dati!D588,)","v":0},{"$f":"IF(Dati!E588=\"UA3\",Dati!D588,)","v":0},{"$f":"IF(Dati!E588=\"UA4\",Dati!D588,)","v":0},{"$f":"IF(Dati!E588=\"UA5\",Dati!D588,)","v":0},{"$f":"IF(Dati!E588=\"UA6\",Dati!D588,)","v":0},{"$f":"IF(Dati!E588=\"UB1\",Dati!D588,)","v":0},{"$f":"IF(Dati!E588=\"UB2\",Dati!D588,)","v":0},{"$f":"IF(Dati!E588=\"UC1\",Dati!D588,)","v":0},{"$f":"IF(Dati!E588=\"UD1\",Dati!D588,)","v":0},{"$f":"IF(Dati!E588=\"UE1\",Dati!D588,)","v":0}]
[{"$f":"Dati!C589","v":"00:00:00"},{"$f":"Dati!H589","v":"00:00:00"},{"$f":"IF(Dati!E589=\"UA1\",Dati!D589,)","v":0},{"$f":"IF(Dati!E589=\"UA2\",Dati!D589,)","v":0},{"$f":"IF(Dati!E589=\"UA3\",Dati!D589,)","v":0},{"$f":"IF(Dati!E589=\"UA4\",Dati!D589,)","v":0},{"$f":"IF(Dati!E589=\"UA5\",Dati!D589,)","v":0},{"$f":"IF(Dati!E589=\"UA6\",Dati!D589,)","v":0},{"$f":"IF(Dati!E589=\"UB1\",Dati!D589,)","v":0},{"$f":"IF(Dati!E589=\"UB2\",Dati!D589,)","v":0},{"$f":"IF(Dati!E589=\"UC1\",Dati!D589,)","v":0},{"$f":"IF(Dati!E589=\"UD1\",Dati!D589,)","v":0},{"$f":"IF(Dati!E589=\"UE1\",Dati!D589,)","v":0}]
[{"$f":"Dati!C590","v":"00:00:00"},{"$f":"Dati!H590","v":"00:00:00"},{"$f":"IF(Dati!E590=\"UA1\",Dati!D590,)","v":0},{"$f":"IF(Dati!E590=\"UA2\",Dati!D590,)","v":0},{"$f":"IF(Dati!E590=\"UA3\",Dati!D590,)","v":0},{"$f":"IF(Dati!E590=\"UA4\",Dati!D590,)","v":0},{"$f":"IF(Dati!E590=\"UA5\",Dati!D590,)","v":0},{"$f":"IF(Dati!E590=\"UA6\",Dati!D590,)","v":0},{"$f":"IF(Dati!E590=\"UB1\",Dati!D590,)","v":0},{"$f":"IF(Dati!E590=\"UB2\",Dati!D590,)","v":0},{"$f":"IF(Dati!E590=\"UC1\",Dati!D590,)","v":0},{"$f":"IF(Dati!E590=\"UD1\",Dati!D590,)","v":0},{"$f":"IF(Dati!E590=\"UE1\",Dati!D590,)","v":0}]
[{"$f":"Dati!C591","v":"00:00:00"},{"$f":"Dati!H591","v":"00:00:00"},{"$f":"IF(Dati!E591=\"UA1\",Dati!D591,)","v":0},{"$f":"IF(Dati!E591=\"UA2\",Dati!D591,)","v":0},{"$f":"IF(Dati!E591=\"UA3\",Dati!D591,)","v":0},{"$f":"IF(Dati!E591=\"UA4\",Dati!D591,)","v":0},{"$f":"IF(Dati!E591=\"UA5\",Dati!D591,)","v":0},{"$f":"IF(Dati!E591=\"UA6\",Dati!D591,)","v":0},{"$f":"IF(Dati!E591=\"UB1\",Dati!D591,)","v":0},{"$f":"IF(Dati!E591=\"UB2\",Dati!D591,)","v":0},{"$f":"IF(Dati!E591=\"UC1\",Dati!D591,)","v":0},{"$f":"IF(Dati!E591=\"UD1\",Dati!D591,)","v":0},{"$f":"IF(Dati!E591=\"UE1\",Dati!D591,)","v":0}]
[{"$f":"Dati!C592","v":"00:00:00"},{"$f":"Dati!H592","v":"00:00:00"},{"$f":"IF(Dati!E592=\"UA1\",Dati!D592,)","v":0},{"$f":"IF(Dati!E592=\"UA2\",Dati!D592,)","v":0},{"$f":"IF(Dati!E592=\"UA3\",Dati!D592,)","v":0},{"$f":"IF(Dati!E592=\"UA4\",Dati!D592,)","v":0},{"$f":"IF(Dati!E592=\"UA5\",Dati!D592,)","v":0},{"$f":"IF(Dati!E592=\"UA6\",Dati!D592,)","v":0},{"$f":"IF(Dati!E592=\"UB1\",Dati!D592,)","v":0},{"$f":"IF(Dati!E592=\"UB2\",Dati!D592,)","v":0},{"$f":"IF(Dati!E592=\"UC1\",Dati!D592,)","v":0},{"$f":"IF(Dati!E592=\"UD1\",Dati!D592,)","v":0},{"$f":"IF(Dati!E592=\"UE1\",Dati!D592,)","v":0}]
[{"$f":"Dati!C593","v":"00:00:00"},{"$f":"Dati!H593","v":"00:00:00"},{"$f":"IF(Dati!E593=\"UA1\",Dati!D593,)","v":0},{"$f":"IF(Dati!E593=\"UA2\",Dati!D593,)","v":0},{"$f":"IF(Dati!E593=\"UA3\",Dati!D593,)","v":0},{"$f":"IF(Dati!E593=\"UA4\",Dati!D593,)","v":0},{"$f":"IF(Dati!E593=\"UA5\",Dati!D593,)","v":0},{"$f":"IF(Dati!E593=\"UA6\",Dati!D593,)","v":0},{"$f":"IF(Dati!E593=\"UB1\",Dati!D593,)","v":0},{"$f":"IF(Dati!E593=\"UB2\",Dati!D593,)","v":0},{"$f":"IF(Dati!E593=\"UC1\",Dati!D593,)","v":0},{"$f":"IF(Dati!E593=\"UD1\",Dati!D593,)","v":0},{"$f":"IF(Dati!E593=\"UE1\",Dati!D593,)","v":0}]
[{"$f":"Dati!C594","v":"00:00:00"},{"$f":"Dati!H594","v":"00:00:00"},{"$f":"IF(Dati!E594=\"UA1\",Dati!D594,)","v":0},{"$f":"IF(Dati!E594=\"UA2\",Dati!D594,)","v":0},{"$f":"IF(Dati!E594=\"UA3\",Dati!D594,)","v":0},{"$f":"IF(Dati!E594=\"UA4\",Dati!D594,)","v":0},{"$f":"IF(Dati!E594=\"UA5\",Dati!D594,)","v":0},{"$f":"IF(Dati!E594=\"UA6\",Dati!D594,)","v":0},{"$f":"IF(Dati!E594=\"UB1\",Dati!D594,)","v":0},{"$f":"IF(Dati!E594=\"UB2\",Dati!D594,)","v":0},{"$f":"IF(Dati!E594=\"UC1\",Dati!D594,)","v":0},{"$f":"IF(Dati!E594=\"UD1\",Dati!D594,)","v":0},{"$f":"IF(Dati!E594=\"UE1\",Dati!D594,)","v":0}]
[{"$f":"Dati!C595","v":"00:00:00"},{"$f":"Dati!H595","v":"00:00:00"},{"$f":"IF(Dati!E595=\"UA1\",Dati!D595,)","v":0},{"$f":"IF(Dati!E595=\"UA2\",Dati!D595,)","v":0},{"$f":"IF(Dati!E595=\"UA3\",Dati!D595,)","v":0},{"$f":"IF(Dati!E595=\"UA4\",Dati!D595,)","v":0},{"$f":"IF(Dati!E595=\"UA5\",Dati!D595,)","v":0},{"$f":"IF(Dati!E595=\"UA6\",Dati!D595,)","v":0},{"$f":"IF(Dati!E595=\"UB1\",Dati!D595,)","v":0},{"$f":"IF(Dati!E595=\"UB2\",Dati!D595,)","v":0},{"$f":"IF(Dati!E595=\"UC1\",Dati!D595,)","v":0},{"$f":"IF(Dati!E595=\"UD1\",Dati!D595,)","v":0},{"$f":"IF(Dati!E595=\"UE1\",Dati!D595,)","v":0}]
[{"$f":"Dati!C596","v":"00:00:00"},{"$f":"Dati!H596","v":"00:00:00"},{"$f":"IF(Dati!E596=\"UA1\",Dati!D596,)","v":0},{"$f":"IF(Dati!E596=\"UA2\",Dati!D596,)","v":0},{"$f":"IF(Dati!E596=\"UA3\",Dati!D596,)","v":0},{"$f":"IF(Dati!E596=\"UA4\",Dati!D596,)","v":0},{"$f":"IF(Dati!E596=\"UA5\",Dati!D596,)","v":0},{"$f":"IF(Dati!E596=\"UA6\",Dati!D596,)","v":0},{"$f":"IF(Dati!E596=\"UB1\",Dati!D596,)","v":0},{"$f":"IF(Dati!E596=\"UB2\",Dati!D596,)","v":0},{"$f":"IF(Dati!E596=\"UC1\",Dati!D596,)","v":0},{"$f":"IF(Dati!E596=\"UD1\",Dati!D596,)","v":0},{"$f":"IF(Dati!E596=\"UE1\",Dati!D596,)","v":0}]
[{"$f":"Dati!C597","v":"00:00:00"},{"$f":"Dati!H597","v":"00:00:00"},{"$f":"IF(Dati!E597=\"UA1\",Dati!D597,)","v":0},{"$f":"IF(Dati!E597=\"UA2\",Dati!D597,)","v":0},{"$f":"IF(Dati!E597=\"UA3\",Dati!D597,)","v":0},{"$f":"IF(Dati!E597=\"UA4\",Dati!D597,)","v":0},{"$f":"IF(Dati!E597=\"UA5\",Dati!D597,)","v":0},{"$f":"IF(Dati!E597=\"UA6\",Dati!D597,)","v":0},{"$f":"IF(Dati!E597=\"UB1\",Dati!D597,)","v":0},{"$f":"IF(Dati!E597=\"UB2\",Dati!D597,)","v":0},{"$f":"IF(Dati!E597=\"UC1\",Dati!D597,)","v":0},{"$f":"IF(Dati!E597=\"UD1\",Dati!D597,)","v":0},{"$f":"IF(Dati!E597=\"UE1\",Dati!D597,)","v":0}]
[{"$f":"Dati!C598","v":"00:00:00"},{"$f":"Dati!H598","v":"00:00:00"},{"$f":"IF(Dati!E598=\"UA1\",Dati!D598,)","v":0},{"$f":"IF(Dati!E598=\"UA2\",Dati!D598,)","v":0},{"$f":"IF(Dati!E598=\"UA3\",Dati!D598,)","v":0},{"$f":"IF(Dati!E598=\"UA4\",Dati!D598,)","v":0},{"$f":"IF(Dati!E598=\"UA5\",Dati!D598,)","v":0},{"$f":"IF(Dati!E598=\"UA6\",Dati!D598,)","v":0},{"$f":"IF(Dati!E598=\"UB1\",Dati!D598,)","v":0},{"$f":"IF(Dati!E598=\"UB2\",Dati!D598,)","v":0},{"$f":"IF(Dati!E598=\"UC1\",Dati!D598,)","v":0},{"$f":"IF(Dati!E598=\"UD1\",Dati!D598,)","v":0},{"$f":"IF(Dati!E598=\"UE1\",Dati!D598,)","v":0}]
[{"$f":"Dati!C599","v":"00:00:00"},{"$f":"Dati!H599","v":"00:00:00"},{"$f":"IF(Dati!E599=\"UA1\",Dati!D599,)","v":0},{"$f":"IF(Dati!E599=\"UA2\",Dati!D599,)","v":0},{"$f":"IF(Dati!E599=\"UA3\",Dati!D599,)","v":0},{"$f":"IF(Dati!E599=\"UA4\",Dati!D599,)","v":0},{"$f":"IF(Dati!E599=\"UA5\",Dati!D599,)","v":0},{"$f":"IF(Dati!E599=\"UA6\",Dati!D599,)","v":0},{"$f":"IF(Dati!E599=\"UB1\",Dati!D599,)","v":0},{"$f":"IF(Dati!E599=\"UB2\",Dati!D599,)","v":0},{"$f":"IF(Dati!E599=\"UC1\",Dati!D599,)","v":0},{"$f":"IF(Dati!E599=\"UD1\",Dati!D599,)","v":0},{"$f":"IF(Dati!E599=\"UE1\",Dati!D599,)","v":0}]
[{"$f":"Dati!C600","v":"00:00:00"},{"$f":"Dati!H600","v":"00:00:00"},{"$f":"IF(Dati!E600=\"UA1\",Dati!D600,)","v":0},{"$f":"IF(Dati!E600=\"UA2\",Dati!D600,)","v":0},{"$f":"IF(Dati!E600=\"UA3\",Dati!D600,)","v":0},{"$f":"IF(Dati!E600=\"UA4\",Dati!D600,)","v":0},{"$f":"IF(Dati!E600=\"UA5\",Dati!D600,)","v":0},{"$f":"IF(Dati!E600=\"UA6\",Dati!D600,)","v":0},{"$f":"IF(Dati!E600=\"UB1\",Dati!D600,)","v":0},{"$f":"IF(Dati!E600=\"UB2\",Dati!D600,)","v":0},{"$f":"IF(Dati!E600=\"UC1\",Dati!D600,)","v":0},{"$f":"IF(Dati!E600=\"UD1\",Dati!D600,)","v":0},{"$f":"IF(Dati!E600=\"UE1\",Dati!D600,)","v":0}]
[{"$f":"Dati!C601","v":"00:00:00"},{"$f":"Dati!H601","v":"00:00:00"},{"$f":"IF(Dati!E601=\"UA1\",Dati!D601,)","v":0},{"$f":"IF(Dati!E601=\"UA2\",Dati!D601,)","v":0},{"$f":"IF(Dati!E601=\"UA3\",Dati!D601,)","v":0},{"$f":"IF(Dati!E601=\"UA4\",Dati!D601,)","v":0},{"$f":"IF(Dati!E601=\"UA5\",Dati!D601,)","v":0},{"$f":"IF(Dati!E601=\"UA6\",Dati!D601,)","v":0},{"$f":"IF(Dati!E601=\"UB1\",Dati!D601,)","v":0},{"$f":"IF(Dati!E601=\"UB2\",Dati!D601,)","v":0},{"$f":"IF(Dati!E601=\"UC1\",Dati!D601,)","v":0},{"$f":"IF(Dati!E601=\"UD1\",Dati!D601,)","v":0},{"$f":"IF(Dati!E601=\"UE1\",Dati!D601,)","v":0}]
[{"$f":"Dati!C602","v":"00:00:00"},{"$f":"Dati!H602","v":"00:00:00"},{"$f":"IF(Dati!E602=\"UA1\",Dati!D602,)","v":0},{"$f":"IF(Dati!E602=\"UA2\",Dati!D602,)","v":0},{"$f":"IF(Dati!E602=\"UA3\",Dati!D602,)","v":0},{"$f":"IF(Dati!E602=\"UA4\",Dati!D602,)","v":0},{"$f":"IF(Dati!E602=\"UA5\",Dati!D602,)","v":0},{"$f":"IF(Dati!E602=\"UA6\",Dati!D602,)","v":0},{"$f":"IF(Dati!E602=\"UB1\",Dati!D602,)","v":0},{"$f":"IF(Dati!E602=\"UB2\",Dati!D602,)","v":0},{"$f":"IF(Dati!E602=\"UC1\",Dati!D602,)","v":0},{"$f":"IF(Dati!E602=\"UD1\",Dati!D602,)","v":0},{"$f":"IF(Dati!E602=\"UE1\",Dati!D602,)","v":0}]
[{"$f":"Dati!C603","v":"00:00:00"},{"$f":"Dati!H603","v":"00:00:00"},{"$f":"IF(Dati!E603=\"UA1\",Dati!D603,)","v":0},{"$f":"IF(Dati!E603=\"UA2\",Dati!D603,)","v":0},{"$f":"IF(Dati!E603=\"UA3\",Dati!D603,)","v":0},{"$f":"IF(Dati!E603=\"UA4\",Dati!D603,)","v":0},{"$f":"IF(Dati!E603=\"UA5\",Dati!D603,)","v":0},{"$f":"IF(Dati!E603=\"UA6\",Dati!D603,)","v":0},{"$f":"IF(Dati!E603=\"UB1\",Dati!D603,)","v":0},{"$f":"IF(Dati!E603=\"UB2\",Dati!D603,)","v":0},{"$f":"IF(Dati!E603=\"UC1\",Dati!D603,)","v":0},{"$f":"IF(Dati!E603=\"UD1\",Dati!D603,)","v":0},{"$f":"IF(Dati!E603=\"UE1\",Dati!D603,)","v":0}]
[{"$f":"Dati!C604","v":"00:00:00"},{"$f":"Dati!H604","v":"00:00:00"},{"$f":"IF(Dati!E604=\"UA1\",Dati!D604,)","v":0},{"$f":"IF(Dati!E604=\"UA2\",Dati!D604,)","v":0},{"$f":"IF(Dati!E604=\"UA3\",Dati!D604,)","v":0},{"$f":"IF(Dati!E604=\"UA4\",Dati!D604,)","v":0},{"$f":"IF(Dati!E604=\"UA5\",Dati!D604,)","v":0},{"$f":"IF(Dati!E604=\"UA6\",Dati!D604,)","v":0},{"$f":"IF(Dati!E604=\"UB1\",Dati!D604,)","v":0},{"$f":"IF(Dati!E604=\"UB2\",Dati!D604,)","v":0},{"$f":"IF(Dati!E604=\"UC1\",Dati!D604,)","v":0},{"$f":"IF(Dati!E604=\"UD1\",Dati!D604,)","v":0},{"$f":"IF(Dati!E604=\"UE1\",Dati!D604,)","v":0}]
[{"$f":"Dati!C605","v":"00:00:00"},{"$f":"Dati!H605","v":"00:00:00"},{"$f":"IF(Dati!E605=\"UA1\",Dati!D605,)","v":0},{"$f":"IF(Dati!E605=\"UA2\",Dati!D605,)","v":0},{"$f":"IF(Dati!E605=\"UA3\",Dati!D605,)","v":0},{"$f":"IF(Dati!E605=\"UA4\",Dati!D605,)","v":0},{"$f":"IF(Dati!E605=\"UA5\",Dati!D605,)","v":0},{"$f":"IF(Dati!E605=\"UA6\",Dati!D605,)","v":0},{"$f":"IF(Dati!E605=\"UB1\",Dati!D605,)","v":0},{"$f":"IF(Dati!E605=\"UB2\",Dati!D605,)","v":0},{"$f":"IF(Dati!E605=\"UC1\",Dati!D605,)","v":0},{"$f":"IF(Dati!E605=\"UD1\",Dati!D605,)","v":0},{"$f":"IF(Dati!E605=\"UE1\",Dati!D605,)","v":0}]
[{"$f":"Dati!C606","v":"00:00:00"},{"$f":"Dati!H606","v":"00:00:00"},{"$f":"IF(Dati!E606=\"UA1\",Dati!D606,)","v":0},{"$f":"IF(Dati!E606=\"UA2\",Dati!D606,)","v":0},{"$f":"IF(Dati!E606=\"UA3\",Dati!D606,)","v":0},{"$f":"IF(Dati!E606=\"UA4\",Dati!D606,)","v":0},{"$f":"IF(Dati!E606=\"UA5\",Dati!D606,)","v":0},{"$f":"IF(Dati!E606=\"UA6\",Dati!D606,)","v":0},{"$f":"IF(Dati!E606=\"UB1\",Dati!D606,)","v":0},{"$f":"IF(Dati!E606=\"UB2\",Dati!D606,)","v":0},{"$f":"IF(Dati!E606=\"UC1\",Dati!D606,)","v":0},{"$f":"IF(Dati!E606=\"UD1\",Dati!D606,)","v":0},{"$f":"IF(Dati!E606=\"UE1\",Dati!D606,)","v":0}]
[{"$f":"Dati!C607","v":"00:00:00"},{"$f":"Dati!H607","v":"00:00:00"},{"$f":"IF(Dati!E607=\"UA1\",Dati!D607,)","v":0},{"$f":"IF(Dati!E607=\"UA2\",Dati!D607,)","v":0},{"$f":"IF(Dati!E607=\"UA3\",Dati!D607,)","v":0},{"$f":"IF(Dati!E607=\"UA4\",Dati!D607,)","v":0},{"$f":"IF(Dati!E607=\"UA5\",Dati!D607,)","v":0},{"$f":"IF(Dati!E607=\"UA6\",Dati!D607,)","v":0},{"$f":"IF(Dati!E607=\"UB1\",Dati!D607,)","v":0},{"$f":"IF(Dati!E607=\"UB2\",Dati!D607,)","v":0},{"$f":"IF(Dati!E607=\"UC1\",Dati!D607,)","v":0},{"$f":"IF(Dati!E607=\"UD1\",Dati!D607,)","v":0},{"$f":"IF(Dati!E607=\"UE1\",Dati!D607,)","v":0}]
[{"$f":"Dati!C608","v":"00:00:00"},{"$f":"Dati!H608","v":"00:00:00"},{"$f":"IF(Dati!E608=\"UA1\",Dati!D608,)","v":0},{"$f":"IF(Dati!E608=\"UA2\",Dati!D608,)","v":0},{"$f":"IF(Dati!E608=\"UA3\",Dati!D608,)","v":0},{"$f":"IF(Dati!E608=\"UA4\",Dati!D608,)","v":0},{"$f":"IF(Dati!E608=\"UA5\",Dati!D608,)","v":0},{"$f":"IF(Dati!E608=\"UA6\",Dati!D608,)","v":0},{"$f":"IF(Dati!E608=\"UB1\",Dati!D608,)","v":0},{"$f":"IF(Dati!E608=\"UB2\",Dati!D608,)","v":0},{"$f":"IF(Dati!E608=\"UC1\",Dati!D608,)","v":0},{"$f":"IF(Dati!E608=\"UD1\",Dati!D608,)","v":0},{"$f":"IF(Dati!E608=\"UE1\",Dati!D608,)","v":0}]
[{"$f":"Dati!C609","v":"00:00:00"},{"$f":"Dati!H609","v":"00:00:00"},{"$f":"IF(Dati!E609=\"UA1\",Dati!D609,)","v":0},{"$f":"IF(Dati!E609=\"UA2\",Dati!D609,)","v":0},{"$f":"IF(Dati!E609=\"UA3\",Dati!D609,)","v":0},{"$f":"IF(Dati!E609=\"UA4\",Dati!D609,)","v":0},{"$f":"IF(Dati!E609=\"UA5\",Dati!D609,)","v":0},{"$f":"IF(Dati!E609=\"UA6\",Dati!D609,)","v":0},{"$f":"IF(Dati!E609=\"UB1\",Dati!D609,)","v":0},{"$f":"IF(Dati!E609=\"UB2\",Dati!D609,)","v":0},{"$f":"IF(Dati!E609=\"UC1\",Dati!D609,)","v":0},{"$f":"IF(Dati!E609=\"UD1\",Dati!D609,)","v":0},{"$f":"IF(Dati!E609=\"UE1\",Dati!D609,)","v":0}]
[{"$f":"Dati!C610","v":"00:00:00"},{"$f":"Dati!H610","v":"00:00:00"},{"$f":"IF(Dati!E610=\"UA1\",Dati!D610,)","v":0},{"$f":"IF(Dati!E610=\"UA2\",Dati!D610,)","v":0},{"$f":"IF(Dati!E610=\"UA3\",Dati!D610,)","v":0},{"$f":"IF(Dati!E610=\"UA4\",Dati!D610,)","v":0},{"$f":"IF(Dati!E610=\"UA5\",Dati!D610,)","v":0},{"$f":"IF(Dati!E610=\"UA6\",Dati!D610,)","v":0},{"$f":"IF(Dati!E610=\"UB1\",Dati!D610,)","v":0},{"$f":"IF(Dati!E610=\"UB2\",Dati!D610,)","v":0},{"$f":"IF(Dati!E610=\"UC1\",Dati!D610,)","v":0},{"$f":"IF(Dati!E610=\"UD1\",Dati!D610,)","v":0},{"$f":"IF(Dati!E610=\"UE1\",Dati!D610,)","v":0}]
[{"$f":"Dati!C611","v":"00:00:00"},{"$f":"Dati!H611","v":"00:00:00"},{"$f":"IF(Dati!E611=\"UA1\",Dati!D611,)","v":0},{"$f":"IF(Dati!E611=\"UA2\",Dati!D611,)","v":0},{"$f":"IF(Dati!E611=\"UA3\",Dati!D611,)","v":0},{"$f":"IF(Dati!E611=\"UA4\",Dati!D611,)","v":0},{"$f":"IF(Dati!E611=\"UA5\",Dati!D611,)","v":0},{"$f":"IF(Dati!E611=\"UA6\",Dati!D611,)","v":0},{"$f":"IF(Dati!E611=\"UB1\",Dati!D611,)","v":0},{"$f":"IF(Dati!E611=\"UB2\",Dati!D611,)","v":0},{"$f":"IF(Dati!E611=\"UC1\",Dati!D611,)","v":0},{"$f":"IF(Dati!E611=\"UD1\",Dati!D611,)","v":0},{"$f":"IF(Dati!E611=\"UE1\",Dati!D611,)","v":0}]
[{"$f":"Dati!C612","v":"00:00:00"},{"$f":"Dati!H612","v":"00:00:00"},{"$f":"IF(Dati!E612=\"UA1\",Dati!D612,)","v":0},{"$f":"IF(Dati!E612=\"UA2\",Dati!D612,)","v":0},{"$f":"IF(Dati!E612=\"UA3\",Dati!D612,)","v":0},{"$f":"IF(Dati!E612=\"UA4\",Dati!D612,)","v":0},{"$f":"IF(Dati!E612=\"UA5\",Dati!D612,)","v":0},{"$f":"IF(Dati!E612=\"UA6\",Dati!D612,)","v":0},{"$f":"IF(Dati!E612=\"UB1\",Dati!D612,)","v":0},{"$f":"IF(Dati!E612=\"UB2\",Dati!D612,)","v":0},{"$f":"IF(Dati!E612=\"UC1\",Dati!D612,)","v":0},{"$f":"IF(Dati!E612=\"UD1\",Dati!D612,)","v":0},{"$f":"IF(Dati!E612=\"UE1\",Dati!D612,)","v":0}]
[{"$f":"Dati!C613","v":"00:00:00"},{"$f":"Dati!H613","v":"00:00:00"},{"$f":"IF(Dati!E613=\"UA1\",Dati!D613,)","v":0},{"$f":"IF(Dati!E613=\"UA2\",Dati!D613,)","v":0},{"$f":"IF(Dati!E613=\"UA3\",Dati!D613,)","v":0},{"$f":"IF(Dati!E613=\"UA4\",Dati!D613,)","v":0},{"$f":"IF(Dati!E613=\"UA5\",Dati!D613,)","v":0},{"$f":"IF(Dati!E613=\"UA6\",Dati!D613,)","v":0},{"$f":"IF(Dati!E613=\"UB1\",Dati!D613,)","v":0},{"$f":"IF(Dati!E613=\"UB2\",Dati!D613,)","v":0},{"$f":"IF(Dati!E613=\"UC1\",Dati!D613,)","v":0},{"$f":"IF(Dati!E613=\"UD1\",Dati!D613,)","v":0},{"$f":"IF(Dati!E613=\"UE1\",Dati!D613,)","v":0}]
[{"$f":"Dati!C614","v":"00:00:00"},{"$f":"Dati!H614","v":"00:00:00"},{"$f":"IF(Dati!E614=\"UA1\",Dati!D614,)","v":0},{"$f":"IF(Dati!E614=\"UA2\",Dati!D614,)","v":0},{"$f":"IF(Dati!E614=\"UA3\",Dati!D614,)","v":0},{"$f":"IF(Dati!E614=\"UA4\",Dati!D614,)","v":0},{"$f":"IF(Dati!E614=\"UA5\",Dati!D614,)","v":0},{"$f":"IF(Dati!E614=\"UA6\",Dati!D614,)","v":0},{"$f":"IF(Dati!E614=\"UB1\",Dati!D614,)","v":0},{"$f":"IF(Dati!E614=\"UB2\",Dati!D614,)","v":0},{"$f":"IF(Dati!E614=\"UC1\",Dati!D614,)","v":0},{"$f":"IF(Dati!E614=\"UD1\",Dati!D614,)","v":0},{"$f":"IF(Dati!E614=\"UE1\",Dati!D614,)","v":0}]
[{"$f":"Dati!C615","v":"00:00:00"},{"$f":"Dati!H615","v":"00:00:00"},{"$f":"IF(Dati!E615=\"UA1\",Dati!D615,)","v":0},{"$f":"IF(Dati!E615=\"UA2\",Dati!D615,)","v":0},{"$f":"IF(Dati!E615=\"UA3\",Dati!D615,)","v":0},{"$f":"IF(Dati!E615=\"UA4\",Dati!D615,)","v":0},{"$f":"IF(Dati!E615=\"UA5\",Dati!D615,)","v":0},{"$f":"IF(Dati!E615=\"UA6\",Dati!D615,)","v":0},{"$f":"IF(Dati!E615=\"UB1\",Dati!D615,)","v":0},{"$f":"IF(Dati!E615=\"UB2\",Dati!D615,)","v":0},{"$f":"IF(Dati!E615=\"UC1\",Dati!D615,)","v":0},{"$f":"IF(Dati!E615=\"UD1\",Dati!D615,)","v":0},{"$f":"IF(Dati!E615=\"UE1\",Dati!D615,)","v":0}]
[{"$f":"Dati!C616","v":"00:00:00"},{"$f":"Dati!H616","v":"00:00:00"},{"$f":"IF(Dati!E616=\"UA1\",Dati!D616,)","v":0},{"$f":"IF(Dati!E616=\"UA2\",Dati!D616,)","v":0},{"$f":"IF(Dati!E616=\"UA3\",Dati!D616,)","v":0},{"$f":"IF(Dati!E616=\"UA4\",Dati!D616,)","v":0},{"$f":"IF(Dati!E616=\"UA5\",Dati!D616,)","v":0},{"$f":"IF(Dati!E616=\"UA6\",Dati!D616,)","v":0},{"$f":"IF(Dati!E616=\"UB1\",Dati!D616,)","v":0},{"$f":"IF(Dati!E616=\"UB2\",Dati!D616,)","v":0},{"$f":"IF(Dati!E616=\"UC1\",Dati!D616,)","v":0},{"$f":"IF(Dati!E616=\"UD1\",Dati!D616,)","v":0},{"$f":"IF(Dati!E616=\"UE1\",Dati!D616,)","v":0}]
[{"$f":"Dati!C617","v":"00:00:00"},{"$f":"Dati!H617","v":"00:00:00"},{"$f":"IF(Dati!E617=\"UA1\",Dati!D617,)","v":0},{"$f":"IF(Dati!E617=\"UA2\",Dati!D617,)","v":0},{"$f":"IF(Dati!E617=\"UA3\",Dati!D617,)","v":0},{"$f":"IF(Dati!E617=\"UA4\",Dati!D617,)","v":0},{"$f":"IF(Dati!E617=\"UA5\",Dati!D617,)","v":0},{"$f":"IF(Dati!E617=\"UA6\",Dati!D617,)","v":0},{"$f":"IF(Dati!E617=\"UB1\",Dati!D617,)","v":0},{"$f":"IF(Dati!E617=\"UB2\",Dati!D617,)","v":0},{"$f":"IF(Dati!E617=\"UC1\",Dati!D617,)","v":0},{"$f":"IF(Dati!E617=\"UD1\",Dati!D617,)","v":0},{"$f":"IF(Dati!E617=\"UE1\",Dati!D617,)","v":0}]
[{"$f":"Dati!C618","v":"00:00:00"},{"$f":"Dati!H618","v":"00:00:00"},{"$f":"IF(Dati!E618=\"UA1\",Dati!D618,)","v":0},{"$f":"IF(Dati!E618=\"UA2\",Dati!D618,)","v":0},{"$f":"IF(Dati!E618=\"UA3\",Dati!D618,)","v":0},{"$f":"IF(Dati!E618=\"UA4\",Dati!D618,)","v":0},{"$f":"IF(Dati!E618=\"UA5\",Dati!D618,)","v":0},{"$f":"IF(Dati!E618=\"UA6\",Dati!D618,)","v":0},{"$f":"IF(Dati!E618=\"UB1\",Dati!D618,)","v":0},{"$f":"IF(Dati!E618=\"UB2\",Dati!D618,)","v":0},{"$f":"IF(Dati!E618=\"UC1\",Dati!D618,)","v":0},{"$f":"IF(Dati!E618=\"UD1\",Dati!D618,)","v":0},{"$f":"IF(Dati!E618=\"UE1\",Dati!D618,)","v":0}]
[{"$f":"Dati!C619","v":"00:00:00"},{"$f":"Dati!H619","v":"00:00:00"},{"$f":"IF(Dati!E619=\"UA1\",Dati!D619,)","v":0},{"$f":"IF(Dati!E619=\"UA2\",Dati!D619,)","v":0},{"$f":"IF(Dati!E619=\"UA3\",Dati!D619,)","v":0},{"$f":"IF(Dati!E619=\"UA4\",Dati!D619,)","v":0},{"$f":"IF(Dati!E619=\"UA5\",Dati!D619,)","v":0},{"$f":"IF(Dati!E619=\"UA6\",Dati!D619,)","v":0},{"$f":"IF(Dati!E619=\"UB1\",Dati!D619,)","v":0},{"$f":"IF(Dati!E619=\"UB2\",Dati!D619,)","v":0},{"$f":"IF(Dati!E619=\"UC1\",Dati!D619,)","v":0},{"$f":"IF(Dati!E619=\"UD1\",Dati!D619,)","v":0},{"$f":"IF(Dati!E619=\"UE1\",Dati!D619,)","v":0}]
[{"$f":"Dati!C620","v":"00:00:00"},{"$f":"Dati!H620","v":"00:00:00"},{"$f":"IF(Dati!E620=\"UA1\",Dati!D620,)","v":0},{"$f":"IF(Dati!E620=\"UA2\",Dati!D620,)","v":0},{"$f":"IF(Dati!E620=\"UA3\",Dati!D620,)","v":0},{"$f":"IF(Dati!E620=\"UA4\",Dati!D620,)","v":0},{"$f":"IF(Dati!E620=\"UA5\",Dati!D620,)","v":0},{"$f":"IF(Dati!E620=\"UA6\",Dati!D620,)","v":0},{"$f":"IF(Dati!E620=\"UB1\",Dati!D620,)","v":0},{"$f":"IF(Dati!E620=\"UB2\",Dati!D620,)","v":0},{"$f":"IF(Dati!E620=\"UC1\",Dati!D620,)","v":0},{"$f":"IF(Dati!E620=\"UD1\",Dati!D620,)","v":0},{"$f":"IF(Dati!E620=\"UE1\",Dati!D620,)","v":0}]
[{"$f":"Dati!C621","v":"00:00:00"},{"$f":"Dati!H621","v":"00:00:00"},{"$f":"IF(Dati!E621=\"UA1\",Dati!D621,)","v":0},{"$f":"IF(Dati!E621=\"UA2\",Dati!D621,)","v":0},{"$f":"IF(Dati!E621=\"UA3\",Dati!D621,)","v":0},{"$f":"IF(Dati!E621=\"UA4\",Dati!D621,)","v":0},{"$f":"IF(Dati!E621=\"UA5\",Dati!D621,)","v":0},{"$f":"IF(Dati!E621=\"UA6\",Dati!D621,)","v":0},{"$f":"IF(Dati!E621=\"UB1\",Dati!D621,)","v":0},{"$f":"IF(Dati!E621=\"UB2\",Dati!D621,)","v":0},{"$f":"IF(Dati!E621=\"UC1\",Dati!D621,)","v":0},{"$f":"IF(Dati!E621=\"UD1\",Dati!D621,)","v":0},{"$f":"IF(Dati!E621=\"UE1\",Dati!D621,)","v":0}]
[{"$f":"Dati!C622","v":"00:00:00"},{"$f":"Dati!H622","v":"00:00:00"},{"$f":"IF(Dati!E622=\"UA1\",Dati!D622,)","v":0},{"$f":"IF(Dati!E622=\"UA2\",Dati!D622,)","v":0},{"$f":"IF(Dati!E622=\"UA3\",Dati!D622,)","v":0},{"$f":"IF(Dati!E622=\"UA4\",Dati!D622,)","v":0},{"$f":"IF(Dati!E622=\"UA5\",Dati!D622,)","v":0},{"$f":"IF(Dati!E622=\"UA6\",Dati!D622,)","v":0},{"$f":"IF(Dati!E622=\"UB1\",Dati!D622,)","v":0},{"$f":"IF(Dati!E622=\"UB2\",Dati!D622,)","v":0},{"$f":"IF(Dati!E622=\"UC1\",Dati!D622,)","v":0},{"$f":"IF(Dati!E622=\"UD1\",Dati!D622,)","v":0},{"$f":"IF(Dati!E622=\"UE1\",Dati!D622,)","v":0}]
[{"$f":"Dati!C623","v":"00:00:00"},{"$f":"Dati!H623","v":"00:00:00"},{"$f":"IF(Dati!E623=\"UA1\",Dati!D623,)","v":0},{"$f":"IF(Dati!E623=\"UA2\",Dati!D623,)","v":0},{"$f":"IF(Dati!E623=\"UA3\",Dati!D623,)","v":0},{"$f":"IF(Dati!E623=\"UA4\",Dati!D623,)","v":0},{"$f":"IF(Dati!E623=\"UA5\",Dati!D623,)","v":0},{"$f":"IF(Dati!E623=\"UA6\",Dati!D623,)","v":0},{"$f":"IF(Dati!E623=\"UB1\",Dati!D623,)","v":0},{"$f":"IF(Dati!E623=\"UB2\",Dati!D623,)","v":0},{"$f":"IF(Dati!E623=\"UC1\",Dati!D623,)","v":0},{"$f":"IF(Dati!E623=\"UD1\",Dati!D623,)","v":0},{"$f":"IF(Dati!E623=\"UE1\",Dati!D623,)","v":0}]
[{"$f":"Dati!C624","v":"00:00:00"},{"$f":"Dati!H624","v":"00:00:00"},{"$f":"IF(Dati!E624=\"UA1\",Dati!D624,)","v":0},{"$f":"IF(Dati!E624=\"UA2\",Dati!D624,)","v":0},{"$f":"IF(Dati!E624=\"UA3\",Dati!D624,)","v":0},{"$f":"IF(Dati!E624=\"UA4\",Dati!D624,)","v":0},{"$f":"IF(Dati!E624=\"UA5\",Dati!D624,)","v":0},{"$f":"IF(Dati!E624=\"UA6\",Dati!D624,)","v":0},{"$f":"IF(Dati!E624=\"UB1\",Dati!D624,)","v":0},{"$f":"IF(Dati!E624=\"UB2\",Dati!D624,)","v":0},{"$f":"IF(Dati!E624=\"UC1\",Dati!D624,)","v":0},{"$f":"IF(Dati!E624=\"UD1\",Dati!D624,)","v":0},{"$f":"IF(Dati!E624=\"UE1\",Dati!D624,)","v":0}]
[{"$f":"Dati!C625","v":"00:00:00"},{"$f":"Dati!H625","v":"00:00:00"},{"$f":"IF(Dati!E625=\"UA1\",Dati!D625,)","v":0},{"$f":"IF(Dati!E625=\"UA2\",Dati!D625,)","v":0},{"$f":"IF(Dati!E625=\"UA3\",Dati!D625,)","v":0},{"$f":"IF(Dati!E625=\"UA4\",Dati!D625,)","v":0},{"$f":"IF(Dati!E625=\"UA5\",Dati!D625,)","v":0},{"$f":"IF(Dati!E625=\"UA6\",Dati!D625,)","v":0},{"$f":"IF(Dati!E625=\"UB1\",Dati!D625,)","v":0},{"$f":"IF(Dati!E625=\"UB2\",Dati!D625,)","v":0},{"$f":"IF(Dati!E625=\"UC1\",Dati!D625,)","v":0},{"$f":"IF(Dati!E625=\"UD1\",Dati!D625,)","v":0},{"$f":"IF(Dati!E625=\"UE1\",Dati!D625,)","v":0}]
[{"$f":"Dati!C626","v":"00:00:00"},{"$f":"Dati!H626","v":"00:00:00"},{"$f":"IF(Dati!E626=\"UA1\",Dati!D626,)","v":0},{"$f":"IF(Dati!E626=\"UA2\",Dati!D626,)","v":0},{"$f":"IF(Dati!E626=\"UA3\",Dati!D626,)","v":0},{"$f":"IF(Dati!E626=\"UA4\",Dati!D626,)","v":0},{"$f":"IF(Dati!E626=\"UA5\",Dati!D626,)","v":0},{"$f":"IF(Dati!E626=\"UA6\",Dati!D626,)","v":0},{"$f":"IF(Dati!E626=\"UB1\",Dati!D626,)","v":0},{"$f":"IF(Dati!E626=\"UB2\",Dati!D626,)","v":0},{"$f":"IF(Dati!E626=\"UC1\",Dati!D626,)","v":0},{"$f":"IF(Dati!E626=\"UD1\",Dati!D626,)","v":0},{"$f":"IF(Dati!E626=\"UE1\",Dati!D626,)","v":0}]
[{"$f":"Dati!C627","v":"00:00:00"},{"$f":"Dati!H627","v":"00:00:00"},{"$f":"IF(Dati!E627=\"UA1\",Dati!D627,)","v":0},{"$f":"IF(Dati!E627=\"UA2\",Dati!D627,)","v":0},{"$f":"IF(Dati!E627=\"UA3\",Dati!D627,)","v":0},{"$f":"IF(Dati!E627=\"UA4\",Dati!D627,)","v":0},{"$f":"IF(Dati!E627=\"UA5\",Dati!D627,)","v":0},{"$f":"IF(Dati!E627=\"UA6\",Dati!D627,)","v":0},{"$f":"IF(Dati!E627=\"UB1\",Dati!D627,)","v":0},{"$f":"IF(Dati!E627=\"UB2\",Dati!D627,)","v":0},{"$f":"IF(Dati!E627=\"UC1\",Dati!D627,)","v":0},{"$f":"IF(Dati!E627=\"UD1\",Dati!D627,)","v":0},{"$f":"IF(Dati!E627=\"UE1\",Dati!D627,)","v":0}]
[{"$f":"Dati!C628","v":"00:00:00"},{"$f":"Dati!H628","v":"00:00:00"},{"$f":"IF(Dati!E628=\"UA1\",Dati!D628,)","v":0},{"$f":"IF(Dati!E628=\"UA2\",Dati!D628,)","v":0},{"$f":"IF(Dati!E628=\"UA3\",Dati!D628,)","v":0},{"$f":"IF(Dati!E628=\"UA4\",Dati!D628,)","v":0},{"$f":"IF(Dati!E628=\"UA5\",Dati!D628,)","v":0},{"$f":"IF(Dati!E628=\"UA6\",Dati!D628,)","v":0},{"$f":"IF(Dati!E628=\"UB1\",Dati!D628,)","v":0},{"$f":"IF(Dati!E628=\"UB2\",Dati!D628,)","v":0},{"$f":"IF(Dati!E628=\"UC1\",Dati!D628,)","v":0},{"$f":"IF(Dati!E628=\"UD1\",Dati!D628,)","v":0},{"$f":"IF(Dati!E628=\"UE1\",Dati!D628,)","v":0}]
[{"$f":"Dati!C629","v":"00:00:00"},{"$f":"Dati!H629","v":"00:00:00"},{"$f":"IF(Dati!E629=\"UA1\",Dati!D629,)","v":0},{"$f":"IF(Dati!E629=\"UA2\",Dati!D629,)","v":0},{"$f":"IF(Dati!E629=\"UA3\",Dati!D629,)","v":0},{"$f":"IF(Dati!E629=\"UA4\",Dati!D629,)","v":0},{"$f":"IF(Dati!E629=\"UA5\",Dati!D629,)","v":0},{"$f":"IF(Dati!E629=\"UA6\",Dati!D629,)","v":0},{"$f":"IF(Dati!E629=\"UB1\",Dati!D629,)","v":0},{"$f":"IF(Dati!E629=\"UB2\",Dati!D629,)","v":0},{"$f":"IF(Dati!E629=\"UC1\",Dati!D629,)","v":0},{"$f":"IF(Dati!E629=\"UD1\",Dati!D629,)","v":0},{"$f":"IF(Dati!E629=\"UE1\",Dati!D629,)","v":0}]
[{"$f":"Dati!C630","v":"00:00:00"},{"$f":"Dati!H630","v":"00:00:00"},{"$f":"IF(Dati!E630=\"UA1\",Dati!D630,)","v":0},{"$f":"IF(Dati!E630=\"UA2\",Dati!D630,)","v":0},{"$f":"IF(Dati!E630=\"UA3\",Dati!D630,)","v":0},{"$f":"IF(Dati!E630=\"UA4\",Dati!D630,)","v":0},{"$f":"IF(Dati!E630=\"UA5\",Dati!D630,)","v":0},{"$f":"IF(Dati!E630=\"UA6\",Dati!D630,)","v":0},{"$f":"IF(Dati!E630=\"UB1\",Dati!D630,)","v":0},{"$f":"IF(Dati!E630=\"UB2\",Dati!D630,)","v":0},{"$f":"IF(Dati!E630=\"UC1\",Dati!D630,)","v":0},{"$f":"IF(Dati!E630=\"UD1\",Dati!D630,)","v":0},{"$f":"IF(Dati!E630=\"UE1\",Dati!D630,)","v":0}]
[{"$f":"Dati!C631","v":"00:00:00"},{"$f":"Dati!H631","v":"00:00:00"},{"$f":"IF(Dati!E631=\"UA1\",Dati!D631,)","v":0},{"$f":"IF(Dati!E631=\"UA2\",Dati!D631,)","v":0},{"$f":"IF(Dati!E631=\"UA3\",Dati!D631,)","v":0},{"$f":"IF(Dati!E631=\"UA4\",Dati!D631,)","v":0},{"$f":"IF(Dati!E631=\"UA5\",Dati!D631,)","v":0},{"$f":"IF(Dati!E631=\"UA6\",Dati!D631,)","v":0},{"$f":"IF(Dati!E631=\"UB1\",Dati!D631,)","v":0},{"$f":"IF(Dati!E631=\"UB2\",Dati!D631,)","v":0},{"$f":"IF(Dati!E631=\"UC1\",Dati!D631,)","v":0},{"$f":"IF(Dati!E631=\"UD1\",Dati!D631,)","v":0},{"$f":"IF(Dati!E631=\"UE1\",Dati!D631,)","v":0}]
[{"$f":"Dati!C632","v":"00:00:00"},{"$f":"Dati!H632","v":"00:00:00"},{"$f":"IF(Dati!E632=\"UA1\",Dati!D632,)","v":0},{"$f":"IF(Dati!E632=\"UA2\",Dati!D632,)","v":0},{"$f":"IF(Dati!E632=\"UA3\",Dati!D632,)","v":0},{"$f":"IF(Dati!E632=\"UA4\",Dati!D632,)","v":0},{"$f":"IF(Dati!E632=\"UA5\",Dati!D632,)","v":0},{"$f":"IF(Dati!E632=\"UA6\",Dati!D632,)","v":0},{"$f":"IF(Dati!E632=\"UB1\",Dati!D632,)","v":0},{"$f":"IF(Dati!E632=\"UB2\",Dati!D632,)","v":0},{"$f":"IF(Dati!E632=\"UC1\",Dati!D632,)","v":0},{"$f":"IF(Dati!E632=\"UD1\",Dati!D632,)","v":0},{"$f":"IF(Dati!E632=\"UE1\",Dati!D632,)","v":0}]
[{"$f":"Dati!C633","v":"00:00:00"},{"$f":"Dati!H633","v":"00:00:00"},{"$f":"IF(Dati!E633=\"UA1\",Dati!D633,)","v":0},{"$f":"IF(Dati!E633=\"UA2\",Dati!D633,)","v":0},{"$f":"IF(Dati!E633=\"UA3\",Dati!D633,)","v":0},{"$f":"IF(Dati!E633=\"UA4\",Dati!D633,)","v":0},{"$f":"IF(Dati!E633=\"UA5\",Dati!D633,)","v":0},{"$f":"IF(Dati!E633=\"UA6\",Dati!D633,)","v":0},{"$f":"IF(Dati!E633=\"UB1\",Dati!D633,)","v":0},{"$f":"IF(Dati!E633=\"UB2\",Dati!D633,)","v":0},{"$f":"IF(Dati!E633=\"UC1\",Dati!D633,)","v":0},{"$f":"IF(Dati!E633=\"UD1\",Dati!D633,)","v":0},{"$f":"IF(Dati!E633=\"UE1\",Dati!D633,)","v":0}]
[{"$f":"Dati!C634","v":"00:00:00"},{"$f":"Dati!H634","v":"00:00:00"},{"$f":"IF(Dati!E634=\"UA1\",Dati!D634,)","v":0},{"$f":"IF(Dati!E634=\"UA2\",Dati!D634,)","v":0},{"$f":"IF(Dati!E634=\"UA3\",Dati!D634,)","v":0},{"$f":"IF(Dati!E634=\"UA4\",Dati!D634,)","v":0},{"$f":"IF(Dati!E634=\"UA5\",Dati!D634,)","v":0},{"$f":"IF(Dati!E634=\"UA6\",Dati!D634,)","v":0},{"$f":"IF(Dati!E634=\"UB1\",Dati!D634,)","v":0},{"$f":"IF(Dati!E634=\"UB2\",Dati!D634,)","v":0},{"$f":"IF(Dati!E634=\"UC1\",Dati!D634,)","v":0},{"$f":"IF(Dati!E634=\"UD1\",Dati!D634,)","v":0},{"$f":"IF(Dati!E634=\"UE1\",Dati!D634,)","v":0}]
[{"$f":"Dati!C635","v":"00:00:00"},{"$f":"Dati!H635","v":"00:00:00"},{"$f":"IF(Dati!E635=\"UA1\",Dati!D635,)","v":0},{"$f":"IF(Dati!E635=\"UA2\",Dati!D635,)","v":0},{"$f":"IF(Dati!E635=\"UA3\",Dati!D635,)","v":0},{"$f":"IF(Dati!E635=\"UA4\",Dati!D635,)","v":0},{"$f":"IF(Dati!E635=\"UA5\",Dati!D635,)","v":0},{"$f":"IF(Dati!E635=\"UA6\",Dati!D635,)","v":0},{"$f":"IF(Dati!E635=\"UB1\",Dati!D635,)","v":0},{"$f":"IF(Dati!E635=\"UB2\",Dati!D635,)","v":0},{"$f":"IF(Dati!E635=\"UC1\",Dati!D635,)","v":0},{"$f":"IF(Dati!E635=\"UD1\",Dati!D635,)","v":0},{"$f":"IF(Dati!E635=\"UE1\",Dati!D635,)","v":0}]
[{"$f":"Dati!C636","v":"00:00:00"},{"$f":"Dati!H636","v":"00:00:00"},{"$f":"IF(Dati!E636=\"UA1\",Dati!D636,)","v":0},{"$f":"IF(Dati!E636=\"UA2\",Dati!D636,)","v":0},{"$f":"IF(Dati!E636=\"UA3\",Dati!D636,)","v":0},{"$f":"IF(Dati!E636=\"UA4\",Dati!D636,)","v":0},{"$f":"IF(Dati!E636=\"UA5\",Dati!D636,)","v":0},{"$f":"IF(Dati!E636=\"UA6\",Dati!D636,)","v":0},{"$f":"IF(Dati!E636=\"UB1\",Dati!D636,)","v":0},{"$f":"IF(Dati!E636=\"UB2\",Dati!D636,)","v":0},{"$f":"IF(Dati!E636=\"UC1\",Dati!D636,)","v":0},{"$f":"IF(Dati!E636=\"UD1\",Dati!D636,)","v":0},{"$f":"IF(Dati!E636=\"UE1\",Dati!D636,)","v":0}]
[{"$f":"Dati!C637","v":"00:00:00"},{"$f":"Dati!H637","v":"00:00:00"},{"$f":"IF(Dati!E637=\"UA1\",Dati!D637,)","v":0},{"$f":"IF(Dati!E637=\"UA2\",Dati!D637,)","v":0},{"$f":"IF(Dati!E637=\"UA3\",Dati!D637,)","v":0},{"$f":"IF(Dati!E637=\"UA4\",Dati!D637,)","v":0},{"$f":"IF(Dati!E637=\"UA5\",Dati!D637,)","v":0},{"$f":"IF(Dati!E637=\"UA6\",Dati!D637,)","v":0},{"$f":"IF(Dati!E637=\"UB1\",Dati!D637,)","v":0},{"$f":"IF(Dati!E637=\"UB2\",Dati!D637,)","v":0},{"$f":"IF(Dati!E637=\"UC1\",Dati!D637,)","v":0},{"$f":"IF(Dati!E637=\"UD1\",Dati!D637,)","v":0},{"$f":"IF(Dati!E637=\"UE1\",Dati!D637,)","v":0}]
[{"$f":"Dati!C638","v":"00:00:00"},{"$f":"Dati!H638","v":"00:00:00"},{"$f":"IF(Dati!E638=\"UA1\",Dati!D638,)","v":0},{"$f":"IF(Dati!E638=\"UA2\",Dati!D638,)","v":0},{"$f":"IF(Dati!E638=\"UA3\",Dati!D638,)","v":0},{"$f":"IF(Dati!E638=\"UA4\",Dati!D638,)","v":0},{"$f":"IF(Dati!E638=\"UA5\",Dati!D638,)","v":0},{"$f":"IF(Dati!E638=\"UA6\",Dati!D638,)","v":0},{"$f":"IF(Dati!E638=\"UB1\",Dati!D638,)","v":0},{"$f":"IF(Dati!E638=\"UB2\",Dati!D638,)","v":0},{"$f":"IF(Dati!E638=\"UC1\",Dati!D638,)","v":0},{"$f":"IF(Dati!E638=\"UD1\",Dati!D638,)","v":0},{"$f":"IF(Dati!E638=\"UE1\",Dati!D638,)","v":0}]
[{"$f":"Dati!C639","v":"00:00:00"},{"$f":"Dati!H639","v":"00:00:00"},{"$f":"IF(Dati!E639=\"UA1\",Dati!D639,)","v":0},{"$f":"IF(Dati!E639=\"UA2\",Dati!D639,)","v":0},{"$f":"IF(Dati!E639=\"UA3\",Dati!D639,)","v":0},{"$f":"IF(Dati!E639=\"UA4\",Dati!D639,)","v":0},{"$f":"IF(Dati!E639=\"UA5\",Dati!D639,)","v":0},{"$f":"IF(Dati!E639=\"UA6\",Dati!D639,)","v":0},{"$f":"IF(Dati!E639=\"UB1\",Dati!D639,)","v":0},{"$f":"IF(Dati!E639=\"UB2\",Dati!D639,)","v":0},{"$f":"IF(Dati!E639=\"UC1\",Dati!D639,)","v":0},{"$f":"IF(Dati!E639=\"UD1\",Dati!D639,)","v":0},{"$f":"IF(Dati!E639=\"UE1\",Dati!D639,)","v":0}]
[{"$f":"Dati!C640","v":"00:00:00"},{"$f":"Dati!H640","v":"00:00:00"},{"$f":"IF(Dati!E640=\"UA1\",Dati!D640,)","v":0},{"$f":"IF(Dati!E640=\"UA2\",Dati!D640,)","v":0},{"$f":"IF(Dati!E640=\"UA3\",Dati!D640,)","v":0},{"$f":"IF(Dati!E640=\"UA4\",Dati!D640,)","v":0},{"$f":"IF(Dati!E640=\"UA5\",Dati!D640,)","v":0},{"$f":"IF(Dati!E640=\"UA6\",Dati!D640,)","v":0},{"$f":"IF(Dati!E640=\"UB1\",Dati!D640,)","v":0},{"$f":"IF(Dati!E640=\"UB2\",Dati!D640,)","v":0},{"$f":"IF(Dati!E640=\"UC1\",Dati!D640,)","v":0},{"$f":"IF(Dati!E640=\"UD1\",Dati!D640,)","v":0},{"$f":"IF(Dati!E640=\"UE1\",Dati!D640,)","v":0}]
[{"$f":"Dati!C641","v":"00:00:00"},{"$f":"Dati!H641","v":"00:00:00"},{"$f":"IF(Dati!E641=\"UA1\",Dati!D641,)","v":0},{"$f":"IF(Dati!E641=\"UA2\",Dati!D641,)","v":0},{"$f":"IF(Dati!E641=\"UA3\",Dati!D641,)","v":0},{"$f":"IF(Dati!E641=\"UA4\",Dati!D641,)","v":0},{"$f":"IF(Dati!E641=\"UA5\",Dati!D641,)","v":0},{"$f":"IF(Dati!E641=\"UA6\",Dati!D641,)","v":0},{"$f":"IF(Dati!E641=\"UB1\",Dati!D641,)","v":0},{"$f":"IF(Dati!E641=\"UB2\",Dati!D641,)","v":0},{"$f":"IF(Dati!E641=\"UC1\",Dati!D641,)","v":0},{"$f":"IF(Dati!E641=\"UD1\",Dati!D641,)","v":0},{"$f":"IF(Dati!E641=\"UE1\",Dati!D641,)","v":0}]
[{"$f":"Dati!C642","v":"00:00:00"},{"$f":"Dati!H642","v":"00:00:00"},{"$f":"IF(Dati!E642=\"UA1\",Dati!D642,)","v":0},{"$f":"IF(Dati!E642=\"UA2\",Dati!D642,)","v":0},{"$f":"IF(Dati!E642=\"UA3\",Dati!D642,)","v":0},{"$f":"IF(Dati!E642=\"UA4\",Dati!D642,)","v":0},{"$f":"IF(Dati!E642=\"UA5\",Dati!D642,)","v":0},{"$f":"IF(Dati!E642=\"UA6\",Dati!D642,)","v":0},{"$f":"IF(Dati!E642=\"UB1\",Dati!D642,)","v":0},{"$f":"IF(Dati!E642=\"UB2\",Dati!D642,)","v":0},{"$f":"IF(Dati!E642=\"UC1\",Dati!D642,)","v":0},{"$f":"IF(Dati!E642=\"UD1\",Dati!D642,)","v":0},{"$f":"IF(Dati!E642=\"UE1\",Dati!D642,)","v":0}]
[{"$f":"Dati!C643","v":"00:00:00"},{"$f":"Dati!H643","v":"00:00:00"},{"$f":"IF(Dati!E643=\"UA1\",Dati!D643,)","v":0},{"$f":"IF(Dati!E643=\"UA2\",Dati!D643,)","v":0},{"$f":"IF(Dati!E643=\"UA3\",Dati!D643,)","v":0},{"$f":"IF(Dati!E643=\"UA4\",Dati!D643,)","v":0},{"$f":"IF(Dati!E643=\"UA5\",Dati!D643,)","v":0},{"$f":"IF(Dati!E643=\"UA6\",Dati!D643,)","v":0},{"$f":"IF(Dati!E643=\"UB1\",Dati!D643,)","v":0},{"$f":"IF(Dati!E643=\"UB2\",Dati!D643,)","v":0},{"$f":"IF(Dati!E643=\"UC1\",Dati!D643,)","v":0},{"$f":"IF(Dati!E643=\"UD1\",Dati!D643,)","v":0},{"$f":"IF(Dati!E643=\"UE1\",Dati!D643,)","v":0}]
[{"$f":"Dati!C644","v":"00:00:00"},{"$f":"Dati!H644","v":"00:00:00"},{"$f":"IF(Dati!E644=\"UA1\",Dati!D644,)","v":0},{"$f":"IF(Dati!E644=\"UA2\",Dati!D644,)","v":0},{"$f":"IF(Dati!E644=\"UA3\",Dati!D644,)","v":0},{"$f":"IF(Dati!E644=\"UA4\",Dati!D644,)","v":0},{"$f":"IF(Dati!E644=\"UA5\",Dati!D644,)","v":0},{"$f":"IF(Dati!E644=\"UA6\",Dati!D644,)","v":0},{"$f":"IF(Dati!E644=\"UB1\",Dati!D644,)","v":0},{"$f":"IF(Dati!E644=\"UB2\",Dati!D644,)","v":0},{"$f":"IF(Dati!E644=\"UC1\",Dati!D644,)","v":0},{"$f":"IF(Dati!E644=\"UD1\",Dati!D644,)","v":0},{"$f":"IF(Dati!E644=\"UE1\",Dati!D644,)","v":0}]
[{"$f":"Dati!C645","v":"00:00:00"},{"$f":"Dati!H645","v":"00:00:00"},{"$f":"IF(Dati!E645=\"UA1\",Dati!D645,)","v":0},{"$f":"IF(Dati!E645=\"UA2\",Dati!D645,)","v":0},{"$f":"IF(Dati!E645=\"UA3\",Dati!D645,)","v":0},{"$f":"IF(Dati!E645=\"UA4\",Dati!D645,)","v":0},{"$f":"IF(Dati!E645=\"UA5\",Dati!D645,)","v":0},{"$f":"IF(Dati!E645=\"UA6\",Dati!D645,)","v":0},{"$f":"IF(Dati!E645=\"UB1\",Dati!D645,)","v":0},{"$f":"IF(Dati!E645=\"UB2\",Dati!D645,)","v":0},{"$f":"IF(Dati!E645=\"UC1\",Dati!D645,)","v":0},{"$f":"IF(Dati!E645=\"UD1\",Dati!D645,)","v":0},{"$f":"IF(Dati!E645=\"UE1\",Dati!D645,)","v":0}]
[{"$f":"Dati!C646","v":"00:00:00"},{"$f":"Dati!H646","v":"00:00:00"},{"$f":"IF(Dati!E646=\"UA1\",Dati!D646,)","v":0},{"$f":"IF(Dati!E646=\"UA2\",Dati!D646,)","v":0},{"$f":"IF(Dati!E646=\"UA3\",Dati!D646,)","v":0},{"$f":"IF(Dati!E646=\"UA4\",Dati!D646,)","v":0},{"$f":"IF(Dati!E646=\"UA5\",Dati!D646,)","v":0},{"$f":"IF(Dati!E646=\"UA6\",Dati!D646,)","v":0},{"$f":"IF(Dati!E646=\"UB1\",Dati!D646,)","v":0},{"$f":"IF(Dati!E646=\"UB2\",Dati!D646,)","v":0},{"$f":"IF(Dati!E646=\"UC1\",Dati!D646,)","v":0},{"$f":"IF(Dati!E646=\"UD1\",Dati!D646,)","v":0},{"$f":"IF(Dati!E646=\"UE1\",Dati!D646,)","v":0}]
[{"$f":"Dati!C647","v":"00:00:00"},{"$f":"Dati!H647","v":"00:00:00"},{"$f":"IF(Dati!E647=\"UA1\",Dati!D647,)","v":0},{"$f":"IF(Dati!E647=\"UA2\",Dati!D647,)","v":0},{"$f":"IF(Dati!E647=\"UA3\",Dati!D647,)","v":0},{"$f":"IF(Dati!E647=\"UA4\",Dati!D647,)","v":0},{"$f":"IF(Dati!E647=\"UA5\",Dati!D647,)","v":0},{"$f":"IF(Dati!E647=\"UA6\",Dati!D647,)","v":0},{"$f":"IF(Dati!E647=\"UB1\",Dati!D647,)","v":0},{"$f":"IF(Dati!E647=\"UB2\",Dati!D647,)","v":0},{"$f":"IF(Dati!E647=\"UC1\",Dati!D647,)","v":0},{"$f":"IF(Dati!E647=\"UD1\",Dati!D647,)","v":0},{"$f":"IF(Dati!E647=\"UE1\",Dati!D647,)","v":0}]
[{"$f":"Dati!C648","v":"00:00:00"},{"$f":"Dati!H648","v":"00:00:00"},{"$f":"IF(Dati!E648=\"UA1\",Dati!D648,)","v":0},{"$f":"IF(Dati!E648=\"UA2\",Dati!D648,)","v":0},{"$f":"IF(Dati!E648=\"UA3\",Dati!D648,)","v":0},{"$f":"IF(Dati!E648=\"UA4\",Dati!D648,)","v":0},{"$f":"IF(Dati!E648=\"UA5\",Dati!D648,)","v":0},{"$f":"IF(Dati!E648=\"UA6\",Dati!D648,)","v":0},{"$f":"IF(Dati!E648=\"UB1\",Dati!D648,)","v":0},{"$f":"IF(Dati!E648=\"UB2\",Dati!D648,)","v":0},{"$f":"IF(Dati!E648=\"UC1\",Dati!D648,)","v":0},{"$f":"IF(Dati!E648=\"UD1\",Dati!D648,)","v":0},{"$f":"IF(Dati!E648=\"UE1\",Dati!D648,)","v":0}]
[{"$f":"Dati!C649","v":"00:00:00"},{"$f":"Dati!H649","v":"00:00:00"},{"$f":"IF(Dati!E649=\"UA1\",Dati!D649,)","v":0},{"$f":"IF(Dati!E649=\"UA2\",Dati!D649,)","v":0},{"$f":"IF(Dati!E649=\"UA3\",Dati!D649,)","v":0},{"$f":"IF(Dati!E649=\"UA4\",Dati!D649,)","v":0},{"$f":"IF(Dati!E649=\"UA5\",Dati!D649,)","v":0},{"$f":"IF(Dati!E649=\"UA6\",Dati!D649,)","v":0},{"$f":"IF(Dati!E649=\"UB1\",Dati!D649,)","v":0},{"$f":"IF(Dati!E649=\"UB2\",Dati!D649,)","v":0},{"$f":"IF(Dati!E649=\"UC1\",Dati!D649,)","v":0},{"$f":"IF(Dati!E649=\"UD1\",Dati!D649,)","v":0},{"$f":"IF(Dati!E649=\"UE1\",Dati!D649,)","v":0}]
[{"$f":"Dati!C650","v":"00:00:00"},{"$f":"Dati!H650","v":"00:00:00"},{"$f":"IF(Dati!E650=\"UA1\",Dati!D650,)","v":0},{"$f":"IF(Dati!E650=\"UA2\",Dati!D650,)","v":0},{"$f":"IF(Dati!E650=\"UA3\",Dati!D650,)","v":0},{"$f":"IF(Dati!E650=\"UA4\",Dati!D650,)","v":0},{"$f":"IF(Dati!E650=\"UA5\",Dati!D650,)","v":0},{"$f":"IF(Dati!E650=\"UA6\",Dati!D650,)","v":0},{"$f":"IF(Dati!E650=\"UB1\",Dati!D650,)","v":0},{"$f":"IF(Dati!E650=\"UB2\",Dati!D650,)","v":0},{"$f":"IF(Dati!E650=\"UC1\",Dati!D650,)","v":0},{"$f":"IF(Dati!E650=\"UD1\",Dati!D650,)","v":0},{"$f":"IF(Dati!E650=\"UE1\",Dati!D650,)","v":0}]
[{"$f":"Dati!C651","v":"00:00:00"},{"$f":"Dati!H651","v":"00:00:00"},{"$f":"IF(Dati!E651=\"UA1\",Dati!D651,)","v":0},{"$f":"IF(Dati!E651=\"UA2\",Dati!D651,)","v":0},{"$f":"IF(Dati!E651=\"UA3\",Dati!D651,)","v":0},{"$f":"IF(Dati!E651=\"UA4\",Dati!D651,)","v":0},{"$f":"IF(Dati!E651=\"UA5\",Dati!D651,)","v":0},{"$f":"IF(Dati!E651=\"UA6\",Dati!D651,)","v":0},{"$f":"IF(Dati!E651=\"UB1\",Dati!D651,)","v":0},{"$f":"IF(Dati!E651=\"UB2\",Dati!D651,)","v":0},{"$f":"IF(Dati!E651=\"UC1\",Dati!D651,)","v":0},{"$f":"IF(Dati!E651=\"UD1\",Dati!D651,)","v":0},{"$f":"IF(Dati!E651=\"UE1\",Dati!D651,)","v":0}]
[{"$f":"Dati!C652","v":"00:00:00"},{"$f":"Dati!H652","v":"00:00:00"},{"$f":"IF(Dati!E652=\"UA1\",Dati!D652,)","v":0},{"$f":"IF(Dati!E652=\"UA2\",Dati!D652,)","v":0},{"$f":"IF(Dati!E652=\"UA3\",Dati!D652,)","v":0},{"$f":"IF(Dati!E652=\"UA4\",Dati!D652,)","v":0},{"$f":"IF(Dati!E652=\"UA5\",Dati!D652,)","v":0},{"$f":"IF(Dati!E652=\"UA6\",Dati!D652,)","v":0},{"$f":"IF(Dati!E652=\"UB1\",Dati!D652,)","v":0},{"$f":"IF(Dati!E652=\"UB2\",Dati!D652,)","v":0},{"$f":"IF(Dati!E652=\"UC1\",Dati!D652,)","v":0},{"$f":"IF(Dati!E652=\"UD1\",Dati!D652,)","v":0},{"$f":"IF(Dati!E652=\"UE1\",Dati!D652,)","v":0}]
[{"$f":"Dati!C653","v":"00:00:00"},{"$f":"Dati!H653","v":"00:00:00"},{"$f":"IF(Dati!E653=\"UA1\",Dati!D653,)","v":0},{"$f":"IF(Dati!E653=\"UA2\",Dati!D653,)","v":0},{"$f":"IF(Dati!E653=\"UA3\",Dati!D653,)","v":0},{"$f":"IF(Dati!E653=\"UA4\",Dati!D653,)","v":0},{"$f":"IF(Dati!E653=\"UA5\",Dati!D653,)","v":0},{"$f":"IF(Dati!E653=\"UA6\",Dati!D653,)","v":0},{"$f":"IF(Dati!E653=\"UB1\",Dati!D653,)","v":0},{"$f":"IF(Dati!E653=\"UB2\",Dati!D653,)","v":0},{"$f":"IF(Dati!E653=\"UC1\",Dati!D653,)","v":0},{"$f":"IF(Dati!E653=\"UD1\",Dati!D653,)","v":0},{"$f":"IF(Dati!E653=\"UE1\",Dati!D653,)","v":0}]
[{"$f":"Dati!C654","v":"00:00:00"},{"$f":"Dati!H654","v":"00:00:00"},{"$f":"IF(Dati!E654=\"UA1\",Dati!D654,)","v":0},{"$f":"IF(Dati!E654=\"UA2\",Dati!D654,)","v":0},{"$f":"IF(Dati!E654=\"UA3\",Dati!D654,)","v":0},{"$f":"IF(Dati!E654=\"UA4\",Dati!D654,)","v":0},{"$f":"IF(Dati!E654=\"UA5\",Dati!D654,)","v":0},{"$f":"IF(Dati!E654=\"UA6\",Dati!D654,)","v":0},{"$f":"IF(Dati!E654=\"UB1\",Dati!D654,)","v":0},{"$f":"IF(Dati!E654=\"UB2\",Dati!D654,)","v":0},{"$f":"IF(Dati!E654=\"UC1\",Dati!D654,)","v":0},{"$f":"IF(Dati!E654=\"UD1\",Dati!D654,)","v":0},{"$f":"IF(Dati!E654=\"UE1\",Dati!D654,)","v":0}]
[{"$f":"Dati!C655","v":"00:00:00"},{"$f":"Dati!H655","v":"00:00:00"},{"$f":"IF(Dati!E655=\"UA1\",Dati!D655,)","v":0},{"$f":"IF(Dati!E655=\"UA2\",Dati!D655,)","v":0},{"$f":"IF(Dati!E655=\"UA3\",Dati!D655,)","v":0},{"$f":"IF(Dati!E655=\"UA4\",Dati!D655,)","v":0},{"$f":"IF(Dati!E655=\"UA5\",Dati!D655,)","v":0},{"$f":"IF(Dati!E655=\"UA6\",Dati!D655,)","v":0},{"$f":"IF(Dati!E655=\"UB1\",Dati!D655,)","v":0},{"$f":"IF(Dati!E655=\"UB2\",Dati!D655,)","v":0},{"$f":"IF(Dati!E655=\"UC1\",Dati!D655,)","v":0},{"$f":"IF(Dati!E655=\"UD1\",Dati!D655,)","v":0},{"$f":"IF(Dati!E655=\"UE1\",Dati!D655,)","v":0}]
[{"$f":"Dati!C656","v":"00:00:00"},{"$f":"Dati!H656","v":"00:00:00"},{"$f":"IF(Dati!E656=\"UA1\",Dati!D656,)","v":0},{"$f":"IF(Dati!E656=\"UA2\",Dati!D656,)","v":0},{"$f":"IF(Dati!E656=\"UA3\",Dati!D656,)","v":0},{"$f":"IF(Dati!E656=\"UA4\",Dati!D656,)","v":0},{"$f":"IF(Dati!E656=\"UA5\",Dati!D656,)","v":0},{"$f":"IF(Dati!E656=\"UA6\",Dati!D656,)","v":0},{"$f":"IF(Dati!E656=\"UB1\",Dati!D656,)","v":0},{"$f":"IF(Dati!E656=\"UB2\",Dati!D656,)","v":0},{"$f":"IF(Dati!E656=\"UC1\",Dati!D656,)","v":0},{"$f":"IF(Dati!E656=\"UD1\",Dati!D656,)","v":0},{"$f":"IF(Dati!E656=\"UE1\",Dati!D656,)","v":0}]
[{"$f":"Dati!C657","v":"00:00:00"},{"$f":"Dati!H657","v":"00:00:00"},{"$f":"IF(Dati!E657=\"UA1\",Dati!D657,)","v":0},{"$f":"IF(Dati!E657=\"UA2\",Dati!D657,)","v":0},{"$f":"IF(Dati!E657=\"UA3\",Dati!D657,)","v":0},{"$f":"IF(Dati!E657=\"UA4\",Dati!D657,)","v":0},{"$f":"IF(Dati!E657=\"UA5\",Dati!D657,)","v":0},{"$f":"IF(Dati!E657=\"UA6\",Dati!D657,)","v":0},{"$f":"IF(Dati!E657=\"UB1\",Dati!D657,)","v":0},{"$f":"IF(Dati!E657=\"UB2\",Dati!D657,)","v":0},{"$f":"IF(Dati!E657=\"UC1\",Dati!D657,)","v":0},{"$f":"IF(Dati!E657=\"UD1\",Dati!D657,)","v":0},{"$f":"IF(Dati!E657=\"UE1\",Dati!D657,)","v":0}]
[{"$f":"Dati!C658","v":"00:00:00"},{"$f":"Dati!H658","v":"00:00:00"},{"$f":"IF(Dati!E658=\"UA1\",Dati!D658,)","v":0},{"$f":"IF(Dati!E658=\"UA2\",Dati!D658,)","v":0},{"$f":"IF(Dati!E658=\"UA3\",Dati!D658,)","v":0},{"$f":"IF(Dati!E658=\"UA4\",Dati!D658,)","v":0},{"$f":"IF(Dati!E658=\"UA5\",Dati!D658,)","v":0},{"$f":"IF(Dati!E658=\"UA6\",Dati!D658,)","v":0},{"$f":"IF(Dati!E658=\"UB1\",Dati!D658,)","v":0},{"$f":"IF(Dati!E658=\"UB2\",Dati!D658,)","v":0},{"$f":"IF(Dati!E658=\"UC1\",Dati!D658,)","v":0},{"$f":"IF(Dati!E658=\"UD1\",Dati!D658,)","v":0},{"$f":"IF(Dati!E658=\"UE1\",Dati!D658,)","v":0}]
[{"$f":"Dati!C659","v":"00:00:00"},{"$f":"Dati!H659","v":"00:00:00"},{"$f":"IF(Dati!E659=\"UA1\",Dati!D659,)","v":0},{"$f":"IF(Dati!E659=\"UA2\",Dati!D659,)","v":0},{"$f":"IF(Dati!E659=\"UA3\",Dati!D659,)","v":0},{"$f":"IF(Dati!E659=\"UA4\",Dati!D659,)","v":0},{"$f":"IF(Dati!E659=\"UA5\",Dati!D659,)","v":0},{"$f":"IF(Dati!E659=\"UA6\",Dati!D659,)","v":0},{"$f":"IF(Dati!E659=\"UB1\",Dati!D659,)","v":0},{"$f":"IF(Dati!E659=\"UB2\",Dati!D659,)","v":0},{"$f":"IF(Dati!E659=\"UC1\",Dati!D659,)","v":0},{"$f":"IF(Dati!E659=\"UD1\",Dati!D659,)","v":0},{"$f":"IF(Dati!E659=\"UE1\",Dati!D659,)","v":0}]
[{"$f":"Dati!C660","v":"00:00:00"},{"$f":"Dati!H660","v":"00:00:00"},{"$f":"IF(Dati!E660=\"UA1\",Dati!D660,)","v":0},{"$f":"IF(Dati!E660=\"UA2\",Dati!D660,)","v":0},{"$f":"IF(Dati!E660=\"UA3\",Dati!D660,)","v":0},{"$f":"IF(Dati!E660=\"UA4\",Dati!D660,)","v":0},{"$f":"IF(Dati!E660=\"UA5\",Dati!D660,)","v":0},{"$f":"IF(Dati!E660=\"UA6\",Dati!D660,)","v":0},{"$f":"IF(Dati!E660=\"UB1\",Dati!D660,)","v":0},{"$f":"IF(Dati!E660=\"UB2\",Dati!D660,)","v":0},{"$f":"IF(Dati!E660=\"UC1\",Dati!D660,)","v":0},{"$f":"IF(Dati!E660=\"UD1\",Dati!D660,)","v":0},{"$f":"IF(Dati!E660=\"UE1\",Dati!D660,)","v":0}]
[{"$f":"Dati!C661","v":"00:00:00"},{"$f":"Dati!H661","v":"00:00:00"},{"$f":"IF(Dati!E661=\"UA1\",Dati!D661,)","v":0},{"$f":"IF(Dati!E661=\"UA2\",Dati!D661,)","v":0},{"$f":"IF(Dati!E661=\"UA3\",Dati!D661,)","v":0},{"$f":"IF(Dati!E661=\"UA4\",Dati!D661,)","v":0},{"$f":"IF(Dati!E661=\"UA5\",Dati!D661,)","v":0},{"$f":"IF(Dati!E661=\"UA6\",Dati!D661,)","v":0},{"$f":"IF(Dati!E661=\"UB1\",Dati!D661,)","v":0},{"$f":"IF(Dati!E661=\"UB2\",Dati!D661,)","v":0},{"$f":"IF(Dati!E661=\"UC1\",Dati!D661,)","v":0},{"$f":"IF(Dati!E661=\"UD1\",Dati!D661,)","v":0},{"$f":"IF(Dati!E661=\"UE1\",Dati!D661,)","v":0}]
[{"$f":"Dati!C662","v":"00:00:00"},{"$f":"Dati!H662","v":"00:00:00"},{"$f":"IF(Dati!E662=\"UA1\",Dati!D662,)","v":0},{"$f":"IF(Dati!E662=\"UA2\",Dati!D662,)","v":0},{"$f":"IF(Dati!E662=\"UA3\",Dati!D662,)","v":0},{"$f":"IF(Dati!E662=\"UA4\",Dati!D662,)","v":0},{"$f":"IF(Dati!E662=\"UA5\",Dati!D662,)","v":0},{"$f":"IF(Dati!E662=\"UA6\",Dati!D662,)","v":0},{"$f":"IF(Dati!E662=\"UB1\",Dati!D662,)","v":0},{"$f":"IF(Dati!E662=\"UB2\",Dati!D662,)","v":0},{"$f":"IF(Dati!E662=\"UC1\",Dati!D662,)","v":0},{"$f":"IF(Dati!E662=\"UD1\",Dati!D662,)","v":0},{"$f":"IF(Dati!E662=\"UE1\",Dati!D662,)","v":0}]
[{"$f":"Dati!C663","v":"00:00:00"},{"$f":"Dati!H663","v":"00:00:00"},{"$f":"IF(Dati!E663=\"UA1\",Dati!D663,)","v":0},{"$f":"IF(Dati!E663=\"UA2\",Dati!D663,)","v":0},{"$f":"IF(Dati!E663=\"UA3\",Dati!D663,)","v":0},{"$f":"IF(Dati!E663=\"UA4\",Dati!D663,)","v":0},{"$f":"IF(Dati!E663=\"UA5\",Dati!D663,)","v":0},{"$f":"IF(Dati!E663=\"UA6\",Dati!D663,)","v":0},{"$f":"IF(Dati!E663=\"UB1\",Dati!D663,)","v":0},{"$f":"IF(Dati!E663=\"UB2\",Dati!D663,)","v":0},{"$f":"IF(Dati!E663=\"UC1\",Dati!D663,)","v":0},{"$f":"IF(Dati!E663=\"UD1\",Dati!D663,)","v":0},{"$f":"IF(Dati!E663=\"UE1\",Dati!D663,)","v":0}]
[{"$f":"Dati!C664","v":"00:00:00"},{"$f":"Dati!H664","v":"00:00:00"},{"$f":"IF(Dati!E664=\"UA1\",Dati!D664,)","v":0},{"$f":"IF(Dati!E664=\"UA2\",Dati!D664,)","v":0},{"$f":"IF(Dati!E664=\"UA3\",Dati!D664,)","v":0},{"$f":"IF(Dati!E664=\"UA4\",Dati!D664,)","v":0},{"$f":"IF(Dati!E664=\"UA5\",Dati!D664,)","v":0},{"$f":"IF(Dati!E664=\"UA6\",Dati!D664,)","v":0},{"$f":"IF(Dati!E664=\"UB1\",Dati!D664,)","v":0},{"$f":"IF(Dati!E664=\"UB2\",Dati!D664,)","v":0},{"$f":"IF(Dati!E664=\"UC1\",Dati!D664,)","v":0},{"$f":"IF(Dati!E664=\"UD1\",Dati!D664,)","v":0},{"$f":"IF(Dati!E664=\"UE1\",Dati!D664,)","v":0}]
[{"$f":"Dati!C665","v":"00:00:00"},{"$f":"Dati!H665","v":"00:00:00"},{"$f":"IF(Dati!E665=\"UA1\",Dati!D665,)","v":0},{"$f":"IF(Dati!E665=\"UA2\",Dati!D665,)","v":0},{"$f":"IF(Dati!E665=\"UA3\",Dati!D665,)","v":0},{"$f":"IF(Dati!E665=\"UA4\",Dati!D665,)","v":0},{"$f":"IF(Dati!E665=\"UA5\",Dati!D665,)","v":0},{"$f":"IF(Dati!E665=\"UA6\",Dati!D665,)","v":0},{"$f":"IF(Dati!E665=\"UB1\",Dati!D665,)","v":0},{"$f":"IF(Dati!E665=\"UB2\",Dati!D665,)","v":0},{"$f":"IF(Dati!E665=\"UC1\",Dati!D665,)","v":0},{"$f":"IF(Dati!E665=\"UD1\",Dati!D665,)","v":0},{"$f":"IF(Dati!E665=\"UE1\",Dati!D665,)","v":0}]
[{"$f":"Dati!C666","v":"00:00:00"},{"$f":"Dati!H666","v":"00:00:00"},{"$f":"IF(Dati!E666=\"UA1\",Dati!D666,)","v":0},{"$f":"IF(Dati!E666=\"UA2\",Dati!D666,)","v":0},{"$f":"IF(Dati!E666=\"UA3\",Dati!D666,)","v":0},{"$f":"IF(Dati!E666=\"UA4\",Dati!D666,)","v":0},{"$f":"IF(Dati!E666=\"UA5\",Dati!D666,)","v":0},{"$f":"IF(Dati!E666=\"UA6\",Dati!D666,)","v":0},{"$f":"IF(Dati!E666=\"UB1\",Dati!D666,)","v":0},{"$f":"IF(Dati!E666=\"UB2\",Dati!D666,)","v":0},{"$f":"IF(Dati!E666=\"UC1\",Dati!D666,)","v":0},{"$f":"IF(Dati!E666=\"UD1\",Dati!D666,)","v":0},{"$f":"IF(Dati!E666=\"UE1\",Dati!D666,)","v":0}]
[{"$f":"Dati!C667","v":"00:00:00"},{"$f":"Dati!H667","v":"00:00:00"},{"$f":"IF(Dati!E667=\"UA1\",Dati!D667,)","v":0},{"$f":"IF(Dati!E667=\"UA2\",Dati!D667,)","v":0},{"$f":"IF(Dati!E667=\"UA3\",Dati!D667,)","v":0},{"$f":"IF(Dati!E667=\"UA4\",Dati!D667,)","v":0},{"$f":"IF(Dati!E667=\"UA5\",Dati!D667,)","v":0},{"$f":"IF(Dati!E667=\"UA6\",Dati!D667,)","v":0},{"$f":"IF(Dati!E667=\"UB1\",Dati!D667,)","v":0},{"$f":"IF(Dati!E667=\"UB2\",Dati!D667,)","v":0},{"$f":"IF(Dati!E667=\"UC1\",Dati!D667,)","v":0},{"$f":"IF(Dati!E667=\"UD1\",Dati!D667,)","v":0},{"$f":"IF(Dati!E667=\"UE1\",Dati!D667,)","v":0}]
[{"$f":"Dati!C668","v":"00:00:00"},{"$f":"Dati!H668","v":"00:00:00"},{"$f":"IF(Dati!E668=\"UA1\",Dati!D668,)","v":0},{"$f":"IF(Dati!E668=\"UA2\",Dati!D668,)","v":0},{"$f":"IF(Dati!E668=\"UA3\",Dati!D668,)","v":0},{"$f":"IF(Dati!E668=\"UA4\",Dati!D668,)","v":0},{"$f":"IF(Dati!E668=\"UA5\",Dati!D668,)","v":0},{"$f":"IF(Dati!E668=\"UA6\",Dati!D668,)","v":0},{"$f":"IF(Dati!E668=\"UB1\",Dati!D668,)","v":0},{"$f":"IF(Dati!E668=\"UB2\",Dati!D668,)","v":0},{"$f":"IF(Dati!E668=\"UC1\",Dati!D668,)","v":0},{"$f":"IF(Dati!E668=\"UD1\",Dati!D668,)","v":0},{"$f":"IF(Dati!E668=\"UE1\",Dati!D668,)","v":0}]
[{"$f":"Dati!C669","v":"00:00:00"},{"$f":"Dati!H669","v":"00:00:00"},{"$f":"IF(Dati!E669=\"UA1\",Dati!D669,)","v":0},{"$f":"IF(Dati!E669=\"UA2\",Dati!D669,)","v":0},{"$f":"IF(Dati!E669=\"UA3\",Dati!D669,)","v":0},{"$f":"IF(Dati!E669=\"UA4\",Dati!D669,)","v":0},{"$f":"IF(Dati!E669=\"UA5\",Dati!D669,)","v":0},{"$f":"IF(Dati!E669=\"UA6\",Dati!D669,)","v":0},{"$f":"IF(Dati!E669=\"UB1\",Dati!D669,)","v":0},{"$f":"IF(Dati!E669=\"UB2\",Dati!D669,)","v":0},{"$f":"IF(Dati!E669=\"UC1\",Dati!D669,)","v":0},{"$f":"IF(Dati!E669=\"UD1\",Dati!D669,)","v":0},{"$f":"IF(Dati!E669=\"UE1\",Dati!D669,)","v":0}]
[{"$f":"Dati!C670","v":"00:00:00"},{"$f":"Dati!H670","v":"00:00:00"},{"$f":"IF(Dati!E670=\"UA1\",Dati!D670,)","v":0},{"$f":"IF(Dati!E670=\"UA2\",Dati!D670,)","v":0},{"$f":"IF(Dati!E670=\"UA3\",Dati!D670,)","v":0},{"$f":"IF(Dati!E670=\"UA4\",Dati!D670,)","v":0},{"$f":"IF(Dati!E670=\"UA5\",Dati!D670,)","v":0},{"$f":"IF(Dati!E670=\"UA6\",Dati!D670,)","v":0},{"$f":"IF(Dati!E670=\"UB1\",Dati!D670,)","v":0},{"$f":"IF(Dati!E670=\"UB2\",Dati!D670,)","v":0},{"$f":"IF(Dati!E670=\"UC1\",Dati!D670,)","v":0},{"$f":"IF(Dati!E670=\"UD1\",Dati!D670,)","v":0},{"$f":"IF(Dati!E670=\"UE1\",Dati!D670,)","v":0}]
[{"$f":"Dati!C671","v":"00:00:00"},{"$f":"Dati!H671","v":"00:00:00"},{"$f":"IF(Dati!E671=\"UA1\",Dati!D671,)","v":0},{"$f":"IF(Dati!E671=\"UA2\",Dati!D671,)","v":0},{"$f":"IF(Dati!E671=\"UA3\",Dati!D671,)","v":0},{"$f":"IF(Dati!E671=\"UA4\",Dati!D671,)","v":0},{"$f":"IF(Dati!E671=\"UA5\",Dati!D671,)","v":0},{"$f":"IF(Dati!E671=\"UA6\",Dati!D671,)","v":0},{"$f":"IF(Dati!E671=\"UB1\",Dati!D671,)","v":0},{"$f":"IF(Dati!E671=\"UB2\",Dati!D671,)","v":0},{"$f":"IF(Dati!E671=\"UC1\",Dati!D671,)","v":0},{"$f":"IF(Dati!E671=\"UD1\",Dati!D671,)","v":0},{"$f":"IF(Dati!E671=\"UE1\",Dati!D671,)","v":0}]
[{"$f":"Dati!C672","v":"00:00:00"},{"$f":"Dati!H672","v":"00:00:00"},{"$f":"IF(Dati!E672=\"UA1\",Dati!D672,)","v":0},{"$f":"IF(Dati!E672=\"UA2\",Dati!D672,)","v":0},{"$f":"IF(Dati!E672=\"UA3\",Dati!D672,)","v":0},{"$f":"IF(Dati!E672=\"UA4\",Dati!D672,)","v":0},{"$f":"IF(Dati!E672=\"UA5\",Dati!D672,)","v":0},{"$f":"IF(Dati!E672=\"UA6\",Dati!D672,)","v":0},{"$f":"IF(Dati!E672=\"UB1\",Dati!D672,)","v":0},{"$f":"IF(Dati!E672=\"UB2\",Dati!D672,)","v":0},{"$f":"IF(Dati!E672=\"UC1\",Dati!D672,)","v":0},{"$f":"IF(Dati!E672=\"UD1\",Dati!D672,)","v":0},{"$f":"IF(Dati!E672=\"UE1\",Dati!D672,)","v":0}]
[{"$f":"Dati!C673","v":"00:00:00"},{"$f":"Dati!H673","v":"00:00:00"},{"$f":"IF(Dati!E673=\"UA1\",Dati!D673,)","v":0},{"$f":"IF(Dati!E673=\"UA2\",Dati!D673,)","v":0},{"$f":"IF(Dati!E673=\"UA3\",Dati!D673,)","v":0},{"$f":"IF(Dati!E673=\"UA4\",Dati!D673,)","v":0},{"$f":"IF(Dati!E673=\"UA5\",Dati!D673,)","v":0},{"$f":"IF(Dati!E673=\"UA6\",Dati!D673,)","v":0},{"$f":"IF(Dati!E673=\"UB1\",Dati!D673,)","v":0},{"$f":"IF(Dati!E673=\"UB2\",Dati!D673,)","v":0},{"$f":"IF(Dati!E673=\"UC1\",Dati!D673,)","v":0},{"$f":"IF(Dati!E673=\"UD1\",Dati!D673,)","v":0},{"$f":"IF(Dati!E673=\"UE1\",Dati!D673,)","v":0}]
[{"$f":"Dati!C674","v":"00:00:00"},{"$f":"Dati!H674","v":"00:00:00"},{"$f":"IF(Dati!E674=\"UA1\",Dati!D674,)","v":0},{"$f":"IF(Dati!E674=\"UA2\",Dati!D674,)","v":0},{"$f":"IF(Dati!E674=\"UA3\",Dati!D674,)","v":0},{"$f":"IF(Dati!E674=\"UA4\",Dati!D674,)","v":0},{"$f":"IF(Dati!E674=\"UA5\",Dati!D674,)","v":0},{"$f":"IF(Dati!E674=\"UA6\",Dati!D674,)","v":0},{"$f":"IF(Dati!E674=\"UB1\",Dati!D674,)","v":0},{"$f":"IF(Dati!E674=\"UB2\",Dati!D674,)","v":0},{"$f":"IF(Dati!E674=\"UC1\",Dati!D674,)","v":0},{"$f":"IF(Dati!E674=\"UD1\",Dati!D674,)","v":0},{"$f":"IF(Dati!E674=\"UE1\",Dati!D674,)","v":0}]
[{"$f":"Dati!C675","v":"00:00:00"},{"$f":"Dati!H675","v":"00:00:00"},{"$f":"IF(Dati!E675=\"UA1\",Dati!D675,)","v":0},{"$f":"IF(Dati!E675=\"UA2\",Dati!D675,)","v":0},{"$f":"IF(Dati!E675=\"UA3\",Dati!D675,)","v":0},{"$f":"IF(Dati!E675=\"UA4\",Dati!D675,)","v":0},{"$f":"IF(Dati!E675=\"UA5\",Dati!D675,)","v":0},{"$f":"IF(Dati!E675=\"UA6\",Dati!D675,)","v":0},{"$f":"IF(Dati!E675=\"UB1\",Dati!D675,)","v":0},{"$f":"IF(Dati!E675=\"UB2\",Dati!D675,)","v":0},{"$f":"IF(Dati!E675=\"UC1\",Dati!D675,)","v":0},{"$f":"IF(Dati!E675=\"UD1\",Dati!D675,)","v":0},{"$f":"IF(Dati!E675=\"UE1\",Dati!D675,)","v":0}]
[{"$f":"Dati!C676","v":"00:00:00"},{"$f":"Dati!H676","v":"00:00:00"},{"$f":"IF(Dati!E676=\"UA1\",Dati!D676,)","v":0},{"$f":"IF(Dati!E676=\"UA2\",Dati!D676,)","v":0},{"$f":"IF(Dati!E676=\"UA3\",Dati!D676,)","v":0},{"$f":"IF(Dati!E676=\"UA4\",Dati!D676,)","v":0},{"$f":"IF(Dati!E676=\"UA5\",Dati!D676,)","v":0},{"$f":"IF(Dati!E676=\"UA6\",Dati!D676,)","v":0},{"$f":"IF(Dati!E676=\"UB1\",Dati!D676,)","v":0},{"$f":"IF(Dati!E676=\"UB2\",Dati!D676,)","v":0},{"$f":"IF(Dati!E676=\"UC1\",Dati!D676,)","v":0},{"$f":"IF(Dati!E676=\"UD1\",Dati!D676,)","v":0},{"$f":"IF(Dati!E676=\"UE1\",Dati!D676,)","v":0}]
[{"$f":"Dati!C677","v":"00:00:00"},{"$f":"Dati!H677","v":"00:00:00"},{"$f":"IF(Dati!E677=\"UA1\",Dati!D677,)","v":0},{"$f":"IF(Dati!E677=\"UA2\",Dati!D677,)","v":0},{"$f":"IF(Dati!E677=\"UA3\",Dati!D677,)","v":0},{"$f":"IF(Dati!E677=\"UA4\",Dati!D677,)","v":0},{"$f":"IF(Dati!E677=\"UA5\",Dati!D677,)","v":0},{"$f":"IF(Dati!E677=\"UA6\",Dati!D677,)","v":0},{"$f":"IF(Dati!E677=\"UB1\",Dati!D677,)","v":0},{"$f":"IF(Dati!E677=\"UB2\",Dati!D677,)","v":0},{"$f":"IF(Dati!E677=\"UC1\",Dati!D677,)","v":0},{"$f":"IF(Dati!E677=\"UD1\",Dati!D677,)","v":0},{"$f":"IF(Dati!E677=\"UE1\",Dati!D677,)","v":0}]
[{"$f":"Dati!C678","v":"00:00:00"},{"$f":"Dati!H678","v":"00:00:00"},{"$f":"IF(Dati!E678=\"UA1\",Dati!D678,)","v":0},{"$f":"IF(Dati!E678=\"UA2\",Dati!D678,)","v":0},{"$f":"IF(Dati!E678=\"UA3\",Dati!D678,)","v":0},{"$f":"IF(Dati!E678=\"UA4\",Dati!D678,)","v":0},{"$f":"IF(Dati!E678=\"UA5\",Dati!D678,)","v":0},{"$f":"IF(Dati!E678=\"UA6\",Dati!D678,)","v":0},{"$f":"IF(Dati!E678=\"UB1\",Dati!D678,)","v":0},{"$f":"IF(Dati!E678=\"UB2\",Dati!D678,)","v":0},{"$f":"IF(Dati!E678=\"UC1\",Dati!D678,)","v":0},{"$f":"IF(Dati!E678=\"UD1\",Dati!D678,)","v":0},{"$f":"IF(Dati!E678=\"UE1\",Dati!D678,)","v":0}]
[{"$f":"Dati!C679","v":"00:00:00"},{"$f":"Dati!H679","v":"00:00:00"},{"$f":"IF(Dati!E679=\"UA1\",Dati!D679,)","v":0},{"$f":"IF(Dati!E679=\"UA2\",Dati!D679,)","v":0},{"$f":"IF(Dati!E679=\"UA3\",Dati!D679,)","v":0},{"$f":"IF(Dati!E679=\"UA4\",Dati!D679,)","v":0},{"$f":"IF(Dati!E679=\"UA5\",Dati!D679,)","v":0},{"$f":"IF(Dati!E679=\"UA6\",Dati!D679,)","v":0},{"$f":"IF(Dati!E679=\"UB1\",Dati!D679,)","v":0},{"$f":"IF(Dati!E679=\"UB2\",Dati!D679,)","v":0},{"$f":"IF(Dati!E679=\"UC1\",Dati!D679,)","v":0},{"$f":"IF(Dati!E679=\"UD1\",Dati!D679,)","v":0},{"$f":"IF(Dati!E679=\"UE1\",Dati!D679,)","v":0}]
[{"$f":"Dati!C680","v":"00:00:00"},{"$f":"Dati!H680","v":"00:00:00"},{"$f":"IF(Dati!E680=\"UA1\",Dati!D680,)","v":0},{"$f":"IF(Dati!E680=\"UA2\",Dati!D680,)","v":0},{"$f":"IF(Dati!E680=\"UA3\",Dati!D680,)","v":0},{"$f":"IF(Dati!E680=\"UA4\",Dati!D680,)","v":0},{"$f":"IF(Dati!E680=\"UA5\",Dati!D680,)","v":0},{"$f":"IF(Dati!E680=\"UA6\",Dati!D680,)","v":0},{"$f":"IF(Dati!E680=\"UB1\",Dati!D680,)","v":0},{"$f":"IF(Dati!E680=\"UB2\",Dati!D680,)","v":0},{"$f":"IF(Dati!E680=\"UC1\",Dati!D680,)","v":0},{"$f":"IF(Dati!E680=\"UD1\",Dati!D680,)","v":0},{"$f":"IF(Dati!E680=\"UE1\",Dati!D680,)","v":0}]
[{"$f":"Dati!C681","v":"00:00:00"},{"$f":"Dati!H681","v":"00:00:00"},{"$f":"IF(Dati!E681=\"UA1\",Dati!D681,)","v":0},{"$f":"IF(Dati!E681=\"UA2\",Dati!D681,)","v":0},{"$f":"IF(Dati!E681=\"UA3\",Dati!D681,)","v":0},{"$f":"IF(Dati!E681=\"UA4\",Dati!D681,)","v":0},{"$f":"IF(Dati!E681=\"UA5\",Dati!D681,)","v":0},{"$f":"IF(Dati!E681=\"UA6\",Dati!D681,)","v":0},{"$f":"IF(Dati!E681=\"UB1\",Dati!D681,)","v":0},{"$f":"IF(Dati!E681=\"UB2\",Dati!D681,)","v":0},{"$f":"IF(Dati!E681=\"UC1\",Dati!D681,)","v":0},{"$f":"IF(Dati!E681=\"UD1\",Dati!D681,)","v":0},{"$f":"IF(Dati!E681=\"UE1\",Dati!D681,)","v":0}]
[{"$f":"Dati!C682","v":"00:00:00"},{"$f":"Dati!H682","v":"00:00:00"},{"$f":"IF(Dati!E682=\"UA1\",Dati!D682,)","v":0},{"$f":"IF(Dati!E682=\"UA2\",Dati!D682,)","v":0},{"$f":"IF(Dati!E682=\"UA3\",Dati!D682,)","v":0},{"$f":"IF(Dati!E682=\"UA4\",Dati!D682,)","v":0},{"$f":"IF(Dati!E682=\"UA5\",Dati!D682,)","v":0},{"$f":"IF(Dati!E682=\"UA6\",Dati!D682,)","v":0},{"$f":"IF(Dati!E682=\"UB1\",Dati!D682,)","v":0},{"$f":"IF(Dati!E682=\"UB2\",Dati!D682,)","v":0},{"$f":"IF(Dati!E682=\"UC1\",Dati!D682,)","v":0},{"$f":"IF(Dati!E682=\"UD1\",Dati!D682,)","v":0},{"$f":"IF(Dati!E682=\"UE1\",Dati!D682,)","v":0}]
[{"$f":"Dati!C683","v":"00:00:00"},{"$f":"Dati!H683","v":"00:00:00"},{"$f":"IF(Dati!E683=\"UA1\",Dati!D683,)","v":0},{"$f":"IF(Dati!E683=\"UA2\",Dati!D683,)","v":0},{"$f":"IF(Dati!E683=\"UA3\",Dati!D683,)","v":0},{"$f":"IF(Dati!E683=\"UA4\",Dati!D683,)","v":0},{"$f":"IF(Dati!E683=\"UA5\",Dati!D683,)","v":0},{"$f":"IF(Dati!E683=\"UA6\",Dati!D683,)","v":0},{"$f":"IF(Dati!E683=\"UB1\",Dati!D683,)","v":0},{"$f":"IF(Dati!E683=\"UB2\",Dati!D683,)","v":0},{"$f":"IF(Dati!E683=\"UC1\",Dati!D683,)","v":0},{"$f":"IF(Dati!E683=\"UD1\",Dati!D683,)","v":0},{"$f":"IF(Dati!E683=\"UE1\",Dati!D683,)","v":0}]
[{"$f":"Dati!C684","v":"00:00:00"},{"$f":"Dati!H684","v":"00:00:00"},{"$f":"IF(Dati!E684=\"UA1\",Dati!D684,)","v":0},{"$f":"IF(Dati!E684=\"UA2\",Dati!D684,)","v":0},{"$f":"IF(Dati!E684=\"UA3\",Dati!D684,)","v":0},{"$f":"IF(Dati!E684=\"UA4\",Dati!D684,)","v":0},{"$f":"IF(Dati!E684=\"UA5\",Dati!D684,)","v":0},{"$f":"IF(Dati!E684=\"UA6\",Dati!D684,)","v":0},{"$f":"IF(Dati!E684=\"UB1\",Dati!D684,)","v":0},{"$f":"IF(Dati!E684=\"UB2\",Dati!D684,)","v":0},{"$f":"IF(Dati!E684=\"UC1\",Dati!D684,)","v":0},{"$f":"IF(Dati!E684=\"UD1\",Dati!D684,)","v":0},{"$f":"IF(Dati!E684=\"UE1\",Dati!D684,)","v":0}]
[{"$f":"Dati!C685","v":"00:00:00"},{"$f":"Dati!H685","v":"00:00:00"},{"$f":"IF(Dati!E685=\"UA1\",Dati!D685,)","v":0},{"$f":"IF(Dati!E685=\"UA2\",Dati!D685,)","v":0},{"$f":"IF(Dati!E685=\"UA3\",Dati!D685,)","v":0},{"$f":"IF(Dati!E685=\"UA4\",Dati!D685,)","v":0},{"$f":"IF(Dati!E685=\"UA5\",Dati!D685,)","v":0},{"$f":"IF(Dati!E685=\"UA6\",Dati!D685,)","v":0},{"$f":"IF(Dati!E685=\"UB1\",Dati!D685,)","v":0},{"$f":"IF(Dati!E685=\"UB2\",Dati!D685,)","v":0},{"$f":"IF(Dati!E685=\"UC1\",Dati!D685,)","v":0},{"$f":"IF(Dati!E685=\"UD1\",Dati!D685,)","v":0},{"$f":"IF(Dati!E685=\"UE1\",Dati!D685,)","v":0}]
[{"$f":"Dati!C686","v":"00:00:00"},{"$f":"Dati!H686","v":"00:00:00"},{"$f":"IF(Dati!E686=\"UA1\",Dati!D686,)","v":0},{"$f":"IF(Dati!E686=\"UA2\",Dati!D686,)","v":0},{"$f":"IF(Dati!E686=\"UA3\",Dati!D686,)","v":0},{"$f":"IF(Dati!E686=\"UA4\",Dati!D686,)","v":0},{"$f":"IF(Dati!E686=\"UA5\",Dati!D686,)","v":0},{"$f":"IF(Dati!E686=\"UA6\",Dati!D686,)","v":0},{"$f":"IF(Dati!E686=\"UB1\",Dati!D686,)","v":0},{"$f":"IF(Dati!E686=\"UB2\",Dati!D686,)","v":0},{"$f":"IF(Dati!E686=\"UC1\",Dati!D686,)","v":0},{"$f":"IF(Dati!E686=\"UD1\",Dati!D686,)","v":0},{"$f":"IF(Dati!E686=\"UE1\",Dati!D686,)","v":0}]
[{"$f":"Dati!C687","v":"00:00:00"},{"$f":"Dati!H687","v":"00:00:00"},{"$f":"IF(Dati!E687=\"UA1\",Dati!D687,)","v":0},{"$f":"IF(Dati!E687=\"UA2\",Dati!D687,)","v":0},{"$f":"IF(Dati!E687=\"UA3\",Dati!D687,)","v":0},{"$f":"IF(Dati!E687=\"UA4\",Dati!D687,)","v":0},{"$f":"IF(Dati!E687=\"UA5\",Dati!D687,)","v":0},{"$f":"IF(Dati!E687=\"UA6\",Dati!D687,)","v":0},{"$f":"IF(Dati!E687=\"UB1\",Dati!D687,)","v":0},{"$f":"IF(Dati!E687=\"UB2\",Dati!D687,)","v":0},{"$f":"IF(Dati!E687=\"UC1\",Dati!D687,)","v":0},{"$f":"IF(Dati!E687=\"UD1\",Dati!D687,)","v":0},{"$f":"IF(Dati!E687=\"UE1\",Dati!D687,)","v":0}]
[{"$f":"Dati!C688","v":"00:00:00"},{"$f":"Dati!H688","v":"00:00:00"},{"$f":"IF(Dati!E688=\"UA1\",Dati!D688,)","v":0},{"$f":"IF(Dati!E688=\"UA2\",Dati!D688,)","v":0},{"$f":"IF(Dati!E688=\"UA3\",Dati!D688,)","v":0},{"$f":"IF(Dati!E688=\"UA4\",Dati!D688,)","v":0},{"$f":"IF(Dati!E688=\"UA5\",Dati!D688,)","v":0},{"$f":"IF(Dati!E688=\"UA6\",Dati!D688,)","v":0},{"$f":"IF(Dati!E688=\"UB1\",Dati!D688,)","v":0},{"$f":"IF(Dati!E688=\"UB2\",Dati!D688,)","v":0},{"$f":"IF(Dati!E688=\"UC1\",Dati!D688,)","v":0},{"$f":"IF(Dati!E688=\"UD1\",Dati!D688,)","v":0},{"$f":"IF(Dati!E688=\"UE1\",Dati!D688,)","v":0}]
[{"$f":"Dati!C689","v":"00:00:00"},{"$f":"Dati!H689","v":"00:00:00"},{"$f":"IF(Dati!E689=\"UA1\",Dati!D689,)","v":0},{"$f":"IF(Dati!E689=\"UA2\",Dati!D689,)","v":0},{"$f":"IF(Dati!E689=\"UA3\",Dati!D689,)","v":0},{"$f":"IF(Dati!E689=\"UA4\",Dati!D689,)","v":0},{"$f":"IF(Dati!E689=\"UA5\",Dati!D689,)","v":0},{"$f":"IF(Dati!E689=\"UA6\",Dati!D689,)","v":0},{"$f":"IF(Dati!E689=\"UB1\",Dati!D689,)","v":0},{"$f":"IF(Dati!E689=\"UB2\",Dati!D689,)","v":0},{"$f":"IF(Dati!E689=\"UC1\",Dati!D689,)","v":0},{"$f":"IF(Dati!E689=\"UD1\",Dati!D689,)","v":0},{"$f":"IF(Dati!E689=\"UE1\",Dati!D689,)","v":0}]
[{"$f":"Dati!C690","v":"00:00:00"},{"$f":"Dati!H690","v":"00:00:00"},{"$f":"IF(Dati!E690=\"UA1\",Dati!D690,)","v":0},{"$f":"IF(Dati!E690=\"UA2\",Dati!D690,)","v":0},{"$f":"IF(Dati!E690=\"UA3\",Dati!D690,)","v":0},{"$f":"IF(Dati!E690=\"UA4\",Dati!D690,)","v":0},{"$f":"IF(Dati!E690=\"UA5\",Dati!D690,)","v":0},{"$f":"IF(Dati!E690=\"UA6\",Dati!D690,)","v":0},{"$f":"IF(Dati!E690=\"UB1\",Dati!D690,)","v":0},{"$f":"IF(Dati!E690=\"UB2\",Dati!D690,)","v":0},{"$f":"IF(Dati!E690=\"UC1\",Dati!D690,)","v":0},{"$f":"IF(Dati!E690=\"UD1\",Dati!D690,)","v":0},{"$f":"IF(Dati!E690=\"UE1\",Dati!D690,)","v":0}]
[{"$f":"Dati!C691","v":"00:00:00"},{"$f":"Dati!H691","v":"00:00:00"},{"$f":"IF(Dati!E691=\"UA1\",Dati!D691,)","v":0},{"$f":"IF(Dati!E691=\"UA2\",Dati!D691,)","v":0},{"$f":"IF(Dati!E691=\"UA3\",Dati!D691,)","v":0},{"$f":"IF(Dati!E691=\"UA4\",Dati!D691,)","v":0},{"$f":"IF(Dati!E691=\"UA5\",Dati!D691,)","v":0},{"$f":"IF(Dati!E691=\"UA6\",Dati!D691,)","v":0},{"$f":"IF(Dati!E691=\"UB1\",Dati!D691,)","v":0},{"$f":"IF(Dati!E691=\"UB2\",Dati!D691,)","v":0},{"$f":"IF(Dati!E691=\"UC1\",Dati!D691,)","v":0},{"$f":"IF(Dati!E691=\"UD1\",Dati!D691,)","v":0},{"$f":"IF(Dati!E691=\"UE1\",Dati!D691,)","v":0}]
[{"$f":"Dati!C692","v":"00:00:00"},{"$f":"Dati!H692","v":"00:00:00"},{"$f":"IF(Dati!E692=\"UA1\",Dati!D692,)","v":0},{"$f":"IF(Dati!E692=\"UA2\",Dati!D692,)","v":0},{"$f":"IF(Dati!E692=\"UA3\",Dati!D692,)","v":0},{"$f":"IF(Dati!E692=\"UA4\",Dati!D692,)","v":0},{"$f":"IF(Dati!E692=\"UA5\",Dati!D692,)","v":0},{"$f":"IF(Dati!E692=\"UA6\",Dati!D692,)","v":0},{"$f":"IF(Dati!E692=\"UB1\",Dati!D692,)","v":0},{"$f":"IF(Dati!E692=\"UB2\",Dati!D692,)","v":0},{"$f":"IF(Dati!E692=\"UC1\",Dati!D692,)","v":0},{"$f":"IF(Dati!E692=\"UD1\",Dati!D692,)","v":0},{"$f":"IF(Dati!E692=\"UE1\",Dati!D692,)","v":0}]
[{"$f":"Dati!C693","v":"00:00:00"},{"$f":"Dati!H693","v":"00:00:00"},{"$f":"IF(Dati!E693=\"UA1\",Dati!D693,)","v":0},{"$f":"IF(Dati!E693=\"UA2\",Dati!D693,)","v":0},{"$f":"IF(Dati!E693=\"UA3\",Dati!D693,)","v":0},{"$f":"IF(Dati!E693=\"UA4\",Dati!D693,)","v":0},{"$f":"IF(Dati!E693=\"UA5\",Dati!D693,)","v":0},{"$f":"IF(Dati!E693=\"UA6\",Dati!D693,)","v":0},{"$f":"IF(Dati!E693=\"UB1\",Dati!D693,)","v":0},{"$f":"IF(Dati!E693=\"UB2\",Dati!D693,)","v":0},{"$f":"IF(Dati!E693=\"UC1\",Dati!D693,)","v":0},{"$f":"IF(Dati!E693=\"UD1\",Dati!D693,)","v":0},{"$f":"IF(Dati!E693=\"UE1\",Dati!D693,)","v":0}]
[{"$f":"Dati!C694","v":"00:00:00"},{"$f":"Dati!H694","v":"00:00:00"},{"$f":"IF(Dati!E694=\"UA1\",Dati!D694,)","v":0},{"$f":"IF(Dati!E694=\"UA2\",Dati!D694,)","v":0},{"$f":"IF(Dati!E694=\"UA3\",Dati!D694,)","v":0},{"$f":"IF(Dati!E694=\"UA4\",Dati!D694,)","v":0},{"$f":"IF(Dati!E694=\"UA5\",Dati!D694,)","v":0},{"$f":"IF(Dati!E694=\"UA6\",Dati!D694,)","v":0},{"$f":"IF(Dati!E694=\"UB1\",Dati!D694,)","v":0},{"$f":"IF(Dati!E694=\"UB2\",Dati!D694,)","v":0},{"$f":"IF(Dati!E694=\"UC1\",Dati!D694,)","v":0},{"$f":"IF(Dati!E694=\"UD1\",Dati!D694,)","v":0},{"$f":"IF(Dati!E694=\"UE1\",Dati!D694,)","v":0}]
[{"$f":"Dati!C695","v":"00:00:00"},{"$f":"Dati!H695","v":"00:00:00"},{"$f":"IF(Dati!E695=\"UA1\",Dati!D695,)","v":0},{"$f":"IF(Dati!E695=\"UA2\",Dati!D695,)","v":0},{"$f":"IF(Dati!E695=\"UA3\",Dati!D695,)","v":0},{"$f":"IF(Dati!E695=\"UA4\",Dati!D695,)","v":0},{"$f":"IF(Dati!E695=\"UA5\",Dati!D695,)","v":0},{"$f":"IF(Dati!E695=\"UA6\",Dati!D695,)","v":0},{"$f":"IF(Dati!E695=\"UB1\",Dati!D695,)","v":0},{"$f":"IF(Dati!E695=\"UB2\",Dati!D695,)","v":0},{"$f":"IF(Dati!E695=\"UC1\",Dati!D695,)","v":0},{"$f":"IF(Dati!E695=\"UD1\",Dati!D695,)","v":0},{"$f":"IF(Dati!E695=\"UE1\",Dati!D695,)","v":0}]
[{"$f":"Dati!C696","v":"00:00:00"},{"$f":"Dati!H696","v":"00:00:00"},{"$f":"IF(Dati!E696=\"UA1\",Dati!D696,)","v":0},{"$f":"IF(Dati!E696=\"UA2\",Dati!D696,)","v":0},{"$f":"IF(Dati!E696=\"UA3\",Dati!D696,)","v":0},{"$f":"IF(Dati!E696=\"UA4\",Dati!D696,)","v":0},{"$f":"IF(Dati!E696=\"UA5\",Dati!D696,)","v":0},{"$f":"IF(Dati!E696=\"UA6\",Dati!D696,)","v":0},{"$f":"IF(Dati!E696=\"UB1\",Dati!D696,)","v":0},{"$f":"IF(Dati!E696=\"UB2\",Dati!D696,)","v":0},{"$f":"IF(Dati!E696=\"UC1\",Dati!D696,)","v":0},{"$f":"IF(Dati!E696=\"UD1\",Dati!D696,)","v":0},{"$f":"IF(Dati!E696=\"UE1\",Dati!D696,)","v":0}]
[{"$f":"Dati!C697","v":"00:00:00"},{"$f":"Dati!H697","v":"00:00:00"},{"$f":"IF(Dati!E697=\"UA1\",Dati!D697,)","v":0},{"$f":"IF(Dati!E697=\"UA2\",Dati!D697,)","v":0},{"$f":"IF(Dati!E697=\"UA3\",Dati!D697,)","v":0},{"$f":"IF(Dati!E697=\"UA4\",Dati!D697,)","v":0},{"$f":"IF(Dati!E697=\"UA5\",Dati!D697,)","v":0},{"$f":"IF(Dati!E697=\"UA6\",Dati!D697,)","v":0},{"$f":"IF(Dati!E697=\"UB1\",Dati!D697,)","v":0},{"$f":"IF(Dati!E697=\"UB2\",Dati!D697,)","v":0},{"$f":"IF(Dati!E697=\"UC1\",Dati!D697,)","v":0},{"$f":"IF(Dati!E697=\"UD1\",Dati!D697,)","v":0},{"$f":"IF(Dati!E697=\"UE1\",Dati!D697,)","v":0}]
[{"$f":"Dati!C698","v":"00:00:00"},{"$f":"Dati!H698","v":"00:00:00"},{"$f":"IF(Dati!E698=\"UA1\",Dati!D698,)","v":0},{"$f":"IF(Dati!E698=\"UA2\",Dati!D698,)","v":0},{"$f":"IF(Dati!E698=\"UA3\",Dati!D698,)","v":0},{"$f":"IF(Dati!E698=\"UA4\",Dati!D698,)","v":0},{"$f":"IF(Dati!E698=\"UA5\",Dati!D698,)","v":0},{"$f":"IF(Dati!E698=\"UA6\",Dati!D698,)","v":0},{"$f":"IF(Dati!E698=\"UB1\",Dati!D698,)","v":0},{"$f":"IF(Dati!E698=\"UB2\",Dati!D698,)","v":0},{"$f":"IF(Dati!E698=\"UC1\",Dati!D698,)","v":0},{"$f":"IF(Dati!E698=\"UD1\",Dati!D698,)","v":0},{"$f":"IF(Dati!E698=\"UE1\",Dati!D698,)","v":0}]
[{"$f":"Dati!C699","v":"00:00:00"},{"$f":"Dati!H699","v":"00:00:00"},{"$f":"IF(Dati!E699=\"UA1\",Dati!D699,)","v":0},{"$f":"IF(Dati!E699=\"UA2\",Dati!D699,)","v":0},{"$f":"IF(Dati!E699=\"UA3\",Dati!D699,)","v":0},{"$f":"IF(Dati!E699=\"UA4\",Dati!D699,)","v":0},{"$f":"IF(Dati!E699=\"UA5\",Dati!D699,)","v":0},{"$f":"IF(Dati!E699=\"UA6\",Dati!D699,)","v":0},{"$f":"IF(Dati!E699=\"UB1\",Dati!D699,)","v":0},{"$f":"IF(Dati!E699=\"UB2\",Dati!D699,)","v":0},{"$f":"IF(Dati!E699=\"UC1\",Dati!D699,)","v":0},{"$f":"IF(Dati!E699=\"UD1\",Dati!D699,)","v":0},{"$f":"IF(Dati!E699=\"UE1\",Dati!D699,)","v":0}]
[{"$f":"Dati!C700","v":"00:00:00"},{"$f":"Dati!H700","v":"00:00:00"},{"$f":"IF(Dati!E700=\"UA1\",Dati!D700,)","v":0},{"$f":"IF(Dati!E700=\"UA2\",Dati!D700,)","v":0},{"$f":"IF(Dati!E700=\"UA3\",Dati!D700,)","v":0},{"$f":"IF(Dati!E700=\"UA4\",Dati!D700,)","v":0},{"$f":"IF(Dati!E700=\"UA5\",Dati!D700,)","v":0},{"$f":"IF(Dati!E700=\"UA6\",Dati!D700,)","v":0},{"$f":"IF(Dati!E700=\"UB1\",Dati!D700,)","v":0},{"$f":"IF(Dati!E700=\"UB2\",Dati!D700,)","v":0},{"$f":"IF(Dati!E700=\"UC1\",Dati!D700,)","v":0},{"$f":"IF(Dati!E700=\"UD1\",Dati!D700,)","v":0},{"$f":"IF(Dati!E700=\"UE1\",Dati!D700,)","v":0}]
[{"$f":"Dati!C701","v":"00:00:00"},{"$f":"Dati!H701","v":"00:00:00"},{"$f":"IF(Dati!E701=\"UA1\",Dati!D701,)","v":0},{"$f":"IF(Dati!E701=\"UA2\",Dati!D701,)","v":0},{"$f":"IF(Dati!E701=\"UA3\",Dati!D701,)","v":0},{"$f":"IF(Dati!E701=\"UA4\",Dati!D701,)","v":0},{"$f":"IF(Dati!E701=\"UA5\",Dati!D701,)","v":0},{"$f":"IF(Dati!E701=\"UA6\",Dati!D701,)","v":0},{"$f":"IF(Dati!E701=\"UB1\",Dati!D701,)","v":0},{"$f":"IF(Dati!E701=\"UB2\",Dati!D701,)","v":0},{"$f":"IF(Dati!E701=\"UC1\",Dati!D701,)","v":0},{"$f":"IF(Dati!E701=\"UD1\",Dati!D701,)","v":0},{"$f":"IF(Dati!E701=\"UE1\",Dati!D701,)","v":0}]
[{"$f":"Dati!C702","v":"00:00:00"},{"$f":"Dati!H702","v":"00:00:00"},{"$f":"IF(Dati!E702=\"UA1\",Dati!D702,)","v":0},{"$f":"IF(Dati!E702=\"UA2\",Dati!D702,)","v":0},{"$f":"IF(Dati!E702=\"UA3\",Dati!D702,)","v":0},{"$f":"IF(Dati!E702=\"UA4\",Dati!D702,)","v":0},{"$f":"IF(Dati!E702=\"UA5\",Dati!D702,)","v":0},{"$f":"IF(Dati!E702=\"UA6\",Dati!D702,)","v":0},{"$f":"IF(Dati!E702=\"UB1\",Dati!D702,)","v":0},{"$f":"IF(Dati!E702=\"UB2\",Dati!D702,)","v":0},{"$f":"IF(Dati!E702=\"UC1\",Dati!D702,)","v":0},{"$f":"IF(Dati!E702=\"UD1\",Dati!D702,)","v":0},{"$f":"IF(Dati!E702=\"UE1\",Dati!D702,)","v":0}]
[{"$f":"Dati!C703","v":"00:00:00"},{"$f":"Dati!H703","v":"00:00:00"},{"$f":"IF(Dati!E703=\"UA1\",Dati!D703,)","v":0},{"$f":"IF(Dati!E703=\"UA2\",Dati!D703,)","v":0},{"$f":"IF(Dati!E703=\"UA3\",Dati!D703,)","v":0},{"$f":"IF(Dati!E703=\"UA4\",Dati!D703,)","v":0},{"$f":"IF(Dati!E703=\"UA5\",Dati!D703,)","v":0},{"$f":"IF(Dati!E703=\"UA6\",Dati!D703,)","v":0},{"$f":"IF(Dati!E703=\"UB1\",Dati!D703,)","v":0},{"$f":"IF(Dati!E703=\"UB2\",Dati!D703,)","v":0},{"$f":"IF(Dati!E703=\"UC1\",Dati!D703,)","v":0},{"$f":"IF(Dati!E703=\"UD1\",Dati!D703,)","v":0},{"$f":"IF(Dati!E703=\"UE1\",Dati!D703,)","v":0}]
[{"$f":"Dati!C704","v":"00:00:00"},{"$f":"Dati!H704","v":"00:00:00"},{"$f":"IF(Dati!E704=\"UA1\",Dati!D704,)","v":0},{"$f":"IF(Dati!E704=\"UA2\",Dati!D704,)","v":0},{"$f":"IF(Dati!E704=\"UA3\",Dati!D704,)","v":0},{"$f":"IF(Dati!E704=\"UA4\",Dati!D704,)","v":0},{"$f":"IF(Dati!E704=\"UA5\",Dati!D704,)","v":0},{"$f":"IF(Dati!E704=\"UA6\",Dati!D704,)","v":0},{"$f":"IF(Dati!E704=\"UB1\",Dati!D704,)","v":0},{"$f":"IF(Dati!E704=\"UB2\",Dati!D704,)","v":0},{"$f":"IF(Dati!E704=\"UC1\",Dati!D704,)","v":0},{"$f":"IF(Dati!E704=\"UD1\",Dati!D704,)","v":0},{"$f":"IF(Dati!E704=\"UE1\",Dati!D704,)","v":0}]
[{"$f":"Dati!C705","v":"00:00:00"},{"$f":"Dati!H705","v":"00:00:00"},{"$f":"IF(Dati!E705=\"UA1\",Dati!D705,)","v":0},{"$f":"IF(Dati!E705=\"UA2\",Dati!D705,)","v":0},{"$f":"IF(Dati!E705=\"UA3\",Dati!D705,)","v":0},{"$f":"IF(Dati!E705=\"UA4\",Dati!D705,)","v":0},{"$f":"IF(Dati!E705=\"UA5\",Dati!D705,)","v":0},{"$f":"IF(Dati!E705=\"UA6\",Dati!D705,)","v":0},{"$f":"IF(Dati!E705=\"UB1\",Dati!D705,)","v":0},{"$f":"IF(Dati!E705=\"UB2\",Dati!D705,)","v":0},{"$f":"IF(Dati!E705=\"UC1\",Dati!D705,)","v":0},{"$f":"IF(Dati!E705=\"UD1\",Dati!D705,)","v":0},{"$f":"IF(Dati!E705=\"UE1\",Dati!D705,)","v":0}]
[{"$f":"Dati!C706","v":"00:00:00"},{"$f":"Dati!H706","v":"00:00:00"},{"$f":"IF(Dati!E706=\"UA1\",Dati!D706,)","v":0},{"$f":"IF(Dati!E706=\"UA2\",Dati!D706,)","v":0},{"$f":"IF(Dati!E706=\"UA3\",Dati!D706,)","v":0},{"$f":"IF(Dati!E706=\"UA4\",Dati!D706,)","v":0},{"$f":"IF(Dati!E706=\"UA5\",Dati!D706,)","v":0},{"$f":"IF(Dati!E706=\"UA6\",Dati!D706,)","v":0},{"$f":"IF(Dati!E706=\"UB1\",Dati!D706,)","v":0},{"$f":"IF(Dati!E706=\"UB2\",Dati!D706,)","v":0},{"$f":"IF(Dati!E706=\"UC1\",Dati!D706,)","v":0},{"$f":"IF(Dati!E706=\"UD1\",Dati!D706,)","v":0},{"$f":"IF(Dati!E706=\"UE1\",Dati!D706,)","v":0}]
[{"$f":"Dati!C707","v":"00:00:00"},{"$f":"Dati!H707","v":"00:00:00"},{"$f":"IF(Dati!E707=\"UA1\",Dati!D707,)","v":0},{"$f":"IF(Dati!E707=\"UA2\",Dati!D707,)","v":0},{"$f":"IF(Dati!E707=\"UA3\",Dati!D707,)","v":0},{"$f":"IF(Dati!E707=\"UA4\",Dati!D707,)","v":0},{"$f":"IF(Dati!E707=\"UA5\",Dati!D707,)","v":0},{"$f":"IF(Dati!E707=\"UA6\",Dati!D707,)","v":0},{"$f":"IF(Dati!E707=\"UB1\",Dati!D707,)","v":0},{"$f":"IF(Dati!E707=\"UB2\",Dati!D707,)","v":0},{"$f":"IF(Dati!E707=\"UC1\",Dati!D707,)","v":0},{"$f":"IF(Dati!E707=\"UD1\",Dati!D707,)","v":0},{"$f":"IF(Dati!E707=\"UE1\",Dati!D707,)","v":0}]
[{"$f":"Dati!C708","v":"00:00:00"},{"$f":"Dati!H708","v":"00:00:00"},{"$f":"IF(Dati!E708=\"UA1\",Dati!D708,)","v":0},{"$f":"IF(Dati!E708=\"UA2\",Dati!D708,)","v":0},{"$f":"IF(Dati!E708=\"UA3\",Dati!D708,)","v":0},{"$f":"IF(Dati!E708=\"UA4\",Dati!D708,)","v":0},{"$f":"IF(Dati!E708=\"UA5\",Dati!D708,)","v":0},{"$f":"IF(Dati!E708=\"UA6\",Dati!D708,)","v":0},{"$f":"IF(Dati!E708=\"UB1\",Dati!D708,)","v":0},{"$f":"IF(Dati!E708=\"UB2\",Dati!D708,)","v":0},{"$f":"IF(Dati!E708=\"UC1\",Dati!D708,)","v":0},{"$f":"IF(Dati!E708=\"UD1\",Dati!D708,)","v":0},{"$f":"IF(Dati!E708=\"UE1\",Dati!D708,)","v":0}]
[{"$f":"Dati!C709","v":"00:00:00"},{"$f":"Dati!H709","v":"00:00:00"},{"$f":"IF(Dati!E709=\"UA1\",Dati!D709,)","v":0},{"$f":"IF(Dati!E709=\"UA2\",Dati!D709,)","v":0},{"$f":"IF(Dati!E709=\"UA3\",Dati!D709,)","v":0},{"$f":"IF(Dati!E709=\"UA4\",Dati!D709,)","v":0},{"$f":"IF(Dati!E709=\"UA5\",Dati!D709,)","v":0},{"$f":"IF(Dati!E709=\"UA6\",Dati!D709,)","v":0},{"$f":"IF(Dati!E709=\"UB1\",Dati!D709,)","v":0},{"$f":"IF(Dati!E709=\"UB2\",Dati!D709,)","v":0},{"$f":"IF(Dati!E709=\"UC1\",Dati!D709,)","v":0},{"$f":"IF(Dati!E709=\"UD1\",Dati!D709,)","v":0},{"$f":"IF(Dati!E709=\"UE1\",Dati!D709,)","v":0}]
[{"$f":"Dati!C710","v":"00:00:00"},{"$f":"Dati!H710","v":"00:00:00"},{"$f":"IF(Dati!E710=\"UA1\",Dati!D710,)","v":0},{"$f":"IF(Dati!E710=\"UA2\",Dati!D710,)","v":0},{"$f":"IF(Dati!E710=\"UA3\",Dati!D710,)","v":0},{"$f":"IF(Dati!E710=\"UA4\",Dati!D710,)","v":0},{"$f":"IF(Dati!E710=\"UA5\",Dati!D710,)","v":0},{"$f":"IF(Dati!E710=\"UA6\",Dati!D710,)","v":0},{"$f":"IF(Dati!E710=\"UB1\",Dati!D710,)","v":0},{"$f":"IF(Dati!E710=\"UB2\",Dati!D710,)","v":0},{"$f":"IF(Dati!E710=\"UC1\",Dati!D710,)","v":0},{"$f":"IF(Dati!E710=\"UD1\",Dati!D710,)","v":0},{"$f":"IF(Dati!E710=\"UE1\",Dati!D710,)","v":0}]
[{"$f":"Dati!C711","v":"00:00:00"},{"$f":"Dati!H711","v":"00:00:00"},{"$f":"IF(Dati!E711=\"UA1\",Dati!D711,)","v":0},{"$f":"IF(Dati!E711=\"UA2\",Dati!D711,)","v":0},{"$f":"IF(Dati!E711=\"UA3\",Dati!D711,)","v":0},{"$f":"IF(Dati!E711=\"UA4\",Dati!D711,)","v":0},{"$f":"IF(Dati!E711=\"UA5\",Dati!D711,)","v":0},{"$f":"IF(Dati!E711=\"UA6\",Dati!D711,)","v":0},{"$f":"IF(Dati!E711=\"UB1\",Dati!D711,)","v":0},{"$f":"IF(Dati!E711=\"UB2\",Dati!D711,)","v":0},{"$f":"IF(Dati!E711=\"UC1\",Dati!D711,)","v":0},{"$f":"IF(Dati!E711=\"UD1\",Dati!D711,)","v":0},{"$f":"IF(Dati!E711=\"UE1\",Dati!D711,)","v":0}]
[{"$f":"Dati!C712","v":"00:00:00"},{"$f":"Dati!H712","v":"00:00:00"},{"$f":"IF(Dati!E712=\"UA1\",Dati!D712,)","v":0},{"$f":"IF(Dati!E712=\"UA2\",Dati!D712,)","v":0},{"$f":"IF(Dati!E712=\"UA3\",Dati!D712,)","v":0},{"$f":"IF(Dati!E712=\"UA4\",Dati!D712,)","v":0},{"$f":"IF(Dati!E712=\"UA5\",Dati!D712,)","v":0},{"$f":"IF(Dati!E712=\"UA6\",Dati!D712,)","v":0},{"$f":"IF(Dati!E712=\"UB1\",Dati!D712,)","v":0},{"$f":"IF(Dati!E712=\"UB2\",Dati!D712,)","v":0},{"$f":"IF(Dati!E712=\"UC1\",Dati!D712,)","v":0},{"$f":"IF(Dati!E712=\"UD1\",Dati!D712,)","v":0},{"$f":"IF(Dati!E712=\"UE1\",Dati!D712,)","v":0}]
[{"$f":"Dati!C713","v":"00:00:00"},{"$f":"Dati!H713","v":"00:00:00"},{"$f":"IF(Dati!E713=\"UA1\",Dati!D713,)","v":0},{"$f":"IF(Dati!E713=\"UA2\",Dati!D713,)","v":0},{"$f":"IF(Dati!E713=\"UA3\",Dati!D713,)","v":0},{"$f":"IF(Dati!E713=\"UA4\",Dati!D713,)","v":0},{"$f":"IF(Dati!E713=\"UA5\",Dati!D713,)","v":0},{"$f":"IF(Dati!E713=\"UA6\",Dati!D713,)","v":0},{"$f":"IF(Dati!E713=\"UB1\",Dati!D713,)","v":0},{"$f":"IF(Dati!E713=\"UB2\",Dati!D713,)","v":0},{"$f":"IF(Dati!E713=\"UC1\",Dati!D713,)","v":0},{"$f":"IF(Dati!E713=\"UD1\",Dati!D713,)","v":0},{"$f":"IF(Dati!E713=\"UE1\",Dati!D713,)","v":0}]
[{"$f":"Dati!C714","v":"00:00:00"},{"$f":"Dati!H714","v":"00:00:00"},{"$f":"IF(Dati!E714=\"UA1\",Dati!D714,)","v":0},{"$f":"IF(Dati!E714=\"UA2\",Dati!D714,)","v":0},{"$f":"IF(Dati!E714=\"UA3\",Dati!D714,)","v":0},{"$f":"IF(Dati!E714=\"UA4\",Dati!D714,)","v":0},{"$f":"IF(Dati!E714=\"UA5\",Dati!D714,)","v":0},{"$f":"IF(Dati!E714=\"UA6\",Dati!D714,)","v":0},{"$f":"IF(Dati!E714=\"UB1\",Dati!D714,)","v":0},{"$f":"IF(Dati!E714=\"UB2\",Dati!D714,)","v":0},{"$f":"IF(Dati!E714=\"UC1\",Dati!D714,)","v":0},{"$f":"IF(Dati!E714=\"UD1\",Dati!D714,)","v":0},{"$f":"IF(Dati!E714=\"UE1\",Dati!D714,)","v":0}]
[{"$f":"Dati!C715","v":"00:00:00"},{"$f":"Dati!H715","v":"00:00:00"},{"$f":"IF(Dati!E715=\"UA1\",Dati!D715,)","v":0},{"$f":"IF(Dati!E715=\"UA2\",Dati!D715,)","v":0},{"$f":"IF(Dati!E715=\"UA3\",Dati!D715,)","v":0},{"$f":"IF(Dati!E715=\"UA4\",Dati!D715,)","v":0},{"$f":"IF(Dati!E715=\"UA5\",Dati!D715,)","v":0},{"$f":"IF(Dati!E715=\"UA6\",Dati!D715,)","v":0},{"$f":"IF(Dati!E715=\"UB1\",Dati!D715,)","v":0},{"$f":"IF(Dati!E715=\"UB2\",Dati!D715,)","v":0},{"$f":"IF(Dati!E715=\"UC1\",Dati!D715,)","v":0},{"$f":"IF(Dati!E715=\"UD1\",Dati!D715,)","v":0},{"$f":"IF(Dati!E715=\"UE1\",Dati!D715,)","v":0}]
[{"$f":"Dati!C716","v":"00:00:00"},{"$f":"Dati!H716","v":"00:00:00"},{"$f":"IF(Dati!E716=\"UA1\",Dati!D716,)","v":0},{"$f":"IF(Dati!E716=\"UA2\",Dati!D716,)","v":0},{"$f":"IF(Dati!E716=\"UA3\",Dati!D716,)","v":0},{"$f":"IF(Dati!E716=\"UA4\",Dati!D716,)","v":0},{"$f":"IF(Dati!E716=\"UA5\",Dati!D716,)","v":0},{"$f":"IF(Dati!E716=\"UA6\",Dati!D716,)","v":0},{"$f":"IF(Dati!E716=\"UB1\",Dati!D716,)","v":0},{"$f":"IF(Dati!E716=\"UB2\",Dati!D716,)","v":0},{"$f":"IF(Dati!E716=\"UC1\",Dati!D716,)","v":0},{"$f":"IF(Dati!E716=\"UD1\",Dati!D716,)","v":0},{"$f":"IF(Dati!E716=\"UE1\",Dati!D716,)","v":0}]
[{"$f":"Dati!C717","v":"00:00:00"},{"$f":"Dati!H717","v":"00:00:00"},{"$f":"IF(Dati!E717=\"UA1\",Dati!D717,)","v":0},{"$f":"IF(Dati!E717=\"UA2\",Dati!D717,)","v":0},{"$f":"IF(Dati!E717=\"UA3\",Dati!D717,)","v":0},{"$f":"IF(Dati!E717=\"UA4\",Dati!D717,)","v":0},{"$f":"IF(Dati!E717=\"UA5\",Dati!D717,)","v":0},{"$f":"IF(Dati!E717=\"UA6\",Dati!D717,)","v":0},{"$f":"IF(Dati!E717=\"UB1\",Dati!D717,)","v":0},{"$f":"IF(Dati!E717=\"UB2\",Dati!D717,)","v":0},{"$f":"IF(Dati!E717=\"UC1\",Dati!D717,)","v":0},{"$f":"IF(Dati!E717=\"UD1\",Dati!D717,)","v":0},{"$f":"IF(Dati!E717=\"UE1\",Dati!D717,)","v":0}]
[{"$f":"Dati!C718","v":"00:00:00"},{"$f":"Dati!H718","v":"00:00:00"},{"$f":"IF(Dati!E718=\"UA1\",Dati!D718,)","v":0},{"$f":"IF(Dati!E718=\"UA2\",Dati!D718,)","v":0},{"$f":"IF(Dati!E718=\"UA3\",Dati!D718,)","v":0},{"$f":"IF(Dati!E718=\"UA4\",Dati!D718,)","v":0},{"$f":"IF(Dati!E718=\"UA5\",Dati!D718,)","v":0},{"$f":"IF(Dati!E718=\"UA6\",Dati!D718,)","v":0},{"$f":"IF(Dati!E718=\"UB1\",Dati!D718,)","v":0},{"$f":"IF(Dati!E718=\"UB2\",Dati!D718,)","v":0},{"$f":"IF(Dati!E718=\"UC1\",Dati!D718,)","v":0},{"$f":"IF(Dati!E718=\"UD1\",Dati!D718,)","v":0},{"$f":"IF(Dati!E718=\"UE1\",Dati!D718,)","v":0}]
[{"$f":"Dati!C719","v":"00:00:00"},{"$f":"Dati!H719","v":"00:00:00"},{"$f":"IF(Dati!E719=\"UA1\",Dati!D719,)","v":0},{"$f":"IF(Dati!E719=\"UA2\",Dati!D719,)","v":0},{"$f":"IF(Dati!E719=\"UA3\",Dati!D719,)","v":0},{"$f":"IF(Dati!E719=\"UA4\",Dati!D719,)","v":0},{"$f":"IF(Dati!E719=\"UA5\",Dati!D719,)","v":0},{"$f":"IF(Dati!E719=\"UA6\",Dati!D719,)","v":0},{"$f":"IF(Dati!E719=\"UB1\",Dati!D719,)","v":0},{"$f":"IF(Dati!E719=\"UB2\",Dati!D719,)","v":0},{"$f":"IF(Dati!E719=\"UC1\",Dati!D719,)","v":0},{"$f":"IF(Dati!E719=\"UD1\",Dati!D719,)","v":0},{"$f":"IF(Dati!E719=\"UE1\",Dati!D719,)","v":0}]
[{"$f":"Dati!C720","v":"00:00:00"},{"$f":"Dati!H720","v":"00:00:00"},{"$f":"IF(Dati!E720=\"UA1\",Dati!D720,)","v":0},{"$f":"IF(Dati!E720=\"UA2\",Dati!D720,)","v":0},{"$f":"IF(Dati!E720=\"UA3\",Dati!D720,)","v":0},{"$f":"IF(Dati!E720=\"UA4\",Dati!D720,)","v":0},{"$f":"IF(Dati!E720=\"UA5\",Dati!D720,)","v":0},{"$f":"IF(Dati!E720=\"UA6\",Dati!D720,)","v":0},{"$f":"IF(Dati!E720=\"UB1\",Dati!D720,)","v":0},{"$f":"IF(Dati!E720=\"UB2\",Dati!D720,)","v":0},{"$f":"IF(Dati!E720=\"UC1\",Dati!D720,)","v":0},{"$f":"IF(Dati!E720=\"UD1\",Dati!D720,)","v":0},{"$f":"IF(Dati!E720=\"UE1\",Dati!D720,)","v":0}]
[{"$f":"Dati!C721","v":"00:00:00"},{"$f":"Dati!H721","v":"00:00:00"},{"$f":"IF(Dati!E721=\"UA1\",Dati!D721,)","v":0},{"$f":"IF(Dati!E721=\"UA2\",Dati!D721,)","v":0},{"$f":"IF(Dati!E721=\"UA3\",Dati!D721,)","v":0},{"$f":"IF(Dati!E721=\"UA4\",Dati!D721,)","v":0},{"$f":"IF(Dati!E721=\"UA5\",Dati!D721,)","v":0},{"$f":"IF(Dati!E721=\"UA6\",Dati!D721,)","v":0},{"$f":"IF(Dati!E721=\"UB1\",Dati!D721,)","v":0},{"$f":"IF(Dati!E721=\"UB2\",Dati!D721,)","v":0},{"$f":"IF(Dati!E721=\"UC1\",Dati!D721,)","v":0},{"$f":"IF(Dati!E721=\"UD1\",Dati!D721,)","v":0},{"$f":"IF(Dati!E721=\"UE1\",Dati!D721,)","v":0}]
[{"$f":"Dati!C722","v":"00:00:00"},{"$f":"Dati!H722","v":"00:00:00"},{"$f":"IF(Dati!E722=\"UA1\",Dati!D722,)","v":0},{"$f":"IF(Dati!E722=\"UA2\",Dati!D722,)","v":0},{"$f":"IF(Dati!E722=\"UA3\",Dati!D722,)","v":0},{"$f":"IF(Dati!E722=\"UA4\",Dati!D722,)","v":0},{"$f":"IF(Dati!E722=\"UA5\",Dati!D722,)","v":0},{"$f":"IF(Dati!E722=\"UA6\",Dati!D722,)","v":0},{"$f":"IF(Dati!E722=\"UB1\",Dati!D722,)","v":0},{"$f":"IF(Dati!E722=\"UB2\",Dati!D722,)","v":0},{"$f":"IF(Dati!E722=\"UC1\",Dati!D722,)","v":0},{"$f":"IF(Dati!E722=\"UD1\",Dati!D722,)","v":0},{"$f":"IF(Dati!E722=\"UE1\",Dati!D722,)","v":0}]
[{"$f":"Dati!C723","v":"00:00:00"},{"$f":"Dati!H723","v":"00:00:00"},{"$f":"IF(Dati!E723=\"UA1\",Dati!D723,)","v":0},{"$f":"IF(Dati!E723=\"UA2\",Dati!D723,)","v":0},{"$f":"IF(Dati!E723=\"UA3\",Dati!D723,)","v":0},{"$f":"IF(Dati!E723=\"UA4\",Dati!D723,)","v":0},{"$f":"IF(Dati!E723=\"UA5\",Dati!D723,)","v":0},{"$f":"IF(Dati!E723=\"UA6\",Dati!D723,)","v":0},{"$f":"IF(Dati!E723=\"UB1\",Dati!D723,)","v":0},{"$f":"IF(Dati!E723=\"UB2\",Dati!D723,)","v":0},{"$f":"IF(Dati!E723=\"UC1\",Dati!D723,)","v":0},{"$f":"IF(Dati!E723=\"UD1\",Dati!D723,)","v":0},{"$f":"IF(Dati!E723=\"UE1\",Dati!D723,)","v":0}]
[{"$f":"Dati!C724","v":"00:00:00"},{"$f":"Dati!H724","v":"00:00:00"},{"$f":"IF(Dati!E724=\"UA1\",Dati!D724,)","v":0},{"$f":"IF(Dati!E724=\"UA2\",Dati!D724,)","v":0},{"$f":"IF(Dati!E724=\"UA3\",Dati!D724,)","v":0},{"$f":"IF(Dati!E724=\"UA4\",Dati!D724,)","v":0},{"$f":"IF(Dati!E724=\"UA5\",Dati!D724,)","v":0},{"$f":"IF(Dati!E724=\"UA6\",Dati!D724,)","v":0},{"$f":"IF(Dati!E724=\"UB1\",Dati!D724,)","v":0},{"$f":"IF(Dati!E724=\"UB2\",Dati!D724,)","v":0},{"$f":"IF(Dati!E724=\"UC1\",Dati!D724,)","v":0},{"$f":"IF(Dati!E724=\"UD1\",Dati!D724,)","v":0},{"$f":"IF(Dati!E724=\"UE1\",Dati!D724,)","v":0}]
[{"$f":"Dati!C725","v":"00:00:00"},{"$f":"Dati!H725","v":"00:00:00"},{"$f":"IF(Dati!E725=\"UA1\",Dati!D725,)","v":0},{"$f":"IF(Dati!E725=\"UA2\",Dati!D725,)","v":0},{"$f":"IF(Dati!E725=\"UA3\",Dati!D725,)","v":0},{"$f":"IF(Dati!E725=\"UA4\",Dati!D725,)","v":0},{"$f":"IF(Dati!E725=\"UA5\",Dati!D725,)","v":0},{"$f":"IF(Dati!E725=\"UA6\",Dati!D725,)","v":0},{"$f":"IF(Dati!E725=\"UB1\",Dati!D725,)","v":0},{"$f":"IF(Dati!E725=\"UB2\",Dati!D725,)","v":0},{"$f":"IF(Dati!E725=\"UC1\",Dati!D725,)","v":0},{"$f":"IF(Dati!E725=\"UD1\",Dati!D725,)","v":0},{"$f":"IF(Dati!E725=\"UE1\",Dati!D725,)","v":0}]
[{"$f":"Dati!C726","v":"00:00:00"},{"$f":"Dati!H726","v":"00:00:00"},{"$f":"IF(Dati!E726=\"UA1\",Dati!D726,)","v":0},{"$f":"IF(Dati!E726=\"UA2\",Dati!D726,)","v":0},{"$f":"IF(Dati!E726=\"UA3\",Dati!D726,)","v":0},{"$f":"IF(Dati!E726=\"UA4\",Dati!D726,)","v":0},{"$f":"IF(Dati!E726=\"UA5\",Dati!D726,)","v":0},{"$f":"IF(Dati!E726=\"UA6\",Dati!D726,)","v":0},{"$f":"IF(Dati!E726=\"UB1\",Dati!D726,)","v":0},{"$f":"IF(Dati!E726=\"UB2\",Dati!D726,)","v":0},{"$f":"IF(Dati!E726=\"UC1\",Dati!D726,)","v":0},{"$f":"IF(Dati!E726=\"UD1\",Dati!D726,)","v":0},{"$f":"IF(Dati!E726=\"UE1\",Dati!D726,)","v":0}]
[{"$f":"Dati!C727","v":"00:00:00"},{"$f":"Dati!H727","v":"00:00:00"},{"$f":"IF(Dati!E727=\"UA1\",Dati!D727,)","v":0},{"$f":"IF(Dati!E727=\"UA2\",Dati!D727,)","v":0},{"$f":"IF(Dati!E727=\"UA3\",Dati!D727,)","v":0},{"$f":"IF(Dati!E727=\"UA4\",Dati!D727,)","v":0},{"$f":"IF(Dati!E727=\"UA5\",Dati!D727,)","v":0},{"$f":"IF(Dati!E727=\"UA6\",Dati!D727,)","v":0},{"$f":"IF(Dati!E727=\"UB1\",Dati!D727,)","v":0},{"$f":"IF(Dati!E727=\"UB2\",Dati!D727,)","v":0},{"$f":"IF(Dati!E727=\"UC1\",Dati!D727,)","v":0},{"$f":"IF(Dati!E727=\"UD1\",Dati!D727,)","v":0},{"$f":"IF(Dati!E727=\"UE1\",Dati!D727,)","v":0}]
[{"$f":"Dati!C728","v":"00:00:00"},{"$f":"Dati!H728","v":"00:00:00"},{"$f":"IF(Dati!E728=\"UA1\",Dati!D728,)","v":0},{"$f":"IF(Dati!E728=\"UA2\",Dati!D728,)","v":0},{"$f":"IF(Dati!E728=\"UA3\",Dati!D728,)","v":0},{"$f":"IF(Dati!E728=\"UA4\",Dati!D728,)","v":0},{"$f":"IF(Dati!E728=\"UA5\",Dati!D728,)","v":0},{"$f":"IF(Dati!E728=\"UA6\",Dati!D728,)","v":0},{"$f":"IF(Dati!E728=\"UB1\",Dati!D728,)","v":0},{"$f":"IF(Dati!E728=\"UB2\",Dati!D728,)","v":0},{"$f":"IF(Dati!E728=\"UC1\",Dati!D728,)","v":0},{"$f":"IF(Dati!E728=\"UD1\",Dati!D728,)","v":0},{"$f":"IF(Dati!E728=\"UE1\",Dati!D728,)","v":0}]
[{"$f":"Dati!C729","v":"00:00:00"},{"$f":"Dati!H729","v":"00:00:00"},{"$f":"IF(Dati!E729=\"UA1\",Dati!D729,)","v":0},{"$f":"IF(Dati!E729=\"UA2\",Dati!D729,)","v":0},{"$f":"IF(Dati!E729=\"UA3\",Dati!D729,)","v":0},{"$f":"IF(Dati!E729=\"UA4\",Dati!D729,)","v":0},{"$f":"IF(Dati!E729=\"UA5\",Dati!D729,)","v":0},{"$f":"IF(Dati!E729=\"UA6\",Dati!D729,)","v":0},{"$f":"IF(Dati!E729=\"UB1\",Dati!D729,)","v":0},{"$f":"IF(Dati!E729=\"UB2\",Dati!D729,)","v":0},{"$f":"IF(Dati!E729=\"UC1\",Dati!D729,)","v":0},{"$f":"IF(Dati!E729=\"UD1\",Dati!D729,)","v":0},{"$f":"IF(Dati!E729=\"UE1\",Dati!D729,)","v":0}]
[{"$f":"Dati!C730","v":"00:00:00"},{"$f":"Dati!H730","v":"00:00:00"},{"$f":"IF(Dati!E730=\"UA1\",Dati!D730,)","v":0},{"$f":"IF(Dati!E730=\"UA2\",Dati!D730,)","v":0},{"$f":"IF(Dati!E730=\"UA3\",Dati!D730,)","v":0},{"$f":"IF(Dati!E730=\"UA4\",Dati!D730,)","v":0},{"$f":"IF(Dati!E730=\"UA5\",Dati!D730,)","v":0},{"$f":"IF(Dati!E730=\"UA6\",Dati!D730,)","v":0},{"$f":"IF(Dati!E730=\"UB1\",Dati!D730,)","v":0},{"$f":"IF(Dati!E730=\"UB2\",Dati!D730,)","v":0},{"$f":"IF(Dati!E730=\"UC1\",Dati!D730,)","v":0},{"$f":"IF(Dati!E730=\"UD1\",Dati!D730,)","v":0},{"$f":"IF(Dati!E730=\"UE1\",Dati!D730,)","v":0}]
[{"$f":"Dati!C731","v":"00:00:00"},{"$f":"Dati!H731","v":"00:00:00"},{"$f":"IF(Dati!E731=\"UA1\",Dati!D731,)","v":0},{"$f":"IF(Dati!E731=\"UA2\",Dati!D731,)","v":0},{"$f":"IF(Dati!E731=\"UA3\",Dati!D731,)","v":0},{"$f":"IF(Dati!E731=\"UA4\",Dati!D731,)","v":0},{"$f":"IF(Dati!E731=\"UA5\",Dati!D731,)","v":0},{"$f":"IF(Dati!E731=\"UA6\",Dati!D731,)","v":0},{"$f":"IF(Dati!E731=\"UB1\",Dati!D731,)","v":0},{"$f":"IF(Dati!E731=\"UB2\",Dati!D731,)","v":0},{"$f":"IF(Dati!E731=\"UC1\",Dati!D731,)","v":0},{"$f":"IF(Dati!E731=\"UD1\",Dati!D731,)","v":0},{"$f":"IF(Dati!E731=\"UE1\",Dati!D731,)","v":0}]
[{"$f":"Dati!C732","v":"00:00:00"},{"$f":"Dati!H732","v":"00:00:00"},{"$f":"IF(Dati!E732=\"UA1\",Dati!D732,)","v":0},{"$f":"IF(Dati!E732=\"UA2\",Dati!D732,)","v":0},{"$f":"IF(Dati!E732=\"UA3\",Dati!D732,)","v":0},{"$f":"IF(Dati!E732=\"UA4\",Dati!D732,)","v":0},{"$f":"IF(Dati!E732=\"UA5\",Dati!D732,)","v":0},{"$f":"IF(Dati!E732=\"UA6\",Dati!D732,)","v":0},{"$f":"IF(Dati!E732=\"UB1\",Dati!D732,)","v":0},{"$f":"IF(Dati!E732=\"UB2\",Dati!D732,)","v":0},{"$f":"IF(Dati!E732=\"UC1\",Dati!D732,)","v":0},{"$f":"IF(Dati!E732=\"UD1\",Dati!D732,)","v":0},{"$f":"IF(Dati!E732=\"UE1\",Dati!D732,)","v":0}]
[{"$f":"Dati!C733","v":"00:00:00"},{"$f":"Dati!H733","v":"00:00:00"},{"$f":"IF(Dati!E733=\"UA1\",Dati!D733,)","v":0},{"$f":"IF(Dati!E733=\"UA2\",Dati!D733,)","v":0},{"$f":"IF(Dati!E733=\"UA3\",Dati!D733,)","v":0},{"$f":"IF(Dati!E733=\"UA4\",Dati!D733,)","v":0},{"$f":"IF(Dati!E733=\"UA5\",Dati!D733,)","v":0},{"$f":"IF(Dati!E733=\"UA6\",Dati!D733,)","v":0},{"$f":"IF(Dati!E733=\"UB1\",Dati!D733,)","v":0},{"$f":"IF(Dati!E733=\"UB2\",Dati!D733,)","v":0},{"$f":"IF(Dati!E733=\"UC1\",Dati!D733,)","v":0},{"$f":"IF(Dati!E733=\"UD1\",Dati!D733,)","v":0},{"$f":"IF(Dati!E733=\"UE1\",Dati!D733,)","v":0}]
[{"$f":"Dati!C734","v":"00:00:00"},{"$f":"Dati!H734","v":"00:00:00"},{"$f":"IF(Dati!E734=\"UA1\",Dati!D734,)","v":0},{"$f":"IF(Dati!E734=\"UA2\",Dati!D734,)","v":0},{"$f":"IF(Dati!E734=\"UA3\",Dati!D734,)","v":0},{"$f":"IF(Dati!E734=\"UA4\",Dati!D734,)","v":0},{"$f":"IF(Dati!E734=\"UA5\",Dati!D734,)","v":0},{"$f":"IF(Dati!E734=\"UA6\",Dati!D734,)","v":0},{"$f":"IF(Dati!E734=\"UB1\",Dati!D734,)","v":0},{"$f":"IF(Dati!E734=\"UB2\",Dati!D734,)","v":0},{"$f":"IF(Dati!E734=\"UC1\",Dati!D734,)","v":0},{"$f":"IF(Dati!E734=\"UD1\",Dati!D734,)","v":0},{"$f":"IF(Dati!E734=\"UE1\",Dati!D734,)","v":0}]
[{"$f":"Dati!C735","v":"00:00:00"},{"$f":"Dati!H735","v":"00:00:00"},{"$f":"IF(Dati!E735=\"UA1\",Dati!D735,)","v":0},{"$f":"IF(Dati!E735=\"UA2\",Dati!D735,)","v":0},{"$f":"IF(Dati!E735=\"UA3\",Dati!D735,)","v":0},{"$f":"IF(Dati!E735=\"UA4\",Dati!D735,)","v":0},{"$f":"IF(Dati!E735=\"UA5\",Dati!D735,)","v":0},{"$f":"IF(Dati!E735=\"UA6\",Dati!D735,)","v":0},{"$f":"IF(Dati!E735=\"UB1\",Dati!D735,)","v":0},{"$f":"IF(Dati!E735=\"UB2\",Dati!D735,)","v":0},{"$f":"IF(Dati!E735=\"UC1\",Dati!D735,)","v":0},{"$f":"IF(Dati!E735=\"UD1\",Dati!D735,)","v":0},{"$f":"IF(Dati!E735=\"UE1\",Dati!D735,)","v":0}]
[{"$f":"Dati!C736","v":"00:00:00"},{"$f":"Dati!H736","v":"00:00:00"},{"$f":"IF(Dati!E736=\"UA1\",Dati!D736,)","v":0},{"$f":"IF(Dati!E736=\"UA2\",Dati!D736,)","v":0},{"$f":"IF(Dati!E736=\"UA3\",Dati!D736,)","v":0},{"$f":"IF(Dati!E736=\"UA4\",Dati!D736,)","v":0},{"$f":"IF(Dati!E736=\"UA5\",Dati!D736,)","v":0},{"$f":"IF(Dati!E736=\"UA6\",Dati!D736,)","v":0},{"$f":"IF(Dati!E736=\"UB1\",Dati!D736,)","v":0},{"$f":"IF(Dati!E736=\"UB2\",Dati!D736,)","v":0},{"$f":"IF(Dati!E736=\"UC1\",Dati!D736,)","v":0},{"$f":"IF(Dati!E736=\"UD1\",Dati!D736,)","v":0},{"$f":"IF(Dati!E736=\"UE1\",Dati!D736,)","v":0}]
[{"$f":"Dati!C737","v":"00:00:00"},{"$f":"Dati!H737","v":"00:00:00"},{"$f":"IF(Dati!E737=\"UA1\",Dati!D737,)","v":0},{"$f":"IF(Dati!E737=\"UA2\",Dati!D737,)","v":0},{"$f":"IF(Dati!E737=\"UA3\",Dati!D737,)","v":0},{"$f":"IF(Dati!E737=\"UA4\",Dati!D737,)","v":0},{"$f":"IF(Dati!E737=\"UA5\",Dati!D737,)","v":0},{"$f":"IF(Dati!E737=\"UA6\",Dati!D737,)","v":0},{"$f":"IF(Dati!E737=\"UB1\",Dati!D737,)","v":0},{"$f":"IF(Dati!E737=\"UB2\",Dati!D737,)","v":0},{"$f":"IF(Dati!E737=\"UC1\",Dati!D737,)","v":0},{"$f":"IF(Dati!E737=\"UD1\",Dati!D737,)","v":0},{"$f":"IF(Dati!E737=\"UE1\",Dati!D737,)","v":0}]
[{"$f":"Dati!C738","v":"00:00:00"},{"$f":"Dati!H738","v":"00:00:00"},{"$f":"IF(Dati!E738=\"UA1\",Dati!D738,)","v":0},{"$f":"IF(Dati!E738=\"UA2\",Dati!D738,)","v":0},{"$f":"IF(Dati!E738=\"UA3\",Dati!D738,)","v":0},{"$f":"IF(Dati!E738=\"UA4\",Dati!D738,)","v":0},{"$f":"IF(Dati!E738=\"UA5\",Dati!D738,)","v":0},{"$f":"IF(Dati!E738=\"UA6\",Dati!D738,)","v":0},{"$f":"IF(Dati!E738=\"UB1\",Dati!D738,)","v":0},{"$f":"IF(Dati!E738=\"UB2\",Dati!D738,)","v":0},{"$f":"IF(Dati!E738=\"UC1\",Dati!D738,)","v":0},{"$f":"IF(Dati!E738=\"UD1\",Dati!D738,)","v":0},{"$f":"IF(Dati!E738=\"UE1\",Dati!D738,)","v":0}]
[{"$f":"Dati!C739","v":"00:00:00"},{"$f":"Dati!H739","v":"00:00:00"},{"$f":"IF(Dati!E739=\"UA1\",Dati!D739,)","v":0},{"$f":"IF(Dati!E739=\"UA2\",Dati!D739,)","v":0},{"$f":"IF(Dati!E739=\"UA3\",Dati!D739,)","v":0},{"$f":"IF(Dati!E739=\"UA4\",Dati!D739,)","v":0},{"$f":"IF(Dati!E739=\"UA5\",Dati!D739,)","v":0},{"$f":"IF(Dati!E739=\"UA6\",Dati!D739,)","v":0},{"$f":"IF(Dati!E739=\"UB1\",Dati!D739,)","v":0},{"$f":"IF(Dati!E739=\"UB2\",Dati!D739,)","v":0},{"$f":"IF(Dati!E739=\"UC1\",Dati!D739,)","v":0},{"$f":"IF(Dati!E739=\"UD1\",Dati!D739,)","v":0},{"$f":"IF(Dati!E739=\"UE1\",Dati!D739,)","v":0}]
[{"$f":"Dati!C740","v":"00:00:00"},{"$f":"Dati!H740","v":"00:00:00"},{"$f":"IF(Dati!E740=\"UA1\",Dati!D740,)","v":0},{"$f":"IF(Dati!E740=\"UA2\",Dati!D740,)","v":0},{"$f":"IF(Dati!E740=\"UA3\",Dati!D740,)","v":0},{"$f":"IF(Dati!E740=\"UA4\",Dati!D740,)","v":0},{"$f":"IF(Dati!E740=\"UA5\",Dati!D740,)","v":0},{"$f":"IF(Dati!E740=\"UA6\",Dati!D740,)","v":0},{"$f":"IF(Dati!E740=\"UB1\",Dati!D740,)","v":0},{"$f":"IF(Dati!E740=\"UB2\",Dati!D740,)","v":0},{"$f":"IF(Dati!E740=\"UC1\",Dati!D740,)","v":0},{"$f":"IF(Dati!E740=\"UD1\",Dati!D740,)","v":0},{"$f":"IF(Dati!E740=\"UE1\",Dati!D740,)","v":0}]
[{"$f":"Dati!C741","v":"00:00:00"},{"$f":"Dati!H741","v":"00:00:00"},{"$f":"IF(Dati!E741=\"UA1\",Dati!D741,)","v":0},{"$f":"IF(Dati!E741=\"UA2\",Dati!D741,)","v":0},{"$f":"IF(Dati!E741=\"UA3\",Dati!D741,)","v":0},{"$f":"IF(Dati!E741=\"UA4\",Dati!D741,)","v":0},{"$f":"IF(Dati!E741=\"UA5\",Dati!D741,)","v":0},{"$f":"IF(Dati!E741=\"UA6\",Dati!D741,)","v":0},{"$f":"IF(Dati!E741=\"UB1\",Dati!D741,)","v":0},{"$f":"IF(Dati!E741=\"UB2\",Dati!D741,)","v":0},{"$f":"IF(Dati!E741=\"UC1\",Dati!D741,)","v":0},{"$f":"IF(Dati!E741=\"UD1\",Dati!D741,)","v":0},{"$f":"IF(Dati!E741=\"UE1\",Dati!D741,)","v":0}]
[{"$f":"Dati!C742","v":"00:00:00"},{"$f":"Dati!H742","v":"00:00:00"},{"$f":"IF(Dati!E742=\"UA1\",Dati!D742,)","v":0},{"$f":"IF(Dati!E742=\"UA2\",Dati!D742,)","v":0},{"$f":"IF(Dati!E742=\"UA3\",Dati!D742,)","v":0},{"$f":"IF(Dati!E742=\"UA4\",Dati!D742,)","v":0},{"$f":"IF(Dati!E742=\"UA5\",Dati!D742,)","v":0},{"$f":"IF(Dati!E742=\"UA6\",Dati!D742,)","v":0},{"$f":"IF(Dati!E742=\"UB1\",Dati!D742,)","v":0},{"$f":"IF(Dati!E742=\"UB2\",Dati!D742,)","v":0},{"$f":"IF(Dati!E742=\"UC1\",Dati!D742,)","v":0},{"$f":"IF(Dati!E742=\"UD1\",Dati!D742,)","v":0},{"$f":"IF(Dati!E742=\"UE1\",Dati!D742,)","v":0}]
[{"$f":"Dati!C743","v":"00:00:00"},{"$f":"Dati!H743","v":"00:00:00"},{"$f":"IF(Dati!E743=\"UA1\",Dati!D743,)","v":0},{"$f":"IF(Dati!E743=\"UA2\",Dati!D743,)","v":0},{"$f":"IF(Dati!E743=\"UA3\",Dati!D743,)","v":0},{"$f":"IF(Dati!E743=\"UA4\",Dati!D743,)","v":0},{"$f":"IF(Dati!E743=\"UA5\",Dati!D743,)","v":0},{"$f":"IF(Dati!E743=\"UA6\",Dati!D743,)","v":0},{"$f":"IF(Dati!E743=\"UB1\",Dati!D743,)","v":0},{"$f":"IF(Dati!E743=\"UB2\",Dati!D743,)","v":0},{"$f":"IF(Dati!E743=\"UC1\",Dati!D743,)","v":0},{"$f":"IF(Dati!E743=\"UD1\",Dati!D743,)","v":0},{"$f":"IF(Dati!E743=\"UE1\",Dati!D743,)","v":0}]
[{"$f":"Dati!C744","v":"00:00:00"},{"$f":"Dati!H744","v":"00:00:00"},{"$f":"IF(Dati!E744=\"UA1\",Dati!D744,)","v":0},{"$f":"IF(Dati!E744=\"UA2\",Dati!D744,)","v":0},{"$f":"IF(Dati!E744=\"UA3\",Dati!D744,)","v":0},{"$f":"IF(Dati!E744=\"UA4\",Dati!D744,)","v":0},{"$f":"IF(Dati!E744=\"UA5\",Dati!D744,)","v":0},{"$f":"IF(Dati!E744=\"UA6\",Dati!D744,)","v":0},{"$f":"IF(Dati!E744=\"UB1\",Dati!D744,)","v":0},{"$f":"IF(Dati!E744=\"UB2\",Dati!D744,)","v":0},{"$f":"IF(Dati!E744=\"UC1\",Dati!D744,)","v":0},{"$f":"IF(Dati!E744=\"UD1\",Dati!D744,)","v":0},{"$f":"IF(Dati!E744=\"UE1\",Dati!D744,)","v":0}]
[{"$f":"Dati!C745","v":"00:00:00"},{"$f":"Dati!H745","v":"00:00:00"},{"$f":"IF(Dati!E745=\"UA1\",Dati!D745,)","v":0},{"$f":"IF(Dati!E745=\"UA2\",Dati!D745,)","v":0},{"$f":"IF(Dati!E745=\"UA3\",Dati!D745,)","v":0},{"$f":"IF(Dati!E745=\"UA4\",Dati!D745,)","v":0},{"$f":"IF(Dati!E745=\"UA5\",Dati!D745,)","v":0},{"$f":"IF(Dati!E745=\"UA6\",Dati!D745,)","v":0},{"$f":"IF(Dati!E745=\"UB1\",Dati!D745,)","v":0},{"$f":"IF(Dati!E745=\"UB2\",Dati!D745,)","v":0},{"$f":"IF(Dati!E745=\"UC1\",Dati!D745,)","v":0},{"$f":"IF(Dati!E745=\"UD1\",Dati!D745,)","v":0},{"$f":"IF(Dati!E745=\"UE1\",Dati!D745,)","v":0}]
[{"$f":"Dati!C746","v":"00:00:00"},{"$f":"Dati!H746","v":"00:00:00"},{"$f":"IF(Dati!E746=\"UA1\",Dati!D746,)","v":0},{"$f":"IF(Dati!E746=\"UA2\",Dati!D746,)","v":0},{"$f":"IF(Dati!E746=\"UA3\",Dati!D746,)","v":0},{"$f":"IF(Dati!E746=\"UA4\",Dati!D746,)","v":0},{"$f":"IF(Dati!E746=\"UA5\",Dati!D746,)","v":0},{"$f":"IF(Dati!E746=\"UA6\",Dati!D746,)","v":0},{"$f":"IF(Dati!E746=\"UB1\",Dati!D746,)","v":0},{"$f":"IF(Dati!E746=\"UB2\",Dati!D746,)","v":0},{"$f":"IF(Dati!E746=\"UC1\",Dati!D746,)","v":0},{"$f":"IF(Dati!E746=\"UD1\",Dati!D746,)","v":0},{"$f":"IF(Dati!E746=\"UE1\",Dati!D746,)","v":0}]
[{"$f":"Dati!C747","v":"00:00:00"},{"$f":"Dati!H747","v":"00:00:00"},{"$f":"IF(Dati!E747=\"UA1\",Dati!D747,)","v":0},{"$f":"IF(Dati!E747=\"UA2\",Dati!D747,)","v":0},{"$f":"IF(Dati!E747=\"UA3\",Dati!D747,)","v":0},{"$f":"IF(Dati!E747=\"UA4\",Dati!D747,)","v":0},{"$f":"IF(Dati!E747=\"UA5\",Dati!D747,)","v":0},{"$f":"IF(Dati!E747=\"UA6\",Dati!D747,)","v":0},{"$f":"IF(Dati!E747=\"UB1\",Dati!D747,)","v":0},{"$f":"IF(Dati!E747=\"UB2\",Dati!D747,)","v":0},{"$f":"IF(Dati!E747=\"UC1\",Dati!D747,)","v":0},{"$f":"IF(Dati!E747=\"UD1\",Dati!D747,)","v":0},{"$f":"IF(Dati!E747=\"UE1\",Dati!D747,)","v":0}]
[{"$f":"Dati!C748","v":"00:00:00"},{"$f":"Dati!H748","v":"00:00:00"},{"$f":"IF(Dati!E748=\"UA1\",Dati!D748,)","v":0},{"$f":"IF(Dati!E748=\"UA2\",Dati!D748,)","v":0},{"$f":"IF(Dati!E748=\"UA3\",Dati!D748,)","v":0},{"$f":"IF(Dati!E748=\"UA4\",Dati!D748,)","v":0},{"$f":"IF(Dati!E748=\"UA5\",Dati!D748,)","v":0},{"$f":"IF(Dati!E748=\"UA6\",Dati!D748,)","v":0},{"$f":"IF(Dati!E748=\"UB1\",Dati!D748,)","v":0},{"$f":"IF(Dati!E748=\"UB2\",Dati!D748,)","v":0},{"$f":"IF(Dati!E748=\"UC1\",Dati!D748,)","v":0},{"$f":"IF(Dati!E748=\"UD1\",Dati!D748,)","v":0},{"$f":"IF(Dati!E748=\"UE1\",Dati!D748,)","v":0}]
[{"$f":"Dati!C749","v":"00:00:00"},{"$f":"Dati!H749","v":"00:00:00"},{"$f":"IF(Dati!E749=\"UA1\",Dati!D749,)","v":0},{"$f":"IF(Dati!E749=\"UA2\",Dati!D749,)","v":0},{"$f":"IF(Dati!E749=\"UA3\",Dati!D749,)","v":0},{"$f":"IF(Dati!E749=\"UA4\",Dati!D749,)","v":0},{"$f":"IF(Dati!E749=\"UA5\",Dati!D749,)","v":0},{"$f":"IF(Dati!E749=\"UA6\",Dati!D749,)","v":0},{"$f":"IF(Dati!E749=\"UB1\",Dati!D749,)","v":0},{"$f":"IF(Dati!E749=\"UB2\",Dati!D749,)","v":0},{"$f":"IF(Dati!E749=\"UC1\",Dati!D749,)","v":0},{"$f":"IF(Dati!E749=\"UD1\",Dati!D749,)","v":0},{"$f":"IF(Dati!E749=\"UE1\",Dati!D749,)","v":0}]
[{"$f":"Dati!C750","v":"00:00:00"},{"$f":"Dati!H750","v":"00:00:00"},{"$f":"IF(Dati!E750=\"UA1\",Dati!D750,)","v":0},{"$f":"IF(Dati!E750=\"UA2\",Dati!D750,)","v":0},{"$f":"IF(Dati!E750=\"UA3\",Dati!D750,)","v":0},{"$f":"IF(Dati!E750=\"UA4\",Dati!D750,)","v":0},{"$f":"IF(Dati!E750=\"UA5\",Dati!D750,)","v":0},{"$f":"IF(Dati!E750=\"UA6\",Dati!D750,)","v":0},{"$f":"IF(Dati!E750=\"UB1\",Dati!D750,)","v":0},{"$f":"IF(Dati!E750=\"UB2\",Dati!D750,)","v":0},{"$f":"IF(Dati!E750=\"UC1\",Dati!D750,)","v":0},{"$f":"IF(Dati!E750=\"UD1\",Dati!D750,)","v":0},{"$f":"IF(Dati!E750=\"UE1\",Dati!D750,)","v":0}]
[{"$f":"Dati!C751","v":"00:00:00"},{"$f":"Dati!H751","v":"00:00:00"},{"$f":"IF(Dati!E751=\"UA1\",Dati!D751,)","v":0},{"$f":"IF(Dati!E751=\"UA2\",Dati!D751,)","v":0},{"$f":"IF(Dati!E751=\"UA3\",Dati!D751,)","v":0},{"$f":"IF(Dati!E751=\"UA4\",Dati!D751,)","v":0},{"$f":"IF(Dati!E751=\"UA5\",Dati!D751,)","v":0},{"$f":"IF(Dati!E751=\"UA6\",Dati!D751,)","v":0},{"$f":"IF(Dati!E751=\"UB1\",Dati!D751,)","v":0},{"$f":"IF(Dati!E751=\"UB2\",Dati!D751,)","v":0},{"$f":"IF(Dati!E751=\"UC1\",Dati!D751,)","v":0},{"$f":"IF(Dati!E751=\"UD1\",Dati!D751,)","v":0},{"$f":"IF(Dati!E751=\"UE1\",Dati!D751,)","v":0}]
[{"$f":"Dati!C752","v":"00:00:00"},{"$f":"Dati!H752","v":"00:00:00"},{"$f":"IF(Dati!E752=\"UA1\",Dati!D752,)","v":0},{"$f":"IF(Dati!E752=\"UA2\",Dati!D752,)","v":0},{"$f":"IF(Dati!E752=\"UA3\",Dati!D752,)","v":0},{"$f":"IF(Dati!E752=\"UA4\",Dati!D752,)","v":0},{"$f":"IF(Dati!E752=\"UA5\",Dati!D752,)","v":0},{"$f":"IF(Dati!E752=\"UA6\",Dati!D752,)","v":0},{"$f":"IF(Dati!E752=\"UB1\",Dati!D752,)","v":0},{"$f":"IF(Dati!E752=\"UB2\",Dati!D752,)","v":0},{"$f":"IF(Dati!E752=\"UC1\",Dati!D752,)","v":0},{"$f":"IF(Dati!E752=\"UD1\",Dati!D752,)","v":0},{"$f":"IF(Dati!E752=\"UE1\",Dati!D752,)","v":0}]
[{"$f":"Dati!C753","v":"00:00:00"},{"$f":"Dati!H753","v":"00:00:00"},{"$f":"IF(Dati!E753=\"UA1\",Dati!D753,)","v":0},{"$f":"IF(Dati!E753=\"UA2\",Dati!D753,)","v":0},{"$f":"IF(Dati!E753=\"UA3\",Dati!D753,)","v":0},{"$f":"IF(Dati!E753=\"UA4\",Dati!D753,)","v":0},{"$f":"IF(Dati!E753=\"UA5\",Dati!D753,)","v":0},{"$f":"IF(Dati!E753=\"UA6\",Dati!D753,)","v":0},{"$f":"IF(Dati!E753=\"UB1\",Dati!D753,)","v":0},{"$f":"IF(Dati!E753=\"UB2\",Dati!D753,)","v":0},{"$f":"IF(Dati!E753=\"UC1\",Dati!D753,)","v":0},{"$f":"IF(Dati!E753=\"UD1\",Dati!D753,)","v":0},{"$f":"IF(Dati!E753=\"UE1\",Dati!D753,)","v":0}]
[{"$f":"Dati!C754","v":"00:00:00"},{"$f":"Dati!H754","v":"00:00:00"},{"$f":"IF(Dati!E754=\"UA1\",Dati!D754,)","v":0},{"$f":"IF(Dati!E754=\"UA2\",Dati!D754,)","v":0},{"$f":"IF(Dati!E754=\"UA3\",Dati!D754,)","v":0},{"$f":"IF(Dati!E754=\"UA4\",Dati!D754,)","v":0},{"$f":"IF(Dati!E754=\"UA5\",Dati!D754,)","v":0},{"$f":"IF(Dati!E754=\"UA6\",Dati!D754,)","v":0},{"$f":"IF(Dati!E754=\"UB1\",Dati!D754,)","v":0},{"$f":"IF(Dati!E754=\"UB2\",Dati!D754,)","v":0},{"$f":"IF(Dati!E754=\"UC1\",Dati!D754,)","v":0},{"$f":"IF(Dati!E754=\"UD1\",Dati!D754,)","v":0},{"$f":"IF(Dati!E754=\"UE1\",Dati!D754,)","v":0}]
[{"$f":"Dati!C755","v":"00:00:00"},{"$f":"Dati!H755","v":"00:00:00"},{"$f":"IF(Dati!E755=\"UA1\",Dati!D755,)","v":0},{"$f":"IF(Dati!E755=\"UA2\",Dati!D755,)","v":0},{"$f":"IF(Dati!E755=\"UA3\",Dati!D755,)","v":0},{"$f":"IF(Dati!E755=\"UA4\",Dati!D755,)","v":0},{"$f":"IF(Dati!E755=\"UA5\",Dati!D755,)","v":0},{"$f":"IF(Dati!E755=\"UA6\",Dati!D755,)","v":0},{"$f":"IF(Dati!E755=\"UB1\",Dati!D755,)","v":0},{"$f":"IF(Dati!E755=\"UB2\",Dati!D755,)","v":0},{"$f":"IF(Dati!E755=\"UC1\",Dati!D755,)","v":0},{"$f":"IF(Dati!E755=\"UD1\",Dati!D755,)","v":0},{"$f":"IF(Dati!E755=\"UE1\",Dati!D755,)","v":0}]
[{"$f":"Dati!C756","v":"00:00:00"},{"$f":"Dati!H756","v":"00:00:00"},{"$f":"IF(Dati!E756=\"UA1\",Dati!D756,)","v":0},{"$f":"IF(Dati!E756=\"UA2\",Dati!D756,)","v":0},{"$f":"IF(Dati!E756=\"UA3\",Dati!D756,)","v":0},{"$f":"IF(Dati!E756=\"UA4\",Dati!D756,)","v":0},{"$f":"IF(Dati!E756=\"UA5\",Dati!D756,)","v":0},{"$f":"IF(Dati!E756=\"UA6\",Dati!D756,)","v":0},{"$f":"IF(Dati!E756=\"UB1\",Dati!D756,)","v":0},{"$f":"IF(Dati!E756=\"UB2\",Dati!D756,)","v":0},{"$f":"IF(Dati!E756=\"UC1\",Dati!D756,)","v":0},{"$f":"IF(Dati!E756=\"UD1\",Dati!D756,)","v":0},{"$f":"IF(Dati!E756=\"UE1\",Dati!D756,)","v":0}]
[{"$f":"Dati!C757","v":"00:00:00"},{"$f":"Dati!H757","v":"00:00:00"},{"$f":"IF(Dati!E757=\"UA1\",Dati!D757,)","v":0},{"$f":"IF(Dati!E757=\"UA2\",Dati!D757,)","v":0},{"$f":"IF(Dati!E757=\"UA3\",Dati!D757,)","v":0},{"$f":"IF(Dati!E757=\"UA4\",Dati!D757,)","v":0},{"$f":"IF(Dati!E757=\"UA5\",Dati!D757,)","v":0},{"$f":"IF(Dati!E757=\"UA6\",Dati!D757,)","v":0},{"$f":"IF(Dati!E757=\"UB1\",Dati!D757,)","v":0},{"$f":"IF(Dati!E757=\"UB2\",Dati!D757,)","v":0},{"$f":"IF(Dati!E757=\"UC1\",Dati!D757,)","v":0},{"$f":"IF(Dati!E757=\"UD1\",Dati!D757,)","v":0},{"$f":"IF(Dati!E757=\"UE1\",Dati!D757,)","v":0}]
[{"$f":"Dati!C758","v":"00:00:00"},{"$f":"Dati!H758","v":"00:00:00"},{"$f":"IF(Dati!E758=\"UA1\",Dati!D758,)","v":0},{"$f":"IF(Dati!E758=\"UA2\",Dati!D758,)","v":0},{"$f":"IF(Dati!E758=\"UA3\",Dati!D758,)","v":0},{"$f":"IF(Dati!E758=\"UA4\",Dati!D758,)","v":0},{"$f":"IF(Dati!E758=\"UA5\",Dati!D758,)","v":0},{"$f":"IF(Dati!E758=\"UA6\",Dati!D758,)","v":0},{"$f":"IF(Dati!E758=\"UB1\",Dati!D758,)","v":0},{"$f":"IF(Dati!E758=\"UB2\",Dati!D758,)","v":0},{"$f":"IF(Dati!E758=\"UC1\",Dati!D758,)","v":0},{"$f":"IF(Dati!E758=\"UD1\",Dati!D758,)","v":0},{"$f":"IF(Dati!E758=\"UE1\",Dati!D758,)","v":0}]
[{"$f":"Dati!C759","v":"00:00:00"},{"$f":"Dati!H759","v":"00:00:00"},{"$f":"IF(Dati!E759=\"UA1\",Dati!D759,)","v":0},{"$f":"IF(Dati!E759=\"UA2\",Dati!D759,)","v":0},{"$f":"IF(Dati!E759=\"UA3\",Dati!D759,)","v":0},{"$f":"IF(Dati!E759=\"UA4\",Dati!D759,)","v":0},{"$f":"IF(Dati!E759=\"UA5\",Dati!D759,)","v":0},{"$f":"IF(Dati!E759=\"UA6\",Dati!D759,)","v":0},{"$f":"IF(Dati!E759=\"UB1\",Dati!D759,)","v":0},{"$f":"IF(Dati!E759=\"UB2\",Dati!D759,)","v":0},{"$f":"IF(Dati!E759=\"UC1\",Dati!D759,)","v":0},{"$f":"IF(Dati!E759=\"UD1\",Dati!D759,)","v":0},{"$f":"IF(Dati!E759=\"UE1\",Dati!D759,)","v":0}]
[{"$f":"Dati!C760","v":"00:00:00"},{"$f":"Dati!H760","v":"00:00:00"},{"$f":"IF(Dati!E760=\"UA1\",Dati!D760,)","v":0},{"$f":"IF(Dati!E760=\"UA2\",Dati!D760,)","v":0},{"$f":"IF(Dati!E760=\"UA3\",Dati!D760,)","v":0},{"$f":"IF(Dati!E760=\"UA4\",Dati!D760,)","v":0},{"$f":"IF(Dati!E760=\"UA5\",Dati!D760,)","v":0},{"$f":"IF(Dati!E760=\"UA6\",Dati!D760,)","v":0},{"$f":"IF(Dati!E760=\"UB1\",Dati!D760,)","v":0},{"$f":"IF(Dati!E760=\"UB2\",Dati!D760,)","v":0},{"$f":"IF(Dati!E760=\"UC1\",Dati!D760,)","v":0},{"$f":"IF(Dati!E760=\"UD1\",Dati!D760,)","v":0},{"$f":"IF(Dati!E760=\"UE1\",Dati!D760,)","v":0}]
[{"$f":"Dati!C761","v":"00:00:00"},{"$f":"Dati!H761","v":"00:00:00"},{"$f":"IF(Dati!E761=\"UA1\",Dati!D761,)","v":0},{"$f":"IF(Dati!E761=\"UA2\",Dati!D761,)","v":0},{"$f":"IF(Dati!E761=\"UA3\",Dati!D761,)","v":0},{"$f":"IF(Dati!E761=\"UA4\",Dati!D761,)","v":0},{"$f":"IF(Dati!E761=\"UA5\",Dati!D761,)","v":0},{"$f":"IF(Dati!E761=\"UA6\",Dati!D761,)","v":0},{"$f":"IF(Dati!E761=\"UB1\",Dati!D761,)","v":0},{"$f":"IF(Dati!E761=\"UB2\",Dati!D761,)","v":0},{"$f":"IF(Dati!E761=\"UC1\",Dati!D761,)","v":0},{"$f":"IF(Dati!E761=\"UD1\",Dati!D761,)","v":0},{"$f":"IF(Dati!E761=\"UE1\",Dati!D761,)","v":0}]
[{"$f":"Dati!C762","v":"00:00:00"},{"$f":"Dati!H762","v":"00:00:00"},{"$f":"IF(Dati!E762=\"UA1\",Dati!D762,)","v":0},{"$f":"IF(Dati!E762=\"UA2\",Dati!D762,)","v":0},{"$f":"IF(Dati!E762=\"UA3\",Dati!D762,)","v":0},{"$f":"IF(Dati!E762=\"UA4\",Dati!D762,)","v":0},{"$f":"IF(Dati!E762=\"UA5\",Dati!D762,)","v":0},{"$f":"IF(Dati!E762=\"UA6\",Dati!D762,)","v":0},{"$f":"IF(Dati!E762=\"UB1\",Dati!D762,)","v":0},{"$f":"IF(Dati!E762=\"UB2\",Dati!D762,)","v":0},{"$f":"IF(Dati!E762=\"UC1\",Dati!D762,)","v":0},{"$f":"IF(Dati!E762=\"UD1\",Dati!D762,)","v":0},{"$f":"IF(Dati!E762=\"UE1\",Dati!D762,)","v":0}]
[{"$f":"Dati!C763","v":"00:00:00"},{"$f":"Dati!H763","v":"00:00:00"},{"$f":"IF(Dati!E763=\"UA1\",Dati!D763,)","v":0},{"$f":"IF(Dati!E763=\"UA2\",Dati!D763,)","v":0},{"$f":"IF(Dati!E763=\"UA3\",Dati!D763,)","v":0},{"$f":"IF(Dati!E763=\"UA4\",Dati!D763,)","v":0},{"$f":"IF(Dati!E763=\"UA5\",Dati!D763,)","v":0},{"$f":"IF(Dati!E763=\"UA6\",Dati!D763,)","v":0},{"$f":"IF(Dati!E763=\"UB1\",Dati!D763,)","v":0},{"$f":"IF(Dati!E763=\"UB2\",Dati!D763,)","v":0},{"$f":"IF(Dati!E763=\"UC1\",Dati!D763,)","v":0},{"$f":"IF(Dati!E763=\"UD1\",Dati!D763,)","v":0},{"$f":"IF(Dati!E763=\"UE1\",Dati!D763,)","v":0}]
[{"$f":"Dati!C764","v":"00:00:00"},{"$f":"Dati!H764","v":"00:00:00"},{"$f":"IF(Dati!E764=\"UA1\",Dati!D764,)","v":0},{"$f":"IF(Dati!E764=\"UA2\",Dati!D764,)","v":0},{"$f":"IF(Dati!E764=\"UA3\",Dati!D764,)","v":0},{"$f":"IF(Dati!E764=\"UA4\",Dati!D764,)","v":0},{"$f":"IF(Dati!E764=\"UA5\",Dati!D764,)","v":0},{"$f":"IF(Dati!E764=\"UA6\",Dati!D764,)","v":0},{"$f":"IF(Dati!E764=\"UB1\",Dati!D764,)","v":0},{"$f":"IF(Dati!E764=\"UB2\",Dati!D764,)","v":0},{"$f":"IF(Dati!E764=\"UC1\",Dati!D764,)","v":0},{"$f":"IF(Dati!E764=\"UD1\",Dati!D764,)","v":0},{"$f":"IF(Dati!E764=\"UE1\",Dati!D764,)","v":0}]
[{"$f":"Dati!C765","v":"00:00:00"},{"$f":"Dati!H765","v":"00:00:00"},{"$f":"IF(Dati!E765=\"UA1\",Dati!D765,)","v":0},{"$f":"IF(Dati!E765=\"UA2\",Dati!D765,)","v":0},{"$f":"IF(Dati!E765=\"UA3\",Dati!D765,)","v":0},{"$f":"IF(Dati!E765=\"UA4\",Dati!D765,)","v":0},{"$f":"IF(Dati!E765=\"UA5\",Dati!D765,)","v":0},{"$f":"IF(Dati!E765=\"UA6\",Dati!D765,)","v":0},{"$f":"IF(Dati!E765=\"UB1\",Dati!D765,)","v":0},{"$f":"IF(Dati!E765=\"UB2\",Dati!D765,)","v":0},{"$f":"IF(Dati!E765=\"UC1\",Dati!D765,)","v":0},{"$f":"IF(Dati!E765=\"UD1\",Dati!D765,)","v":0},{"$f":"IF(Dati!E765=\"UE1\",Dati!D765,)","v":0}]
[{"$f":"Dati!C766","v":"00:00:00"},{"$f":"Dati!H766","v":"00:00:00"},{"$f":"IF(Dati!E766=\"UA1\",Dati!D766,)","v":0},{"$f":"IF(Dati!E766=\"UA2\",Dati!D766,)","v":0},{"$f":"IF(Dati!E766=\"UA3\",Dati!D766,)","v":0},{"$f":"IF(Dati!E766=\"UA4\",Dati!D766,)","v":0},{"$f":"IF(Dati!E766=\"UA5\",Dati!D766,)","v":0},{"$f":"IF(Dati!E766=\"UA6\",Dati!D766,)","v":0},{"$f":"IF(Dati!E766=\"UB1\",Dati!D766,)","v":0},{"$f":"IF(Dati!E766=\"UB2\",Dati!D766,)","v":0},{"$f":"IF(Dati!E766=\"UC1\",Dati!D766,)","v":0},{"$f":"IF(Dati!E766=\"UD1\",Dati!D766,)","v":0},{"$f":"IF(Dati!E766=\"UE1\",Dati!D766,)","v":0}]
[{"$f":"Dati!C767","v":"00:00:00"},{"$f":"Dati!H767","v":"00:00:00"},{"$f":"IF(Dati!E767=\"UA1\",Dati!D767,)","v":0},{"$f":"IF(Dati!E767=\"UA2\",Dati!D767,)","v":0},{"$f":"IF(Dati!E767=\"UA3\",Dati!D767,)","v":0},{"$f":"IF(Dati!E767=\"UA4\",Dati!D767,)","v":0},{"$f":"IF(Dati!E767=\"UA5\",Dati!D767,)","v":0},{"$f":"IF(Dati!E767=\"UA6\",Dati!D767,)","v":0},{"$f":"IF(Dati!E767=\"UB1\",Dati!D767,)","v":0},{"$f":"IF(Dati!E767=\"UB2\",Dati!D767,)","v":0},{"$f":"IF(Dati!E767=\"UC1\",Dati!D767,)","v":0},{"$f":"IF(Dati!E767=\"UD1\",Dati!D767,)","v":0},{"$f":"IF(Dati!E767=\"UE1\",Dati!D767,)","v":0}]
[{"$f":"Dati!C768","v":"00:00:00"},{"$f":"Dati!H768","v":"00:00:00"},{"$f":"IF(Dati!E768=\"UA1\",Dati!D768,)","v":0},{"$f":"IF(Dati!E768=\"UA2\",Dati!D768,)","v":0},{"$f":"IF(Dati!E768=\"UA3\",Dati!D768,)","v":0},{"$f":"IF(Dati!E768=\"UA4\",Dati!D768,)","v":0},{"$f":"IF(Dati!E768=\"UA5\",Dati!D768,)","v":0},{"$f":"IF(Dati!E768=\"UA6\",Dati!D768,)","v":0},{"$f":"IF(Dati!E768=\"UB1\",Dati!D768,)","v":0},{"$f":"IF(Dati!E768=\"UB2\",Dati!D768,)","v":0},{"$f":"IF(Dati!E768=\"UC1\",Dati!D768,)","v":0},{"$f":"IF(Dati!E768=\"UD1\",Dati!D768,)","v":0},{"$f":"IF(Dati!E768=\"UE1\",Dati!D768,)","v":0}]
[{"$f":"Dati!C769","v":"00:00:00"},{"$f":"Dati!H769","v":"00:00:00"},{"$f":"IF(Dati!E769=\"UA1\",Dati!D769,)","v":0},{"$f":"IF(Dati!E769=\"UA2\",Dati!D769,)","v":0},{"$f":"IF(Dati!E769=\"UA3\",Dati!D769,)","v":0},{"$f":"IF(Dati!E769=\"UA4\",Dati!D769,)","v":0},{"$f":"IF(Dati!E769=\"UA5\",Dati!D769,)","v":0},{"$f":"IF(Dati!E769=\"UA6\",Dati!D769,)","v":0},{"$f":"IF(Dati!E769=\"UB1\",Dati!D769,)","v":0},{"$f":"IF(Dati!E769=\"UB2\",Dati!D769,)","v":0},{"$f":"IF(Dati!E769=\"UC1\",Dati!D769,)","v":0},{"$f":"IF(Dati!E769=\"UD1\",Dati!D769,)","v":0},{"$f":"IF(Dati!E769=\"UE1\",Dati!D769,)","v":0}]
[{"$f":"Dati!C770","v":"00:00:00"},{"$f":"Dati!H770","v":"00:00:00"},{"$f":"IF(Dati!E770=\"UA1\",Dati!D770,)","v":0},{"$f":"IF(Dati!E770=\"UA2\",Dati!D770,)","v":0},{"$f":"IF(Dati!E770=\"UA3\",Dati!D770,)","v":0},{"$f":"IF(Dati!E770=\"UA4\",Dati!D770,)","v":0},{"$f":"IF(Dati!E770=\"UA5\",Dati!D770,)","v":0},{"$f":"IF(Dati!E770=\"UA6\",Dati!D770,)","v":0},{"$f":"IF(Dati!E770=\"UB1\",Dati!D770,)","v":0},{"$f":"IF(Dati!E770=\"UB2\",Dati!D770,)","v":0},{"$f":"IF(Dati!E770=\"UC1\",Dati!D770,)","v":0},{"$f":"IF(Dati!E770=\"UD1\",Dati!D770,)","v":0},{"$f":"IF(Dati!E770=\"UE1\",Dati!D770,)","v":0}]
[{"$f":"Dati!C771","v":"00:00:00"},{"$f":"Dati!H771","v":"00:00:00"},{"$f":"IF(Dati!E771=\"UA1\",Dati!D771,)","v":0},{"$f":"IF(Dati!E771=\"UA2\",Dati!D771,)","v":0},{"$f":"IF(Dati!E771=\"UA3\",Dati!D771,)","v":0},{"$f":"IF(Dati!E771=\"UA4\",Dati!D771,)","v":0},{"$f":"IF(Dati!E771=\"UA5\",Dati!D771,)","v":0},{"$f":"IF(Dati!E771=\"UA6\",Dati!D771,)","v":0},{"$f":"IF(Dati!E771=\"UB1\",Dati!D771,)","v":0},{"$f":"IF(Dati!E771=\"UB2\",Dati!D771,)","v":0},{"$f":"IF(Dati!E771=\"UC1\",Dati!D771,)","v":0},{"$f":"IF(Dati!E771=\"UD1\",Dati!D771,)","v":0},{"$f":"IF(Dati!E771=\"UE1\",Dati!D771,)","v":0}]
[{"$f":"Dati!C772","v":"00:00:00"},{"$f":"Dati!H772","v":"00:00:00"},{"$f":"IF(Dati!E772=\"UA1\",Dati!D772,)","v":0},{"$f":"IF(Dati!E772=\"UA2\",Dati!D772,)","v":0},{"$f":"IF(Dati!E772=\"UA3\",Dati!D772,)","v":0},{"$f":"IF(Dati!E772=\"UA4\",Dati!D772,)","v":0},{"$f":"IF(Dati!E772=\"UA5\",Dati!D772,)","v":0},{"$f":"IF(Dati!E772=\"UA6\",Dati!D772,)","v":0},{"$f":"IF(Dati!E772=\"UB1\",Dati!D772,)","v":0},{"$f":"IF(Dati!E772=\"UB2\",Dati!D772,)","v":0},{"$f":"IF(Dati!E772=\"UC1\",Dati!D772,)","v":0},{"$f":"IF(Dati!E772=\"UD1\",Dati!D772,)","v":0},{"$f":"IF(Dati!E772=\"UE1\",Dati!D772,)","v":0}]
[{"$f":"Dati!C773","v":"00:00:00"},{"$f":"Dati!H773","v":"00:00:00"},{"$f":"IF(Dati!E773=\"UA1\",Dati!D773,)","v":0},{"$f":"IF(Dati!E773=\"UA2\",Dati!D773,)","v":0},{"$f":"IF(Dati!E773=\"UA3\",Dati!D773,)","v":0},{"$f":"IF(Dati!E773=\"UA4\",Dati!D773,)","v":0},{"$f":"IF(Dati!E773=\"UA5\",Dati!D773,)","v":0},{"$f":"IF(Dati!E773=\"UA6\",Dati!D773,)","v":0},{"$f":"IF(Dati!E773=\"UB1\",Dati!D773,)","v":0},{"$f":"IF(Dati!E773=\"UB2\",Dati!D773,)","v":0},{"$f":"IF(Dati!E773=\"UC1\",Dati!D773,)","v":0},{"$f":"IF(Dati!E773=\"UD1\",Dati!D773,)","v":0},{"$f":"IF(Dati!E773=\"UE1\",Dati!D773,)","v":0}]
[{"$f":"Dati!C774","v":"00:00:00"},{"$f":"Dati!H774","v":"00:00:00"},{"$f":"IF(Dati!E774=\"UA1\",Dati!D774,)","v":0},{"$f":"IF(Dati!E774=\"UA2\",Dati!D774,)","v":0},{"$f":"IF(Dati!E774=\"UA3\",Dati!D774,)","v":0},{"$f":"IF(Dati!E774=\"UA4\",Dati!D774,)","v":0},{"$f":"IF(Dati!E774=\"UA5\",Dati!D774,)","v":0},{"$f":"IF(Dati!E774=\"UA6\",Dati!D774,)","v":0},{"$f":"IF(Dati!E774=\"UB1\",Dati!D774,)","v":0},{"$f":"IF(Dati!E774=\"UB2\",Dati!D774,)","v":0},{"$f":"IF(Dati!E774=\"UC1\",Dati!D774,)","v":0},{"$f":"IF(Dati!E774=\"UD1\",Dati!D774,)","v":0},{"$f":"IF(Dati!E774=\"UE1\",Dati!D774,)","v":0}]
[{"$f":"Dati!C775","v":"00:00:00"},{"$f":"Dati!H775","v":"00:00:00"},{"$f":"IF(Dati!E775=\"UA1\",Dati!D775,)","v":0},{"$f":"IF(Dati!E775=\"UA2\",Dati!D775,)","v":0},{"$f":"IF(Dati!E775=\"UA3\",Dati!D775,)","v":0},{"$f":"IF(Dati!E775=\"UA4\",Dati!D775,)","v":0},{"$f":"IF(Dati!E775=\"UA5\",Dati!D775,)","v":0},{"$f":"IF(Dati!E775=\"UA6\",Dati!D775,)","v":0},{"$f":"IF(Dati!E775=\"UB1\",Dati!D775,)","v":0},{"$f":"IF(Dati!E775=\"UB2\",Dati!D775,)","v":0},{"$f":"IF(Dati!E775=\"UC1\",Dati!D775,)","v":0},{"$f":"IF(Dati!E775=\"UD1\",Dati!D775,)","v":0},{"$f":"IF(Dati!E775=\"UE1\",Dati!D775,)","v":0}]
[{"$f":"Dati!C776","v":"00:00:00"},{"$f":"Dati!H776","v":"00:00:00"},{"$f":"IF(Dati!E776=\"UA1\",Dati!D776,)","v":0},{"$f":"IF(Dati!E776=\"UA2\",Dati!D776,)","v":0},{"$f":"IF(Dati!E776=\"UA3\",Dati!D776,)","v":0},{"$f":"IF(Dati!E776=\"UA4\",Dati!D776,)","v":0},{"$f":"IF(Dati!E776=\"UA5\",Dati!D776,)","v":0},{"$f":"IF(Dati!E776=\"UA6\",Dati!D776,)","v":0},{"$f":"IF(Dati!E776=\"UB1\",Dati!D776,)","v":0},{"$f":"IF(Dati!E776=\"UB2\",Dati!D776,)","v":0},{"$f":"IF(Dati!E776=\"UC1\",Dati!D776,)","v":0},{"$f":"IF(Dati!E776=\"UD1\",Dati!D776,)","v":0},{"$f":"IF(Dati!E776=\"UE1\",Dati!D776,)","v":0}]
[{"$f":"Dati!C777","v":"00:00:00"},{"$f":"Dati!H777","v":"00:00:00"},{"$f":"IF(Dati!E777=\"UA1\",Dati!D777,)","v":0},{"$f":"IF(Dati!E777=\"UA2\",Dati!D777,)","v":0},{"$f":"IF(Dati!E777=\"UA3\",Dati!D777,)","v":0},{"$f":"IF(Dati!E777=\"UA4\",Dati!D777,)","v":0},{"$f":"IF(Dati!E777=\"UA5\",Dati!D777,)","v":0},{"$f":"IF(Dati!E777=\"UA6\",Dati!D777,)","v":0},{"$f":"IF(Dati!E777=\"UB1\",Dati!D777,)","v":0},{"$f":"IF(Dati!E777=\"UB2\",Dati!D777,)","v":0},{"$f":"IF(Dati!E777=\"UC1\",Dati!D777,)","v":0},{"$f":"IF(Dati!E777=\"UD1\",Dati!D777,)","v":0},{"$f":"IF(Dati!E777=\"UE1\",Dati!D777,)","v":0}]
[{"$f":"Dati!C778","v":"00:00:00"},{"$f":"Dati!H778","v":"00:00:00"},{"$f":"IF(Dati!E778=\"UA1\",Dati!D778,)","v":0},{"$f":"IF(Dati!E778=\"UA2\",Dati!D778,)","v":0},{"$f":"IF(Dati!E778=\"UA3\",Dati!D778,)","v":0},{"$f":"IF(Dati!E778=\"UA4\",Dati!D778,)","v":0},{"$f":"IF(Dati!E778=\"UA5\",Dati!D778,)","v":0},{"$f":"IF(Dati!E778=\"UA6\",Dati!D778,)","v":0},{"$f":"IF(Dati!E778=\"UB1\",Dati!D778,)","v":0},{"$f":"IF(Dati!E778=\"UB2\",Dati!D778,)","v":0},{"$f":"IF(Dati!E778=\"UC1\",Dati!D778,)","v":0},{"$f":"IF(Dati!E778=\"UD1\",Dati!D778,)","v":0},{"$f":"IF(Dati!E778=\"UE1\",Dati!D778,)","v":0}]
[{"$f":"Dati!C779","v":"00:00:00"},{"$f":"Dati!H779","v":"00:00:00"},{"$f":"IF(Dati!E779=\"UA1\",Dati!D779,)","v":0},{"$f":"IF(Dati!E779=\"UA2\",Dati!D779,)","v":0},{"$f":"IF(Dati!E779=\"UA3\",Dati!D779,)","v":0},{"$f":"IF(Dati!E779=\"UA4\",Dati!D779,)","v":0},{"$f":"IF(Dati!E779=\"UA5\",Dati!D779,)","v":0},{"$f":"IF(Dati!E779=\"UA6\",Dati!D779,)","v":0},{"$f":"IF(Dati!E779=\"UB1\",Dati!D779,)","v":0},{"$f":"IF(Dati!E779=\"UB2\",Dati!D779,)","v":0},{"$f":"IF(Dati!E779=\"UC1\",Dati!D779,)","v":0},{"$f":"IF(Dati!E779=\"UD1\",Dati!D779,)","v":0},{"$f":"IF(Dati!E779=\"UE1\",Dati!D779,)","v":0}]
[{"$f":"Dati!C780","v":"00:00:00"},{"$f":"Dati!H780","v":"00:00:00"},{"$f":"IF(Dati!E780=\"UA1\",Dati!D780,)","v":0},{"$f":"IF(Dati!E780=\"UA2\",Dati!D780,)","v":0},{"$f":"IF(Dati!E780=\"UA3\",Dati!D780,)","v":0},{"$f":"IF(Dati!E780=\"UA4\",Dati!D780,)","v":0},{"$f":"IF(Dati!E780=\"UA5\",Dati!D780,)","v":0},{"$f":"IF(Dati!E780=\"UA6\",Dati!D780,)","v":0},{"$f":"IF(Dati!E780=\"UB1\",Dati!D780,)","v":0},{"$f":"IF(Dati!E780=\"UB2\",Dati!D780,)","v":0},{"$f":"IF(Dati!E780=\"UC1\",Dati!D780,)","v":0},{"$f":"IF(Dati!E780=\"UD1\",Dati!D780,)","v":0},{"$f":"IF(Dati!E780=\"UE1\",Dati!D780,)","v":0}]
[{"$f":"Dati!C781","v":"00:00:00"},{"$f":"Dati!H781","v":"00:00:00"},{"$f":"IF(Dati!E781=\"UA1\",Dati!D781,)","v":0},{"$f":"IF(Dati!E781=\"UA2\",Dati!D781,)","v":0},{"$f":"IF(Dati!E781=\"UA3\",Dati!D781,)","v":0},{"$f":"IF(Dati!E781=\"UA4\",Dati!D781,)","v":0},{"$f":"IF(Dati!E781=\"UA5\",Dati!D781,)","v":0},{"$f":"IF(Dati!E781=\"UA6\",Dati!D781,)","v":0},{"$f":"IF(Dati!E781=\"UB1\",Dati!D781,)","v":0},{"$f":"IF(Dati!E781=\"UB2\",Dati!D781,)","v":0},{"$f":"IF(Dati!E781=\"UC1\",Dati!D781,)","v":0},{"$f":"IF(Dati!E781=\"UD1\",Dati!D781,)","v":0},{"$f":"IF(Dati!E781=\"UE1\",Dati!D781,)","v":0}]
[{"$f":"Dati!C782","v":"00:00:00"},{"$f":"Dati!H782","v":"00:00:00"},{"$f":"IF(Dati!E782=\"UA1\",Dati!D782,)","v":0},{"$f":"IF(Dati!E782=\"UA2\",Dati!D782,)","v":0},{"$f":"IF(Dati!E782=\"UA3\",Dati!D782,)","v":0},{"$f":"IF(Dati!E782=\"UA4\",Dati!D782,)","v":0},{"$f":"IF(Dati!E782=\"UA5\",Dati!D782,)","v":0},{"$f":"IF(Dati!E782=\"UA6\",Dati!D782,)","v":0},{"$f":"IF(Dati!E782=\"UB1\",Dati!D782,)","v":0},{"$f":"IF(Dati!E782=\"UB2\",Dati!D782,)","v":0},{"$f":"IF(Dati!E782=\"UC1\",Dati!D782,)","v":0},{"$f":"IF(Dati!E782=\"UD1\",Dati!D782,)","v":0},{"$f":"IF(Dati!E782=\"UE1\",Dati!D782,)","v":0}]
[{"$f":"Dati!C783","v":"00:00:00"},{"$f":"Dati!H783","v":"00:00:00"},{"$f":"IF(Dati!E783=\"UA1\",Dati!D783,)","v":0},{"$f":"IF(Dati!E783=\"UA2\",Dati!D783,)","v":0},{"$f":"IF(Dati!E783=\"UA3\",Dati!D783,)","v":0},{"$f":"IF(Dati!E783=\"UA4\",Dati!D783,)","v":0},{"$f":"IF(Dati!E783=\"UA5\",Dati!D783,)","v":0},{"$f":"IF(Dati!E783=\"UA6\",Dati!D783,)","v":0},{"$f":"IF(Dati!E783=\"UB1\",Dati!D783,)","v":0},{"$f":"IF(Dati!E783=\"UB2\",Dati!D783,)","v":0},{"$f":"IF(Dati!E783=\"UC1\",Dati!D783,)","v":0},{"$f":"IF(Dati!E783=\"UD1\",Dati!D783,)","v":0},{"$f":"IF(Dati!E783=\"UE1\",Dati!D783,)","v":0}]
[{"$f":"Dati!C784","v":"00:00:00"},{"$f":"Dati!H784","v":"00:00:00"},{"$f":"IF(Dati!E784=\"UA1\",Dati!D784,)","v":0},{"$f":"IF(Dati!E784=\"UA2\",Dati!D784,)","v":0},{"$f":"IF(Dati!E784=\"UA3\",Dati!D784,)","v":0},{"$f":"IF(Dati!E784=\"UA4\",Dati!D784,)","v":0},{"$f":"IF(Dati!E784=\"UA5\",Dati!D784,)","v":0},{"$f":"IF(Dati!E784=\"UA6\",Dati!D784,)","v":0},{"$f":"IF(Dati!E784=\"UB1\",Dati!D784,)","v":0},{"$f":"IF(Dati!E784=\"UB2\",Dati!D784,)","v":0},{"$f":"IF(Dati!E784=\"UC1\",Dati!D784,)","v":0},{"$f":"IF(Dati!E784=\"UD1\",Dati!D784,)","v":0},{"$f":"IF(Dati!E784=\"UE1\",Dati!D784,)","v":0}]
[{"$f":"Dati!C785","v":"00:00:00"},{"$f":"Dati!H785","v":"00:00:00"},{"$f":"IF(Dati!E785=\"UA1\",Dati!D785,)","v":0},{"$f":"IF(Dati!E785=\"UA2\",Dati!D785,)","v":0},{"$f":"IF(Dati!E785=\"UA3\",Dati!D785,)","v":0},{"$f":"IF(Dati!E785=\"UA4\",Dati!D785,)","v":0},{"$f":"IF(Dati!E785=\"UA5\",Dati!D785,)","v":0},{"$f":"IF(Dati!E785=\"UA6\",Dati!D785,)","v":0},{"$f":"IF(Dati!E785=\"UB1\",Dati!D785,)","v":0},{"$f":"IF(Dati!E785=\"UB2\",Dati!D785,)","v":0},{"$f":"IF(Dati!E785=\"UC1\",Dati!D785,)","v":0},{"$f":"IF(Dati!E785=\"UD1\",Dati!D785,)","v":0},{"$f":"IF(Dati!E785=\"UE1\",Dati!D785,)","v":0}]
[{"$f":"Dati!C786","v":"00:00:00"},{"$f":"Dati!H786","v":"00:00:00"},{"$f":"IF(Dati!E786=\"UA1\",Dati!D786,)","v":0},{"$f":"IF(Dati!E786=\"UA2\",Dati!D786,)","v":0},{"$f":"IF(Dati!E786=\"UA3\",Dati!D786,)","v":0},{"$f":"IF(Dati!E786=\"UA4\",Dati!D786,)","v":0},{"$f":"IF(Dati!E786=\"UA5\",Dati!D786,)","v":0},{"$f":"IF(Dati!E786=\"UA6\",Dati!D786,)","v":0},{"$f":"IF(Dati!E786=\"UB1\",Dati!D786,)","v":0},{"$f":"IF(Dati!E786=\"UB2\",Dati!D786,)","v":0},{"$f":"IF(Dati!E786=\"UC1\",Dati!D786,)","v":0},{"$f":"IF(Dati!E786=\"UD1\",Dati!D786,)","v":0},{"$f":"IF(Dati!E786=\"UE1\",Dati!D786,)","v":0}]
[{"$f":"Dati!C787","v":"00:00:00"},{"$f":"Dati!H787","v":"00:00:00"},{"$f":"IF(Dati!E787=\"UA1\",Dati!D787,)","v":0},{"$f":"IF(Dati!E787=\"UA2\",Dati!D787,)","v":0},{"$f":"IF(Dati!E787=\"UA3\",Dati!D787,)","v":0},{"$f":"IF(Dati!E787=\"UA4\",Dati!D787,)","v":0},{"$f":"IF(Dati!E787=\"UA5\",Dati!D787,)","v":0},{"$f":"IF(Dati!E787=\"UA6\",Dati!D787,)","v":0},{"$f":"IF(Dati!E787=\"UB1\",Dati!D787,)","v":0},{"$f":"IF(Dati!E787=\"UB2\",Dati!D787,)","v":0},{"$f":"IF(Dati!E787=\"UC1\",Dati!D787,)","v":0},{"$f":"IF(Dati!E787=\"UD1\",Dati!D787,)","v":0},{"$f":"IF(Dati!E787=\"UE1\",Dati!D787,)","v":0}]
[{"$f":"Dati!C788","v":"00:00:00"},{"$f":"Dati!H788","v":"00:00:00"},{"$f":"IF(Dati!E788=\"UA1\",Dati!D788,)","v":0},{"$f":"IF(Dati!E788=\"UA2\",Dati!D788,)","v":0},{"$f":"IF(Dati!E788=\"UA3\",Dati!D788,)","v":0},{"$f":"IF(Dati!E788=\"UA4\",Dati!D788,)","v":0},{"$f":"IF(Dati!E788=\"UA5\",Dati!D788,)","v":0},{"$f":"IF(Dati!E788=\"UA6\",Dati!D788,)","v":0},{"$f":"IF(Dati!E788=\"UB1\",Dati!D788,)","v":0},{"$f":"IF(Dati!E788=\"UB2\",Dati!D788,)","v":0},{"$f":"IF(Dati!E788=\"UC1\",Dati!D788,)","v":0},{"$f":"IF(Dati!E788=\"UD1\",Dati!D788,)","v":0},{"$f":"IF(Dati!E788=\"UE1\",Dati!D788,)","v":0}]
[{"$f":"Dati!C789","v":"00:00:00"},{"$f":"Dati!H789","v":"00:00:00"},{"$f":"IF(Dati!E789=\"UA1\",Dati!D789,)","v":0},{"$f":"IF(Dati!E789=\"UA2\",Dati!D789,)","v":0},{"$f":"IF(Dati!E789=\"UA3\",Dati!D789,)","v":0},{"$f":"IF(Dati!E789=\"UA4\",Dati!D789,)","v":0},{"$f":"IF(Dati!E789=\"UA5\",Dati!D789,)","v":0},{"$f":"IF(Dati!E789=\"UA6\",Dati!D789,)","v":0},{"$f":"IF(Dati!E789=\"UB1\",Dati!D789,)","v":0},{"$f":"IF(Dati!E789=\"UB2\",Dati!D789,)","v":0},{"$f":"IF(Dati!E789=\"UC1\",Dati!D789,)","v":0},{"$f":"IF(Dati!E789=\"UD1\",Dati!D789,)","v":0},{"$f":"IF(Dati!E789=\"UE1\",Dati!D789,)","v":0}]
[{"$f":"Dati!C790","v":"00:00:00"},{"$f":"Dati!H790","v":"00:00:00"},{"$f":"IF(Dati!E790=\"UA1\",Dati!D790,)","v":0},{"$f":"IF(Dati!E790=\"UA2\",Dati!D790,)","v":0},{"$f":"IF(Dati!E790=\"UA3\",Dati!D790,)","v":0},{"$f":"IF(Dati!E790=\"UA4\",Dati!D790,)","v":0},{"$f":"IF(Dati!E790=\"UA5\",Dati!D790,)","v":0},{"$f":"IF(Dati!E790=\"UA6\",Dati!D790,)","v":0},{"$f":"IF(Dati!E790=\"UB1\",Dati!D790,)","v":0},{"$f":"IF(Dati!E790=\"UB2\",Dati!D790,)","v":0},{"$f":"IF(Dati!E790=\"UC1\",Dati!D790,)","v":0},{"$f":"IF(Dati!E790=\"UD1\",Dati!D790,)","v":0},{"$f":"IF(Dati!E790=\"UE1\",Dati!D790,)","v":0}]
[{"$f":"Dati!C791","v":"00:00:00"},{"$f":"Dati!H791","v":"00:00:00"},{"$f":"IF(Dati!E791=\"UA1\",Dati!D791,)","v":0},{"$f":"IF(Dati!E791=\"UA2\",Dati!D791,)","v":0},{"$f":"IF(Dati!E791=\"UA3\",Dati!D791,)","v":0},{"$f":"IF(Dati!E791=\"UA4\",Dati!D791,)","v":0},{"$f":"IF(Dati!E791=\"UA5\",Dati!D791,)","v":0},{"$f":"IF(Dati!E791=\"UA6\",Dati!D791,)","v":0},{"$f":"IF(Dati!E791=\"UB1\",Dati!D791,)","v":0},{"$f":"IF(Dati!E791=\"UB2\",Dati!D791,)","v":0},{"$f":"IF(Dati!E791=\"UC1\",Dati!D791,)","v":0},{"$f":"IF(Dati!E791=\"UD1\",Dati!D791,)","v":0},{"$f":"IF(Dati!E791=\"UE1\",Dati!D791,)","v":0}]
[{"$f":"Dati!C792","v":"00:00:00"},{"$f":"Dati!H792","v":"00:00:00"},{"$f":"IF(Dati!E792=\"UA1\",Dati!D792,)","v":0},{"$f":"IF(Dati!E792=\"UA2\",Dati!D792,)","v":0},{"$f":"IF(Dati!E792=\"UA3\",Dati!D792,)","v":0},{"$f":"IF(Dati!E792=\"UA4\",Dati!D792,)","v":0},{"$f":"IF(Dati!E792=\"UA5\",Dati!D792,)","v":0},{"$f":"IF(Dati!E792=\"UA6\",Dati!D792,)","v":0},{"$f":"IF(Dati!E792=\"UB1\",Dati!D792,)","v":0},{"$f":"IF(Dati!E792=\"UB2\",Dati!D792,)","v":0},{"$f":"IF(Dati!E792=\"UC1\",Dati!D792,)","v":0},{"$f":"IF(Dati!E792=\"UD1\",Dati!D792,)","v":0},{"$f":"IF(Dati!E792=\"UE1\",Dati!D792,)","v":0}]
[{"$f":"Dati!C793","v":"00:00:00"},{"$f":"Dati!H793","v":"00:00:00"},{"$f":"IF(Dati!E793=\"UA1\",Dati!D793,)","v":0},{"$f":"IF(Dati!E793=\"UA2\",Dati!D793,)","v":0},{"$f":"IF(Dati!E793=\"UA3\",Dati!D793,)","v":0},{"$f":"IF(Dati!E793=\"UA4\",Dati!D793,)","v":0},{"$f":"IF(Dati!E793=\"UA5\",Dati!D793,)","v":0},{"$f":"IF(Dati!E793=\"UA6\",Dati!D793,)","v":0},{"$f":"IF(Dati!E793=\"UB1\",Dati!D793,)","v":0},{"$f":"IF(Dati!E793=\"UB2\",Dati!D793,)","v":0},{"$f":"IF(Dati!E793=\"UC1\",Dati!D793,)","v":0},{"$f":"IF(Dati!E793=\"UD1\",Dati!D793,)","v":0},{"$f":"IF(Dati!E793=\"UE1\",Dati!D793,)","v":0}]
[{"$f":"Dati!C794","v":"00:00:00"},{"$f":"Dati!H794","v":"00:00:00"},{"$f":"IF(Dati!E794=\"UA1\",Dati!D794,)","v":0},{"$f":"IF(Dati!E794=\"UA2\",Dati!D794,)","v":0},{"$f":"IF(Dati!E794=\"UA3\",Dati!D794,)","v":0},{"$f":"IF(Dati!E794=\"UA4\",Dati!D794,)","v":0},{"$f":"IF(Dati!E794=\"UA5\",Dati!D794,)","v":0},{"$f":"IF(Dati!E794=\"UA6\",Dati!D794,)","v":0},{"$f":"IF(Dati!E794=\"UB1\",Dati!D794,)","v":0},{"$f":"IF(Dati!E794=\"UB2\",Dati!D794,)","v":0},{"$f":"IF(Dati!E794=\"UC1\",Dati!D794,)","v":0},{"$f":"IF(Dati!E794=\"UD1\",Dati!D794,)","v":0},{"$f":"IF(Dati!E794=\"UE1\",Dati!D794,)","v":0}]
[{"$f":"Dati!C795","v":"00:00:00"},{"$f":"Dati!H795","v":"00:00:00"},{"$f":"IF(Dati!E795=\"UA1\",Dati!D795,)","v":0},{"$f":"IF(Dati!E795=\"UA2\",Dati!D795,)","v":0},{"$f":"IF(Dati!E795=\"UA3\",Dati!D795,)","v":0},{"$f":"IF(Dati!E795=\"UA4\",Dati!D795,)","v":0},{"$f":"IF(Dati!E795=\"UA5\",Dati!D795,)","v":0},{"$f":"IF(Dati!E795=\"UA6\",Dati!D795,)","v":0},{"$f":"IF(Dati!E795=\"UB1\",Dati!D795,)","v":0},{"$f":"IF(Dati!E795=\"UB2\",Dati!D795,)","v":0},{"$f":"IF(Dati!E795=\"UC1\",Dati!D795,)","v":0},{"$f":"IF(Dati!E795=\"UD1\",Dati!D795,)","v":0},{"$f":"IF(Dati!E795=\"UE1\",Dati!D795,)","v":0}]
[{"$f":"Dati!C796","v":"00:00:00"},{"$f":"Dati!H796","v":"00:00:00"},{"$f":"IF(Dati!E796=\"UA1\",Dati!D796,)","v":0},{"$f":"IF(Dati!E796=\"UA2\",Dati!D796,)","v":0},{"$f":"IF(Dati!E796=\"UA3\",Dati!D796,)","v":0},{"$f":"IF(Dati!E796=\"UA4\",Dati!D796,)","v":0},{"$f":"IF(Dati!E796=\"UA5\",Dati!D796,)","v":0},{"$f":"IF(Dati!E796=\"UA6\",Dati!D796,)","v":0},{"$f":"IF(Dati!E796=\"UB1\",Dati!D796,)","v":0},{"$f":"IF(Dati!E796=\"UB2\",Dati!D796,)","v":0},{"$f":"IF(Dati!E796=\"UC1\",Dati!D796,)","v":0},{"$f":"IF(Dati!E796=\"UD1\",Dati!D796,)","v":0},{"$f":"IF(Dati!E796=\"UE1\",Dati!D796,)","v":0}]
[{"$f":"Dati!C797","v":"00:00:00"},{"$f":"Dati!H797","v":"00:00:00"},{"$f":"IF(Dati!E797=\"UA1\",Dati!D797,)","v":0},{"$f":"IF(Dati!E797=\"UA2\",Dati!D797,)","v":0},{"$f":"IF(Dati!E797=\"UA3\",Dati!D797,)","v":0},{"$f":"IF(Dati!E797=\"UA4\",Dati!D797,)","v":0},{"$f":"IF(Dati!E797=\"UA5\",Dati!D797,)","v":0},{"$f":"IF(Dati!E797=\"UA6\",Dati!D797,)","v":0},{"$f":"IF(Dati!E797=\"UB1\",Dati!D797,)","v":0},{"$f":"IF(Dati!E797=\"UB2\",Dati!D797,)","v":0},{"$f":"IF(Dati!E797=\"UC1\",Dati!D797,)","v":0},{"$f":"IF(Dati!E797=\"UD1\",Dati!D797,)","v":0},{"$f":"IF(Dati!E797=\"UE1\",Dati!D797,)","v":0}]
[{"$f":"Dati!C798","v":"00:00:00"},{"$f":"Dati!H798","v":"00:00:00"},{"$f":"IF(Dati!E798=\"UA1\",Dati!D798,)","v":0},{"$f":"IF(Dati!E798=\"UA2\",Dati!D798,)","v":0},{"$f":"IF(Dati!E798=\"UA3\",Dati!D798,)","v":0},{"$f":"IF(Dati!E798=\"UA4\",Dati!D798,)","v":0},{"$f":"IF(Dati!E798=\"UA5\",Dati!D798,)","v":0},{"$f":"IF(Dati!E798=\"UA6\",Dati!D798,)","v":0},{"$f":"IF(Dati!E798=\"UB1\",Dati!D798,)","v":0},{"$f":"IF(Dati!E798=\"UB2\",Dati!D798,)","v":0},{"$f":"IF(Dati!E798=\"UC1\",Dati!D798,)","v":0},{"$f":"IF(Dati!E798=\"UD1\",Dati!D798,)","v":0},{"$f":"IF(Dati!E798=\"UE1\",Dati!D798,)","v":0}]
[{"$f":"Dati!C799","v":"00:00:00"},{"$f":"Dati!H799","v":"00:00:00"},{"$f":"IF(Dati!E799=\"UA1\",Dati!D799,)","v":0},{"$f":"IF(Dati!E799=\"UA2\",Dati!D799,)","v":0},{"$f":"IF(Dati!E799=\"UA3\",Dati!D799,)","v":0},{"$f":"IF(Dati!E799=\"UA4\",Dati!D799,)","v":0},{"$f":"IF(Dati!E799=\"UA5\",Dati!D799,)","v":0},{"$f":"IF(Dati!E799=\"UA6\",Dati!D799,)","v":0},{"$f":"IF(Dati!E799=\"UB1\",Dati!D799,)","v":0},{"$f":"IF(Dati!E799=\"UB2\",Dati!D799,)","v":0},{"$f":"IF(Dati!E799=\"UC1\",Dati!D799,)","v":0},{"$f":"IF(Dati!E799=\"UD1\",Dati!D799,)","v":0},{"$f":"IF(Dati!E799=\"UE1\",Dati!D799,)","v":0}]
[{"$f":"Dati!C800","v":"00:00:00"},{"$f":"Dati!H800","v":"00:00:00"},{"$f":"IF(Dati!E800=\"UA1\",Dati!D800,)","v":0},{"$f":"IF(Dati!E800=\"UA2\",Dati!D800,)","v":0},{"$f":"IF(Dati!E800=\"UA3\",Dati!D800,)","v":0},{"$f":"IF(Dati!E800=\"UA4\",Dati!D800,)","v":0},{"$f":"IF(Dati!E800=\"UA5\",Dati!D800,)","v":0},{"$f":"IF(Dati!E800=\"UA6\",Dati!D800,)","v":0},{"$f":"IF(Dati!E800=\"UB1\",Dati!D800,)","v":0},{"$f":"IF(Dati!E800=\"UB2\",Dati!D800,)","v":0},{"$f":"IF(Dati!E800=\"UC1\",Dati!D800,)","v":0},{"$f":"IF(Dati!E800=\"UD1\",Dati!D800,)","v":0},{"$f":"IF(Dati!E800=\"UE1\",Dati!D800,)","v":0}]
[{"$f":"Dati!C801","v":"00:00:00"},{"$f":"Dati!H801","v":"00:00:00"},{"$f":"IF(Dati!E801=\"UA1\",Dati!D801,)","v":0},{"$f":"IF(Dati!E801=\"UA2\",Dati!D801,)","v":0},{"$f":"IF(Dati!E801=\"UA3\",Dati!D801,)","v":0},{"$f":"IF(Dati!E801=\"UA4\",Dati!D801,)","v":0},{"$f":"IF(Dati!E801=\"UA5\",Dati!D801,)","v":0},{"$f":"IF(Dati!E801=\"UA6\",Dati!D801,)","v":0},{"$f":"IF(Dati!E801=\"UB1\",Dati!D801,)","v":0},{"$f":"IF(Dati!E801=\"UB2\",Dati!D801,)","v":0},{"$f":"IF(Dati!E801=\"UC1\",Dati!D801,)","v":0},{"$f":"IF(Dati!E801=\"UD1\",Dati!D801,)","v":0},{"$f":"IF(Dati!E801=\"UE1\",Dati!D801,)","v":0}]
[{"$f":"Dati!C802","v":"00:00:00"},{"$f":"Dati!H802","v":"00:00:00"},{"$f":"IF(Dati!E802=\"UA1\",Dati!D802,)","v":0},{"$f":"IF(Dati!E802=\"UA2\",Dati!D802,)","v":0},{"$f":"IF(Dati!E802=\"UA3\",Dati!D802,)","v":0},{"$f":"IF(Dati!E802=\"UA4\",Dati!D802,)","v":0},{"$f":"IF(Dati!E802=\"UA5\",Dati!D802,)","v":0},{"$f":"IF(Dati!E802=\"UA6\",Dati!D802,)","v":0},{"$f":"IF(Dati!E802=\"UB1\",Dati!D802,)","v":0},{"$f":"IF(Dati!E802=\"UB2\",Dati!D802,)","v":0},{"$f":"IF(Dati!E802=\"UC1\",Dati!D802,)","v":0},{"$f":"IF(Dati!E802=\"UD1\",Dati!D802,)","v":0},{"$f":"IF(Dati!E802=\"UE1\",Dati!D802,)","v":0}]
[{"$f":"Dati!C803","v":"00:00:00"},{"$f":"Dati!H803","v":"00:00:00"},{"$f":"IF(Dati!E803=\"UA1\",Dati!D803,)","v":0},{"$f":"IF(Dati!E803=\"UA2\",Dati!D803,)","v":0},{"$f":"IF(Dati!E803=\"UA3\",Dati!D803,)","v":0},{"$f":"IF(Dati!E803=\"UA4\",Dati!D803,)","v":0},{"$f":"IF(Dati!E803=\"UA5\",Dati!D803,)","v":0},{"$f":"IF(Dati!E803=\"UA6\",Dati!D803,)","v":0},{"$f":"IF(Dati!E803=\"UB1\",Dati!D803,)","v":0},{"$f":"IF(Dati!E803=\"UB2\",Dati!D803,)","v":0},{"$f":"IF(Dati!E803=\"UC1\",Dati!D803,)","v":0},{"$f":"IF(Dati!E803=\"UD1\",Dati!D803,)","v":0},{"$f":"IF(Dati!E803=\"UE1\",Dati!D803,)","v":0}]
[{"$f":"Dati!C804","v":"00:00:00"},{"$f":"Dati!H804","v":"00:00:00"},{"$f":"IF(Dati!E804=\"UA1\",Dati!D804,)","v":0},{"$f":"IF(Dati!E804=\"UA2\",Dati!D804,)","v":0},{"$f":"IF(Dati!E804=\"UA3\",Dati!D804,)","v":0},{"$f":"IF(Dati!E804=\"UA4\",Dati!D804,)","v":0},{"$f":"IF(Dati!E804=\"UA5\",Dati!D804,)","v":0},{"$f":"IF(Dati!E804=\"UA6\",Dati!D804,)","v":0},{"$f":"IF(Dati!E804=\"UB1\",Dati!D804,)","v":0},{"$f":"IF(Dati!E804=\"UB2\",Dati!D804,)","v":0},{"$f":"IF(Dati!E804=\"UC1\",Dati!D804,)","v":0},{"$f":"IF(Dati!E804=\"UD1\",Dati!D804,)","v":0},{"$f":"IF(Dati!E804=\"UE1\",Dati!D804,)","v":0}]
[{"$f":"Dati!C805","v":"00:00:00"},{"$f":"Dati!H805","v":"00:00:00"},{"$f":"IF(Dati!E805=\"UA1\",Dati!D805,)","v":0},{"$f":"IF(Dati!E805=\"UA2\",Dati!D805,)","v":0},{"$f":"IF(Dati!E805=\"UA3\",Dati!D805,)","v":0},{"$f":"IF(Dati!E805=\"UA4\",Dati!D805,)","v":0},{"$f":"IF(Dati!E805=\"UA5\",Dati!D805,)","v":0},{"$f":"IF(Dati!E805=\"UA6\",Dati!D805,)","v":0},{"$f":"IF(Dati!E805=\"UB1\",Dati!D805,)","v":0},{"$f":"IF(Dati!E805=\"UB2\",Dati!D805,)","v":0},{"$f":"IF(Dati!E805=\"UC1\",Dati!D805,)","v":0},{"$f":"IF(Dati!E805=\"UD1\",Dati!D805,)","v":0},{"$f":"IF(Dati!E805=\"UE1\",Dati!D805,)","v":0}]
[{"$f":"Dati!C806","v":"00:00:00"},{"$f":"Dati!H806","v":"00:00:00"},{"$f":"IF(Dati!E806=\"UA1\",Dati!D806,)","v":0},{"$f":"IF(Dati!E806=\"UA2\",Dati!D806,)","v":0},{"$f":"IF(Dati!E806=\"UA3\",Dati!D806,)","v":0},{"$f":"IF(Dati!E806=\"UA4\",Dati!D806,)","v":0},{"$f":"IF(Dati!E806=\"UA5\",Dati!D806,)","v":0},{"$f":"IF(Dati!E806=\"UA6\",Dati!D806,)","v":0},{"$f":"IF(Dati!E806=\"UB1\",Dati!D806,)","v":0},{"$f":"IF(Dati!E806=\"UB2\",Dati!D806,)","v":0},{"$f":"IF(Dati!E806=\"UC1\",Dati!D806,)","v":0},{"$f":"IF(Dati!E806=\"UD1\",Dati!D806,)","v":0},{"$f":"IF(Dati!E806=\"UE1\",Dati!D806,)","v":0}]
[{"$f":"Dati!C807","v":"00:00:00"},{"$f":"Dati!H807","v":"00:00:00"},{"$f":"IF(Dati!E807=\"UA1\",Dati!D807,)","v":0},{"$f":"IF(Dati!E807=\"UA2\",Dati!D807,)","v":0},{"$f":"IF(Dati!E807=\"UA3\",Dati!D807,)","v":0},{"$f":"IF(Dati!E807=\"UA4\",Dati!D807,)","v":0},{"$f":"IF(Dati!E807=\"UA5\",Dati!D807,)","v":0},{"$f":"IF(Dati!E807=\"UA6\",Dati!D807,)","v":0},{"$f":"IF(Dati!E807=\"UB1\",Dati!D807,)","v":0},{"$f":"IF(Dati!E807=\"UB2\",Dati!D807,)","v":0},{"$f":"IF(Dati!E807=\"UC1\",Dati!D807,)","v":0},{"$f":"IF(Dati!E807=\"UD1\",Dati!D807,)","v":0},{"$f":"IF(Dati!E807=\"UE1\",Dati!D807,)","v":0}]
[{"$f":"Dati!C808","v":"00:00:00"},{"$f":"Dati!H808","v":"00:00:00"},{"$f":"IF(Dati!E808=\"UA1\",Dati!D808,)","v":0},{"$f":"IF(Dati!E808=\"UA2\",Dati!D808,)","v":0},{"$f":"IF(Dati!E808=\"UA3\",Dati!D808,)","v":0},{"$f":"IF(Dati!E808=\"UA4\",Dati!D808,)","v":0},{"$f":"IF(Dati!E808=\"UA5\",Dati!D808,)","v":0},{"$f":"IF(Dati!E808=\"UA6\",Dati!D808,)","v":0},{"$f":"IF(Dati!E808=\"UB1\",Dati!D808,)","v":0},{"$f":"IF(Dati!E808=\"UB2\",Dati!D808,)","v":0},{"$f":"IF(Dati!E808=\"UC1\",Dati!D808,)","v":0},{"$f":"IF(Dati!E808=\"UD1\",Dati!D808,)","v":0},{"$f":"IF(Dati!E808=\"UE1\",Dati!D808,)","v":0}]
[{"$f":"Dati!C809","v":"00:00:00"},{"$f":"Dati!H809","v":"00:00:00"},{"$f":"IF(Dati!E809=\"UA1\",Dati!D809,)","v":0},{"$f":"IF(Dati!E809=\"UA2\",Dati!D809,)","v":0},{"$f":"IF(Dati!E809=\"UA3\",Dati!D809,)","v":0},{"$f":"IF(Dati!E809=\"UA4\",Dati!D809,)","v":0},{"$f":"IF(Dati!E809=\"UA5\",Dati!D809,)","v":0},{"$f":"IF(Dati!E809=\"UA6\",Dati!D809,)","v":0},{"$f":"IF(Dati!E809=\"UB1\",Dati!D809,)","v":0},{"$f":"IF(Dati!E809=\"UB2\",Dati!D809,)","v":0},{"$f":"IF(Dati!E809=\"UC1\",Dati!D809,)","v":0},{"$f":"IF(Dati!E809=\"UD1\",Dati!D809,)","v":0},{"$f":"IF(Dati!E809=\"UE1\",Dati!D809,)","v":0}]
[{"$f":"Dati!C810","v":"00:00:00"},{"$f":"Dati!H810","v":"00:00:00"},{"$f":"IF(Dati!E810=\"UA1\",Dati!D810,)","v":0},{"$f":"IF(Dati!E810=\"UA2\",Dati!D810,)","v":0},{"$f":"IF(Dati!E810=\"UA3\",Dati!D810,)","v":0},{"$f":"IF(Dati!E810=\"UA4\",Dati!D810,)","v":0},{"$f":"IF(Dati!E810=\"UA5\",Dati!D810,)","v":0},{"$f":"IF(Dati!E810=\"UA6\",Dati!D810,)","v":0},{"$f":"IF(Dati!E810=\"UB1\",Dati!D810,)","v":0},{"$f":"IF(Dati!E810=\"UB2\",Dati!D810,)","v":0},{"$f":"IF(Dati!E810=\"UC1\",Dati!D810,)","v":0},{"$f":"IF(Dati!E810=\"UD1\",Dati!D810,)","v":0},{"$f":"IF(Dati!E810=\"UE1\",Dati!D810,)","v":0}]
[{"$f":"Dati!C811","v":"00:00:00"},{"$f":"Dati!H811","v":"00:00:00"},{"$f":"IF(Dati!E811=\"UA1\",Dati!D811,)","v":0},{"$f":"IF(Dati!E811=\"UA2\",Dati!D811,)","v":0},{"$f":"IF(Dati!E811=\"UA3\",Dati!D811,)","v":0},{"$f":"IF(Dati!E811=\"UA4\",Dati!D811,)","v":0},{"$f":"IF(Dati!E811=\"UA5\",Dati!D811,)","v":0},{"$f":"IF(Dati!E811=\"UA6\",Dati!D811,)","v":0},{"$f":"IF(Dati!E811=\"UB1\",Dati!D811,)","v":0},{"$f":"IF(Dati!E811=\"UB2\",Dati!D811,)","v":0},{"$f":"IF(Dati!E811=\"UC1\",Dati!D811,)","v":0},{"$f":"IF(Dati!E811=\"UD1\",Dati!D811,)","v":0},{"$f":"IF(Dati!E811=\"UE1\",Dati!D811,)","v":0}]
[{"$f":"Dati!C812","v":"00:00:00"},{"$f":"Dati!H812","v":"00:00:00"},{"$f":"IF(Dati!E812=\"UA1\",Dati!D812,)","v":0},{"$f":"IF(Dati!E812=\"UA2\",Dati!D812,)","v":0},{"$f":"IF(Dati!E812=\"UA3\",Dati!D812,)","v":0},{"$f":"IF(Dati!E812=\"UA4\",Dati!D812,)","v":0},{"$f":"IF(Dati!E812=\"UA5\",Dati!D812,)","v":0},{"$f":"IF(Dati!E812=\"UA6\",Dati!D812,)","v":0},{"$f":"IF(Dati!E812=\"UB1\",Dati!D812,)","v":0},{"$f":"IF(Dati!E812=\"UB2\",Dati!D812,)","v":0},{"$f":"IF(Dati!E812=\"UC1\",Dati!D812,)","v":0},{"$f":"IF(Dati!E812=\"UD1\",Dati!D812,)","v":0},{"$f":"IF(Dati!E812=\"UE1\",Dati!D812,)","v":0}]
[{"$f":"Dati!C813","v":"00:00:00"},{"$f":"Dati!H813","v":"00:00:00"},{"$f":"IF(Dati!E813=\"UA1\",Dati!D813,)","v":0},{"$f":"IF(Dati!E813=\"UA2\",Dati!D813,)","v":0},{"$f":"IF(Dati!E813=\"UA3\",Dati!D813,)","v":0},{"$f":"IF(Dati!E813=\"UA4\",Dati!D813,)","v":0},{"$f":"IF(Dati!E813=\"UA5\",Dati!D813,)","v":0},{"$f":"IF(Dati!E813=\"UA6\",Dati!D813,)","v":0},{"$f":"IF(Dati!E813=\"UB1\",Dati!D813,)","v":0},{"$f":"IF(Dati!E813=\"UB2\",Dati!D813,)","v":0},{"$f":"IF(Dati!E813=\"UC1\",Dati!D813,)","v":0},{"$f":"IF(Dati!E813=\"UD1\",Dati!D813,)","v":0},{"$f":"IF(Dati!E813=\"UE1\",Dati!D813,)","v":0}]
[{"$f":"Dati!C814","v":"00:00:00"},{"$f":"Dati!H814","v":"00:00:00"},{"$f":"IF(Dati!E814=\"UA1\",Dati!D814,)","v":0},{"$f":"IF(Dati!E814=\"UA2\",Dati!D814,)","v":0},{"$f":"IF(Dati!E814=\"UA3\",Dati!D814,)","v":0},{"$f":"IF(Dati!E814=\"UA4\",Dati!D814,)","v":0},{"$f":"IF(Dati!E814=\"UA5\",Dati!D814,)","v":0},{"$f":"IF(Dati!E814=\"UA6\",Dati!D814,)","v":0},{"$f":"IF(Dati!E814=\"UB1\",Dati!D814,)","v":0},{"$f":"IF(Dati!E814=\"UB2\",Dati!D814,)","v":0},{"$f":"IF(Dati!E814=\"UC1\",Dati!D814,)","v":0},{"$f":"IF(Dati!E814=\"UD1\",Dati!D814,)","v":0},{"$f":"IF(Dati!E814=\"UE1\",Dati!D814,)","v":0}]
[{"$f":"Dati!C815","v":"00:00:00"},{"$f":"Dati!H815","v":"00:00:00"},{"$f":"IF(Dati!E815=\"UA1\",Dati!D815,)","v":0},{"$f":"IF(Dati!E815=\"UA2\",Dati!D815,)","v":0},{"$f":"IF(Dati!E815=\"UA3\",Dati!D815,)","v":0},{"$f":"IF(Dati!E815=\"UA4\",Dati!D815,)","v":0},{"$f":"IF(Dati!E815=\"UA5\",Dati!D815,)","v":0},{"$f":"IF(Dati!E815=\"UA6\",Dati!D815,)","v":0},{"$f":"IF(Dati!E815=\"UB1\",Dati!D815,)","v":0},{"$f":"IF(Dati!E815=\"UB2\",Dati!D815,)","v":0},{"$f":"IF(Dati!E815=\"UC1\",Dati!D815,)","v":0},{"$f":"IF(Dati!E815=\"UD1\",Dati!D815,)","v":0},{"$f":"IF(Dati!E815=\"UE1\",Dati!D815,)","v":0}]
[{"$f":"Dati!C816","v":"00:00:00"},{"$f":"Dati!H816","v":"00:00:00"},{"$f":"IF(Dati!E816=\"UA1\",Dati!D816,)","v":0},{"$f":"IF(Dati!E816=\"UA2\",Dati!D816,)","v":0},{"$f":"IF(Dati!E816=\"UA3\",Dati!D816,)","v":0},{"$f":"IF(Dati!E816=\"UA4\",Dati!D816,)","v":0},{"$f":"IF(Dati!E816=\"UA5\",Dati!D816,)","v":0},{"$f":"IF(Dati!E816=\"UA6\",Dati!D816,)","v":0},{"$f":"IF(Dati!E816=\"UB1\",Dati!D816,)","v":0},{"$f":"IF(Dati!E816=\"UB2\",Dati!D816,)","v":0},{"$f":"IF(Dati!E816=\"UC1\",Dati!D816,)","v":0},{"$f":"IF(Dati!E816=\"UD1\",Dati!D816,)","v":0},{"$f":"IF(Dati!E816=\"UE1\",Dati!D816,)","v":0}]
[{"$f":"Dati!C817","v":"00:00:00"},{"$f":"Dati!H817","v":"00:00:00"},{"$f":"IF(Dati!E817=\"UA1\",Dati!D817,)","v":0},{"$f":"IF(Dati!E817=\"UA2\",Dati!D817,)","v":0},{"$f":"IF(Dati!E817=\"UA3\",Dati!D817,)","v":0},{"$f":"IF(Dati!E817=\"UA4\",Dati!D817,)","v":0},{"$f":"IF(Dati!E817=\"UA5\",Dati!D817,)","v":0},{"$f":"IF(Dati!E817=\"UA6\",Dati!D817,)","v":0},{"$f":"IF(Dati!E817=\"UB1\",Dati!D817,)","v":0},{"$f":"IF(Dati!E817=\"UB2\",Dati!D817,)","v":0},{"$f":"IF(Dati!E817=\"UC1\",Dati!D817,)","v":0},{"$f":"IF(Dati!E817=\"UD1\",Dati!D817,)","v":0},{"$f":"IF(Dati!E817=\"UE1\",Dati!D817,)","v":0}]
[{"$f":"Dati!C818","v":"00:00:00"},{"$f":"Dati!H818","v":"00:00:00"},{"$f":"IF(Dati!E818=\"UA1\",Dati!D818,)","v":0},{"$f":"IF(Dati!E818=\"UA2\",Dati!D818,)","v":0},{"$f":"IF(Dati!E818=\"UA3\",Dati!D818,)","v":0},{"$f":"IF(Dati!E818=\"UA4\",Dati!D818,)","v":0},{"$f":"IF(Dati!E818=\"UA5\",Dati!D818,)","v":0},{"$f":"IF(Dati!E818=\"UA6\",Dati!D818,)","v":0},{"$f":"IF(Dati!E818=\"UB1\",Dati!D818,)","v":0},{"$f":"IF(Dati!E818=\"UB2\",Dati!D818,)","v":0},{"$f":"IF(Dati!E818=\"UC1\",Dati!D818,)","v":0},{"$f":"IF(Dati!E818=\"UD1\",Dati!D818,)","v":0},{"$f":"IF(Dati!E818=\"UE1\",Dati!D818,)","v":0}]
[{"$f":"Dati!C819","v":"00:00:00"},{"$f":"Dati!H819","v":"00:00:00"},{"$f":"IF(Dati!E819=\"UA1\",Dati!D819,)","v":0},{"$f":"IF(Dati!E819=\"UA2\",Dati!D819,)","v":0},{"$f":"IF(Dati!E819=\"UA3\",Dati!D819,)","v":0},{"$f":"IF(Dati!E819=\"UA4\",Dati!D819,)","v":0},{"$f":"IF(Dati!E819=\"UA5\",Dati!D819,)","v":0},{"$f":"IF(Dati!E819=\"UA6\",Dati!D819,)","v":0},{"$f":"IF(Dati!E819=\"UB1\",Dati!D819,)","v":0},{"$f":"IF(Dati!E819=\"UB2\",Dati!D819,)","v":0},{"$f":"IF(Dati!E819=\"UC1\",Dati!D819,)","v":0},{"$f":"IF(Dati!E819=\"UD1\",Dati!D819,)","v":0},{"$f":"IF(Dati!E819=\"UE1\",Dati!D819,)","v":0}]
[{"$f":"Dati!C820","v":"00:00:00"},{"$f":"Dati!H820","v":"00:00:00"},{"$f":"IF(Dati!E820=\"UA1\",Dati!D820,)","v":0},{"$f":"IF(Dati!E820=\"UA2\",Dati!D820,)","v":0},{"$f":"IF(Dati!E820=\"UA3\",Dati!D820,)","v":0},{"$f":"IF(Dati!E820=\"UA4\",Dati!D820,)","v":0},{"$f":"IF(Dati!E820=\"UA5\",Dati!D820,)","v":0},{"$f":"IF(Dati!E820=\"UA6\",Dati!D820,)","v":0},{"$f":"IF(Dati!E820=\"UB1\",Dati!D820,)","v":0},{"$f":"IF(Dati!E820=\"UB2\",Dati!D820,)","v":0},{"$f":"IF(Dati!E820=\"UC1\",Dati!D820,)","v":0},{"$f":"IF(Dati!E820=\"UD1\",Dati!D820,)","v":0},{"$f":"IF(Dati!E820=\"UE1\",Dati!D820,)","v":0}]
[{"$f":"Dati!C821","v":"00:00:00"},{"$f":"Dati!H821","v":"00:00:00"},{"$f":"IF(Dati!E821=\"UA1\",Dati!D821,)","v":0},{"$f":"IF(Dati!E821=\"UA2\",Dati!D821,)","v":0},{"$f":"IF(Dati!E821=\"UA3\",Dati!D821,)","v":0},{"$f":"IF(Dati!E821=\"UA4\",Dati!D821,)","v":0},{"$f":"IF(Dati!E821=\"UA5\",Dati!D821,)","v":0},{"$f":"IF(Dati!E821=\"UA6\",Dati!D821,)","v":0},{"$f":"IF(Dati!E821=\"UB1\",Dati!D821,)","v":0},{"$f":"IF(Dati!E821=\"UB2\",Dati!D821,)","v":0},{"$f":"IF(Dati!E821=\"UC1\",Dati!D821,)","v":0},{"$f":"IF(Dati!E821=\"UD1\",Dati!D821,)","v":0},{"$f":"IF(Dati!E821=\"UE1\",Dati!D821,)","v":0}]
[{"$f":"Dati!C822","v":"00:00:00"},{"$f":"Dati!H822","v":"00:00:00"},{"$f":"IF(Dati!E822=\"UA1\",Dati!D822,)","v":0},{"$f":"IF(Dati!E822=\"UA2\",Dati!D822,)","v":0},{"$f":"IF(Dati!E822=\"UA3\",Dati!D822,)","v":0},{"$f":"IF(Dati!E822=\"UA4\",Dati!D822,)","v":0},{"$f":"IF(Dati!E822=\"UA5\",Dati!D822,)","v":0},{"$f":"IF(Dati!E822=\"UA6\",Dati!D822,)","v":0},{"$f":"IF(Dati!E822=\"UB1\",Dati!D822,)","v":0},{"$f":"IF(Dati!E822=\"UB2\",Dati!D822,)","v":0},{"$f":"IF(Dati!E822=\"UC1\",Dati!D822,)","v":0},{"$f":"IF(Dati!E822=\"UD1\",Dati!D822,)","v":0},{"$f":"IF(Dati!E822=\"UE1\",Dati!D822,)","v":0}]
[{"$f":"Dati!C823","v":"00:00:00"},{"$f":"Dati!H823","v":"00:00:00"},{"$f":"IF(Dati!E823=\"UA1\",Dati!D823,)","v":0},{"$f":"IF(Dati!E823=\"UA2\",Dati!D823,)","v":0},{"$f":"IF(Dati!E823=\"UA3\",Dati!D823,)","v":0},{"$f":"IF(Dati!E823=\"UA4\",Dati!D823,)","v":0},{"$f":"IF(Dati!E823=\"UA5\",Dati!D823,)","v":0},{"$f":"IF(Dati!E823=\"UA6\",Dati!D823,)","v":0},{"$f":"IF(Dati!E823=\"UB1\",Dati!D823,)","v":0},{"$f":"IF(Dati!E823=\"UB2\",Dati!D823,)","v":0},{"$f":"IF(Dati!E823=\"UC1\",Dati!D823,)","v":0},{"$f":"IF(Dati!E823=\"UD1\",Dati!D823,)","v":0},{"$f":"IF(Dati!E823=\"UE1\",Dati!D823,)","v":0}]
[{"$f":"Dati!C824","v":"00:00:00"},{"$f":"Dati!H824","v":"00:00:00"},{"$f":"IF(Dati!E824=\"UA1\",Dati!D824,)","v":0},{"$f":"IF(Dati!E824=\"UA2\",Dati!D824,)","v":0},{"$f":"IF(Dati!E824=\"UA3\",Dati!D824,)","v":0},{"$f":"IF(Dati!E824=\"UA4\",Dati!D824,)","v":0},{"$f":"IF(Dati!E824=\"UA5\",Dati!D824,)","v":0},{"$f":"IF(Dati!E824=\"UA6\",Dati!D824,)","v":0},{"$f":"IF(Dati!E824=\"UB1\",Dati!D824,)","v":0},{"$f":"IF(Dati!E824=\"UB2\",Dati!D824,)","v":0},{"$f":"IF(Dati!E824=\"UC1\",Dati!D824,)","v":0},{"$f":"IF(Dati!E824=\"UD1\",Dati!D824,)","v":0},{"$f":"IF(Dati!E824=\"UE1\",Dati!D824,)","v":0}]
[{"$f":"Dati!C825","v":"00:00:00"},{"$f":"Dati!H825","v":"00:00:00"},{"$f":"IF(Dati!E825=\"UA1\",Dati!D825,)","v":0},{"$f":"IF(Dati!E825=\"UA2\",Dati!D825,)","v":0},{"$f":"IF(Dati!E825=\"UA3\",Dati!D825,)","v":0},{"$f":"IF(Dati!E825=\"UA4\",Dati!D825,)","v":0},{"$f":"IF(Dati!E825=\"UA5\",Dati!D825,)","v":0},{"$f":"IF(Dati!E825=\"UA6\",Dati!D825,)","v":0},{"$f":"IF(Dati!E825=\"UB1\",Dati!D825,)","v":0},{"$f":"IF(Dati!E825=\"UB2\",Dati!D825,)","v":0},{"$f":"IF(Dati!E825=\"UC1\",Dati!D825,)","v":0},{"$f":"IF(Dati!E825=\"UD1\",Dati!D825,)","v":0},{"$f":"IF(Dati!E825=\"UE1\",Dati!D825,)","v":0}]
[{"$f":"Dati!C826","v":"00:00:00"},{"$f":"Dati!H826","v":"00:00:00"},{"$f":"IF(Dati!E826=\"UA1\",Dati!D826,)","v":0},{"$f":"IF(Dati!E826=\"UA2\",Dati!D826,)","v":0},{"$f":"IF(Dati!E826=\"UA3\",Dati!D826,)","v":0},{"$f":"IF(Dati!E826=\"UA4\",Dati!D826,)","v":0},{"$f":"IF(Dati!E826=\"UA5\",Dati!D826,)","v":0},{"$f":"IF(Dati!E826=\"UA6\",Dati!D826,)","v":0},{"$f":"IF(Dati!E826=\"UB1\",Dati!D826,)","v":0},{"$f":"IF(Dati!E826=\"UB2\",Dati!D826,)","v":0},{"$f":"IF(Dati!E826=\"UC1\",Dati!D826,)","v":0},{"$f":"IF(Dati!E826=\"UD1\",Dati!D826,)","v":0},{"$f":"IF(Dati!E826=\"UE1\",Dati!D826,)","v":0}]
[{"$f":"Dati!C827","v":"00:00:00"},{"$f":"Dati!H827","v":"00:00:00"},{"$f":"IF(Dati!E827=\"UA1\",Dati!D827,)","v":0},{"$f":"IF(Dati!E827=\"UA2\",Dati!D827,)","v":0},{"$f":"IF(Dati!E827=\"UA3\",Dati!D827,)","v":0},{"$f":"IF(Dati!E827=\"UA4\",Dati!D827,)","v":0},{"$f":"IF(Dati!E827=\"UA5\",Dati!D827,)","v":0},{"$f":"IF(Dati!E827=\"UA6\",Dati!D827,)","v":0},{"$f":"IF(Dati!E827=\"UB1\",Dati!D827,)","v":0},{"$f":"IF(Dati!E827=\"UB2\",Dati!D827,)","v":0},{"$f":"IF(Dati!E827=\"UC1\",Dati!D827,)","v":0},{"$f":"IF(Dati!E827=\"UD1\",Dati!D827,)","v":0},{"$f":"IF(Dati!E827=\"UE1\",Dati!D827,)","v":0}]
[{"$f":"Dati!C828","v":"00:00:00"},{"$f":"Dati!H828","v":"00:00:00"},{"$f":"IF(Dati!E828=\"UA1\",Dati!D828,)","v":0},{"$f":"IF(Dati!E828=\"UA2\",Dati!D828,)","v":0},{"$f":"IF(Dati!E828=\"UA3\",Dati!D828,)","v":0},{"$f":"IF(Dati!E828=\"UA4\",Dati!D828,)","v":0},{"$f":"IF(Dati!E828=\"UA5\",Dati!D828,)","v":0},{"$f":"IF(Dati!E828=\"UA6\",Dati!D828,)","v":0},{"$f":"IF(Dati!E828=\"UB1\",Dati!D828,)","v":0},{"$f":"IF(Dati!E828=\"UB2\",Dati!D828,)","v":0},{"$f":"IF(Dati!E828=\"UC1\",Dati!D828,)","v":0},{"$f":"IF(Dati!E828=\"UD1\",Dati!D828,)","v":0},{"$f":"IF(Dati!E828=\"UE1\",Dati!D828,)","v":0}]
[{"$f":"Dati!C829","v":"00:00:00"},{"$f":"Dati!H829","v":"00:00:00"},{"$f":"IF(Dati!E829=\"UA1\",Dati!D829,)","v":0},{"$f":"IF(Dati!E829=\"UA2\",Dati!D829,)","v":0},{"$f":"IF(Dati!E829=\"UA3\",Dati!D829,)","v":0},{"$f":"IF(Dati!E829=\"UA4\",Dati!D829,)","v":0},{"$f":"IF(Dati!E829=\"UA5\",Dati!D829,)","v":0},{"$f":"IF(Dati!E829=\"UA6\",Dati!D829,)","v":0},{"$f":"IF(Dati!E829=\"UB1\",Dati!D829,)","v":0},{"$f":"IF(Dati!E829=\"UB2\",Dati!D829,)","v":0},{"$f":"IF(Dati!E829=\"UC1\",Dati!D829,)","v":0},{"$f":"IF(Dati!E829=\"UD1\",Dati!D829,)","v":0},{"$f":"IF(Dati!E829=\"UE1\",Dati!D829,)","v":0}]
[{"$f":"Dati!C830","v":"00:00:00"},{"$f":"Dati!H830","v":"00:00:00"},{"$f":"IF(Dati!E830=\"UA1\",Dati!D830,)","v":0},{"$f":"IF(Dati!E830=\"UA2\",Dati!D830,)","v":0},{"$f":"IF(Dati!E830=\"UA3\",Dati!D830,)","v":0},{"$f":"IF(Dati!E830=\"UA4\",Dati!D830,)","v":0},{"$f":"IF(Dati!E830=\"UA5\",Dati!D830,)","v":0},{"$f":"IF(Dati!E830=\"UA6\",Dati!D830,)","v":0},{"$f":"IF(Dati!E830=\"UB1\",Dati!D830,)","v":0},{"$f":"IF(Dati!E830=\"UB2\",Dati!D830,)","v":0},{"$f":"IF(Dati!E830=\"UC1\",Dati!D830,)","v":0},{"$f":"IF(Dati!E830=\"UD1\",Dati!D830,)","v":0},{"$f":"IF(Dati!E830=\"UE1\",Dati!D830,)","v":0}]
[{"$f":"Dati!C831","v":"00:00:00"},{"$f":"Dati!H831","v":"00:00:00"},{"$f":"IF(Dati!E831=\"UA1\",Dati!D831,)","v":0},{"$f":"IF(Dati!E831=\"UA2\",Dati!D831,)","v":0},{"$f":"IF(Dati!E831=\"UA3\",Dati!D831,)","v":0},{"$f":"IF(Dati!E831=\"UA4\",Dati!D831,)","v":0},{"$f":"IF(Dati!E831=\"UA5\",Dati!D831,)","v":0},{"$f":"IF(Dati!E831=\"UA6\",Dati!D831,)","v":0},{"$f":"IF(Dati!E831=\"UB1\",Dati!D831,)","v":0},{"$f":"IF(Dati!E831=\"UB2\",Dati!D831,)","v":0},{"$f":"IF(Dati!E831=\"UC1\",Dati!D831,)","v":0},{"$f":"IF(Dati!E831=\"UD1\",Dati!D831,)","v":0},{"$f":"IF(Dati!E831=\"UE1\",Dati!D831,)","v":0}]
[{"$f":"Dati!C832","v":"00:00:00"},{"$f":"Dati!H832","v":"00:00:00"},{"$f":"IF(Dati!E832=\"UA1\",Dati!D832,)","v":0},{"$f":"IF(Dati!E832=\"UA2\",Dati!D832,)","v":0},{"$f":"IF(Dati!E832=\"UA3\",Dati!D832,)","v":0},{"$f":"IF(Dati!E832=\"UA4\",Dati!D832,)","v":0},{"$f":"IF(Dati!E832=\"UA5\",Dati!D832,)","v":0},{"$f":"IF(Dati!E832=\"UA6\",Dati!D832,)","v":0},{"$f":"IF(Dati!E832=\"UB1\",Dati!D832,)","v":0},{"$f":"IF(Dati!E832=\"UB2\",Dati!D832,)","v":0},{"$f":"IF(Dati!E832=\"UC1\",Dati!D832,)","v":0},{"$f":"IF(Dati!E832=\"UD1\",Dati!D832,)","v":0},{"$f":"IF(Dati!E832=\"UE1\",Dati!D832,)","v":0}]
[{"$f":"Dati!C833","v":"00:00:00"},{"$f":"Dati!H833","v":"00:00:00"},{"$f":"IF(Dati!E833=\"UA1\",Dati!D833,)","v":0},{"$f":"IF(Dati!E833=\"UA2\",Dati!D833,)","v":0},{"$f":"IF(Dati!E833=\"UA3\",Dati!D833,)","v":0},{"$f":"IF(Dati!E833=\"UA4\",Dati!D833,)","v":0},{"$f":"IF(Dati!E833=\"UA5\",Dati!D833,)","v":0},{"$f":"IF(Dati!E833=\"UA6\",Dati!D833,)","v":0},{"$f":"IF(Dati!E833=\"UB1\",Dati!D833,)","v":0},{"$f":"IF(Dati!E833=\"UB2\",Dati!D833,)","v":0},{"$f":"IF(Dati!E833=\"UC1\",Dati!D833,)","v":0},{"$f":"IF(Dati!E833=\"UD1\",Dati!D833,)","v":0},{"$f":"IF(Dati!E833=\"UE1\",Dati!D833,)","v":0}]
[{"$f":"Dati!C834","v":"00:00:00"},{"$f":"Dati!H834","v":"00:00:00"},{"$f":"IF(Dati!E834=\"UA1\",Dati!D834,)","v":0},{"$f":"IF(Dati!E834=\"UA2\",Dati!D834,)","v":0},{"$f":"IF(Dati!E834=\"UA3\",Dati!D834,)","v":0},{"$f":"IF(Dati!E834=\"UA4\",Dati!D834,)","v":0},{"$f":"IF(Dati!E834=\"UA5\",Dati!D834,)","v":0},{"$f":"IF(Dati!E834=\"UA6\",Dati!D834,)","v":0},{"$f":"IF(Dati!E834=\"UB1\",Dati!D834,)","v":0},{"$f":"IF(Dati!E834=\"UB2\",Dati!D834,)","v":0},{"$f":"IF(Dati!E834=\"UC1\",Dati!D834,)","v":0},{"$f":"IF(Dati!E834=\"UD1\",Dati!D834,)","v":0},{"$f":"IF(Dati!E834=\"UE1\",Dati!D834,)","v":0}]
[{"$f":"Dati!C835","v":"00:00:00"},{"$f":"Dati!H835","v":"00:00:00"},{"$f":"IF(Dati!E835=\"UA1\",Dati!D835,)","v":0},{"$f":"IF(Dati!E835=\"UA2\",Dati!D835,)","v":0},{"$f":"IF(Dati!E835=\"UA3\",Dati!D835,)","v":0},{"$f":"IF(Dati!E835=\"UA4\",Dati!D835,)","v":0},{"$f":"IF(Dati!E835=\"UA5\",Dati!D835,)","v":0},{"$f":"IF(Dati!E835=\"UA6\",Dati!D835,)","v":0},{"$f":"IF(Dati!E835=\"UB1\",Dati!D835,)","v":0},{"$f":"IF(Dati!E835=\"UB2\",Dati!D835,)","v":0},{"$f":"IF(Dati!E835=\"UC1\",Dati!D835,)","v":0},{"$f":"IF(Dati!E835=\"UD1\",Dati!D835,)","v":0},{"$f":"IF(Dati!E835=\"UE1\",Dati!D835,)","v":0}]
[{"$f":"Dati!C836","v":"00:00:00"},{"$f":"Dati!H836","v":"00:00:00"},{"$f":"IF(Dati!E836=\"UA1\",Dati!D836,)","v":0},{"$f":"IF(Dati!E836=\"UA2\",Dati!D836,)","v":0},{"$f":"IF(Dati!E836=\"UA3\",Dati!D836,)","v":0},{"$f":"IF(Dati!E836=\"UA4\",Dati!D836,)","v":0},{"$f":"IF(Dati!E836=\"UA5\",Dati!D836,)","v":0},{"$f":"IF(Dati!E836=\"UA6\",Dati!D836,)","v":0},{"$f":"IF(Dati!E836=\"UB1\",Dati!D836,)","v":0},{"$f":"IF(Dati!E836=\"UB2\",Dati!D836,)","v":0},{"$f":"IF(Dati!E836=\"UC1\",Dati!D836,)","v":0},{"$f":"IF(Dati!E836=\"UD1\",Dati!D836,)","v":0},{"$f":"IF(Dati!E836=\"UE1\",Dati!D836,)","v":0}]
[{"$f":"Dati!C837","v":"00:00:00"},{"$f":"Dati!H837","v":"00:00:00"},{"$f":"IF(Dati!E837=\"UA1\",Dati!D837,)","v":0},{"$f":"IF(Dati!E837=\"UA2\",Dati!D837,)","v":0},{"$f":"IF(Dati!E837=\"UA3\",Dati!D837,)","v":0},{"$f":"IF(Dati!E837=\"UA4\",Dati!D837,)","v":0},{"$f":"IF(Dati!E837=\"UA5\",Dati!D837,)","v":0},{"$f":"IF(Dati!E837=\"UA6\",Dati!D837,)","v":0},{"$f":"IF(Dati!E837=\"UB1\",Dati!D837,)","v":0},{"$f":"IF(Dati!E837=\"UB2\",Dati!D837,)","v":0},{"$f":"IF(Dati!E837=\"UC1\",Dati!D837,)","v":0},{"$f":"IF(Dati!E837=\"UD1\",Dati!D837,)","v":0},{"$f":"IF(Dati!E837=\"UE1\",Dati!D837,)","v":0}]
[{"$f":"Dati!C838","v":"00:00:00"},{"$f":"Dati!H838","v":"00:00:00"},{"$f":"IF(Dati!E838=\"UA1\",Dati!D838,)","v":0},{"$f":"IF(Dati!E838=\"UA2\",Dati!D838,)","v":0},{"$f":"IF(Dati!E838=\"UA3\",Dati!D838,)","v":0},{"$f":"IF(Dati!E838=\"UA4\",Dati!D838,)","v":0},{"$f":"IF(Dati!E838=\"UA5\",Dati!D838,)","v":0},{"$f":"IF(Dati!E838=\"UA6\",Dati!D838,)","v":0},{"$f":"IF(Dati!E838=\"UB1\",Dati!D838,)","v":0},{"$f":"IF(Dati!E838=\"UB2\",Dati!D838,)","v":0},{"$f":"IF(Dati!E838=\"UC1\",Dati!D838,)","v":0},{"$f":"IF(Dati!E838=\"UD1\",Dati!D838,)","v":0},{"$f":"IF(Dati!E838=\"UE1\",Dati!D838,)","v":0}]
[{"$f":"Dati!C839","v":"00:00:00"},{"$f":"Dati!H839","v":"00:00:00"},{"$f":"IF(Dati!E839=\"UA1\",Dati!D839,)","v":0},{"$f":"IF(Dati!E839=\"UA2\",Dati!D839,)","v":0},{"$f":"IF(Dati!E839=\"UA3\",Dati!D839,)","v":0},{"$f":"IF(Dati!E839=\"UA4\",Dati!D839,)","v":0},{"$f":"IF(Dati!E839=\"UA5\",Dati!D839,)","v":0},{"$f":"IF(Dati!E839=\"UA6\",Dati!D839,)","v":0},{"$f":"IF(Dati!E839=\"UB1\",Dati!D839,)","v":0},{"$f":"IF(Dati!E839=\"UB2\",Dati!D839,)","v":0},{"$f":"IF(Dati!E839=\"UC1\",Dati!D839,)","v":0},{"$f":"IF(Dati!E839=\"UD1\",Dati!D839,)","v":0},{"$f":"IF(Dati!E839=\"UE1\",Dati!D839,)","v":0}]

{"sheet":"Finanziamenti","index":11,"n_rows":6,"n_cols":3,"rows_kept":6,"cut":false,"hidden":true,"merged":[]}
["FINANZIAMENTI","Stanziati","Utilizzati"]
["Accensione mutui/prestiti / fidi\n(specificare tipologia e banca)\n"]
["Banca "]
["Banca "]
["Banca "]
["Banca "]

{"sheet":"Situazione Finanziaria","index":12,"n_rows":25,"n_cols":3,"rows_kept":25,"cut":false,"hidden":true,"merged":[[0,0,0,2]]}
["SITUAZIONE FINANZIARIA"]
["ATTIVITÀ"]
["CASSA"]
["DEPOSITI COLLOCATI"]
["BANCA BANCO BPM"]
["BANCA"]
["BANCA"]
["DEPOSITI presso Opera s. Giuseppe"]
["CREDITI MATURATI"]
["TOTALE ATTIVO",{"$f":"SUM(B3:B9)","v":0},{"$f":"SUM(C3:C9)","v":0}]
[]
["PASSIVITÀ"]
["DEBITI VERSO BANCHE"]
["BANCA BANCO BPM fido"]
["BANCA BANCO BPM mutuo"]
["BANCA"]
["DEBITI verso privati"]
["DEBITI presso Opera s. Giuseppe"]
["DEBITI verso fornitori"]
["ALTRI DEBITI"]
["TOTALE PASSIVO",{"$f":"SUM(B14:B20)","v":0},{"$f":"SUM(C14:C20)","v":0}]
[]
["DIFFERENZA A PAREGGIO",{"$f":"SUM(B10+B21)","v":0},{"$f":"SUM(C10+C21)","v":0}]
[]
["TOTALE",null,{"$f":"SUM(-B23+C23)","v":0}]